{"text_format":"1","workbook":"xlsx","n_sheets":6,"sheets":["基本事項","領収証内訳","領収証","集金袋","集金袋２","記載例"],"not_rendered":{"charts":0,"images":0,"macros":1,"external_links":0,"defined_names":4,"comments":2,"pivot_tables":0},"unopened":[],"bounds":{"document_bytes":16777216,"sheet_cells":100000,"rows_first":2000,"rows_last":500,"rows_between":2000,"halvings":0,"cell_chars":16384,"cell_head_chars":4096},"cells_cut":0,"cells_raw":0,"read":"whole","date_system":"1900"}

{"sheet":"基本事項","index":0,"n_rows":12,"n_cols":8,"rows_kept":12,"cut":false,"hidden":false,"merged":[[5,3,5,7],[7,3,7,4],[1,1,1,6]]}
[]
[null,"会費等納入管理（領収書）システム",null,null,null,null,null,"ver.1.0"]
[]
[null,1,"年度",null,"年度"]
[]
[null,2,"クラブ名"]
[]
[null,3,"クラブ代表者"]
[]
[null,4,"領収書発行月","４月"]
[]
[null,5,"領収書発行日","2026-09-10"]

{"sheet":"領収証内訳","index":1,"n_rows":58,"n_cols":28,"rows_kept":58,"cut":false,"hidden":false,"merged":[[1,1,1,9],[1,11,1,12],[1,23,1,24]]}
[]
[null,{"$f":"\"令和\"&V2&\"年度　\"&X2&\"参加費等集金額一覧\"","v":"令和0年度　0参加費等集金額一覧"},null,null,null,null,null,null,null,null,null,null,null,null,null,null,null,null,null,null,null,{"$f":"基本事項!D4","v":0},"クラブ名",{"$f":"基本事項!D6","v":0},null,"代表者名",{"$f":"基本事項!D8","v":0}]
[1,2,3,4,5,6,7,8,9,10,11,12,13,14,15,16,17,18,19,20,null,null,null,{"$f":"VLOOKUP(X4,AA5:AB19,2,FALSE)","v":8},null,"領収日",{"$f":"基本事項!D12","v":"2026-09-10"}]
[null,"No.","年","組","氏　名","入会金","年会費","４月","５月","６月","７月","８月","９月","１０月","１１月","１２月","１月","２月","３月","都度集金","計",null,null,{"$f":"基本事項!D10","v":"４月"}]
[null,1,null,null,null,null,null,null,null,null,null,null,null,null,null,null,null,null,null,null,{"$f":"SUM(F5:T5)","v":0},null,null,{"$f":"INDEX($A$1:$T$55,ROW(),$X$3)","v":0},null,null,"入会金",6]
[null,2,null,null,null,null,null,null,null,null,null,null,null,null,null,null,null,null,null,null,{"$f":"SUM(F6:T6)","v":0},null,null,{"$f":"INDEX($A$1:$T$55,ROW(),$X$3)","v":0},null,null,"年会費",7]
[null,3,null,null,null,null,null,null,null,null,null,null,null,null,null,null,null,null,null,null,0,null,null,0,null,null,"４月",8]
[null,4,null,null,null,null,null,null,null,null,null,null,null,null,null,null,null,null,null,null,0,null,null,0,null,null,"５月",9]
[null,5,null,null,null,null,null,null,null,null,null,null,null,null,null,null,null,null,null,null,0,null,null,0,null,null,"６月",10]
[null,6,null,null,null,null,null,null,null,null,null,null,null,null,null,null,null,null,null,null,0,null,null,0,null,null,"７月",11]
[null,7,null,null,null,null,null,null,null,null,null,null,null,null,null,null,null,null,null,null,0,null,null,0,null,null,"８月",12]
[null,8,null,null,null,null,null,null,null,null,null,null,null,null,null,null,null,null,null,null,0,null,null,0,null,null,"９月",13]
[null,9,null,null,null,null,null,null,null,null,null,null,null,null,null,null,null,null,null,null,0,null,null,0,null,null,"１０月",14]
[null,10,null,null,null,null,null,null,null,null,null,null,null,null,null,null,null,null,null,null,0,null,null,0,null,null,"１１月",15]
[null,11,null,null,null,null,null,null,null,null,null,null,null,null,null,null,null,null,null,null,0,null,null,0,null,null,"１２月",16]
[null,12,null,null,null,null,null,null,null,null,null,null,null,null,null,null,null,null,null,null,0,null,null,0,null,null,"１月",17]
[null,13,null,null,null,null,null,null,null,null,null,null,null,null,null,null,null,null,null,null,0,null,null,0,null,null,"２月",18]
[null,14,null,null,null,null,null,null,null,null,null,null,null,null,null,null,null,null,null,null,0,null,null,0,null,null,"３月",19]
[null,15,null,null,null,null,null,null,null,null,null,null,null,null,null,null,null,null,null,null,0,null,null,0,null,null,"都度集金",20]
[null,16,null,null,null,null,null,null,null,null,null,null,null,null,null,null,null,null,null,null,0,null,null,0]
[null,17,null,null,null,null,null,null,null,null,null,null,null,null,null,null,null,null,null,null,0,null,null,0]
[null,18,null,null,null,null,null,null,null,null,null,null,null,null,null,null,null,null,null,null,0,null,null,0]
[null,19,null,null,null,null,null,null,null,null,null,null,null,null,null,null,null,null,null,null,0,null,null,0]
[null,20,null,null,null,null,null,null,null,null,null,null,null,null,null,null,null,null,null,null,0,null,null,0]
[null,21,null,null,null,null,null,null,null,null,null,null,null,null,null,null,null,null,null,null,0,null,null,0]
[null,22,null,null,null,null,null,null,null,null,null,null,null,null,null,null,null,null,null,null,0,null,null,0]
[null,23,null,null,null,null,null,null,null,null,null,null,null,null,null,null,null,null,null,null,0,null,null,0]
[null,24,null,null,null,null,null,null,null,null,null,null,null,null,null,null,null,null,null,null,0,null,null,0]
[null,25,null,null,null,null,null,null,null,null,null,null,null,null,null,null,null,null,null,null,0,null,null,0]
[null,26,null,null,null,null,null,null,null,null,null,null,null,null,null,null,null,null,null,null,0,null,null,0]
[null,27,null,null,null,null,null,null,null,null,null,null,null,null,null,null,null,null,null,null,0,null,null,0]
[null,28,null,null,null,null,null,null,null,null,null,null,null,null,null,null,null,null,null,null,0,null,null,0]
[null,29,null,null,null,null,null,null,null,null,null,null,null,null,null,null,null,null,null,null,0,null,null,0]
[null,30,null,null,null,null,null,null,null,null,null,null,null,null,null,null,null,null,null,null,0,null,null,0]
[null,31,null,null,null,null,null,null,null,null,null,null,null,null,null,null,null,null,null,null,0,null,null,0]
[null,32,null,null,null,null,null,null,null,null,null,null,null,null,null,null,null,null,null,null,0,null,null,0]
[null,33,null,null,null,null,null,null,null,null,null,null,null,null,null,null,null,null,null,null,{"$f":"SUM(F37:T37)","v":0},null,null,0]
[null,34,null,null,null,null,null,null,null,null,null,null,null,null,null,null,null,null,null,null,0,null,null,0]
[null,35,null,null,null,null,null,null,null,null,null,null,null,null,null,null,null,null,null,null,0,null,null,0]
[null,36,null,null,null,null,null,null,null,null,null,null,null,null,null,null,null,null,null,null,0,null,null,0]
[null,37,null,null,null,null,null,null,null,null,null,null,null,null,null,null,null,null,null,null,0,null,null,0]
[null,38,null,null,null,null,null,null,null,null,null,null,null,null,null,null,null,null,null,null,0,null,null,0]
[null,39,null,null,null,null,null,null,null,null,null,null,null,null,null,null,null,null,null,null,0,null,null,0]
[null,40,null,null,null,null,null,null,null,null,null,null,null,null,null,null,null,null,null,null,0,null,null,0]
[null,41,null,null,null,null,null,null,null,null,null,null,null,null,null,null,null,null,null,null,0,null,null,0]
[null,42,null,null,null,null,null,null,null,null,null,null,null,null,null,null,null,null,null,null,0,null,null,0]
[null,43,null,null,null,null,null,null,null,null,null,null,null,null,null,null,null,null,null,null,0,null,null,0]
[null,44,null,null,null,null,null,null,null,null,null,null,null,null,null,null,null,null,null,null,0,null,null,0]
[null,45,null,null,null,null,null,null,null,null,null,null,null,null,null,null,null,null,null,null,0,null,null,0]
[null,46,null,null,null,null,null,null,null,null,null,null,null,null,null,null,null,null,null,null,0,null,null,0]
[null,47,null,null,null,null,null,null,null,null,null,null,null,null,null,null,null,null,null,null,0,null,null,0]
[null,48,null,null,null,null,null,null,null,null,null,null,null,null,null,null,null,null,null,null,0,null,null,0]
[null,49,null,null,null,null,null,null,null,null,null,null,null,null,null,null,null,null,null,null,0,null,null,0]
[null,50,null,null,null,null,null,null,null,null,null,null,null,null,null,null,null,null,null,null,0,null,null,0]
[null,null,null,"計",null,{"$f":"SUM(F5:F54)","v":0},0,0,0,0,0,0,0,0,0,0,0,0,0,0,0]
[null,null,null,null,null,null,null,{"$f":"COUNTA(H5:H54)","v":0},0,0,0,0,0,0,0,0,0,0,0,0]
[null,null,null,null,null,null,null,null,null,null,null,null,null,null,null,null,null,null,null,null,"合計"]
[null,null,null,null,null,null,null,null,null,null,null,null,null,null,null,null,null,null,null,null,{"$f":"SUM(F58:T58)","v":0}]

{"sheet":"領収証","index":2,"n_rows":475,"n_cols":27,"rows_kept":475,"cut":false,"hidden":false,"merged":[[469,3,469,9],[469,14,469,20],[473,5,473,6],[473,7,473,10],[473,16,473,17],[473,18,473,21],[474,5,474,6],[474,7,474,8],[474,16,474,17],[474,18,474,19],[457,5,457,6],[457,7,457,8],[457,16,457,17],[457,18,457,19],[462,5,462,9],[462,16,462,20],[464,1,464,5],[464,12,464,16],[467,4,467,5],[467,15,467,16],[445,5,445,9],[445,16,445,20],[447,1,447,5],[447,12,447,16],[450,4,450,5],[450,15,450,16],[452,3,452,9],[452,14,452,20],[456,5,456,6],[456,7,456,10],[456,16,456,17],[456,18,456,21],[435,3,435,9],[435,14,435,20],[439,5,439,6],[439,7,439,10],[439,16,439,17],[439,18,439,21],[440,5,440,6],[440,7,440,8],[440,16,440,17],[440,18,440,19],[423,5,423,6],[423,7,423,8],[423,16,423,17],[423,18,423,19],[428,5,428,9],[428,16,428,20],[430,1,430,5],[430,12,430,16],[433,4,433,5],[433,15,433,16],[411,5,411,9],[411,16,411,20],[413,1,413,5],[413,12,413,16],[416,4,416,5],[416,15,416,16],[418,3,418,9],[418,14,418,20],[422,5,422,6],[422,7,422,10],[422,16,422,17],[422,18,422,21],[401,3,401,9],[401,14,401,20],[405,5,405,6],[405,7,405,10],[405,16,405,17],[405,18,405,21],[406,5,406,6],[406,7,406,8],[406,16,406,17],[406,18,406,19],[389,5,389,6],[389,7,389,8],[389,16,389,17],[389,18,389,19],[394,5,394,9],[394,16,394,20],[396,1,396,5],[396,12,396,16],[399,4,399,5],[399,15,399,16],[377,5,377,9],[377,16,377,20],[379,1,379,5],[379,12,379,16],[382,4,382,5],[382,15,382,16],[384,3,384,9],[384,14,384,20],[388,5,388,6],[388,7,388,10],[388,16,388,17],[388,18,388,21],[367,3,367,9],[367,14,367,20],[371,5,371,6],[371,7,371,10],[371,16,371,17],[371,18,371,21],[372,5,372,6],[372,7,372,8],[372,16,372,17],[372,18,372,19],[355,5,355,6],[355,7,355,8],[355,16,355,17],[355,18,355,19],[360,5,360,9],[360,16,360,20],[362,1,362,5],[362,12,362,16],[365,4,365,5],[365,15,365,16],[343,5,343,9],[343,16,343,20],[345,1,345,5],[345,12,345,16],[348,4,348,5],[348,15,348,16],[350,3,350,9],[350,14,350,20],[354,5,354,6],[354,7,354,10],[354,16,354,17],[354,18,354,21],[49,18,49,19],[65,7,65,10],[175,1,175,5],[175,12,175,16],[192,1,192,5],[192,12,192,16],[150,5,150,6],[151,5,151,6],[151,16,151,17],[151,7,151,8],[184,5,184,6],[184,16,184,17],[185,5,185,6],[185,16,185,17],[173,5,173,9],[173,16,173,20],[178,4,178,5],[178,15,178,16],[180,3,180,9],[180,14,180,20],[151,18,151,19],[167,5,167,6],[167,16,167,17],[168,5,168,6],[150,7,150,10],[150,18,150,21],[150,16,150,17],[139,5,139,9],[139,16,139,20],[144,4,144,5],[144,15,144,16],[146,3,146,9],[146,14,146,20],[141,1,141,5],[141,12,141,16],[93,4,93,5],[93,15,93,16],[78,3,78,9],[78,14,78,20],[82,5,82,6],[82,16,82,17],[134,7,134,8],[133,18,133,21],[134,18,134,19],[134,5,134,6],[134,16,134,17],[71,5,71,9],[76,4,76,5],[76,15,76,16],[73,1,73,5],[73,12,73,16],[90,1,90,5],[90,12,90,16],[66,7,66,8],[83,5,83,6],[71,16,71,20],[82,7,82,10],[83,7,83,8],[82,18,82,21],[83,18,83,19],[83,16,83,17],[88,5,88,9],[88,16,88,20],[66,5,66,6],[66,18,66,19],[66,16,66,17],[5,1,5,5],[5,12,5,16],[15,7,15,8],[14,7,14,10],[14,18,14,21],[15,18,15,19],[14,5,14,6],[14,16,14,17],[15,5,15,6],[15,16,15,17],[20,5,20,9],[20,16,20,20],[44,3,44,9],[44,14,44,20],[48,5,48,6],[48,16,48,17],[65,5,65,6],[56,1,56,5],[56,12,56,16],[31,7,31,10],[32,7,32,8],[54,5,54,9],[54,16,54,20],[59,4,59,5],[59,15,59,16],[61,3,61,9],[61,14,61,20],[49,5,49,6],[49,16,49,17],[65,18,65,21],[65,16,65,17],[48,7,48,10],[49,7,49,8],[48,18,48,21],[3,5,3,9],[3,16,3,20],[8,4,8,5],[8,15,8,16],[10,3,10,9],[10,14,10,20],[37,5,37,9],[37,16,37,20],[42,4,42,5],[42,15,42,16],[25,4,25,5],[25,15,25,16],[27,3,27,9],[27,14,27,20],[31,5,31,6],[31,16,31,17],[32,5,32,6],[32,16,32,17],[31,18,31,21],[32,18,32,19],[22,1,22,5],[22,12,22,16],[39,1,39,5],[39,12,39,16],[129,14,129,20],[133,5,133,6],[133,16,133,17],[117,5,117,6],[117,16,117,17],[122,5,122,9],[122,16,122,20],[127,4,127,5],[127,15,127,16],[117,7,117,8],[117,18,117,19],[133,7,133,10],[124,1,124,5],[124,12,124,16],[129,3,129,9],[112,3,112,9],[112,14,112,20],[116,5,116,6],[116,16,116,17],[105,5,105,9],[105,16,105,20],[110,4,110,5],[110,15,110,16],[95,3,95,9],[95,14,95,20],[107,1,107,5],[107,12,107,16],[99,5,99,6],[99,16,99,17],[116,7,116,10],[116,18,116,21],[99,7,99,10],[100,7,100,8],[99,18,99,21],[100,18,100,19],[100,5,100,6],[100,16,100,17],[156,16,156,20],[161,4,161,5],[161,15,161,16],[163,3,163,9],[163,14,163,20],[167,7,167,10],[168,7,168,8],[167,18,167,21],[168,18,168,19],[158,1,158,5],[158,12,158,16],[168,16,168,17],[156,5,156,9],[184,7,184,10],[185,7,185,8],[184,18,184,21],[185,18,185,19],[201,5,201,6],[201,16,201,17],[202,5,202,6],[202,16,202,17],[190,5,190,9],[190,16,190,20],[195,4,195,5],[195,15,195,16],[197,3,197,9],[197,14,197,20],[201,7,201,10],[202,7,202,8],[201,18,201,21],[202,18,202,19],[218,5,218,6],[218,16,218,17],[219,5,219,6],[219,16,219,17],[207,5,207,9],[207,16,207,20],[212,4,212,5],[212,15,212,16],[214,3,214,9],[214,14,214,20],[218,7,218,10],[219,7,219,8],[218,18,218,21],[219,18,219,19],[209,1,209,5],[209,12,209,16],[235,5,235,6],[235,16,235,17],[236,5,236,6],[236,16,236,17],[224,5,224,9],[224,16,224,20],[229,4,229,5],[229,15,229,16],[231,3,231,9],[231,14,231,20],[235,7,235,10],[236,7,236,8],[235,18,235,21],[236,18,236,19],[226,1,226,5],[226,12,226,16],[252,5,252,6],[252,16,252,17],[253,5,253,6],[253,16,253,17],[241,5,241,9],[241,16,241,20],[246,4,246,5],[246,15,246,16],[248,3,248,9],[248,14,248,20],[252,7,252,10],[253,7,253,8],[252,18,252,21],[253,18,253,19],[243,1,243,5],[243,12,243,16],[269,5,269,6],[269,16,269,17],[270,5,270,6],[270,16,270,17],[258,5,258,9],[258,16,258,20],[263,4,263,5],[263,15,263,16],[265,3,265,9],[265,14,265,20],[269,7,269,10],[270,7,270,8],[269,18,269,21],[270,18,270,19],[260,1,260,5],[260,12,260,16],[286,5,286,6],[286,16,286,17],[287,5,287,6],[287,16,287,17],[275,5,275,9],[275,16,275,20],[280,4,280,5],[280,15,280,16],[282,3,282,9],[282,14,282,20],[286,7,286,10],[287,7,287,8],[286,18,286,21],[287,18,287,19],[277,1,277,5],[277,12,277,16],[303,5,303,6],[303,16,303,17],[304,5,304,6],[304,16,304,17],[292,5,292,9],[292,16,292,20],[297,4,297,5],[297,15,297,16],[299,3,299,9],[299,14,299,20],[303,7,303,10],[304,7,304,8],[303,18,303,21],[304,18,304,19],[294,1,294,5],[294,12,294,16],[320,5,320,6],[320,16,320,17],[321,5,321,6],[321,16,321,17],[309,5,309,9],[309,16,309,20],[314,4,314,5],[314,15,314,16],[316,3,316,9],[316,14,316,20],[320,7,320,10],[321,7,321,8],[320,18,320,21],[321,18,321,19],[311,1,311,5],[311,12,311,16],[337,5,337,6],[337,16,337,17],[338,5,338,6],[338,16,338,17],[326,5,326,9],[326,16,326,20],[331,4,331,5],[331,15,331,16],[333,3,333,9],[333,14,333,20],[337,7,337,10],[338,7,338,8],[337,18,337,21],[338,18,338,19],[328,1,328,5],[328,12,328,16]]}
[]
[null,null,null,"        領  　 収   　証",null,null,null,null,null,null,null,null,null,null,"        領  　 収   　証",null,null,null,null,null,null,null,null,5,"Ｘ","E","P"]
[]
[null,null,null,null,null,{"$f":"領収証内訳!$AA$3","v":"2026-09-10"},null,null,null,null,null,null,null,null,null,null,{"$f":"領収証内訳!$AA$3","v":"2026-09-10"}]
[]
[null,{"$f":"INDIRECT(\"領収証内訳!\"&$Z$2&$X2)&\" さん保護者　様\"","v":" さん保護者　様"},null,null,null,null,null,null,null,null,null,null,{"$f":"INDIRECT(\"領収証内訳!\"&$Z$2&$X2+1)&\" さん保護者　様\"","v":" さん保護者　様"}]
[]
[]
[null,null,null," 金",{"$f":"INDIRECT(\"領収証内訳!\"&$Y$2&$X2)","v":0},null,"円　也",null,null,null,null,null,null,null," 金",{"$f":"INDIRECT(\"領収証内訳!\"&$Y$2&$X2+1)","v":0},null,"円　也"]
[]
[null,null,null,{"$f":"\"　　※但　　参加費等収入（\"&領収証内訳!$X$4&\"分）として\"","v":"　　※但　　参加費等収入（４月分）として"},null,null,null,null,null,null,null,null,null,null,{"$f":"\"　　※但　　参加費等収入（\"&領収証内訳!$X$4&\"分）として\"","v":"　　※但　　参加費等収入（４月分）として"}]
[]
[null,null,null,null,"上記正に領収しました。",null,null,null,null,null,null,null,null,null,null,"上記正に領収しました。"]
[]
[null,null,null,null,null,"クラブ名",null,{"$f":"領収証内訳!$X$2","v":0},null,null,null,null,null,null,null,null,"クラブ名",null,{"$f":"領収証内訳!$X$2","v":0}]
[null,null,null,null,null,"代表者氏名",null,{"$f":"領収証内訳!$AA$2","v":0},null," 印",null,null,null,null,null,null,"代表者氏名",null,{"$f":"領収証内訳!$AA$2","v":0},null," 印"]
[]
[]
[null,null,null,"        領  　 収   　証",null,null,null,null,null,null,null,null,null,null,"        領  　 収   　証"]
[]
[null,null,null,null,null,{"$f":"領収証内訳!$AA$3","v":"2026-09-10"},null,null,null,null,null,null,null,null,null,null,{"$f":"領収証内訳!$AA$3","v":"2026-09-10"}]
[]
[null,{"$f":"INDIRECT(\"領収証内訳!\"&$Z$2&$X2+2)&\" さん保護者　様\"","v":" さん保護者　様"},null,null,null,null,null,null,null,null,null,null,{"$f":"INDIRECT(\"領収証内訳!\"&$Z$2&$X2+3)&\" さん保護者　様\"","v":" さん保護者　様"}]
[]
[]
[null,null,null," 金",{"$f":"INDIRECT(\"領収証内訳!\"&$Y$2&$X2+2)","v":0},null,"円　也",null,null,null,null,null,null,null," 金",{"$f":"INDIRECT(\"領収証内訳!\"&$Y$2&$X2+3)","v":0},null,"円　也"]
[]
[null,null,null,{"$f":"\"　　※但　　参加費等収入（\"&領収証内訳!$X$4&\"分）として\"","v":"　　※但　　参加費等収入（４月分）として"},null,null,null,null,null,null,null,null,null,null,{"$f":"\"　　※但　　参加費等収入（\"&領収証内訳!$X$4&\"分）として\"","v":"　　※但　　参加費等収入（４月分）として"}]
[]
[null,null,null,null,"上記正に領収しました。",null,null,null,null,null,null,null,null,null,null,"上記正に領収しました。"]
[]
[null,null,null,null,null,"クラブ名",null,{"$f":"領収証内訳!$X$2","v":0},null,null,null,null,null,null,null,null,"クラブ名",null,{"$f":"領収証内訳!$X$2","v":0}]
[null,null,null,null,null,"代表者氏名",null,{"$f":"領収証内訳!$AA$2","v":0},null," 印",null,null,null,null,null,null,"代表者氏名",null,{"$f":"領収証内訳!$AA$2","v":0},null," 印"]
[]
[]
[null,null,null,"        領  　 収   　証",null,null,null,null,null,null,null,null,null,null,"        領  　 収   　証"]
[]
[null,null,null,null,null,{"$f":"領収証内訳!$AA$3","v":"2026-09-10"},null,null,null,null,null,null,null,null,null,null,{"$f":"領収証内訳!$AA$3","v":"2026-09-10"}]
[]
[null,{"$f":"INDIRECT(\"領収証内訳!\"&$Z$2&$X2+4)&\" さん保護者　様\"","v":" さん保護者　様"},null,null,null,null,null,null,null,null,null,null,{"$f":"INDIRECT(\"領収証内訳!\"&$Z$2&$X2+5)&\" さん保護者　様\"","v":" さん保護者　様"}]
[]
[]
[null,null,null," 金",{"$f":"INDIRECT(\"領収証内訳!\"&$Y$2&$X2+4)","v":0},null,"円　也",null,null,null,null,null,null,null," 金",{"$f":"INDIRECT(\"領収証内訳!\"&$Y$2&$X2+5)","v":0},null,"円　也"]
[]
[null,null,null,{"$f":"\"　　※但　　参加費等収入（\"&領収証内訳!$X$4&\"分）として\"","v":"　　※但　　参加費等収入（４月分）として"},null,null,null,null,null,null,null,null,null,null,{"$f":"\"　　※但　　参加費等収入（\"&領収証内訳!$X$4&\"分）として\"","v":"　　※但　　参加費等収入（４月分）として"}]
[]
[null,null,null,null,"上記正に領収しました。",null,null,null,null,null,null,null,null,null,null,"上記正に領収しました。"]
[]
[null,null,null,null,null,"クラブ名",null,{"$f":"領収証内訳!$X$2","v":0},null,null,null,null,null,null,null,null,"クラブ名",null,{"$f":"領収証内訳!$X$2","v":0}]
[null,null,null,null,null,"代表者氏名",null,{"$f":"領収証内訳!$AA$2","v":0},null," 印",null,null,null,null,null,null,"代表者氏名",null,{"$f":"領収証内訳!$AA$2","v":0},null," 印"]
[]
[]
[null,null,null,"        領  　 収   　証",null,null,null,null,null,null,null,null,null,null,"        領  　 収   　証"]
[]
[null,null,null,null,null,{"$f":"領収証内訳!$AA$3","v":"2026-09-10"},null,null,null,null,null,null,null,null,null,null,{"$f":"領収証内訳!$AA$3","v":"2026-09-10"}]
[]
[null,{"$f":"INDIRECT(\"領収証内訳!\"&$Z$2&$X2+6)&\" さん保護者　様\"","v":" さん保護者　様"},null,null,null,null,null,null,null,null,null,null,{"$f":"INDIRECT(\"領収証内訳!\"&$Z$2&$X2+7)&\" さん保護者　様\"","v":" さん保護者　様"}]
[]
[]
[null,null,null," 金",{"$f":"INDIRECT(\"領収証内訳!\"&$Y$2&$X2+6)","v":0},null,"円　也",null,null,null,null,null,null,null," 金",{"$f":"INDIRECT(\"領収証内訳!\"&$Y$2&$X2+7)","v":0},null,"円　也"]
[]
[null,null,null,{"$f":"\"　　※但　　参加費等収入（\"&領収証内訳!$X$4&\"分）として\"","v":"　　※但　　参加費等収入（４月分）として"},null,null,null,null,null,null,null,null,null,null,{"$f":"\"　　※但　　参加費等収入（\"&領収証内訳!$X$4&\"分）として\"","v":"　　※但　　参加費等収入（４月分）として"}]
[]
[null,null,null,null,"上記正に領収しました。",null,null,null,null,null,null,null,null,null,null,"上記正に領収しました。"]
[]
[null,null,null,null,null,"クラブ名",null,{"$f":"領収証内訳!$X$2","v":0},null,null,null,null,null,null,null,null,"クラブ名",null,{"$f":"領収証内訳!$X$2","v":0}]
[null,null,null,null,null,"代表者氏名",null,{"$f":"領収証内訳!$AA$2","v":0},null," 印",null,null,null,null,null,null,"代表者氏名",null,{"$f":"領収証内訳!$AA$2","v":0},null," 印"]
[]
[]
[null,null,null,"        領  　 収   　証",null,null,null,null,null,null,null,null,null,null,"        領  　 収   　証",null,null,null,null,null,null,null,null,{"$f":"X2+8","v":13}]
[]
[null,null,null,null,null,{"$f":"領収証内訳!$AA$3","v":"2026-09-10"},null,null,null,null,null,null,null,null,null,null,{"$f":"領収証内訳!$AA$3","v":"2026-09-10"}]
[]
[null,{"$f":"INDIRECT(\"領収証内訳!\"&$Z$2&$X70)&\" さん保護者　様\"","v":" さん保護者　様"},null,null,null,null,null,null,null,null,null,null,{"$f":"INDIRECT(\"領収証内訳!\"&$Z$2&$X70+1)&\" さん保護者　様\"","v":" さん保護者　様"}]
[]
[]
[null,null,null," 金",{"$f":"INDIRECT(\"領収証内訳!\"&$Y$2&$X70)","v":0},null,"円　也",null,null,null,null,null,null,null," 金",{"$f":"INDIRECT(\"領収証内訳!\"&$Y$2&$X70+1)","v":0},null,"円　也"]
[]
[null,null,null,{"$f":"\"　　※但　　参加費等収入（\"&領収証内訳!$X$4&\"分）として\"","v":"　　※但　　参加費等収入（４月分）として"},null,null,null,null,null,null,null,null,null,null,{"$f":"\"　　※但　　参加費等収入（\"&領収証内訳!$X$4&\"分）として\"","v":"　　※但　　参加費等収入（４月分）として"}]
[]
[null,null,null,null,"上記正に領収しました。",null,null,null,null,null,null,null,null,null,null,"上記正に領収しました。"]
[]
[null,null,null,null,null,"クラブ名",null,{"$f":"領収証内訳!$X$2","v":0},null,null,null,null,null,null,null,null,"クラブ名",null,{"$f":"領収証内訳!$X$2","v":0}]
[null,null,null,null,null,"代表者氏名",null,{"$f":"領収証内訳!$AA$2","v":0},null," 印",null,null,null,null,null,null,"代表者氏名",null,{"$f":"領収証内訳!$AA$2","v":0},null," 印"]
[]
[]
[null,null,null,"        領  　 収   　証",null,null,null,null,null,null,null,null,null,null,"        領  　 収   　証"]
[]
[null,null,null,null,null,{"$f":"領収証内訳!$AA$3","v":"2026-09-10"},null,null,null,null,null,null,null,null,null,null,{"$f":"領収証内訳!$AA$3","v":"2026-09-10"}]
[]
[null,{"$f":"INDIRECT(\"領収証内訳!\"&$Z$2&$X70+2)&\" さん保護者　様\"","v":" さん保護者　様"},null,null,null,null,null,null,null,null,null,null,{"$f":"INDIRECT(\"領収証内訳!\"&$Z$2&$X70+3)&\" さん保護者　様\"","v":" さん保護者　様"}]
[]
[]
[null,null,null," 金",{"$f":"INDIRECT(\"領収証内訳!\"&$Y$2&$X70+2)","v":0},null,"円　也",null,null,null,null,null,null,null," 金",{"$f":"INDIRECT(\"領収証内訳!\"&$Y$2&$X70+3)","v":0},null,"円　也"]
[]
[null,null,null,{"$f":"\"　　※但　　参加費等収入（\"&領収証内訳!$X$4&\"分）として\"","v":"　　※但　　参加費等収入（４月分）として"},null,null,null,null,null,null,null,null,null,null,{"$f":"\"　　※但　　参加費等収入（\"&領収証内訳!$X$4&\"分）として\"","v":"　　※但　　参加費等収入（４月分）として"}]
[]
[null,null,null,null,"上記正に領収しました。",null,null,null,null,null,null,null,null,null,null,"上記正に領収しました。"]
[]
[null,null,null,null,null,"クラブ名",null,{"$f":"領収証内訳!$X$2","v":0},null,null,null,null,null,null,null,null,"クラブ名",null,{"$f":"領収証内訳!$X$2","v":0}]
[null,null,null,null,null,"代表者氏名",null,{"$f":"領収証内訳!$AA$2","v":0},null," 印",null,null,null,null,null,null,"代表者氏名",null,{"$f":"領収証内訳!$AA$2","v":0},null," 印"]
[]
[]
[null,null,null,"        領  　 収   　証",null,null,null,null,null,null,null,null,null,null,"        領  　 収   　証"]
[]
[null,null,null,null,null,{"$f":"領収証内訳!$AA$3","v":"2026-09-10"},null,null,null,null,null,null,null,null,null,null,{"$f":"領収証内訳!$AA$3","v":"2026-09-10"}]
[]
[null,{"$f":"INDIRECT(\"領収証内訳!\"&$Z$2&$X70+4)&\" さん保護者　様\"","v":" さん保護者　様"},null,null,null,null,null,null,null,null,null,null,{"$f":"INDIRECT(\"領収証内訳!\"&$Z$2&$X70+5)&\" さん保護者　様\"","v":" さん保護者　様"}]
[]
[]
[null,null,null," 金",{"$f":"INDIRECT(\"領収証内訳!\"&$Y$2&$X70+4)","v":0},null,"円　也",null,null,null,null,null,null,null," 金",{"$f":"INDIRECT(\"領収証内訳!\"&$Y$2&$X70+5)","v":0},null,"円　也"]
[]
[null,null,null,{"$f":"\"　　※但　　参加費等収入（\"&領収証内訳!$X$4&\"分）として\"","v":"　　※但　　参加費等収入（４月分）として"},null,null,null,null,null,null,null,null,null,null,{"$f":"\"　　※但　　参加費等収入（\"&領収証内訳!$X$4&\"分）として\"","v":"　　※但　　参加費等収入（４月分）として"}]
[]
[null,null,null,null,"上記正に領収しました。",null,null,null,null,null,null,null,null,null,null,"上記正に領収しました。"]
[]
[null,null,null,null,null,"クラブ名",null,{"$f":"領収証内訳!$X$2","v":0},null,null,null,null,null,null,null,null,"クラブ名",null,{"$f":"領収証内訳!$X$2","v":0}]
[null,null,null,null,null,"代表者氏名",null,{"$f":"領収証内訳!$AA$2","v":0},null," 印",null,null,null,null,null,null,"代表者氏名",null,{"$f":"領収証内訳!$AA$2","v":0},null," 印"]
[]
[]
[null,null,null,"        領  　 収   　証",null,null,null,null,null,null,null,null,null,null,"        領  　 収   　証"]
[]
[null,null,null,null,null,{"$f":"領収証内訳!$AA$3","v":"2026-09-10"},null,null,null,null,null,null,null,null,null,null,{"$f":"領収証内訳!$AA$3","v":"2026-09-10"}]
[]
[null,{"$f":"INDIRECT(\"領収証内訳!\"&$Z$2&$X70+6)&\" さん保護者　様\"","v":" さん保護者　様"},null,null,null,null,null,null,null,null,null,null,{"$f":"INDIRECT(\"領収証内訳!\"&$Z$2&$X70+7)&\" さん保護者　様\"","v":" さん保護者　様"}]
[]
[]
[null,null,null," 金",{"$f":"INDIRECT(\"領収証内訳!\"&$Y$2&$X70+6)","v":0},null,"円　也",null,null,null,null,null,null,null," 金",{"$f":"INDIRECT(\"領収証内訳!\"&$Y$2&$X70+7)","v":0},null,"円　也"]
[]
[null,null,null,{"$f":"\"　　※但　　参加費等収入（\"&領収証内訳!$X$4&\"分）として\"","v":"　　※但　　参加費等収入（４月分）として"},null,null,null,null,null,null,null,null,null,null,{"$f":"\"　　※但　　参加費等収入（\"&領収証内訳!$X$4&\"分）として\"","v":"　　※但　　参加費等収入（４月分）として"}]
[]
[null,null,null,null,"上記正に領収しました。",null,null,null,null,null,null,null,null,null,null,"上記正に領収しました。"]
[]
[null,null,null,null,null,"クラブ名",null,{"$f":"領収証内訳!$X$2","v":0},null,null,null,null,null,null,null,null,"クラブ名",null,{"$f":"領収証内訳!$X$2","v":0}]
[null,null,null,null,null,"代表者氏名",null,{"$f":"領収証内訳!$AA$2","v":0},null," 印",null,null,null,null,null,null,"代表者氏名",null,{"$f":"領収証内訳!$AA$2","v":0},null," 印"]
[]
[]
[null,null,null,"        領  　 収   　証",null,null,null,null,null,null,null,null,null,null,"        領  　 収   　証",null,null,null,null,null,null,null,null,{"$f":"X70+8","v":21}]
[]
[null,null,null,null,null,{"$f":"領収証内訳!$AA$3","v":"2026-09-10"},null,null,null,null,null,null,null,null,null,null,{"$f":"領収証内訳!$AA$3","v":"2026-09-10"}]
[]
[null,{"$f":"INDIRECT(\"領収証内訳!\"&$Z$2&$X138)&\" さん保護者　様\"","v":" さん保護者　様"},null,null,null,null,null,null,null,null,null,null,{"$f":"INDIRECT(\"領収証内訳!\"&$Z$2&$X138+1)&\" さん保護者　様\"","v":" さん保護者　様"}]
[]
[]
[null,null,null," 金",{"$f":"INDIRECT(\"領収証内訳!\"&$Y$2&$X138)","v":0},null,"円　也",null,null,null,null,null,null,null," 金",{"$f":"INDIRECT(\"領収証内訳!\"&$Y$2&$X138+1)","v":0},null,"円　也"]
[]
[null,null,null,{"$f":"\"　　※但　　参加費等収入（\"&領収証内訳!$X$4&\"分）として\"","v":"　　※但　　参加費等収入（４月分）として"},null,null,null,null,null,null,null,null,null,null,{"$f":"\"　　※但　　参加費等収入（\"&領収証内訳!$X$4&\"分）として\"","v":"　　※但　　参加費等収入（４月分）として"}]
[]
[null,null,null,null,"上記正に領収しました。",null,null,null,null,null,null,null,null,null,null,"上記正に領収しました。"]
[]
[null,null,null,null,null,"クラブ名",null,{"$f":"領収証内訳!$X$2","v":0},null,null,null,null,null,null,null,null,"クラブ名",null,{"$f":"領収証内訳!$X$2","v":0}]
[null,null,null,null,null,"代表者氏名",null,{"$f":"領収証内訳!$AA$2","v":0},null," 印",null,null,null,null,null,null,"代表者氏名",null,{"$f":"領収証内訳!$AA$2","v":0},null," 印"]
[]
[]
[null,null,null,"        領  　 収   　証",null,null,null,null,null,null,null,null,null,null,"        領  　 収   　証"]
[]
[null,null,null,null,null,{"$f":"領収証内訳!$AA$3","v":"2026-09-10"},null,null,null,null,null,null,null,null,null,null,{"$f":"領収証内訳!$AA$3","v":"2026-09-10"}]
[]
[null,{"$f":"INDIRECT(\"領収証内訳!\"&$Z$2&$X138+2)&\" さん保護者　様\"","v":" さん保護者　様"},null,null,null,null,null,null,null,null,null,null,{"$f":"INDIRECT(\"領収証内訳!\"&$Z$2&$X138+3)&\" さん保護者　様\"","v":" さん保護者　様"}]
[]
[]
[null,null,null," 金",{"$f":"INDIRECT(\"領収証内訳!\"&$Y$2&$X138+2)","v":0},null,"円　也",null,null,null,null,null,null,null," 金",{"$f":"INDIRECT(\"領収証内訳!\"&$Y$2&$X138+3)","v":0},null,"円　也"]
[]
[null,null,null,{"$f":"\"　　※但　　参加費等収入（\"&領収証内訳!$X$4&\"分）として\"","v":"　　※但　　参加費等収入（４月分）として"},null,null,null,null,null,null,null,null,null,null,{"$f":"\"　　※但　　参加費等収入（\"&領収証内訳!$X$4&\"分）として\"","v":"　　※但　　参加費等収入（４月分）として"}]
[]
[null,null,null,null,"上記正に領収しました。",null,null,null,null,null,null,null,null,null,null,"上記正に領収しました。"]
[]
[null,null,null,null,null,"クラブ名",null,{"$f":"領収証内訳!$X$2","v":0},null,null,null,null,null,null,null,null,"クラブ名",null,{"$f":"領収証内訳!$X$2","v":0}]
[null,null,null,null,null,"代表者氏名",null,{"$f":"領収証内訳!$AA$2","v":0},null," 印",null,null,null,null,null,null,"代表者氏名",null,{"$f":"領収証内訳!$AA$2","v":0},null," 印"]
[]
[]
[null,null,null,"        領  　 収   　証",null,null,null,null,null,null,null,null,null,null,"        領  　 収   　証"]
[]
[null,null,null,null,null,{"$f":"領収証内訳!$AA$3","v":"2026-09-10"},null,null,null,null,null,null,null,null,null,null,{"$f":"領収証内訳!$AA$3","v":"2026-09-10"}]
[]
[null,{"$f":"INDIRECT(\"領収証内訳!\"&$Z$2&$X138+4)&\" さん保護者　様\"","v":" さん保護者　様"},null,null,null,null,null,null,null,null,null,null,{"$f":"INDIRECT(\"領収証内訳!\"&$Z$2&$X138+5)&\" さん保護者　様\"","v":" さん保護者　様"}]
[]
[]
[null,null,null," 金",{"$f":"INDIRECT(\"領収証内訳!\"&$Y$2&$X138+4)","v":0},null,"円　也",null,null,null,null,null,null,null," 金",{"$f":"INDIRECT(\"領収証内訳!\"&$Y$2&$X138+5)","v":0},null,"円　也"]
[]
[null,null,null,{"$f":"\"　　※但　　参加費等収入（\"&領収証内訳!$X$4&\"分）として\"","v":"　　※但　　参加費等収入（４月分）として"},null,null,null,null,null,null,null,null,null,null,{"$f":"\"　　※但　　参加費等収入（\"&領収証内訳!$X$4&\"分）として\"","v":"　　※但　　参加費等収入（４月分）として"}]
[]
[null,null,null,null,"上記正に領収しました。",null,null,null,null,null,null,null,null,null,null,"上記正に領収しました。"]
[]
[null,null,null,null,null,"クラブ名",null,{"$f":"領収証内訳!$X$2","v":0},null,null,null,null,null,null,null,null,"クラブ名",null,{"$f":"領収証内訳!$X$2","v":0}]
[null,null,null,null,null,"代表者氏名",null,{"$f":"領収証内訳!$AA$2","v":0},null," 印",null,null,null,null,null,null,"代表者氏名",null,{"$f":"領収証内訳!$AA$2","v":0},null," 印"]
[]
[]
[null,null,null,"        領  　 収   　証",null,null,null,null,null,null,null,null,null,null,"        領  　 収   　証"]
[]
[null,null,null,null,null,{"$f":"領収証内訳!$AA$3","v":"2026-09-10"},null,null,null,null,null,null,null,null,null,null,{"$f":"領収証内訳!$AA$3","v":"2026-09-10"}]
[]
[null,{"$f":"INDIRECT(\"領収証内訳!\"&$Z$2&$X138+6)&\" さん保護者　様\"","v":" さん保護者　様"},null,null,null,null,null,null,null,null,null,null,{"$f":"INDIRECT(\"領収証内訳!\"&$Z$2&$X138+7)&\" さん保護者　様\"","v":" さん保護者　様"}]
[]
[]
[null,null,null," 金",{"$f":"INDIRECT(\"領収証内訳!\"&$Y$2&$X138+6)","v":0},null,"円　也",null,null,null,null,null,null,null," 金",{"$f":"INDIRECT(\"領収証内訳!\"&$Y$2&$X138+7)","v":0},null,"円　也"]
[]
[null,null,null,{"$f":"\"　　※但　　参加費等収入（\"&領収証内訳!$X$4&\"分）として\"","v":"　　※但　　参加費等収入（４月分）として"},null,null,null,null,null,null,null,null,null,null,{"$f":"\"　　※但　　参加費等収入（\"&領収証内訳!$X$4&\"分）として\"","v":"　　※但　　参加費等収入（４月分）として"}]
[]
[null,null,null,null,"上記正に領収しました。",null,null,null,null,null,null,null,null,null,null,"上記正に領収しました。"]
[]
[null,null,null,null,null,"クラブ名",null,{"$f":"領収証内訳!$X$2","v":0},null,null,null,null,null,null,null,null,"クラブ名",null,{"$f":"領収証内訳!$X$2","v":0}]
[null,null,null,null,null,"代表者氏名",null,{"$f":"領収証内訳!$AA$2","v":0},null," 印",null,null,null,null,null,null,"代表者氏名",null,{"$f":"領収証内訳!$AA$2","v":0},null," 印"]
[]
[]
[null,null,null,"        領  　 収   　証",null,null,null,null,null,null,null,null,null,null,"        領  　 収   　証",null,null,null,null,null,null,null,null,{"$f":"X138+8","v":29}]
[]
[null,null,null,null,null,{"$f":"領収証内訳!$AA$3","v":"2026-09-10"},null,null,null,null,null,null,null,null,null,null,{"$f":"領収証内訳!$AA$3","v":"2026-09-10"}]
[]
[null,{"$f":"INDIRECT(\"領収証内訳!\"&$Z$2&$X206)&\" さん保護者　様\"","v":" さん保護者　様"},null,null,null,null,null,null,null,null,null,null,{"$f":"INDIRECT(\"領収証内訳!\"&$Z$2&$X206+1)&\" さん保護者　様\"","v":" さん保護者　様"}]
[]
[]
[null,null,null," 金",{"$f":"INDIRECT(\"領収証内訳!\"&$Y$2&$X206)","v":0},null,"円　也",null,null,null,null,null,null,null," 金",{"$f":"INDIRECT(\"領収証内訳!\"&$Y$2&$X206+1)","v":0},null,"円　也"]
[]
[null,null,null,{"$f":"\"　　※但　　参加費等収入（\"&領収証内訳!$X$4&\"分）として\"","v":"　　※但　　参加費等収入（４月分）として"},null,null,null,null,null,null,null,null,null,null,{"$f":"\"　　※但　　参加費等収入（\"&領収証内訳!$X$4&\"分）として\"","v":"　　※但　　参加費等収入（４月分）として"}]
[]
[null,null,null,null,"上記正に領収しました。",null,null,null,null,null,null,null,null,null,null,"上記正に領収しました。"]
[]
[null,null,null,null,null,"クラブ名",null,{"$f":"領収証内訳!$X$2","v":0},null,null,null,null,null,null,null,null,"クラブ名",null,{"$f":"領収証内訳!$X$2","v":0}]
[null,null,null,null,null,"代表者氏名",null,{"$f":"領収証内訳!$AA$2","v":0},null," 印",null,null,null,null,null,null,"代表者氏名",null,{"$f":"領収証内訳!$AA$2","v":0},null," 印"]
[]
[]
[null,null,null,"        領  　 収   　証",null,null,null,null,null,null,null,null,null,null,"        領  　 収   　証"]
[]
[null,null,null,null,null,{"$f":"領収証内訳!$AA$3","v":"2026-09-10"},null,null,null,null,null,null,null,null,null,null,{"$f":"領収証内訳!$AA$3","v":"2026-09-10"}]
[]
[null,{"$f":"INDIRECT(\"領収証内訳!\"&$Z$2&$X206+2)&\" さん保護者　様\"","v":" さん保護者　様"},null,null,null,null,null,null,null,null,null,null,{"$f":"INDIRECT(\"領収証内訳!\"&$Z$2&$X206+3)&\" さん保護者　様\"","v":" さん保護者　様"}]
[]
[]
[null,null,null," 金",{"$f":"INDIRECT(\"領収証内訳!\"&$Y$2&$X206+2)","v":0},null,"円　也",null,null,null,null,null,null,null," 金",{"$f":"INDIRECT(\"領収証内訳!\"&$Y$2&$X206+3)","v":0},null,"円　也"]
[]
[null,null,null,{"$f":"\"　　※但　　参加費等収入（\"&領収証内訳!$X$4&\"分）として\"","v":"　　※但　　参加費等収入（４月分）として"},null,null,null,null,null,null,null,null,null,null,{"$f":"\"　　※但　　参加費等収入（\"&領収証内訳!$X$4&\"分）として\"","v":"　　※但　　参加費等収入（４月分）として"}]
[]
[null,null,null,null,"上記正に領収しました。",null,null,null,null,null,null,null,null,null,null,"上記正に領収しました。"]
[]
[null,null,null,null,null,"クラブ名",null,{"$f":"領収証内訳!$X$2","v":0},null,null,null,null,null,null,null,null,"クラブ名",null,{"$f":"領収証内訳!$X$2","v":0}]
[null,null,null,null,null,"代表者氏名",null,{"$f":"領収証内訳!$AA$2","v":0},null," 印",null,null,null,null,null,null,"代表者氏名",null,{"$f":"領収証内訳!$AA$2","v":0},null," 印"]
[]
[]
[null,null,null,"        領  　 収   　証",null,null,null,null,null,null,null,null,null,null,"        領  　 収   　証"]
[]
[null,null,null,null,null,{"$f":"領収証内訳!$AA$3","v":"2026-09-10"},null,null,null,null,null,null,null,null,null,null,{"$f":"領収証内訳!$AA$3","v":"2026-09-10"}]
[]
[null,{"$f":"INDIRECT(\"領収証内訳!\"&$Z$2&$X206+4)&\" さん保護者　様\"","v":" さん保護者　様"},null,null,null,null,null,null,null,null,null,null,{"$f":"INDIRECT(\"領収証内訳!\"&$Z$2&$X206+5)&\" さん保護者　様\"","v":" さん保護者　様"}]
[]
[]
[null,null,null," 金",{"$f":"INDIRECT(\"領収証内訳!\"&$Y$2&$X206+4)","v":0},null,"円　也",null,null,null,null,null,null,null," 金",{"$f":"INDIRECT(\"領収証内訳!\"&$Y$2&$X206+5)","v":0},null,"円　也"]
[]
[null,null,null,{"$f":"\"　　※但　　参加費等収入（\"&領収証内訳!$X$4&\"分）として\"","v":"　　※但　　参加費等収入（４月分）として"},null,null,null,null,null,null,null,null,null,null,{"$f":"\"　　※但　　参加費等収入（\"&領収証内訳!$X$4&\"分）として\"","v":"　　※但　　参加費等収入（４月分）として"}]
[]
[null,null,null,null,"上記正に領収しました。",null,null,null,null,null,null,null,null,null,null,"上記正に領収しました。"]
[]
[null,null,null,null,null,"クラブ名",null,{"$f":"領収証内訳!$X$2","v":0},null,null,null,null,null,null,null,null,"クラブ名",null,{"$f":"領収証内訳!$X$2","v":0}]
[null,null,null,null,null,"代表者氏名",null,{"$f":"領収証内訳!$AA$2","v":0},null," 印",null,null,null,null,null,null,"代表者氏名",null,{"$f":"領収証内訳!$AA$2","v":0},null," 印"]
[]
[]
[null,null,null,"        領  　 収   　証",null,null,null,null,null,null,null,null,null,null,"        領  　 収   　証"]
[]
[null,null,null,null,null,{"$f":"領収証内訳!$AA$3","v":"2026-09-10"},null,null,null,null,null,null,null,null,null,null,{"$f":"領収証内訳!$AA$3","v":"2026-09-10"}]
[]
[null,{"$f":"INDIRECT(\"領収証内訳!\"&$Z$2&$X206+6)&\" さん保護者　様\"","v":" さん保護者　様"},null,null,null,null,null,null,null,null,null,null,{"$f":"INDIRECT(\"領収証内訳!\"&$Z$2&$X206+7)&\" さん保護者　様\"","v":" さん保護者　様"}]
[]
[]
[null,null,null," 金",{"$f":"INDIRECT(\"領収証内訳!\"&$Y$2&$X206+6)","v":0},null,"円　也",null,null,null,null,null,null,null," 金",{"$f":"INDIRECT(\"領収証内訳!\"&$Y$2&$X206+7)","v":0},null,"円　也"]
[]
[null,null,null,{"$f":"\"　　※但　　参加費等収入（\"&領収証内訳!$X$4&\"分）として\"","v":"　　※但　　参加費等収入（４月分）として"},null,null,null,null,null,null,null,null,null,null,{"$f":"\"　　※但　　参加費等収入（\"&領収証内訳!$X$4&\"分）として\"","v":"　　※但　　参加費等収入（４月分）として"}]
[]
[null,null,null,null,"上記正に領収しました。",null,null,null,null,null,null,null,null,null,null,"上記正に領収しました。"]
[]
[null,null,null,null,null,"クラブ名",null,{"$f":"領収証内訳!$X$2","v":0},null,null,null,null,null,null,null,null,"クラブ名",null,{"$f":"領収証内訳!$X$2","v":0}]
[null,null,null,null,null,"代表者氏名",null,{"$f":"領収証内訳!$AA$2","v":0},null," 印",null,null,null,null,null,null,"代表者氏名",null,{"$f":"領収証内訳!$AA$2","v":0},null," 印"]
[]
[]
[null,null,null,"        領  　 収   　証",null,null,null,null,null,null,null,null,null,null,"        領  　 収   　証",null,null,null,null,null,null,null,null,{"$f":"X206+8","v":37}]
[]
[null,null,null,null,null,{"$f":"領収証内訳!$AA$3","v":"2026-09-10"},null,null,null,null,null,null,null,null,null,null,{"$f":"領収証内訳!$AA$3","v":"2026-09-10"}]
[]
[null,{"$f":"INDIRECT(\"領収証内訳!\"&$Z$2&$X274)&\" さん保護者　様\"","v":" さん保護者　様"},null,null,null,null,null,null,null,null,null,null,{"$f":"INDIRECT(\"領収証内訳!\"&$Z$2&$X274+1)&\" さん保護者　様\"","v":" さん保護者　様"}]
[]
[]
[null,null,null," 金",{"$f":"INDIRECT(\"領収証内訳!\"&$Y$2&$X274)","v":0},null,"円　也",null,null,null,null,null,null,null," 金",{"$f":"INDIRECT(\"領収証内訳!\"&$Y$2&$X274+1)","v":0},null,"円　也"]
[]
[null,null,null,{"$f":"\"　　※但　　参加費等収入（\"&領収証内訳!$X$4&\"分）として\"","v":"　　※但　　参加費等収入（４月分）として"},null,null,null,null,null,null,null,null,null,null,{"$f":"\"　　※但　　参加費等収入（\"&領収証内訳!$X$4&\"分）として\"","v":"　　※但　　参加費等収入（４月分）として"}]
[]
[null,null,null,null,"上記正に領収しました。",null,null,null,null,null,null,null,null,null,null,"上記正に領収しました。"]
[]
[null,null,null,null,null,"クラブ名",null,{"$f":"領収証内訳!$X$2","v":0},null,null,null,null,null,null,null,null,"クラブ名",null,{"$f":"領収証内訳!$X$2","v":0}]
[null,null,null,null,null,"代表者氏名",null,{"$f":"領収証内訳!$AA$2","v":0},null," 印",null,null,null,null,null,null,"代表者氏名",null,{"$f":"領収証内訳!$AA$2","v":0},null," 印"]
[]
[]
[null,null,null,"        領  　 収   　証",null,null,null,null,null,null,null,null,null,null,"        領  　 収   　証"]
[]
[null,null,null,null,null,{"$f":"領収証内訳!$AA$3","v":"2026-09-10"},null,null,null,null,null,null,null,null,null,null,{"$f":"領収証内訳!$AA$3","v":"2026-09-10"}]
[]
[null,{"$f":"INDIRECT(\"領収証内訳!\"&$Z$2&$X274+2)&\" さん保護者　様\"","v":" さん保護者　様"},null,null,null,null,null,null,null,null,null,null,{"$f":"INDIRECT(\"領収証内訳!\"&$Z$2&$X274+3)&\" さん保護者　様\"","v":" さん保護者　様"}]
[]
[]
[null,null,null," 金",{"$f":"INDIRECT(\"領収証内訳!\"&$Y$2&$X274+2)","v":0},null,"円　也",null,null,null,null,null,null,null," 金",{"$f":"INDIRECT(\"領収証内訳!\"&$Y$2&$X274+3)","v":0},null,"円　也"]
[]
[null,null,null,{"$f":"\"　　※但　　参加費等収入（\"&領収証内訳!$X$4&\"分）として\"","v":"　　※但　　参加費等収入（４月分）として"},null,null,null,null,null,null,null,null,null,null,{"$f":"\"　　※但　　参加費等収入（\"&領収証内訳!$X$4&\"分）として\"","v":"　　※但　　参加費等収入（４月分）として"}]
[]
[null,null,null,null,"上記正に領収しました。",null,null,null,null,null,null,null,null,null,null,"上記正に領収しました。"]
[]
[null,null,null,null,null,"クラブ名",null,{"$f":"領収証内訳!$X$2","v":0},null,null,null,null,null,null,null,null,"クラブ名",null,{"$f":"領収証内訳!$X$2","v":0}]
[null,null,null,null,null,"代表者氏名",null,{"$f":"領収証内訳!$AA$2","v":0},null," 印",null,null,null,null,null,null,"代表者氏名",null,{"$f":"領収証内訳!$AA$2","v":0},null," 印"]
[]
[]
[null,null,null,"        領  　 収   　証",null,null,null,null,null,null,null,null,null,null,"        領  　 収   　証"]
[]
[null,null,null,null,null,{"$f":"領収証内訳!$AA$3","v":"2026-09-10"},null,null,null,null,null,null,null,null,null,null,{"$f":"領収証内訳!$AA$3","v":"2026-09-10"}]
[]
[null,{"$f":"INDIRECT(\"領収証内訳!\"&$Z$2&$X274+4)&\" さん保護者　様\"","v":" さん保護者　様"},null,null,null,null,null,null,null,null,null,null,{"$f":"INDIRECT(\"領収証内訳!\"&$Z$2&$X274+5)&\" さん保護者　様\"","v":" さん保護者　様"}]
[]
[]
[null,null,null," 金",{"$f":"INDIRECT(\"領収証内訳!\"&$Y$2&$X274+4)","v":0},null,"円　也",null,null,null,null,null,null,null," 金",{"$f":"INDIRECT(\"領収証内訳!\"&$Y$2&$X274+5)","v":0},null,"円　也"]
[]
[null,null,null,{"$f":"\"　　※但　　参加費等収入（\"&領収証内訳!$X$4&\"分）として\"","v":"　　※但　　参加費等収入（４月分）として"},null,null,null,null,null,null,null,null,null,null,{"$f":"\"　　※但　　参加費等収入（\"&領収証内訳!$X$4&\"分）として\"","v":"　　※但　　参加費等収入（４月分）として"}]
[]
[null,null,null,null,"上記正に領収しました。",null,null,null,null,null,null,null,null,null,null,"上記正に領収しました。"]
[]
[null,null,null,null,null,"クラブ名",null,{"$f":"領収証内訳!$X$2","v":0},null,null,null,null,null,null,null,null,"クラブ名",null,{"$f":"領収証内訳!$X$2","v":0}]
[null,null,null,null,null,"代表者氏名",null,{"$f":"領収証内訳!$AA$2","v":0},null," 印",null,null,null,null,null,null,"代表者氏名",null,{"$f":"領収証内訳!$AA$2","v":0},null," 印"]
[]
[]
[null,null,null,"        領  　 収   　証",null,null,null,null,null,null,null,null,null,null,"        領  　 収   　証"]
[]
[null,null,null,null,null,{"$f":"領収証内訳!$AA$3","v":"2026-09-10"},null,null,null,null,null,null,null,null,null,null,{"$f":"領収証内訳!$AA$3","v":"2026-09-10"}]
[]
[null,{"$f":"INDIRECT(\"領収証内訳!\"&$Z$2&$X274+6)&\" さん保護者　様\"","v":" さん保護者　様"},null,null,null,null,null,null,null,null,null,null,{"$f":"INDIRECT(\"領収証内訳!\"&$Z$2&$X274+7)&\" さん保護者　様\"","v":" さん保護者　様"}]
[]
[]
[null,null,null," 金",{"$f":"INDIRECT(\"領収証内訳!\"&$Y$2&$X274+6)","v":0},null,"円　也",null,null,null,null,null,null,null," 金",{"$f":"INDIRECT(\"領収証内訳!\"&$Y$2&$X274+7)","v":0},null,"円　也"]
[]
[null,null,null,{"$f":"\"　　※但　　参加費等収入（\"&領収証内訳!$X$4&\"分）として\"","v":"　　※但　　参加費等収入（４月分）として"},null,null,null,null,null,null,null,null,null,null,{"$f":"\"　　※但　　参加費等収入（\"&領収証内訳!$X$4&\"分）として\"","v":"　　※但　　参加費等収入（４月分）として"}]
[]
[null,null,null,null,"上記正に領収しました。",null,null,null,null,null,null,null,null,null,null,"上記正に領収しました。"]
[]
[null,null,null,null,null,"クラブ名",null,{"$f":"領収証内訳!$X$2","v":0},null,null,null,null,null,null,null,null,"クラブ名",null,{"$f":"領収証内訳!$X$2","v":0}]
[null,null,null,null,null,"代表者氏名",null,{"$f":"領収証内訳!$AA$2","v":0},null," 印",null,null,null,null,null,null,"代表者氏名",null,{"$f":"領収証内訳!$AA$2","v":0},null," 印"]
[]
[]
[null,null,null,"        領  　 収   　証",null,null,null,null,null,null,null,null,null,null,"        領  　 収   　証",null,null,null,null,null,null,null,null,{"$f":"X274+8","v":45}]
[]
[null,null,null,null,null,{"$f":"領収証内訳!$AA$3","v":"2026-09-10"},null,null,null,null,null,null,null,null,null,null,{"$f":"領収証内訳!$AA$3","v":"2026-09-10"}]
[]
[null,{"$f":"INDIRECT(\"領収証内訳!\"&$Z$2&$X342)&\" さん保護者　様\"","v":" さん保護者　様"},null,null,null,null,null,null,null,null,null,null,{"$f":"INDIRECT(\"領収証内訳!\"&$Z$2&$X342+1)&\" さん保護者　様\"","v":" さん保護者　様"}]
[]
[]
[null,null,null," 金",{"$f":"INDIRECT(\"領収証内訳!\"&$Y$2&$X342)","v":0},null,"円　也",null,null,null,null,null,null,null," 金",{"$f":"INDIRECT(\"領収証内訳!\"&$Y$2&$X342+1)","v":0},null,"円　也"]
[]
[null,null,null,{"$f":"\"　　※但　　参加費等収入（\"&領収証内訳!$X$4&\"分）として\"","v":"　　※但　　参加費等収入（４月分）として"},null,null,null,null,null,null,null,null,null,null,{"$f":"\"　　※但　　参加費等収入（\"&領収証内訳!$X$4&\"分）として\"","v":"　　※但　　参加費等収入（４月分）として"}]
[]
[null,null,null,null,"上記正に領収しました。",null,null,null,null,null,null,null,null,null,null,"上記正に領収しました。"]
[]
[null,null,null,null,null,"クラブ名",null,{"$f":"領収証内訳!$X$2","v":0},null,null,null,null,null,null,null,null,"クラブ名",null,{"$f":"領収証内訳!$X$2","v":0}]
[null,null,null,null,null,"代表者氏名",null,{"$f":"領収証内訳!$AA$2","v":0},null," 印",null,null,null,null,null,null,"代表者氏名",null,{"$f":"領収証内訳!$AA$2","v":0},null," 印"]
[]
[]
[null,null,null,"        領  　 収   　証",null,null,null,null,null,null,null,null,null,null,"        領  　 収   　証"]
[]
[null,null,null,null,null,{"$f":"領収証内訳!$AA$3","v":"2026-09-10"},null,null,null,null,null,null,null,null,null,null,{"$f":"領収証内訳!$AA$3","v":"2026-09-10"}]
[]
[null,{"$f":"INDIRECT(\"領収証内訳!\"&$Z$2&$X342+2)&\" さん保護者　様\"","v":" さん保護者　様"},null,null,null,null,null,null,null,null,null,null,{"$f":"INDIRECT(\"領収証内訳!\"&$Z$2&$X342+3)&\" さん保護者　様\"","v":" さん保護者　様"}]
[]
[]
[null,null,null," 金",{"$f":"INDIRECT(\"領収証内訳!\"&$Y$2&$X342+2)","v":0},null,"円　也",null,null,null,null,null,null,null," 金",{"$f":"INDIRECT(\"領収証内訳!\"&$Y$2&$X342+3)","v":0},null,"円　也"]
[]
[null,null,null,{"$f":"\"　　※但　　参加費等収入（\"&領収証内訳!$X$4&\"分）として\"","v":"　　※但　　参加費等収入（４月分）として"},null,null,null,null,null,null,null,null,null,null,{"$f":"\"　　※但　　参加費等収入（\"&領収証内訳!$X$4&\"分）として\"","v":"　　※但　　参加費等収入（４月分）として"}]
[]
[null,null,null,null,"上記正に領収しました。",null,null,null,null,null,null,null,null,null,null,"上記正に領収しました。"]
[]
[null,null,null,null,null,"クラブ名",null,{"$f":"領収証内訳!$X$2","v":0},null,null,null,null,null,null,null,null,"クラブ名",null,{"$f":"領収証内訳!$X$2","v":0}]
[null,null,null,null,null,"代表者氏名",null,{"$f":"領収証内訳!$AA$2","v":0},null," 印",null,null,null,null,null,null,"代表者氏名",null,{"$f":"領収証内訳!$AA$2","v":0},null," 印"]
[]
[]
[null,null,null,"        領  　 収   　証",null,null,null,null,null,null,null,null,null,null,"        領  　 収   　証"]
[]
[null,null,null,null,null,{"$f":"領収証内訳!$AA$3","v":"2026-09-10"},null,null,null,null,null,null,null,null,null,null,{"$f":"領収証内訳!$AA$3","v":"2026-09-10"}]
[]
[null,{"$f":"INDIRECT(\"領収証内訳!\"&$Z$2&$X342+4)&\" さん保護者　様\"","v":" さん保護者　様"},null,null,null,null,null,null,null,null,null,null,{"$f":"INDIRECT(\"領収証内訳!\"&$Z$2&$X342+5)&\" さん保護者　様\"","v":" さん保護者　様"}]
[]
[]
[null,null,null," 金",{"$f":"INDIRECT(\"領収証内訳!\"&$Y$2&$X342+4)","v":0},null,"円　也",null,null,null,null,null,null,null," 金",{"$f":"INDIRECT(\"領収証内訳!\"&$Y$2&$X342+5)","v":0},null,"円　也"]
[]
[null,null,null,{"$f":"\"　　※但　　参加費等収入（\"&領収証内訳!$X$4&\"分）として\"","v":"　　※但　　参加費等収入（４月分）として"},null,null,null,null,null,null,null,null,null,null,{"$f":"\"　　※但　　参加費等収入（\"&領収証内訳!$X$4&\"分）として\"","v":"　　※但　　参加費等収入（４月分）として"}]
[]
[null,null,null,null,"上記正に領収しました。",null,null,null,null,null,null,null,null,null,null,"上記正に領収しました。"]
[]
[null,null,null,null,null,"クラブ名",null,{"$f":"領収証内訳!$X$2","v":0},null,null,null,null,null,null,null,null,"クラブ名",null,{"$f":"領収証内訳!$X$2","v":0}]
[null,null,null,null,null,"代表者氏名",null,{"$f":"領収証内訳!$AA$2","v":0},null," 印",null,null,null,null,null,null,"代表者氏名",null,{"$f":"領収証内訳!$AA$2","v":0},null," 印"]
[]
[]
[null,null,null,"        領  　 収   　証",null,null,null,null,null,null,null,null,null,null,"        領  　 収   　証"]
[]
[null,null,null,null,null,{"$f":"領収証内訳!$AA$3","v":"2026-09-10"},null,null,null,null,null,null,null,null,null,null,{"$f":"領収証内訳!$AA$3","v":"2026-09-10"}]
[]
[null,{"$f":"INDIRECT(\"領収証内訳!\"&$Z$2&$X342+6)&\" さん保護者　様\"","v":" さん保護者　様"},null,null,null,null,null,null,null,null,null,null,{"$f":"INDIRECT(\"領収証内訳!\"&$Z$2&$X342+7)&\" さん保護者　様\"","v":" さん保護者　様"}]
[]
[]
[null,null,null," 金",{"$f":"INDIRECT(\"領収証内訳!\"&$Y$2&$X342+6)","v":0},null,"円　也",null,null,null,null,null,null,null," 金",{"$f":"INDIRECT(\"領収証内訳!\"&$Y$2&$X342+7)","v":0},null,"円　也"]
[]
[null,null,null,{"$f":"\"　　※但　　参加費等収入（\"&領収証内訳!$X$4&\"分）として\"","v":"　　※但　　参加費等収入（４月分）として"},null,null,null,null,null,null,null,null,null,null,{"$f":"\"　　※但　　参加費等収入（\"&領収証内訳!$X$4&\"分）として\"","v":"　　※但　　参加費等収入（４月分）として"}]
[]
[null,null,null,null,"上記正に領収しました。",null,null,null,null,null,null,null,null,null,null,"上記正に領収しました。"]
[]
[null,null,null,null,null,"クラブ名",null,{"$f":"領収証内訳!$X$2","v":0},null,null,null,null,null,null,null,null,"クラブ名",null,{"$f":"領収証内訳!$X$2","v":0}]
[null,null,null,null,null,"代表者氏名",null,{"$f":"領収証内訳!$AA$2","v":0},null," 印",null,null,null,null,null,null,"代表者氏名",null,{"$f":"領収証内訳!$AA$2","v":0},null," 印"]
[]
[]
[null,null,null,"        領  　 収   　証",null,null,null,null,null,null,null,null,null,null,"        領  　 収   　証",null,null,null,null,null,null,null,null,{"$f":"X342+8","v":53}]
[]
[null,null,null,null,null,{"$f":"領収証内訳!$AA$3","v":"2026-09-10"},null,null,null,null,null,null,null,null,null,null,{"$f":"領収証内訳!$AA$3","v":"2026-09-10"}]
[]
[null,{"$f":"INDIRECT(\"領収証内訳!\"&$Z$2&$X410)&\" さん保護者　様\"","v":" さん保護者　様"},null,null,null,null,null,null,null,null,null,null,{"$f":"INDIRECT(\"領収証内訳!\"&$Z$2&$X410+1)&\" さん保護者　様\"","v":" さん保護者　様"}]
[]
[]
[null,null,null," 金",{"$f":"INDIRECT(\"領収証内訳!\"&$Y$2&$X410)","v":0},null,"円　也",null,null,null,null,null,null,null," 金",{"$f":"INDIRECT(\"領収証内訳!\"&$Y$2&$X410+1)","v":0},null,"円　也"]
[]
[null,null,null,{"$f":"\"　　※但　　参加費等収入（\"&領収証内訳!$X$4&\"分）として\"","v":"　　※但　　参加費等収入（４月分）として"},null,null,null,null,null,null,null,null,null,null,{"$f":"\"　　※但　　参加費等収入（\"&領収証内訳!$X$4&\"分）として\"","v":"　　※但　　参加費等収入（４月分）として"}]
[]
[null,null,null,null,"上記正に領収しました。",null,null,null,null,null,null,null,null,null,null,"上記正に領収しました。"]
[]
[null,null,null,null,null,"クラブ名",null,{"$f":"領収証内訳!$X$2","v":0},null,null,null,null,null,null,null,null,"クラブ名",null,{"$f":"領収証内訳!$X$2","v":0}]
[null,null,null,null,null,"代表者氏名",null,{"$f":"領収証内訳!$AA$2","v":0},null," 印",null,null,null,null,null,null,"代表者氏名",null,{"$f":"領収証内訳!$AA$2","v":0},null," 印"]
[]
[]
[null,null,null,"        領  　 収   　証",null,null,null,null,null,null,null,null,null,null,"        領  　 収   　証"]
[]
[null,null,null,null,null,{"$f":"領収証内訳!$AA$3","v":"2026-09-10"},null,null,null,null,null,null,null,null,null,null,{"$f":"領収証内訳!$AA$3","v":"2026-09-10"}]
[]
[null,{"$f":"INDIRECT(\"領収証内訳!\"&$Z$2&$X410+2)&\" さん保護者　様\"","v":" さん保護者　様"},null,null,null,null,null,null,null,null,null,null,{"$f":"INDIRECT(\"領収証内訳!\"&$Z$2&$X410+3)&\" さん保護者　様\"","v":" さん保護者　様"}]
[]
[]
[null,null,null," 金",{"$f":"INDIRECT(\"領収証内訳!\"&$Y$2&$X410+2)","v":0},null,"円　也",null,null,null,null,null,null,null," 金",{"$f":"INDIRECT(\"領収証内訳!\"&$Y$2&$X410+3)","v":0},null,"円　也"]
[]
[null,null,null,{"$f":"\"　　※但　　参加費等収入（\"&領収証内訳!$X$4&\"分）として\"","v":"　　※但　　参加費等収入（４月分）として"},null,null,null,null,null,null,null,null,null,null,{"$f":"\"　　※但　　参加費等収入（\"&領収証内訳!$X$4&\"分）として\"","v":"　　※但　　参加費等収入（４月分）として"}]
[]
[null,null,null,null,"上記正に領収しました。",null,null,null,null,null,null,null,null,null,null,"上記正に領収しました。"]
[]
[null,null,null,null,null,"クラブ名",null,{"$f":"領収証内訳!$X$2","v":0},null,null,null,null,null,null,null,null,"クラブ名",null,{"$f":"領収証内訳!$X$2","v":0}]
[null,null,null,null,null,"代表者氏名",null,{"$f":"領収証内訳!$AA$2","v":0},null," 印",null,null,null,null,null,null,"代表者氏名",null,{"$f":"領収証内訳!$AA$2","v":0},null," 印"]
[]
[]
[null,null,null,"        領  　 収   　証",null,null,null,null,null,null,null,null,null,null,"        領  　 収   　証"]
[]
[null,null,null,null,null,{"$f":"領収証内訳!$AA$3","v":"2026-09-10"},null,null,null,null,null,null,null,null,null,null,{"$f":"領収証内訳!$AA$3","v":"2026-09-10"}]
[]
[null,{"$f":"INDIRECT(\"領収証内訳!\"&$Z$2&$X410+4)&\" さん保護者　様\"","v":" さん保護者　様"},null,null,null,null,null,null,null,null,null,null,{"$f":"INDIRECT(\"領収証内訳!\"&$Z$2&$X410+5)&\" さん保護者　様\"","v":" さん保護者　様"}]
[]
[]
[null,null,null," 金",{"$f":"INDIRECT(\"領収証内訳!\"&$Y$2&$X410+4)","v":0},null,"円　也",null,null,null,null,null,null,null," 金",{"$f":"INDIRECT(\"領収証内訳!\"&$Y$2&$X410+5)","v":0},null,"円　也"]
[]
[null,null,null,{"$f":"\"　　※但　　参加費等収入（\"&領収証内訳!$X$4&\"分）として\"","v":"　　※但　　参加費等収入（４月分）として"},null,null,null,null,null,null,null,null,null,null,{"$f":"\"　　※但　　参加費等収入（\"&領収証内訳!$X$4&\"分）として\"","v":"　　※但　　参加費等収入（４月分）として"}]
[]
[null,null,null,null,"上記正に領収しました。",null,null,null,null,null,null,null,null,null,null,"上記正に領収しました。"]
[]
[null,null,null,null,null,"クラブ名",null,{"$f":"領収証内訳!$X$2","v":0},null,null,null,null,null,null,null,null,"クラブ名",null,{"$f":"領収証内訳!$X$2","v":0}]
[null,null,null,null,null,"代表者氏名",null,{"$f":"領収証内訳!$AA$2","v":0},null," 印",null,null,null,null,null,null,"代表者氏名",null,{"$f":"領収証内訳!$AA$2","v":0},null," 印"]
[]
[]
[null,null,null,"        領  　 収   　証",null,null,null,null,null,null,null,null,null,null,"        領  　 収   　証"]
[]
[null,null,null,null,null,{"$f":"領収証内訳!$AA$3","v":"2026-09-10"},null,null,null,null,null,null,null,null,null,null,{"$f":"領収証内訳!$AA$3","v":"2026-09-10"}]
[]
[null,{"$f":"INDIRECT(\"領収証内訳!\"&$Z$2&$X410+6)&\" さん保護者　様\"","v":" さん保護者　様"},null,null,null,null,null,null,null,null,null,null,{"$f":"INDIRECT(\"領収証内訳!\"&$Z$2&$X410+7)&\" さん保護者　様\"","v":" さん保護者　様"}]
[]
[]
[null,null,null," 金",{"$f":"INDIRECT(\"領収証内訳!\"&$Y$2&$X410+6)","v":0},null,"円　也",null,null,null,null,null,null,null," 金",{"$f":"INDIRECT(\"領収証内訳!\"&$Y$2&$X410+7)","v":0},null,"円　也"]
[]
[null,null,null,{"$f":"\"　　※但　　参加費等収入（\"&領収証内訳!$X$4&\"分）として\"","v":"　　※但　　参加費等収入（４月分）として"},null,null,null,null,null,null,null,null,null,null,{"$f":"\"　　※但　　参加費等収入（\"&領収証内訳!$X$4&\"分）として\"","v":"　　※但　　参加費等収入（４月分）として"}]
[]
[null,null,null,null,"上記正に領収しました。",null,null,null,null,null,null,null,null,null,null,"上記正に領収しました。"]
[]
[null,null,null,null,null,"クラブ名",null,{"$f":"領収証内訳!$X$2","v":0},null,null,null,null,null,null,null,null,"クラブ名",null,{"$f":"領収証内訳!$X$2","v":0}]
[null,null,null,null,null,"代表者氏名",null,{"$f":"領収証内訳!$AA$2","v":0},null," 印",null,null,null,null,null,null,"代表者氏名",null,{"$f":"領収証内訳!$AA$2","v":0},null," 印"]

{"sheet":"集金袋","index":3,"n_rows":52,"n_cols":32,"rows_kept":52,"cut":false,"hidden":false,"merged":[[0,2,0,3],[0,0,0,1],[1,2,1,3],[9,8,9,9],[10,8,10,9],[1,0,1,1],[2,8,2,9]]}
["参加者氏名",null,{"$f":"INDIRECT(K6)","v":0}]
["領収者",null,{"$f":"領収証内訳!X2&\" \"&領収証内訳!AA2","v":"0 0"},null,null,null,null,null,null,null,null,null,null,null,null,null,"氏名","４月","５月","６月","７月","８月","９月","１０月","１１月","１２月","１月","２月","３月","年会費","入会費","都度集金"]
["領収年月日","金額","内容","受領サイン",null,null,null,null,"カウンタ",null,1,null,null,null,null,1,{"$f":"領収証内訳!E5","v":0},{"$f":"領収証内訳!F5","v":0},{"$f":"領収証内訳!G5","v":0},{"$f":"領収証内訳!H5","v":0},{"$f":"領収証内訳!I5","v":0},{"$f":"領収証内訳!J5","v":0},{"$f":"領収証内訳!K5","v":0},{"$f":"領収証内訳!L5","v":0},{"$f":"領収証内訳!M5","v":0},{"$f":"領収証内訳!N5","v":0},{"$f":"領収証内訳!O5","v":0},{"$f":"領収証内訳!P5","v":0},{"$f":"領収証内訳!Q5","v":0},{"$f":"領収証内訳!R5","v":0},{"$f":"領収証内訳!S5","v":0},{"$f":"領収証内訳!T5","v":0}]
["/　/",{"$f":"VLOOKUP($K$3,$P$2:$AF$52,3,FALSE)","v":0},"入会金",null,null,null,null,null,null,null,null,null,null,null,null,2,{"$f":"領収証内訳!E6","v":0},{"$f":"領収証内訳!F6","v":0},{"$f":"領収証内訳!G6","v":0},{"$f":"領収証内訳!H6","v":0},{"$f":"領収証内訳!I6","v":0},{"$f":"領収証内訳!J6","v":0},{"$f":"領収証内訳!K6","v":0},{"$f":"領収証内訳!L6","v":0},{"$f":"領収証内訳!M6","v":0},{"$f":"領収証内訳!N6","v":0},{"$f":"領収証内訳!O6","v":0},{"$f":"領収証内訳!P6","v":0},{"$f":"領収証内訳!Q6","v":0},{"$f":"領収証内訳!R6","v":0},{"$f":"領収証内訳!S6","v":0},{"$f":"領収証内訳!T6","v":0}]
["/　/",{"$f":"VLOOKUP($K$3,$P$2:$AF$52,4,FALSE)","v":0},"年会費",null,null,null,null,null,null,null,null,null,null,null,null,3,{"$f":"領収証内訳!E7","v":0},{"$f":"領収証内訳!F7","v":0},{"$f":"領収証内訳!G7","v":0},{"$f":"領収証内訳!H7","v":0},{"$f":"領収証内訳!I7","v":0},{"$f":"領収証内訳!J7","v":0},{"$f":"領収証内訳!K7","v":0},{"$f":"領収証内訳!L7","v":0},{"$f":"領収証内訳!M7","v":0},{"$f":"領収証内訳!N7","v":0},{"$f":"領収証内訳!O7","v":0},{"$f":"領収証内訳!P7","v":0},{"$f":"領収証内訳!Q7","v":0},{"$f":"領収証内訳!R7","v":0},{"$f":"領収証内訳!S7","v":0},{"$f":"領収証内訳!T7","v":0}]
["/　/",{"$f":"VLOOKUP($K$3,$P$2:$AF$52,5,FALSE)","v":0},"４月分参加費等",null,null,null,null,null,null,"名",{"$f":"\"Q\"&FIXED(K3+2,0,TRUE)","v":"Q3"},null,null,null,null,4,{"$f":"領収証内訳!E8","v":0},{"$f":"領収証内訳!F8","v":0},{"$f":"領収証内訳!G8","v":0},{"$f":"領収証内訳!H8","v":0},{"$f":"領収証内訳!I8","v":0},{"$f":"領収証内訳!J8","v":0},{"$f":"領収証内訳!K8","v":0},{"$f":"領収証内訳!L8","v":0},{"$f":"領収証内訳!M8","v":0},{"$f":"領収証内訳!N8","v":0},{"$f":"領収証内訳!O8","v":0},{"$f":"領収証内訳!P8","v":0},{"$f":"領収証内訳!Q8","v":0},{"$f":"領収証内訳!R8","v":0},{"$f":"領収証内訳!S8","v":0},{"$f":"領収証内訳!T8","v":0}]
["/　/",{"$f":"VLOOKUP($K$3,$P$2:$AF$52,6,FALSE)","v":0},"５月分参加費等",null,null,null,null,null,null,null,null,null,null,null,null,5,{"$f":"領収証内訳!E9","v":0},{"$f":"領収証内訳!F9","v":0},{"$f":"領収証内訳!G9","v":0},{"$f":"領収証内訳!H9","v":0},{"$f":"領収証内訳!I9","v":0},{"$f":"領収証内訳!J9","v":0},{"$f":"領収証内訳!K9","v":0},{"$f":"領収証内訳!L9","v":0},{"$f":"領収証内訳!M9","v":0},{"$f":"領収証内訳!N9","v":0},{"$f":"領収証内訳!O9","v":0},{"$f":"領収証内訳!P9","v":0},{"$f":"領収証内訳!Q9","v":0},{"$f":"領収証内訳!R9","v":0},{"$f":"領収証内訳!S9","v":0},{"$f":"領収証内訳!T9","v":0}]
["/　/",{"$f":"VLOOKUP($K$3,$P$2:$AF$52,7,FALSE)","v":0},"６月分参加費等",null,null,null,null,null,null,null,null,null,null,null,null,6,{"$f":"領収証内訳!E10","v":0},{"$f":"領収証内訳!F10","v":0},{"$f":"領収証内訳!G10","v":0},{"$f":"領収証内訳!H10","v":0},{"$f":"領収証内訳!I10","v":0},{"$f":"領収証内訳!J10","v":0},{"$f":"領収証内訳!K10","v":0},{"$f":"領収証内訳!L10","v":0},{"$f":"領収証内訳!M10","v":0},{"$f":"領収証内訳!N10","v":0},{"$f":"領収証内訳!O10","v":0},{"$f":"領収証内訳!P10","v":0},{"$f":"領収証内訳!Q10","v":0},{"$f":"領収証内訳!R10","v":0},{"$f":"領収証内訳!S10","v":0},{"$f":"領収証内訳!T10","v":0}]
["/　/",{"$f":"VLOOKUP($K$3,$P$2:$AF$52,8,FALSE)","v":0},"７月分参加費等",null,null,null,null,null,null,null,null,null,null,null,null,7,{"$f":"領収証内訳!E11","v":0},{"$f":"領収証内訳!F11","v":0},{"$f":"領収証内訳!G11","v":0},{"$f":"領収証内訳!H11","v":0},{"$f":"領収証内訳!I11","v":0},{"$f":"領収証内訳!J11","v":0},{"$f":"領収証内訳!K11","v":0},{"$f":"領収証内訳!L11","v":0},{"$f":"領収証内訳!M11","v":0},{"$f":"領収証内訳!N11","v":0},{"$f":"領収証内訳!O11","v":0},{"$f":"領収証内訳!P11","v":0},{"$f":"領収証内訳!Q11","v":0},{"$f":"領収証内訳!R11","v":0},{"$f":"領収証内訳!S11","v":0},{"$f":"領収証内訳!T11","v":0}]
["/　/",{"$f":"VLOOKUP($K$3,$P$2:$AF$52,9,FALSE)","v":0},"８月分参加費等",null,null,null,null,null,"開始番号",null,1,null,null,null,null,8,{"$f":"領収証内訳!E12","v":0},{"$f":"領収証内訳!F12","v":0},{"$f":"領収証内訳!G12","v":0},{"$f":"領収証内訳!H12","v":0},{"$f":"領収証内訳!I12","v":0},{"$f":"領収証内訳!J12","v":0},{"$f":"領収証内訳!K12","v":0},{"$f":"領収証内訳!L12","v":0},{"$f":"領収証内訳!M12","v":0},{"$f":"領収証内訳!N12","v":0},{"$f":"領収証内訳!O12","v":0},{"$f":"領収証内訳!P12","v":0},{"$f":"領収証内訳!Q12","v":0},{"$f":"領収証内訳!R12","v":0},{"$f":"領収証内訳!S12","v":0},{"$f":"領収証内訳!T12","v":0}]
["/　/",{"$f":"VLOOKUP($K$3,$P$2:$AF$52,10,FALSE)","v":0},"９月分参加費等",null,null,null,null,null,"終了番号",null,1,null,null,null,null,9,{"$f":"領収証内訳!E13","v":0},{"$f":"領収証内訳!F13","v":0},{"$f":"領収証内訳!G13","v":0},{"$f":"領収証内訳!H13","v":0},{"$f":"領収証内訳!I13","v":0},{"$f":"領収証内訳!J13","v":0},{"$f":"領収証内訳!K13","v":0},{"$f":"領収証内訳!L13","v":0},{"$f":"領収証内訳!M13","v":0},{"$f":"領収証内訳!N13","v":0},{"$f":"領収証内訳!O13","v":0},{"$f":"領収証内訳!P13","v":0},{"$f":"領収証内訳!Q13","v":0},{"$f":"領収証内訳!R13","v":0},{"$f":"領収証内訳!S13","v":0},{"$f":"領収証内訳!T13","v":0}]
["/　/",{"$f":"VLOOKUP($K$3,$P$2:$AF$52,11,FALSE)","v":0},"１０月分参加費等",null,null,null,null,null,null,null,null,null,null,null,null,10,{"$f":"領収証内訳!E14","v":0},{"$f":"領収証内訳!F14","v":0},{"$f":"領収証内訳!G14","v":0},{"$f":"領収証内訳!H14","v":0},{"$f":"領収証内訳!I14","v":0},{"$f":"領収証内訳!J14","v":0},{"$f":"領収証内訳!K14","v":0},{"$f":"領収証内訳!L14","v":0},{"$f":"領収証内訳!M14","v":0},{"$f":"領収証内訳!N14","v":0},{"$f":"領収証内訳!O14","v":0},{"$f":"領収証内訳!P14","v":0},{"$f":"領収証内訳!Q14","v":0},{"$f":"領収証内訳!R14","v":0},{"$f":"領収証内訳!S14","v":0},{"$f":"領収証内訳!T14","v":0}]
["/　/",{"$f":"VLOOKUP($K$3,$P$2:$AF$52,12,FALSE)","v":0},"１１月分参加費等",null,null,null,null,null,null,null,null,null,null,null,null,11,{"$f":"領収証内訳!E15","v":0},{"$f":"領収証内訳!F15","v":0},{"$f":"領収証内訳!G15","v":0},{"$f":"領収証内訳!H15","v":0},{"$f":"領収証内訳!I15","v":0},{"$f":"領収証内訳!J15","v":0},{"$f":"領収証内訳!K15","v":0},{"$f":"領収証内訳!L15","v":0},{"$f":"領収証内訳!M15","v":0},{"$f":"領収証内訳!N15","v":0},{"$f":"領収証内訳!O15","v":0},{"$f":"領収証内訳!P15","v":0},{"$f":"領収証内訳!Q15","v":0},{"$f":"領収証内訳!R15","v":0},{"$f":"領収証内訳!S15","v":0},{"$f":"領収証内訳!T15","v":0}]
["/　/",{"$f":"VLOOKUP($K$3,$P$2:$AF$52,13,FALSE)","v":0},"１２月分参加費等",null,null,null,null,null,null,null,null,null,null,null,null,12,{"$f":"領収証内訳!E16","v":0},{"$f":"領収証内訳!F16","v":0},{"$f":"領収証内訳!G16","v":0},{"$f":"領収証内訳!H16","v":0},{"$f":"領収証内訳!I16","v":0},{"$f":"領収証内訳!J16","v":0},{"$f":"領収証内訳!K16","v":0},{"$f":"領収証内訳!L16","v":0},{"$f":"領収証内訳!M16","v":0},{"$f":"領収証内訳!N16","v":0},{"$f":"領収証内訳!O16","v":0},{"$f":"領収証内訳!P16","v":0},{"$f":"領収証内訳!Q16","v":0},{"$f":"領収証内訳!R16","v":0},{"$f":"領収証内訳!S16","v":0},{"$f":"領収証内訳!T16","v":0}]
["/　/",{"$f":"VLOOKUP($K$3,$P$2:$AF$52,14,FALSE)","v":0},"１月分参加費等",null,null,null,null,null,null,null,null,null,null,null,null,13,{"$f":"領収証内訳!E17","v":0},{"$f":"領収証内訳!F17","v":0},{"$f":"領収証内訳!G17","v":0},{"$f":"領収証内訳!H17","v":0},{"$f":"領収証内訳!I17","v":0},{"$f":"領収証内訳!J17","v":0},{"$f":"領収証内訳!K17","v":0},{"$f":"領収証内訳!L17","v":0},{"$f":"領収証内訳!M17","v":0},{"$f":"領収証内訳!N17","v":0},{"$f":"領収証内訳!O17","v":0},{"$f":"領収証内訳!P17","v":0},{"$f":"領収証内訳!Q17","v":0},{"$f":"領収証内訳!R17","v":0},{"$f":"領収証内訳!S17","v":0},{"$f":"領収証内訳!T17","v":0}]
["/　/",{"$f":"VLOOKUP($K$3,$P$2:$AF$52,15,FALSE)","v":0},"２月分参加費等",null,null,null,null,null,null,null,null,null,null,null,null,14,{"$f":"領収証内訳!E18","v":0},{"$f":"領収証内訳!F18","v":0},{"$f":"領収証内訳!G18","v":0},{"$f":"領収証内訳!H18","v":0},{"$f":"領収証内訳!I18","v":0},{"$f":"領収証内訳!J18","v":0},{"$f":"領収証内訳!K18","v":0},{"$f":"領収証内訳!L18","v":0},{"$f":"領収証内訳!M18","v":0},{"$f":"領収証内訳!N18","v":0},{"$f":"領収証内訳!O18","v":0},{"$f":"領収証内訳!P18","v":0},{"$f":"領収証内訳!Q18","v":0},{"$f":"領収証内訳!R18","v":0},{"$f":"領収証内訳!S18","v":0},{"$f":"領収証内訳!T18","v":0}]
["/　/",{"$f":"VLOOKUP($K$3,$P$2:$AF$52,16,FALSE)","v":0},"３月分参加費等",null,null,null,null,null,null,null,null,null,null,null,null,15,{"$f":"領収証内訳!E19","v":0},{"$f":"領収証内訳!F19","v":0},{"$f":"領収証内訳!G19","v":0},{"$f":"領収証内訳!H19","v":0},{"$f":"領収証内訳!I19","v":0},{"$f":"領収証内訳!J19","v":0},{"$f":"領収証内訳!K19","v":0},{"$f":"領収証内訳!L19","v":0},{"$f":"領収証内訳!M19","v":0},{"$f":"領収証内訳!N19","v":0},{"$f":"領収証内訳!O19","v":0},{"$f":"領収証内訳!P19","v":0},{"$f":"領収証内訳!Q19","v":0},{"$f":"領収証内訳!R19","v":0},{"$f":"領収証内訳!S19","v":0},{"$f":"領収証内訳!T19","v":0}]
["/　/",{"$f":"VLOOKUP($K$3,$P$2:$AF$52,17,FALSE)","v":0},"都度集金",null,null,null,null,null,null,null,null,null,null,null,null,16,{"$f":"領収証内訳!E20","v":0},{"$f":"領収証内訳!F20","v":0},{"$f":"領収証内訳!G20","v":0},{"$f":"領収証内訳!H20","v":0},{"$f":"領収証内訳!I20","v":0},{"$f":"領収証内訳!J20","v":0},{"$f":"領収証内訳!K20","v":0},{"$f":"領収証内訳!L20","v":0},{"$f":"領収証内訳!M20","v":0},{"$f":"領収証内訳!N20","v":0},{"$f":"領収証内訳!O20","v":0},{"$f":"領収証内訳!P20","v":0},{"$f":"領収証内訳!Q20","v":0},{"$f":"領収証内訳!R20","v":0},{"$f":"領収証内訳!S20","v":0},{"$f":"領収証内訳!T20","v":0}]
["計",{"$f":"SUM(B4:B17)","v":0},null,null,null,null,null,null,null,null,null,null,null,null,null,17,{"$f":"領収証内訳!E21","v":0},{"$f":"領収証内訳!F21","v":0},{"$f":"領収証内訳!G21","v":0},{"$f":"領収証内訳!H21","v":0},{"$f":"領収証内訳!I21","v":0},{"$f":"領収証内訳!J21","v":0},{"$f":"領収証内訳!K21","v":0},{"$f":"領収証内訳!L21","v":0},{"$f":"領収証内訳!M21","v":0},{"$f":"領収証内訳!N21","v":0},{"$f":"領収証内訳!O21","v":0},{"$f":"領収証内訳!P21","v":0},{"$f":"領収証内訳!Q21","v":0},{"$f":"領収証内訳!R21","v":0},{"$f":"領収証内訳!S21","v":0},{"$f":"領収証内訳!T21","v":0}]
[null,null,null,null,null,null,null,null,null,null,null,null,null,null,null,18,{"$f":"領収証内訳!E22","v":0},{"$f":"領収証内訳!F22","v":0},{"$f":"領収証内訳!G22","v":0},{"$f":"領収証内訳!H22","v":0},{"$f":"領収証内訳!I22","v":0},{"$f":"領収証内訳!J22","v":0},{"$f":"領収証内訳!K22","v":0},{"$f":"領収証内訳!L22","v":0},{"$f":"領収証内訳!M22","v":0},{"$f":"領収証内訳!N22","v":0},{"$f":"領収証内訳!O22","v":0},{"$f":"領収証内訳!P22","v":0},{"$f":"領収証内訳!Q22","v":0},{"$f":"領収証内訳!R22","v":0},{"$f":"領収証内訳!S22","v":0},{"$f":"領収証内訳!T22","v":0}]
[null,null,null,null,null,null,null,null,null,null,null,null,null,null,null,19,{"$f":"領収証内訳!E23","v":0},{"$f":"領収証内訳!F23","v":0},{"$f":"領収証内訳!G23","v":0},{"$f":"領収証内訳!H23","v":0},{"$f":"領収証内訳!I23","v":0},{"$f":"領収証内訳!J23","v":0},{"$f":"領収証内訳!K23","v":0},{"$f":"領収証内訳!L23","v":0},{"$f":"領収証内訳!M23","v":0},{"$f":"領収証内訳!N23","v":0},{"$f":"領収証内訳!O23","v":0},{"$f":"領収証内訳!P23","v":0},{"$f":"領収証内訳!Q23","v":0},{"$f":"領収証内訳!R23","v":0},{"$f":"領収証内訳!S23","v":0},{"$f":"領収証内訳!T23","v":0}]
[null,null,null,null,null,null,null,null,null,null,null,null,null,null,null,20,{"$f":"領収証内訳!E24","v":0},{"$f":"領収証内訳!F24","v":0},{"$f":"領収証内訳!G24","v":0},{"$f":"領収証内訳!H24","v":0},{"$f":"領収証内訳!I24","v":0},{"$f":"領収証内訳!J24","v":0},{"$f":"領収証内訳!K24","v":0},{"$f":"領収証内訳!L24","v":0},{"$f":"領収証内訳!M24","v":0},{"$f":"領収証内訳!N24","v":0},{"$f":"領収証内訳!O24","v":0},{"$f":"領収証内訳!P24","v":0},{"$f":"領収証内訳!Q24","v":0},{"$f":"領収証内訳!R24","v":0},{"$f":"領収証内訳!S24","v":0},{"$f":"領収証内訳!T24","v":0}]
[null,null,null,null,null,null,null,null,null,null,null,null,null,null,null,21,{"$f":"領収証内訳!E25","v":0},{"$f":"領収証内訳!F25","v":0},{"$f":"領収証内訳!G25","v":0},{"$f":"領収証内訳!H25","v":0},{"$f":"領収証内訳!I25","v":0},{"$f":"領収証内訳!J25","v":0},{"$f":"領収証内訳!K25","v":0},{"$f":"領収証内訳!L25","v":0},{"$f":"領収証内訳!M25","v":0},{"$f":"領収証内訳!N25","v":0},{"$f":"領収証内訳!O25","v":0},{"$f":"領収証内訳!P25","v":0},{"$f":"領収証内訳!Q25","v":0},{"$f":"領収証内訳!R25","v":0},{"$f":"領収証内訳!S25","v":0},{"$f":"領収証内訳!T25","v":0}]
[null,null,null,null,null,null,null,null,null,null,null,null,null,null,null,22,{"$f":"領収証内訳!E26","v":0},{"$f":"領収証内訳!F26","v":0},{"$f":"領収証内訳!G26","v":0},{"$f":"領収証内訳!H26","v":0},{"$f":"領収証内訳!I26","v":0},{"$f":"領収証内訳!J26","v":0},{"$f":"領収証内訳!K26","v":0},{"$f":"領収証内訳!L26","v":0},{"$f":"領収証内訳!M26","v":0},{"$f":"領収証内訳!N26","v":0},{"$f":"領収証内訳!O26","v":0},{"$f":"領収証内訳!P26","v":0},{"$f":"領収証内訳!Q26","v":0},{"$f":"領収証内訳!R26","v":0},{"$f":"領収証内訳!S26","v":0},{"$f":"領収証内訳!T26","v":0}]
[null,null,null,null,null,null,null,null,null,null,null,null,null,null,null,23,{"$f":"領収証内訳!E27","v":0},{"$f":"領収証内訳!F27","v":0},{"$f":"領収証内訳!G27","v":0},{"$f":"領収証内訳!H27","v":0},{"$f":"領収証内訳!I27","v":0},{"$f":"領収証内訳!J27","v":0},{"$f":"領収証内訳!K27","v":0},{"$f":"領収証内訳!L27","v":0},{"$f":"領収証内訳!M27","v":0},{"$f":"領収証内訳!N27","v":0},{"$f":"領収証内訳!O27","v":0},{"$f":"領収証内訳!P27","v":0},{"$f":"領収証内訳!Q27","v":0},{"$f":"領収証内訳!R27","v":0},{"$f":"領収証内訳!S27","v":0},{"$f":"領収証内訳!T27","v":0}]
[null,null,null,null,null,null,null,null,null,null,null,null,null,null,null,24,{"$f":"領収証内訳!E28","v":0},{"$f":"領収証内訳!F28","v":0},{"$f":"領収証内訳!G28","v":0},{"$f":"領収証内訳!H28","v":0},{"$f":"領収証内訳!I28","v":0},{"$f":"領収証内訳!J28","v":0},{"$f":"領収証内訳!K28","v":0},{"$f":"領収証内訳!L28","v":0},{"$f":"領収証内訳!M28","v":0},{"$f":"領収証内訳!N28","v":0},{"$f":"領収証内訳!O28","v":0},{"$f":"領収証内訳!P28","v":0},{"$f":"領収証内訳!Q28","v":0},{"$f":"領収証内訳!R28","v":0},{"$f":"領収証内訳!S28","v":0},{"$f":"領収証内訳!T28","v":0}]
[null,null,null,null,null,null,null,null,null,null,null,null,null,null,null,25,{"$f":"領収証内訳!E29","v":0},{"$f":"領収証内訳!F29","v":0},{"$f":"領収証内訳!G29","v":0},{"$f":"領収証内訳!H29","v":0},{"$f":"領収証内訳!I29","v":0},{"$f":"領収証内訳!J29","v":0},{"$f":"領収証内訳!K29","v":0},{"$f":"領収証内訳!L29","v":0},{"$f":"領収証内訳!M29","v":0},{"$f":"領収証内訳!N29","v":0},{"$f":"領収証内訳!O29","v":0},{"$f":"領収証内訳!P29","v":0},{"$f":"領収証内訳!Q29","v":0},{"$f":"領収証内訳!R29","v":0},{"$f":"領収証内訳!S29","v":0},{"$f":"領収証内訳!T29","v":0}]
[null,null,null,null,null,null,null,null,null,null,null,null,null,null,null,26,{"$f":"領収証内訳!E30","v":0},{"$f":"領収証内訳!F30","v":0},{"$f":"領収証内訳!G30","v":0},{"$f":"領収証内訳!H30","v":0},{"$f":"領収証内訳!I30","v":0},{"$f":"領収証内訳!J30","v":0},{"$f":"領収証内訳!K30","v":0},{"$f":"領収証内訳!L30","v":0},{"$f":"領収証内訳!M30","v":0},{"$f":"領収証内訳!N30","v":0},{"$f":"領収証内訳!O30","v":0},{"$f":"領収証内訳!P30","v":0},{"$f":"領収証内訳!Q30","v":0},{"$f":"領収証内訳!R30","v":0},{"$f":"領収証内訳!S30","v":0},{"$f":"領収証内訳!T30","v":0}]
[null,null,null,null,null,null,null,null,null,null,null,null,null,null,null,27,{"$f":"領収証内訳!E31","v":0},{"$f":"領収証内訳!F31","v":0},{"$f":"領収証内訳!G31","v":0},{"$f":"領収証内訳!H31","v":0},{"$f":"領収証内訳!I31","v":0},{"$f":"領収証内訳!J31","v":0},{"$f":"領収証内訳!K31","v":0},{"$f":"領収証内訳!L31","v":0},{"$f":"領収証内訳!M31","v":0},{"$f":"領収証内訳!N31","v":0},{"$f":"領収証内訳!O31","v":0},{"$f":"領収証内訳!P31","v":0},{"$f":"領収証内訳!Q31","v":0},{"$f":"領収証内訳!R31","v":0},{"$f":"領収証内訳!S31","v":0},{"$f":"領収証内訳!T31","v":0}]
[null,null,null,null,null,null,null,null,null,null,null,null,null,null,null,28,{"$f":"領収証内訳!E32","v":0},{"$f":"領収証内訳!F32","v":0},{"$f":"領収証内訳!G32","v":0},{"$f":"領収証内訳!H32","v":0},{"$f":"領収証内訳!I32","v":0},{"$f":"領収証内訳!J32","v":0},{"$f":"領収証内訳!K32","v":0},{"$f":"領収証内訳!L32","v":0},{"$f":"領収証内訳!M32","v":0},{"$f":"領収証内訳!N32","v":0},{"$f":"領収証内訳!O32","v":0},{"$f":"領収証内訳!P32","v":0},{"$f":"領収証内訳!Q32","v":0},{"$f":"領収証内訳!R32","v":0},{"$f":"領収証内訳!S32","v":0},{"$f":"領収証内訳!T32","v":0}]
[null,null,null,null,null,null,null,null,null,null,null,null,null,null,null,29,{"$f":"領収証内訳!E33","v":0},{"$f":"領収証内訳!F33","v":0},{"$f":"領収証内訳!G33","v":0},{"$f":"領収証内訳!H33","v":0},{"$f":"領収証内訳!I33","v":0},{"$f":"領収証内訳!J33","v":0},{"$f":"領収証内訳!K33","v":0},{"$f":"領収証内訳!L33","v":0},{"$f":"領収証内訳!M33","v":0},{"$f":"領収証内訳!N33","v":0},{"$f":"領収証内訳!O33","v":0},{"$f":"領収証内訳!P33","v":0},{"$f":"領収証内訳!Q33","v":0},{"$f":"領収証内訳!R33","v":0},{"$f":"領収証内訳!S33","v":0},{"$f":"領収証内訳!T33","v":0}]
[null,null,null,null,null,null,null,null,null,null,null,null,null,null,null,30,{"$f":"領収証内訳!E34","v":0},{"$f":"領収証内訳!F34","v":0},{"$f":"領収証内訳!G34","v":0},{"$f":"領収証内訳!H34","v":0},{"$f":"領収証内訳!I34","v":0},{"$f":"領収証内訳!J34","v":0},{"$f":"領収証内訳!K34","v":0},{"$f":"領収証内訳!L34","v":0},{"$f":"領収証内訳!M34","v":0},{"$f":"領収証内訳!N34","v":0},{"$f":"領収証内訳!O34","v":0},{"$f":"領収証内訳!P34","v":0},{"$f":"領収証内訳!Q34","v":0},{"$f":"領収証内訳!R34","v":0},{"$f":"領収証内訳!S34","v":0},{"$f":"領収証内訳!T34","v":0}]
[null,null,null,null,null,null,null,null,null,null,null,null,null,null,null,31,{"$f":"領収証内訳!E35","v":0},{"$f":"領収証内訳!F35","v":0},{"$f":"領収証内訳!G35","v":0},{"$f":"領収証内訳!H35","v":0},{"$f":"領収証内訳!I35","v":0},{"$f":"領収証内訳!J35","v":0},{"$f":"領収証内訳!K35","v":0},{"$f":"領収証内訳!L35","v":0},{"$f":"領収証内訳!M35","v":0},{"$f":"領収証内訳!N35","v":0},{"$f":"領収証内訳!O35","v":0},{"$f":"領収証内訳!P35","v":0},{"$f":"領収証内訳!Q35","v":0},{"$f":"領収証内訳!R35","v":0},{"$f":"領収証内訳!S35","v":0},{"$f":"領収証内訳!T35","v":0}]
[null,null,null,null,null,null,null,null,null,null,null,null,null,null,null,32,{"$f":"領収証内訳!E36","v":0},{"$f":"領収証内訳!F36","v":0},{"$f":"領収証内訳!G36","v":0},{"$f":"領収証内訳!H36","v":0},{"$f":"領収証内訳!I36","v":0},{"$f":"領収証内訳!J36","v":0},{"$f":"領収証内訳!K36","v":0},{"$f":"領収証内訳!L36","v":0},{"$f":"領収証内訳!M36","v":0},{"$f":"領収証内訳!N36","v":0},{"$f":"領収証内訳!O36","v":0},{"$f":"領収証内訳!P36","v":0},{"$f":"領収証内訳!Q36","v":0},{"$f":"領収証内訳!R36","v":0},{"$f":"領収証内訳!S36","v":0},{"$f":"領収証内訳!T36","v":0}]
[null,null,null,null,null,null,null,null,null,null,null,null,null,null,null,33,{"$f":"領収証内訳!E37","v":0},{"$f":"領収証内訳!F37","v":0},{"$f":"領収証内訳!G37","v":0},{"$f":"領収証内訳!H37","v":0},{"$f":"領収証内訳!I37","v":0},{"$f":"領収証内訳!J37","v":0},{"$f":"領収証内訳!K37","v":0},{"$f":"領収証内訳!L37","v":0},{"$f":"領収証内訳!M37","v":0},{"$f":"領収証内訳!N37","v":0},{"$f":"領収証内訳!O37","v":0},{"$f":"領収証内訳!P37","v":0},{"$f":"領収証内訳!Q37","v":0},{"$f":"領収証内訳!R37","v":0},{"$f":"領収証内訳!S37","v":0},{"$f":"領収証内訳!T37","v":0}]
[null,null,null,null,null,null,null,null,null,null,null,null,null,null,null,34,{"$f":"領収証内訳!E38","v":0},{"$f":"領収証内訳!F38","v":0},{"$f":"領収証内訳!G38","v":0},{"$f":"領収証内訳!H38","v":0},{"$f":"領収証内訳!I38","v":0},{"$f":"領収証内訳!J38","v":0},{"$f":"領収証内訳!K38","v":0},{"$f":"領収証内訳!L38","v":0},{"$f":"領収証内訳!M38","v":0},{"$f":"領収証内訳!N38","v":0},{"$f":"領収証内訳!O38","v":0},{"$f":"領収証内訳!P38","v":0},{"$f":"領収証内訳!Q38","v":0},{"$f":"領収証内訳!R38","v":0},{"$f":"領収証内訳!S38","v":0},{"$f":"領収証内訳!T38","v":0}]
[null,null,null,null,null,null,null,null,null,null,null,null,null,null,null,35,{"$f":"領収証内訳!E39","v":0},{"$f":"領収証内訳!F39","v":0},{"$f":"領収証内訳!G39","v":0},{"$f":"領収証内訳!H39","v":0},{"$f":"領収証内訳!I39","v":0},{"$f":"領収証内訳!J39","v":0},{"$f":"領収証内訳!K39","v":0},{"$f":"領収証内訳!L39","v":0},{"$f":"領収証内訳!M39","v":0},{"$f":"領収証内訳!N39","v":0},{"$f":"領収証内訳!O39","v":0},{"$f":"領収証内訳!P39","v":0},{"$f":"領収証内訳!Q39","v":0},{"$f":"領収証内訳!R39","v":0},{"$f":"領収証内訳!S39","v":0},{"$f":"領収証内訳!T39","v":0}]
[null,null,null,null,null,null,null,null,null,null,null,null,null,null,null,36,{"$f":"領収証内訳!E40","v":0},{"$f":"領収証内訳!F40","v":0},{"$f":"領収証内訳!G40","v":0},{"$f":"領収証内訳!H40","v":0},{"$f":"領収証内訳!I40","v":0},{"$f":"領収証内訳!J40","v":0},{"$f":"領収証内訳!K40","v":0},{"$f":"領収証内訳!L40","v":0},{"$f":"領収証内訳!M40","v":0},{"$f":"領収証内訳!N40","v":0},{"$f":"領収証内訳!O40","v":0},{"$f":"領収証内訳!P40","v":0},{"$f":"領収証内訳!Q40","v":0},{"$f":"領収証内訳!R40","v":0},{"$f":"領収証内訳!S40","v":0},{"$f":"領収証内訳!T40","v":0}]
[null,null,null,null,null,null,null,null,null,null,null,null,null,null,null,37,{"$f":"領収証内訳!E41","v":0},{"$f":"領収証内訳!F41","v":0},{"$f":"領収証内訳!G41","v":0},{"$f":"領収証内訳!H41","v":0},{"$f":"領収証内訳!I41","v":0},{"$f":"領収証内訳!J41","v":0},{"$f":"領収証内訳!K41","v":0},{"$f":"領収証内訳!L41","v":0},{"$f":"領収証内訳!M41","v":0},{"$f":"領収証内訳!N41","v":0},{"$f":"領収証内訳!O41","v":0},{"$f":"領収証内訳!P41","v":0},{"$f":"領収証内訳!Q41","v":0},{"$f":"領収証内訳!R41","v":0},{"$f":"領収証内訳!S41","v":0},{"$f":"領収証内訳!T41","v":0}]
[null,null,null,null,null,null,null,null,null,null,null,null,null,null,null,38,{"$f":"領収証内訳!E42","v":0},{"$f":"領収証内訳!F42","v":0},{"$f":"領収証内訳!G42","v":0},{"$f":"領収証内訳!H42","v":0},{"$f":"領収証内訳!I42","v":0},{"$f":"領収証内訳!J42","v":0},{"$f":"領収証内訳!K42","v":0},{"$f":"領収証内訳!L42","v":0},{"$f":"領収証内訳!M42","v":0},{"$f":"領収証内訳!N42","v":0},{"$f":"領収証内訳!O42","v":0},{"$f":"領収証内訳!P42","v":0},{"$f":"領収証内訳!Q42","v":0},{"$f":"領収証内訳!R42","v":0},{"$f":"領収証内訳!S42","v":0},{"$f":"領収証内訳!T42","v":0}]
[null,null,null,null,null,null,null,null,null,null,null,null,null,null,null,39,{"$f":"領収証内訳!E43","v":0},{"$f":"領収証内訳!F43","v":0},{"$f":"領収証内訳!G43","v":0},{"$f":"領収証内訳!H43","v":0},{"$f":"領収証内訳!I43","v":0},{"$f":"領収証内訳!J43","v":0},{"$f":"領収証内訳!K43","v":0},{"$f":"領収証内訳!L43","v":0},{"$f":"領収証内訳!M43","v":0},{"$f":"領収証内訳!N43","v":0},{"$f":"領収証内訳!O43","v":0},{"$f":"領収証内訳!P43","v":0},{"$f":"領収証内訳!Q43","v":0},{"$f":"領収証内訳!R43","v":0},{"$f":"領収証内訳!S43","v":0},{"$f":"領収証内訳!T43","v":0}]
[null,null,null,null,null,null,null,null,null,null,null,null,null,null,null,40,{"$f":"領収証内訳!E44","v":0},{"$f":"領収証内訳!F44","v":0},{"$f":"領収証内訳!G44","v":0},{"$f":"領収証内訳!H44","v":0},{"$f":"領収証内訳!I44","v":0},{"$f":"領収証内訳!J44","v":0},{"$f":"領収証内訳!K44","v":0},{"$f":"領収証内訳!L44","v":0},{"$f":"領収証内訳!M44","v":0},{"$f":"領収証内訳!N44","v":0},{"$f":"領収証内訳!O44","v":0},{"$f":"領収証内訳!P44","v":0},{"$f":"領収証内訳!Q44","v":0},{"$f":"領収証内訳!R44","v":0},{"$f":"領収証内訳!S44","v":0},{"$f":"領収証内訳!T44","v":0}]
[null,null,null,null,null,null,null,null,null,null,null,null,null,null,null,41,{"$f":"領収証内訳!E45","v":0},{"$f":"領収証内訳!F45","v":0},{"$f":"領収証内訳!G45","v":0},{"$f":"領収証内訳!H45","v":0},{"$f":"領収証内訳!I45","v":0},{"$f":"領収証内訳!J45","v":0},{"$f":"領収証内訳!K45","v":0},{"$f":"領収証内訳!L45","v":0},{"$f":"領収証内訳!M45","v":0},{"$f":"領収証内訳!N45","v":0},{"$f":"領収証内訳!O45","v":0},{"$f":"領収証内訳!P45","v":0},{"$f":"領収証内訳!Q45","v":0},{"$f":"領収証内訳!R45","v":0},{"$f":"領収証内訳!S45","v":0},{"$f":"領収証内訳!T45","v":0}]
[null,null,null,null,null,null,null,null,null,null,null,null,null,null,null,42,{"$f":"領収証内訳!E46","v":0},{"$f":"領収証内訳!F46","v":0},{"$f":"領収証内訳!G46","v":0},{"$f":"領収証内訳!H46","v":0},{"$f":"領収証内訳!I46","v":0},{"$f":"領収証内訳!J46","v":0},{"$f":"領収証内訳!K46","v":0},{"$f":"領収証内訳!L46","v":0},{"$f":"領収証内訳!M46","v":0},{"$f":"領収証内訳!N46","v":0},{"$f":"領収証内訳!O46","v":0},{"$f":"領収証内訳!P46","v":0},{"$f":"領収証内訳!Q46","v":0},{"$f":"領収証内訳!R46","v":0},{"$f":"領収証内訳!S46","v":0},{"$f":"領収証内訳!T46","v":0}]
[null,null,null,null,null,null,null,null,null,null,null,null,null,null,null,43,{"$f":"領収証内訳!E47","v":0},{"$f":"領収証内訳!F47","v":0},{"$f":"領収証内訳!G47","v":0},{"$f":"領収証内訳!H47","v":0},{"$f":"領収証内訳!I47","v":0},{"$f":"領収証内訳!J47","v":0},{"$f":"領収証内訳!K47","v":0},{"$f":"領収証内訳!L47","v":0},{"$f":"領収証内訳!M47","v":0},{"$f":"領収証内訳!N47","v":0},{"$f":"領収証内訳!O47","v":0},{"$f":"領収証内訳!P47","v":0},{"$f":"領収証内訳!Q47","v":0},{"$f":"領収証内訳!R47","v":0},{"$f":"領収証内訳!S47","v":0},{"$f":"領収証内訳!T47","v":0}]
[null,null,null,null,null,null,null,null,null,null,null,null,null,null,null,44,{"$f":"領収証内訳!E48","v":0},{"$f":"領収証内訳!F48","v":0},{"$f":"領収証内訳!G48","v":0},{"$f":"領収証内訳!H48","v":0},{"$f":"領収証内訳!I48","v":0},{"$f":"領収証内訳!J48","v":0},{"$f":"領収証内訳!K48","v":0},{"$f":"領収証内訳!L48","v":0},{"$f":"領収証内訳!M48","v":0},{"$f":"領収証内訳!N48","v":0},{"$f":"領収証内訳!O48","v":0},{"$f":"領収証内訳!P48","v":0},{"$f":"領収証内訳!Q48","v":0},{"$f":"領収証内訳!R48","v":0},{"$f":"領収証内訳!S48","v":0},{"$f":"領収証内訳!T48","v":0}]
[null,null,null,null,null,null,null,null,null,null,null,null,null,null,null,45,{"$f":"領収証内訳!E49","v":0},{"$f":"領収証内訳!F49","v":0},{"$f":"領収証内訳!G49","v":0},{"$f":"領収証内訳!H49","v":0},{"$f":"領収証内訳!I49","v":0},{"$f":"領収証内訳!J49","v":0},{"$f":"領収証内訳!K49","v":0},{"$f":"領収証内訳!L49","v":0},{"$f":"領収証内訳!M49","v":0},{"$f":"領収証内訳!N49","v":0},{"$f":"領収証内訳!O49","v":0},{"$f":"領収証内訳!P49","v":0},{"$f":"領収証内訳!Q49","v":0},{"$f":"領収証内訳!R49","v":0},{"$f":"領収証内訳!S49","v":0},{"$f":"領収証内訳!T49","v":0}]
[null,null,null,null,null,null,null,null,null,null,null,null,null,null,null,46,{"$f":"領収証内訳!E50","v":0},{"$f":"領収証内訳!F50","v":0},{"$f":"領収証内訳!G50","v":0},{"$f":"領収証内訳!H50","v":0},{"$f":"領収証内訳!I50","v":0},{"$f":"領収証内訳!J50","v":0},{"$f":"領収証内訳!K50","v":0},{"$f":"領収証内訳!L50","v":0},{"$f":"領収証内訳!M50","v":0},{"$f":"領収証内訳!N50","v":0},{"$f":"領収証内訳!O50","v":0},{"$f":"領収証内訳!P50","v":0},{"$f":"領収証内訳!Q50","v":0},{"$f":"領収証内訳!R50","v":0},{"$f":"領収証内訳!S50","v":0},{"$f":"領収証内訳!T50","v":0}]
[null,null,null,null,null,null,null,null,null,null,null,null,null,null,null,47,{"$f":"領収証内訳!E51","v":0},{"$f":"領収証内訳!F51","v":0},{"$f":"領収証内訳!G51","v":0},{"$f":"領収証内訳!H51","v":0},{"$f":"領収証内訳!I51","v":0},{"$f":"領収証内訳!J51","v":0},{"$f":"領収証内訳!K51","v":0},{"$f":"領収証内訳!L51","v":0},{"$f":"領収証内訳!M51","v":0},{"$f":"領収証内訳!N51","v":0},{"$f":"領収証内訳!O51","v":0},{"$f":"領収証内訳!P51","v":0},{"$f":"領収証内訳!Q51","v":0},{"$f":"領収証内訳!R51","v":0},{"$f":"領収証内訳!S51","v":0},{"$f":"領収証内訳!T51","v":0}]
[null,null,null,null,null,null,null,null,null,null,null,null,null,null,null,48,{"$f":"領収証内訳!E52","v":0},{"$f":"領収証内訳!F52","v":0},{"$f":"領収証内訳!G52","v":0},{"$f":"領収証内訳!H52","v":0},{"$f":"領収証内訳!I52","v":0},{"$f":"領収証内訳!J52","v":0},{"$f":"領収証内訳!K52","v":0},{"$f":"領収証内訳!L52","v":0},{"$f":"領収証内訳!M52","v":0},{"$f":"領収証内訳!N52","v":0},{"$f":"領収証内訳!O52","v":0},{"$f":"領収証内訳!P52","v":0},{"$f":"領収証内訳!Q52","v":0},{"$f":"領収証内訳!R52","v":0},{"$f":"領収証内訳!S52","v":0},{"$f":"領収証内訳!T52","v":0}]
[null,null,null,null,null,null,null,null,null,null,null,null,null,null,null,49,{"$f":"領収証内訳!E53","v":0},{"$f":"領収証内訳!F53","v":0},{"$f":"領収証内訳!G53","v":0},{"$f":"領収証内訳!H53","v":0},{"$f":"領収証内訳!I53","v":0},{"$f":"領収証内訳!J53","v":0},{"$f":"領収証内訳!K53","v":0},{"$f":"領収証内訳!L53","v":0},{"$f":"領収証内訳!M53","v":0},{"$f":"領収証内訳!N53","v":0},{"$f":"領収証内訳!O53","v":0},{"$f":"領収証内訳!P53","v":0},{"$f":"領収証内訳!Q53","v":0},{"$f":"領収証内訳!R53","v":0},{"$f":"領収証内訳!S53","v":0},{"$f":"領収証内訳!T53","v":0}]
[null,null,null,null,null,null,null,null,null,null,null,null,null,null,null,50,{"$f":"領収証内訳!E54","v":0},{"$f":"領収証内訳!F54","v":0},{"$f":"領収証内訳!G54","v":0},{"$f":"領収証内訳!H54","v":0},{"$f":"領収証内訳!I54","v":0},{"$f":"領収証内訳!J54","v":0},{"$f":"領収証内訳!K54","v":0},{"$f":"領収証内訳!L54","v":0},{"$f":"領収証内訳!M54","v":0},{"$f":"領収証内訳!N54","v":0},{"$f":"領収証内訳!O54","v":0},{"$f":"領収証内訳!P54","v":0},{"$f":"領収証内訳!Q54","v":0},{"$f":"領収証内訳!R54","v":0},{"$f":"領収証内訳!S54","v":0},{"$f":"領収証内訳!T54","v":0}]

{"sheet":"集金袋２","index":4,"n_rows":52,"n_cols":50,"rows_kept":52,"cut":false,"hidden":false,"merged":[[1,24,2,24],[1,3,1,4],[0,0,0,4],[3,0,3,1],[1,0,1,2],[2,0,2,2],[3,24,9,24],[19,0,19,1],[10,0,10,1],[11,0,11,1],[12,0,12,1],[13,0,13,1],[14,0,14,1],[15,0,15,1],[16,0,16,1],[17,0,17,1],[18,0,18,1],[7,0,7,1],[8,0,8,1],[9,0,9,1],[0,16,0,20],[1,19,1,20],[9,7,9,9],[2,3,2,4],[2,19,2,20],[0,8,0,12],[1,11,1,12],[1,15,1,18],[2,15,2,18],[2,11,2,12],[4,0,4,1],[5,0,5,1],[6,0,6,1],[16,7,16,9],[1,7,1,10],[2,7,2,10],[3,7,3,9],[4,7,4,9],[5,7,5,9],[6,7,6,9],[7,7,7,9],[8,7,8,9],[11,7,11,9],[12,7,12,9],[13,7,13,9],[14,7,14,9],[15,7,15,9],[10,7,10,9],[17,15,17,17],[18,15,18,17],[19,15,19,17],[17,7,17,9],[18,7,18,9],[19,7,19,9],[16,15,16,17],[3,15,3,17],[4,15,4,17],[5,15,5,17],[6,15,6,17],[7,15,7,17],[8,15,8,17],[9,15,9,17],[10,15,10,17],[11,15,11,17],[12,15,12,17],[14,15,14,17],[15,15,15,17],[13,15,13,17]]}
["集金袋",null,null,null,null,null,null,null,"集金袋",null,null,null,null,null,null,null,"集金袋",null,null,null,null,null,null,null,1,null,null,null,{"$f":"3*Y1-2","v":1}]
["参加者氏名",null,null,{"$f":"INDIRECT(AC6)","v":0},null,null,null,"参加者氏名",null,null,null,{"$f":"INDIRECT(AC7)","v":0},null,null,null,"参加者氏名",null,null,null,{"$f":"INDIRECT(AC8)","v":0},null,null,null,null,"↑",null,null,null,null,null,null,null,null,null,"氏名","４月","５月","６月","７月","８月","９月","１０月","１１月","１２月","１月","２月","３月","年会費","入会費","都度集金"]
["領収者",null,null,{"$f":"領収証内訳!$X$2&\" \"&領収証内訳!$AA$2","v":"0 0"},null,null,null,"領収者",null,null,null,{"$f":"領収証内訳!$X$2&\" \"&領収証内訳!$AA$2","v":"0 0"},null,null,null,"領収者",null,null,null,{"$f":"領収証内訳!$X$2&\" \"&領収証内訳!$AA$2","v":"0 0"},null,null,null,null,null,null,"カウンタ",null,{"$f":"AC1","v":1},null,null,null,null,1,{"$f":"領収証内訳!E5","v":0},{"$f":"領収証内訳!F5","v":0},{"$f":"領収証内訳!G5","v":0},{"$f":"領収証内訳!H5","v":0},{"$f":"領収証内訳!I5","v":0},{"$f":"領収証内訳!J5","v":0},{"$f":"領収証内訳!K5","v":0},{"$f":"領収証内訳!L5","v":0},{"$f":"領収証内訳!M5","v":0},{"$f":"領収証内訳!N5","v":0},{"$f":"領収証内訳!O5","v":0},{"$f":"領収証内訳!P5","v":0},{"$f":"領収証内訳!Q5","v":0},{"$f":"領収証内訳!R5","v":0},{"$f":"領収証内訳!S5","v":0},{"$f":"領収証内訳!T5","v":0}]
["領収年月日",null,"金額","内容","受領\nサイン",null,null,"領収年月日",null,null,"金額","内容","受領\nサイン",null,null,"領収年月日",null,null,"金額","内容","受領\nサイン",null,null,null,"NO.1～No.3は１を入力して印刷\n\nNo.4～No.6は２を入力して印刷\n\n以下1づつ加算し入力して印刷",null,null,null,null,null,null,null,null,2,{"$f":"領収証内訳!E6","v":0},{"$f":"領収証内訳!F6","v":0},{"$f":"領収証内訳!G6","v":0},{"$f":"領収証内訳!H6","v":0},{"$f":"領収証内訳!I6","v":0},{"$f":"領収証内訳!J6","v":0},{"$f":"領収証内訳!K6","v":0},{"$f":"領収証内訳!L6","v":0},{"$f":"領収証内訳!M6","v":0},{"$f":"領収証内訳!N6","v":0},{"$f":"領収証内訳!O6","v":0},{"$f":"領収証内訳!P6","v":0},{"$f":"領収証内訳!Q6","v":0},{"$f":"領収証内訳!R6","v":0},{"$f":"領収証内訳!S6","v":0},{"$f":"領収証内訳!T6","v":0}]
["/　/",null,{"$f":"VLOOKUP($AC$3,$AH$2:$AX$52,3,FALSE)","v":0},"入会金",null,null,null,"/　/",null,null,{"$f":"VLOOKUP($AC$3+1,$AH$2:$AX$52,3,FALSE)","v":0},"入会金",null,null,null,"/　/",null,null,{"$f":"VLOOKUP($AC$3+2,$AH$2:$AX$52,3,FALSE)","v":0},"入会金",null,null,null,null,null,null,null,null,null,null,null,null,null,3,{"$f":"領収証内訳!E7","v":0},{"$f":"領収証内訳!F7","v":0},{"$f":"領収証内訳!G7","v":0},{"$f":"領収証内訳!H7","v":0},{"$f":"領収証内訳!I7","v":0},{"$f":"領収証内訳!J7","v":0},{"$f":"領収証内訳!K7","v":0},{"$f":"領収証内訳!L7","v":0},{"$f":"領収証内訳!M7","v":0},{"$f":"領収証内訳!N7","v":0},{"$f":"領収証内訳!O7","v":0},{"$f":"領収証内訳!P7","v":0},{"$f":"領収証内訳!Q7","v":0},{"$f":"領収証内訳!R7","v":0},{"$f":"領収証内訳!S7","v":0},{"$f":"領収証内訳!T7","v":0}]
["/　/",null,{"$f":"VLOOKUP($AC$3,$AH$2:$AX$52,4,FALSE)","v":0},"年会費",null,null,null,"/　/",null,null,{"$f":"VLOOKUP($AC$3+1,$AH$2:$AX$52,4,FALSE)","v":0},"年会費",null,null,null,"/　/",null,null,{"$f":"VLOOKUP($AC$3+2,$AH$2:$AX$52,4,FALSE)","v":0},"年会費",null,null,null,null,null,null,null,"名",{"$f":"\"AI\"&FIXED(AC3+2,0,TRUE)","v":"AI3"},null,null,null,null,4,{"$f":"領収証内訳!E8","v":0},{"$f":"領収証内訳!F8","v":0},{"$f":"領収証内訳!G8","v":0},{"$f":"領収証内訳!H8","v":0},{"$f":"領収証内訳!I8","v":0},{"$f":"領収証内訳!J8","v":0},{"$f":"領収証内訳!K8","v":0},{"$f":"領収証内訳!L8","v":0},{"$f":"領収証内訳!M8","v":0},{"$f":"領収証内訳!N8","v":0},{"$f":"領収証内訳!O8","v":0},{"$f":"領収証内訳!P8","v":0},{"$f":"領収証内訳!Q8","v":0},{"$f":"領収証内訳!R8","v":0},{"$f":"領収証内訳!S8","v":0},{"$f":"領収証内訳!T8","v":0}]
["/　/",null,{"$f":"VLOOKUP($AC$3,$AH$2:$AX$52,5,FALSE)","v":0},"４月分参加費等",null,null,null,"/　/",null,null,{"$f":"VLOOKUP($AC$3+1,$AH$2:$AX$52,5,FALSE)","v":0},"４月分参加費等",null,null,null,"/　/",null,null,{"$f":"VLOOKUP($AC$3+2,$AH$2:$AX$52,5,FALSE)","v":0},"４月分参加費等",null,null,null,null,null,null,null,"名",{"$f":"\"AI\"&FIXED(AC3+3,0,TRUE)","v":"AI4"},null,null,null,null,5,{"$f":"領収証内訳!E9","v":0},{"$f":"領収証内訳!F9","v":0},{"$f":"領収証内訳!G9","v":0},{"$f":"領収証内訳!H9","v":0},{"$f":"領収証内訳!I9","v":0},{"$f":"領収証内訳!J9","v":0},{"$f":"領収証内訳!K9","v":0},{"$f":"領収証内訳!L9","v":0},{"$f":"領収証内訳!M9","v":0},{"$f":"領収証内訳!N9","v":0},{"$f":"領収証内訳!O9","v":0},{"$f":"領収証内訳!P9","v":0},{"$f":"領収証内訳!Q9","v":0},{"$f":"領収証内訳!R9","v":0},{"$f":"領収証内訳!S9","v":0},{"$f":"領収証内訳!T9","v":0}]
["/　/",null,{"$f":"VLOOKUP($AC$3,$AH$2:$AX$52,6,FALSE)","v":0},"５月分参加費等",null,null,null,"/　/",null,null,{"$f":"VLOOKUP($AC$3+1,$AH$2:$AX$52,6,FALSE)","v":0},"５月分参加費等",null,null,null,"/　/",null,null,{"$f":"VLOOKUP($AC$3+2,$AH$2:$AX$52,6,FALSE)","v":0},"５月分参加費等",null,null,null,null,null,null,null,"名",{"$f":"\"AI\"&FIXED(AC3+4,0,TRUE)","v":"AI5"},null,null,null,null,6,{"$f":"領収証内訳!E10","v":0},{"$f":"領収証内訳!F10","v":0},{"$f":"領収証内訳!G10","v":0},{"$f":"領収証内訳!H10","v":0},{"$f":"領収証内訳!I10","v":0},{"$f":"領収証内訳!J10","v":0},{"$f":"領収証内訳!K10","v":0},{"$f":"領収証内訳!L10","v":0},{"$f":"領収証内訳!M10","v":0},{"$f":"領収証内訳!N10","v":0},{"$f":"領収証内訳!O10","v":0},{"$f":"領収証内訳!P10","v":0},{"$f":"領収証内訳!Q10","v":0},{"$f":"領収証内訳!R10","v":0},{"$f":"領収証内訳!S10","v":0},{"$f":"領収証内訳!T10","v":0}]
["/　/",null,{"$f":"VLOOKUP($AC$3,$AH$2:$AX$52,7,FALSE)","v":0},"６月分参加費等",null,null,null,"/　/",null,null,{"$f":"VLOOKUP($AC$3+1,$AH$2:$AX$52,7,FALSE)","v":0},"６月分参加費等",null,null,null,"/　/",null,null,{"$f":"VLOOKUP($AC$3+2,$AH$2:$AX$52,7,FALSE)","v":0},"６月分参加費等",null,null,null,null,null,null,null,null,null,null,null,null,null,7,{"$f":"領収証内訳!E11","v":0},{"$f":"領収証内訳!F11","v":0},{"$f":"領収証内訳!G11","v":0},{"$f":"領収証内訳!H11","v":0},{"$f":"領収証内訳!I11","v":0},{"$f":"領収証内訳!J11","v":0},{"$f":"領収証内訳!K11","v":0},{"$f":"領収証内訳!L11","v":0},{"$f":"領収証内訳!M11","v":0},{"$f":"領収証内訳!N11","v":0},{"$f":"領収証内訳!O11","v":0},{"$f":"領収証内訳!P11","v":0},{"$f":"領収証内訳!Q11","v":0},{"$f":"領収証内訳!R11","v":0},{"$f":"領収証内訳!S11","v":0},{"$f":"領収証内訳!T11","v":0}]
["/　/",null,{"$f":"VLOOKUP($AC$3,$AH$2:$AX$52,8,FALSE)","v":0},"７月分参加費等",null,null,null,"/　/",null,null,{"$f":"VLOOKUP($AC$3+1,$AH$2:$AX$52,8,FALSE)","v":0},"７月分参加費等",null,null,null,"/　/",null,null,{"$f":"VLOOKUP($AC$3+2,$AH$2:$AX$52,8,FALSE)","v":0},"７月分参加費等",null,null,null,null,null,null,"開始番号",null,1,null,null,null,null,8,{"$f":"領収証内訳!E12","v":0},{"$f":"領収証内訳!F12","v":0},{"$f":"領収証内訳!G12","v":0},{"$f":"領収証内訳!H12","v":0},{"$f":"領収証内訳!I12","v":0},{"$f":"領収証内訳!J12","v":0},{"$f":"領収証内訳!K12","v":0},{"$f":"領収証内訳!L12","v":0},{"$f":"領収証内訳!M12","v":0},{"$f":"領収証内訳!N12","v":0},{"$f":"領収証内訳!O12","v":0},{"$f":"領収証内訳!P12","v":0},{"$f":"領収証内訳!Q12","v":0},{"$f":"領収証内訳!R12","v":0},{"$f":"領収証内訳!S12","v":0},{"$f":"領収証内訳!T12","v":0}]
["/　/",null,{"$f":"VLOOKUP($AC$3,$AH$2:$AX$52,9,FALSE)","v":0},"８月分参加費等",null,null,null,"/　/",null,null,{"$f":"VLOOKUP($AC$3+1,$AH$2:$AX$52,9,FALSE)","v":0},"８月分参加費等",null,null,null,"/　/",null,null,{"$f":"VLOOKUP($AC$3+2,$AH$2:$AX$52,9,FALSE)","v":0},"８月分参加費等",null,null,null,null,null,null,"終了番号",null,1,null,null,null,null,9,{"$f":"領収証内訳!E13","v":0},{"$f":"領収証内訳!F13","v":0},{"$f":"領収証内訳!G13","v":0},{"$f":"領収証内訳!H13","v":0},{"$f":"領収証内訳!I13","v":0},{"$f":"領収証内訳!J13","v":0},{"$f":"領収証内訳!K13","v":0},{"$f":"領収証内訳!L13","v":0},{"$f":"領収証内訳!M13","v":0},{"$f":"領収証内訳!N13","v":0},{"$f":"領収証内訳!O13","v":0},{"$f":"領収証内訳!P13","v":0},{"$f":"領収証内訳!Q13","v":0},{"$f":"領収証内訳!R13","v":0},{"$f":"領収証内訳!S13","v":0},{"$f":"領収証内訳!T13","v":0}]
["/　/",null,{"$f":"VLOOKUP($AC$3,$AH$2:$AX$52,10,FALSE)","v":0},"９月分参加費等",null,null,null,"/　/",null,null,{"$f":"VLOOKUP($AC$3+1,$AH$2:$AX$52,10,FALSE)","v":0},"９月分参加費等",null,null,null,"/　/",null,null,{"$f":"VLOOKUP($AC$3+2,$AH$2:$AX$52,10,FALSE)","v":0},"９月分参加費等",null,null,null,null,null,null,null,null,null,null,null,null,null,10,{"$f":"領収証内訳!E14","v":0},{"$f":"領収証内訳!F14","v":0},{"$f":"領収証内訳!G14","v":0},{"$f":"領収証内訳!H14","v":0},{"$f":"領収証内訳!I14","v":0},{"$f":"領収証内訳!J14","v":0},{"$f":"領収証内訳!K14","v":0},{"$f":"領収証内訳!L14","v":0},{"$f":"領収証内訳!M14","v":0},{"$f":"領収証内訳!N14","v":0},{"$f":"領収証内訳!O14","v":0},{"$f":"領収証内訳!P14","v":0},{"$f":"領収証内訳!Q14","v":0},{"$f":"領収証内訳!R14","v":0},{"$f":"領収証内訳!S14","v":0},{"$f":"領収証内訳!T14","v":0}]
["/　/",null,{"$f":"VLOOKUP($AC$3,$AH$2:$AX$52,11,FALSE)","v":0},"１０月分参加費等",null,null,null,"/　/",null,null,{"$f":"VLOOKUP($AC$3+1,$AH$2:$AX$52,11,FALSE)","v":0},"１０月分参加費等",null,null,null,"/　/",null,null,{"$f":"VLOOKUP($AC$3+2,$AH$2:$AX$52,11,FALSE)","v":0},"１０月分参加費等",null,null,null,null,null,null,null,null,null,null,null,null,null,11,{"$f":"領収証内訳!E15","v":0},{"$f":"領収証内訳!F15","v":0},{"$f":"領収証内訳!G15","v":0},{"$f":"領収証内訳!H15","v":0},{"$f":"領収証内訳!I15","v":0},{"$f":"領収証内訳!J15","v":0},{"$f":"領収証内訳!K15","v":0},{"$f":"領収証内訳!L15","v":0},{"$f":"領収証内訳!M15","v":0},{"$f":"領収証内訳!N15","v":0},{"$f":"領収証内訳!O15","v":0},{"$f":"領収証内訳!P15","v":0},{"$f":"領収証内訳!Q15","v":0},{"$f":"領収証内訳!R15","v":0},{"$f":"領収証内訳!S15","v":0},{"$f":"領収証内訳!T15","v":0}]
["/　/",null,{"$f":"VLOOKUP($AC$3,$AH$2:$AX$52,12,FALSE)","v":0},"１１月分参加費等",null,null,null,"/　/",null,null,{"$f":"VLOOKUP($AC$3+1,$AH$2:$AX$52,12,FALSE)","v":0},"１１月分参加費等",null,null,null,"/　/",null,null,{"$f":"VLOOKUP($AC$3+2,$AH$2:$AX$52,12,FALSE)","v":0},"１１月分参加費等",null,null,null,null,null,null,null,null,null,null,null,null,null,12,{"$f":"領収証内訳!E16","v":0},{"$f":"領収証内訳!F16","v":0},{"$f":"領収証内訳!G16","v":0},{"$f":"領収証内訳!H16","v":0},{"$f":"領収証内訳!I16","v":0},{"$f":"領収証内訳!J16","v":0},{"$f":"領収証内訳!K16","v":0},{"$f":"領収証内訳!L16","v":0},{"$f":"領収証内訳!M16","v":0},{"$f":"領収証内訳!N16","v":0},{"$f":"領収証内訳!O16","v":0},{"$f":"領収証内訳!P16","v":0},{"$f":"領収証内訳!Q16","v":0},{"$f":"領収証内訳!R16","v":0},{"$f":"領収証内訳!S16","v":0},{"$f":"領収証内訳!T16","v":0}]
["/　/",null,{"$f":"VLOOKUP($AC$3,$AH$2:$AX$52,13,FALSE)","v":0},"１２月分参加費等",null,null,null,"/　/",null,null,{"$f":"VLOOKUP($AC$3+1,$AH$2:$AX$52,13,FALSE)","v":0},"１２月分参加費等",null,null,null,"/　/",null,null,{"$f":"VLOOKUP($AC$3+2,$AH$2:$AX$52,13,FALSE)","v":0},"１２月分参加費等",null,null,null,null,null,null,null,null,null,null,null,null,null,13,{"$f":"領収証内訳!E17","v":0},{"$f":"領収証内訳!F17","v":0},{"$f":"領収証内訳!G17","v":0},{"$f":"領収証内訳!H17","v":0},{"$f":"領収証内訳!I17","v":0},{"$f":"領収証内訳!J17","v":0},{"$f":"領収証内訳!K17","v":0},{"$f":"領収証内訳!L17","v":0},{"$f":"領収証内訳!M17","v":0},{"$f":"領収証内訳!N17","v":0},{"$f":"領収証内訳!O17","v":0},{"$f":"領収証内訳!P17","v":0},{"$f":"領収証内訳!Q17","v":0},{"$f":"領収証内訳!R17","v":0},{"$f":"領収証内訳!S17","v":0},{"$f":"領収証内訳!T17","v":0}]
["/　/",null,{"$f":"VLOOKUP($AC$3,$AH$2:$AX$52,14,FALSE)","v":0},"１月分参加費等",null,null,null,"/　/",null,null,{"$f":"VLOOKUP($AC$3+1,$AH$2:$AX$52,14,FALSE)","v":0},"１月分参加費等",null,null,null,"/　/",null,null,{"$f":"VLOOKUP($AC$3+2,$AH$2:$AX$52,14,FALSE)","v":0},"１月分参加費等",null,null,null,null,null,null,null,null,null,null,null,null,null,14,{"$f":"領収証内訳!E18","v":0},{"$f":"領収証内訳!F18","v":0},{"$f":"領収証内訳!G18","v":0},{"$f":"領収証内訳!H18","v":0},{"$f":"領収証内訳!I18","v":0},{"$f":"領収証内訳!J18","v":0},{"$f":"領収証内訳!K18","v":0},{"$f":"領収証内訳!L18","v":0},{"$f":"領収証内訳!M18","v":0},{"$f":"領収証内訳!N18","v":0},{"$f":"領収証内訳!O18","v":0},{"$f":"領収証内訳!P18","v":0},{"$f":"領収証内訳!Q18","v":0},{"$f":"領収証内訳!R18","v":0},{"$f":"領収証内訳!S18","v":0},{"$f":"領収証内訳!T18","v":0}]
["/　/",null,{"$f":"VLOOKUP($AC$3,$AH$2:$AX$52,15,FALSE)","v":0},"２月分参加費等",null,null,null,"/　/",null,null,{"$f":"VLOOKUP($AC$3+1,$AH$2:$AX$52,15,FALSE)","v":0},"２月分参加費等",null,null,null,"/　/",null,null,{"$f":"VLOOKUP($AC$3+2,$AH$2:$AX$52,15,FALSE)","v":0},"２月分参加費等",null,null,null,null,null,null,null,null,null,null,null,null,null,15,{"$f":"領収証内訳!E19","v":0},{"$f":"領収証内訳!F19","v":0},{"$f":"領収証内訳!G19","v":0},{"$f":"領収証内訳!H19","v":0},{"$f":"領収証内訳!I19","v":0},{"$f":"領収証内訳!J19","v":0},{"$f":"領収証内訳!K19","v":0},{"$f":"領収証内訳!L19","v":0},{"$f":"領収証内訳!M19","v":0},{"$f":"領収証内訳!N19","v":0},{"$f":"領収証内訳!O19","v":0},{"$f":"領収証内訳!P19","v":0},{"$f":"領収証内訳!Q19","v":0},{"$f":"領収証内訳!R19","v":0},{"$f":"領収証内訳!S19","v":0},{"$f":"領収証内訳!T19","v":0}]
["/　/",null,{"$f":"VLOOKUP($AC$3,$AH$2:$AX$52,16,FALSE)","v":0},"３月分参加費等",null,null,null,"/　/",null,null,{"$f":"VLOOKUP($AC$3+1,$AH$2:$AX$52,16,FALSE)","v":0},"３月分参加費等",null,null,null,"/　/",null,null,{"$f":"VLOOKUP($AC$3+2,$AH$2:$AX$52,16,FALSE)","v":0},"３月分参加費等",null,null,null,null,null,null,null,null,null,null,null,null,null,16,{"$f":"領収証内訳!E20","v":0},{"$f":"領収証内訳!F20","v":0},{"$f":"領収証内訳!G20","v":0},{"$f":"領収証内訳!H20","v":0},{"$f":"領収証内訳!I20","v":0},{"$f":"領収証内訳!J20","v":0},{"$f":"領収証内訳!K20","v":0},{"$f":"領収証内訳!L20","v":0},{"$f":"領収証内訳!M20","v":0},{"$f":"領収証内訳!N20","v":0},{"$f":"領収証内訳!O20","v":0},{"$f":"領収証内訳!P20","v":0},{"$f":"領収証内訳!Q20","v":0},{"$f":"領収証内訳!R20","v":0},{"$f":"領収証内訳!S20","v":0},{"$f":"領収証内訳!T20","v":0}]
["/　/",null,{"$f":"VLOOKUP($AC$3,$AH$2:$AX$52,17,FALSE)","v":0},"都度集金",null,null,null,"/　/",null,null,{"$f":"VLOOKUP($AC$3+1,$AH$2:$AX$52,17,FALSE)","v":0},"都度集金",null,null,null,"/　/",null,null,{"$f":"VLOOKUP($AC$3+2,$AH$2:$AX$52,17,FALSE)","v":0},"都度集金",null,null,null,null,null,null,null,null,null,null,null,null,null,17,{"$f":"領収証内訳!E21","v":0},{"$f":"領収証内訳!F21","v":0},{"$f":"領収証内訳!G21","v":0},{"$f":"領収証内訳!H21","v":0},{"$f":"領収証内訳!I21","v":0},{"$f":"領収証内訳!J21","v":0},{"$f":"領収証内訳!K21","v":0},{"$f":"領収証内訳!L21","v":0},{"$f":"領収証内訳!M21","v":0},{"$f":"領収証内訳!N21","v":0},{"$f":"領収証内訳!O21","v":0},{"$f":"領収証内訳!P21","v":0},{"$f":"領収証内訳!Q21","v":0},{"$f":"領収証内訳!R21","v":0},{"$f":"領収証内訳!S21","v":0},{"$f":"領収証内訳!T21","v":0}]
["計",null,{"$f":"SUM(C5:C19)","v":0},null,null,null,null,"計",null,null,{"$f":"SUM(K5:K19)","v":0},null,null,null,null,"計",null,null,{"$f":"SUM(S5:S19)","v":0},null,null,null,null,null,null,null,null,null,null,null,null,null,null,18,{"$f":"領収証内訳!E22","v":0},{"$f":"領収証内訳!F22","v":0},{"$f":"領収証内訳!G22","v":0},{"$f":"領収証内訳!H22","v":0},{"$f":"領収証内訳!I22","v":0},{"$f":"領収証内訳!J22","v":0},{"$f":"領収証内訳!K22","v":0},{"$f":"領収証内訳!L22","v":0},{"$f":"領収証内訳!M22","v":0},{"$f":"領収証内訳!N22","v":0},{"$f":"領収証内訳!O22","v":0},{"$f":"領収証内訳!P22","v":0},{"$f":"領収証内訳!Q22","v":0},{"$f":"領収証内訳!R22","v":0},{"$f":"領収証内訳!S22","v":0},{"$f":"領収証内訳!T22","v":0}]
[null,null,null,null,null,null,null,null,null,null,null,null,null,null,null,null,null,null,null,null,null,null,null,null,null,null,null,null,null,null,null,null,null,19,{"$f":"領収証内訳!E23","v":0},{"$f":"領収証内訳!F23","v":0},{"$f":"領収証内訳!G23","v":0},{"$f":"領収証内訳!H23","v":0},{"$f":"領収証内訳!I23","v":0},{"$f":"領収証内訳!J23","v":0},{"$f":"領収証内訳!K23","v":0},{"$f":"領収証内訳!L23","v":0},{"$f":"領収証内訳!M23","v":0},{"$f":"領収証内訳!N23","v":0},{"$f":"領収証内訳!O23","v":0},{"$f":"領収証内訳!P23","v":0},{"$f":"領収証内訳!Q23","v":0},{"$f":"領収証内訳!R23","v":0},{"$f":"領収証内訳!S23","v":0},{"$f":"領収証内訳!T23","v":0}]
[null,null,null,null,null,null,null,null,null,null,null,null,null,null,null,null,null,null,null,null,null,null,null,null,null,null,null,null,null,null,null,null,null,20,{"$f":"領収証内訳!E24","v":0},{"$f":"領収証内訳!F24","v":0},{"$f":"領収証内訳!G24","v":0},{"$f":"領収証内訳!H24","v":0},{"$f":"領収証内訳!I24","v":0},{"$f":"領収証内訳!J24","v":0},{"$f":"領収証内訳!K24","v":0},{"$f":"領収証内訳!L24","v":0},{"$f":"領収証内訳!M24","v":0},{"$f":"領収証内訳!N24","v":0},{"$f":"領収証内訳!O24","v":0},{"$f":"領収証内訳!P24","v":0},{"$f":"領収証内訳!Q24","v":0},{"$f":"領収証内訳!R24","v":0},{"$f":"領収証内訳!S24","v":0},{"$f":"領収証内訳!T24","v":0}]
[null,null,null,null,null,null,null,null,null,null,null,null,null,null,null,null,null,null,null,null,null,null,null,null,null,null,null,null,null,null,null,null,null,21,{"$f":"領収証内訳!E25","v":0},{"$f":"領収証内訳!F25","v":0},{"$f":"領収証内訳!G25","v":0},{"$f":"領収証内訳!H25","v":0},{"$f":"領収証内訳!I25","v":0},{"$f":"領収証内訳!J25","v":0},{"$f":"領収証内訳!K25","v":0},{"$f":"領収証内訳!L25","v":0},{"$f":"領収証内訳!M25","v":0},{"$f":"領収証内訳!N25","v":0},{"$f":"領収証内訳!O25","v":0},{"$f":"領収証内訳!P25","v":0},{"$f":"領収証内訳!Q25","v":0},{"$f":"領収証内訳!R25","v":0},{"$f":"領収証内訳!S25","v":0},{"$f":"領収証内訳!T25","v":0}]
[null,null,null,null,null,null,null,null,null,null,null,null,null,null,null,null,null,null,null,null,null,null,null,null,null,null,null,null,null,null,null,null,null,22,{"$f":"領収証内訳!E26","v":0},{"$f":"領収証内訳!F26","v":0},{"$f":"領収証内訳!G26","v":0},{"$f":"領収証内訳!H26","v":0},{"$f":"領収証内訳!I26","v":0},{"$f":"領収証内訳!J26","v":0},{"$f":"領収証内訳!K26","v":0},{"$f":"領収証内訳!L26","v":0},{"$f":"領収証内訳!M26","v":0},{"$f":"領収証内訳!N26","v":0},{"$f":"領収証内訳!O26","v":0},{"$f":"領収証内訳!P26","v":0},{"$f":"領収証内訳!Q26","v":0},{"$f":"領収証内訳!R26","v":0},{"$f":"領収証内訳!S26","v":0},{"$f":"領収証内訳!T26","v":0}]
[null,null,null,null,null,null,null,null,null,null,null,null,null,null,null,null,null,null,null,null,null,null,null,null,null,null,null,null,null,null,null,null,null,23,{"$f":"領収証内訳!E27","v":0},{"$f":"領収証内訳!F27","v":0},{"$f":"領収証内訳!G27","v":0},{"$f":"領収証内訳!H27","v":0},{"$f":"領収証内訳!I27","v":0},{"$f":"領収証内訳!J27","v":0},{"$f":"領収証内訳!K27","v":0},{"$f":"領収証内訳!L27","v":0},{"$f":"領収証内訳!M27","v":0},{"$f":"領収証内訳!N27","v":0},{"$f":"領収証内訳!O27","v":0},{"$f":"領収証内訳!P27","v":0},{"$f":"領収証内訳!Q27","v":0},{"$f":"領収証内訳!R27","v":0},{"$f":"領収証内訳!S27","v":0},{"$f":"領収証内訳!T27","v":0}]
[null,null,null,null,null,null,null,null,null,null,null,null,null,null,null,null,null,null,null,null,null,null,null,null,null,null,null,null,null,null,null,null,null,24,{"$f":"領収証内訳!E28","v":0},{"$f":"領収証内訳!F28","v":0},{"$f":"領収証内訳!G28","v":0},{"$f":"領収証内訳!H28","v":0},{"$f":"領収証内訳!I28","v":0},{"$f":"領収証内訳!J28","v":0},{"$f":"領収証内訳!K28","v":0},{"$f":"領収証内訳!L28","v":0},{"$f":"領収証内訳!M28","v":0},{"$f":"領収証内訳!N28","v":0},{"$f":"領収証内訳!O28","v":0},{"$f":"領収証内訳!P28","v":0},{"$f":"領収証内訳!Q28","v":0},{"$f":"領収証内訳!R28","v":0},{"$f":"領収証内訳!S28","v":0},{"$f":"領収証内訳!T28","v":0}]
[null,null,null,null,null,null,null,null,null,null,null,null,null,null,null,null,null,null,null,null,null,null,null,null,null,null,null,null,null,null,null,null,null,25,{"$f":"領収証内訳!E29","v":0},{"$f":"領収証内訳!F29","v":0},{"$f":"領収証内訳!G29","v":0},{"$f":"領収証内訳!H29","v":0},{"$f":"領収証内訳!I29","v":0},{"$f":"領収証内訳!J29","v":0},{"$f":"領収証内訳!K29","v":0},{"$f":"領収証内訳!L29","v":0},{"$f":"領収証内訳!M29","v":0},{"$f":"領収証内訳!N29","v":0},{"$f":"領収証内訳!O29","v":0},{"$f":"領収証内訳!P29","v":0},{"$f":"領収証内訳!Q29","v":0},{"$f":"領収証内訳!R29","v":0},{"$f":"領収証内訳!S29","v":0},{"$f":"領収証内訳!T29","v":0}]
[null,null,null,null,null,null,null,null,null,null,null,null,null,null,null,null,null,null,null,null,null,null,null,null,null,null,null,null,null,null,null,null,null,26,{"$f":"領収証内訳!E30","v":0},{"$f":"領収証内訳!F30","v":0},{"$f":"領収証内訳!G30","v":0},{"$f":"領収証内訳!H30","v":0},{"$f":"領収証内訳!I30","v":0},{"$f":"領収証内訳!J30","v":0},{"$f":"領収証内訳!K30","v":0},{"$f":"領収証内訳!L30","v":0},{"$f":"領収証内訳!M30","v":0},{"$f":"領収証内訳!N30","v":0},{"$f":"領収証内訳!O30","v":0},{"$f":"領収証内訳!P30","v":0},{"$f":"領収証内訳!Q30","v":0},{"$f":"領収証内訳!R30","v":0},{"$f":"領収証内訳!S30","v":0},{"$f":"領収証内訳!T30","v":0}]
[null,null,null,null,null,null,null,null,null,null,null,null,null,null,null,null,null,null,null,null,null,null,null,null,null,null,null,null,null,null,null,null,null,27,{"$f":"領収証内訳!E31","v":0},{"$f":"領収証内訳!F31","v":0},{"$f":"領収証内訳!G31","v":0},{"$f":"領収証内訳!H31","v":0},{"$f":"領収証内訳!I31","v":0},{"$f":"領収証内訳!J31","v":0},{"$f":"領収証内訳!K31","v":0},{"$f":"領収証内訳!L31","v":0},{"$f":"領収証内訳!M31","v":0},{"$f":"領収証内訳!N31","v":0},{"$f":"領収証内訳!O31","v":0},{"$f":"領収証内訳!P31","v":0},{"$f":"領収証内訳!Q31","v":0},{"$f":"領収証内訳!R31","v":0},{"$f":"領収証内訳!S31","v":0},{"$f":"領収証内訳!T31","v":0}]
[null,null,null,null,null,null,null,null,null,null,null,null,null,null,null,null,null,null,null,null,null,null,null,null,null,null,null,null,null,null,null,null,null,28,{"$f":"領収証内訳!E32","v":0},{"$f":"領収証内訳!F32","v":0},{"$f":"領収証内訳!G32","v":0},{"$f":"領収証内訳!H32","v":0},{"$f":"領収証内訳!I32","v":0},{"$f":"領収証内訳!J32","v":0},{"$f":"領収証内訳!K32","v":0},{"$f":"領収証内訳!L32","v":0},{"$f":"領収証内訳!M32","v":0},{"$f":"領収証内訳!N32","v":0},{"$f":"領収証内訳!O32","v":0},{"$f":"領収証内訳!P32","v":0},{"$f":"領収証内訳!Q32","v":0},{"$f":"領収証内訳!R32","v":0},{"$f":"領収証内訳!S32","v":0},{"$f":"領収証内訳!T32","v":0}]
[null,null,null,null,null,null,null,null,null,null,null,null,null,null,null,null,null,null,null,null,null,null,null,null,null,null,null,null,null,null,null,null,null,29,{"$f":"領収証内訳!E33","v":0},{"$f":"領収証内訳!F33","v":0},{"$f":"領収証内訳!G33","v":0},{"$f":"領収証内訳!H33","v":0},{"$f":"領収証内訳!I33","v":0},{"$f":"領収証内訳!J33","v":0},{"$f":"領収証内訳!K33","v":0},{"$f":"領収証内訳!L33","v":0},{"$f":"領収証内訳!M33","v":0},{"$f":"領収証内訳!N33","v":0},{"$f":"領収証内訳!O33","v":0},{"$f":"領収証内訳!P33","v":0},{"$f":"領収証内訳!Q33","v":0},{"$f":"領収証内訳!R33","v":0},{"$f":"領収証内訳!S33","v":0},{"$f":"領収証内訳!T33","v":0}]
[null,null,null,null,null,null,null,null,null,null,null,null,null,null,null,null,null,null,null,null,null,null,null,null,null,null,null,null,null,null,null,null,null,30,{"$f":"領収証内訳!E34","v":0},{"$f":"領収証内訳!F34","v":0},{"$f":"領収証内訳!G34","v":0},{"$f":"領収証内訳!H34","v":0},{"$f":"領収証内訳!I34","v":0},{"$f":"領収証内訳!J34","v":0},{"$f":"領収証内訳!K34","v":0},{"$f":"領収証内訳!L34","v":0},{"$f":"領収証内訳!M34","v":0},{"$f":"領収証内訳!N34","v":0},{"$f":"領収証内訳!O34","v":0},{"$f":"領収証内訳!P34","v":0},{"$f":"領収証内訳!Q34","v":0},{"$f":"領収証内訳!R34","v":0},{"$f":"領収証内訳!S34","v":0},{"$f":"領収証内訳!T34","v":0}]
[null,null,null,null,null,null,null,null,null,null,null,null,null,null,null,null,null,null,null,null,null,null,null,null,null,null,null,null,null,null,null,null,null,31,{"$f":"領収証内訳!E35","v":0},{"$f":"領収証内訳!F35","v":0},{"$f":"領収証内訳!G35","v":0},{"$f":"領収証内訳!H35","v":0},{"$f":"領収証内訳!I35","v":0},{"$f":"領収証内訳!J35","v":0},{"$f":"領収証内訳!K35","v":0},{"$f":"領収証内訳!L35","v":0},{"$f":"領収証内訳!M35","v":0},{"$f":"領収証内訳!N35","v":0},{"$f":"領収証内訳!O35","v":0},{"$f":"領収証内訳!P35","v":0},{"$f":"領収証内訳!Q35","v":0},{"$f":"領収証内訳!R35","v":0},{"$f":"領収証内訳!S35","v":0},{"$f":"領収証内訳!T35","v":0}]
[null,null,null,null,null,null,null,null,null,null,null,null,null,null,null,null,null,null,null,null,null,null,null,null,null,null,null,null,null,null,null,null,null,32,{"$f":"領収証内訳!E36","v":0},{"$f":"領収証内訳!F36","v":0},{"$f":"領収証内訳!G36","v":0},{"$f":"領収証内訳!H36","v":0},{"$f":"領収証内訳!I36","v":0},{"$f":"領収証内訳!J36","v":0},{"$f":"領収証内訳!K36","v":0},{"$f":"領収証内訳!L36","v":0},{"$f":"領収証内訳!M36","v":0},{"$f":"領収証内訳!N36","v":0},{"$f":"領収証内訳!O36","v":0},{"$f":"領収証内訳!P36","v":0},{"$f":"領収証内訳!Q36","v":0},{"$f":"領収証内訳!R36","v":0},{"$f":"領収証内訳!S36","v":0},{"$f":"領収証内訳!T36","v":0}]
[null,null,null,null,null,null,null,null,null,null,null,null,null,null,null,null,null,null,null,null,null,null,null,null,null,null,null,null,null,null,null,null,null,33,{"$f":"領収証内訳!E37","v":0},{"$f":"領収証内訳!F37","v":0},{"$f":"領収証内訳!G37","v":0},{"$f":"領収証内訳!H37","v":0},{"$f":"領収証内訳!I37","v":0},{"$f":"領収証内訳!J37","v":0},{"$f":"領収証内訳!K37","v":0},{"$f":"領収証内訳!L37","v":0},{"$f":"領収証内訳!M37","v":0},{"$f":"領収証内訳!N37","v":0},{"$f":"領収証内訳!O37","v":0},{"$f":"領収証内訳!P37","v":0},{"$f":"領収証内訳!Q37","v":0},{"$f":"領収証内訳!R37","v":0},{"$f":"領収証内訳!S37","v":0},{"$f":"領収証内訳!T37","v":0}]
[null,null,null,null,null,null,null,null,null,null,null,null,null,null,null,null,null,null,null,null,null,null,null,null,null,null,null,null,null,null,null,null,null,34,{"$f":"領収証内訳!E38","v":0},{"$f":"領収証内訳!F38","v":0},{"$f":"領収証内訳!G38","v":0},{"$f":"領収証内訳!H38","v":0},{"$f":"領収証内訳!I38","v":0},{"$f":"領収証内訳!J38","v":0},{"$f":"領収証内訳!K38","v":0},{"$f":"領収証内訳!L38","v":0},{"$f":"領収証内訳!M38","v":0},{"$f":"領収証内訳!N38","v":0},{"$f":"領収証内訳!O38","v":0},{"$f":"領収証内訳!P38","v":0},{"$f":"領収証内訳!Q38","v":0},{"$f":"領収証内訳!R38","v":0},{"$f":"領収証内訳!S38","v":0},{"$f":"領収証内訳!T38","v":0}]
[null,null,null,null,null,null,null,null,null,null,null,null,null,null,null,null,null,null,null,null,null,null,null,null,null,null,null,null,null,null,null,null,null,35,{"$f":"領収証内訳!E39","v":0},{"$f":"領収証内訳!F39","v":0},{"$f":"領収証内訳!G39","v":0},{"$f":"領収証内訳!H39","v":0},{"$f":"領収証内訳!I39","v":0},{"$f":"領収証内訳!J39","v":0},{"$f":"領収証内訳!K39","v":0},{"$f":"領収証内訳!L39","v":0},{"$f":"領収証内訳!M39","v":0},{"$f":"領収証内訳!N39","v":0},{"$f":"領収証内訳!O39","v":0},{"$f":"領収証内訳!P39","v":0},{"$f":"領収証内訳!Q39","v":0},{"$f":"領収証内訳!R39","v":0},{"$f":"領収証内訳!S39","v":0},{"$f":"領収証内訳!T39","v":0}]
[null,null,null,null,null,null,null,null,null,null,null,null,null,null,null,null,null,null,null,null,null,null,null,null,null,null,null,null,null,null,null,null,null,36,{"$f":"領収証内訳!E40","v":0},{"$f":"領収証内訳!F40","v":0},{"$f":"領収証内訳!G40","v":0},{"$f":"領収証内訳!H40","v":0},{"$f":"領収証内訳!I40","v":0},{"$f":"領収証内訳!J40","v":0},{"$f":"領収証内訳!K40","v":0},{"$f":"領収証内訳!L40","v":0},{"$f":"領収証内訳!M40","v":0},{"$f":"領収証内訳!N40","v":0},{"$f":"領収証内訳!O40","v":0},{"$f":"領収証内訳!P40","v":0},{"$f":"領収証内訳!Q40","v":0},{"$f":"領収証内訳!R40","v":0},{"$f":"領収証内訳!S40","v":0},{"$f":"領収証内訳!T40","v":0}]
[null,null,null,null,null,null,null,null,null,null,null,null,null,null,null,null,null,null,null,null,null,null,null,null,null,null,null,null,null,null,null,null,null,37,{"$f":"領収証内訳!E41","v":0},{"$f":"領収証内訳!F41","v":0},{"$f":"領収証内訳!G41","v":0},{"$f":"領収証内訳!H41","v":0},{"$f":"領収証内訳!I41","v":0},{"$f":"領収証内訳!J41","v":0},{"$f":"領収証内訳!K41","v":0},{"$f":"領収証内訳!L41","v":0},{"$f":"領収証内訳!M41","v":0},{"$f":"領収証内訳!N41","v":0},{"$f":"領収証内訳!O41","v":0},{"$f":"領収証内訳!P41","v":0},{"$f":"領収証内訳!Q41","v":0},{"$f":"領収証内訳!R41","v":0},{"$f":"領収証内訳!S41","v":0},{"$f":"領収証内訳!T41","v":0}]
[null,null,null,null,null,null,null,null,null,null,null,null,null,null,null,null,null,null,null,null,null,null,null,null,null,null,null,null,null,null,null,null,null,38,{"$f":"領収証内訳!E42","v":0},{"$f":"領収証内訳!F42","v":0},{"$f":"領収証内訳!G42","v":0},{"$f":"領収証内訳!H42","v":0},{"$f":"領収証内訳!I42","v":0},{"$f":"領収証内訳!J42","v":0},{"$f":"領収証内訳!K42","v":0},{"$f":"領収証内訳!L42","v":0},{"$f":"領収証内訳!M42","v":0},{"$f":"領収証内訳!N42","v":0},{"$f":"領収証内訳!O42","v":0},{"$f":"領収証内訳!P42","v":0},{"$f":"領収証内訳!Q42","v":0},{"$f":"領収証内訳!R42","v":0},{"$f":"領収証内訳!S42","v":0},{"$f":"領収証内訳!T42","v":0}]
[null,null,null,null,null,null,null,null,null,null,null,null,null,null,null,null,null,null,null,null,null,null,null,null,null,null,null,null,null,null,null,null,null,39,{"$f":"領収証内訳!E43","v":0},{"$f":"領収証内訳!F43","v":0},{"$f":"領収証内訳!G43","v":0},{"$f":"領収証内訳!H43","v":0},{"$f":"領収証内訳!I43","v":0},{"$f":"領収証内訳!J43","v":0},{"$f":"領収証内訳!K43","v":0},{"$f":"領収証内訳!L43","v":0},{"$f":"領収証内訳!M43","v":0},{"$f":"領収証内訳!N43","v":0},{"$f":"領収証内訳!O43","v":0},{"$f":"領収証内訳!P43","v":0},{"$f":"領収証内訳!Q43","v":0},{"$f":"領収証内訳!R43","v":0},{"$f":"領収証内訳!S43","v":0},{"$f":"領収証内訳!T43","v":0}]
[null,null,null,null,null,null,null,null,null,null,null,null,null,null,null,null,null,null,null,null,null,null,null,null,null,null,null,null,null,null,null,null,null,40,{"$f":"領収証内訳!E44","v":0},{"$f":"領収証内訳!F44","v":0},{"$f":"領収証内訳!G44","v":0},{"$f":"領収証内訳!H44","v":0},{"$f":"領収証内訳!I44","v":0},{"$f":"領収証内訳!J44","v":0},{"$f":"領収証内訳!K44","v":0},{"$f":"領収証内訳!L44","v":0},{"$f":"領収証内訳!M44","v":0},{"$f":"領収証内訳!N44","v":0},{"$f":"領収証内訳!O44","v":0},{"$f":"領収証内訳!P44","v":0},{"$f":"領収証内訳!Q44","v":0},{"$f":"領収証内訳!R44","v":0},{"$f":"領収証内訳!S44","v":0},{"$f":"領収証内訳!T44","v":0}]
[null,null,null,null,null,null,null,null,null,null,null,null,null,null,null,null,null,null,null,null,null,null,null,null,null,null,null,null,null,null,null,null,null,41,{"$f":"領収証内訳!E45","v":0},{"$f":"領収証内訳!F45","v":0},{"$f":"領収証内訳!G45","v":0},{"$f":"領収証内訳!H45","v":0},{"$f":"領収証内訳!I45","v":0},{"$f":"領収証内訳!J45","v":0},{"$f":"領収証内訳!K45","v":0},{"$f":"領収証内訳!L45","v":0},{"$f":"領収証内訳!M45","v":0},{"$f":"領収証内訳!N45","v":0},{"$f":"領収証内訳!O45","v":0},{"$f":"領収証内訳!P45","v":0},{"$f":"領収証内訳!Q45","v":0},{"$f":"領収証内訳!R45","v":0},{"$f":"領収証内訳!S45","v":0},{"$f":"領収証内訳!T45","v":0}]
[null,null,null,null,null,null,null,null,null,null,null,null,null,null,null,null,null,null,null,null,null,null,null,null,null,null,null,null,null,null,null,null,null,42,{"$f":"領収証内訳!E46","v":0},{"$f":"領収証内訳!F46","v":0},{"$f":"領収証内訳!G46","v":0},{"$f":"領収証内訳!H46","v":0},{"$f":"領収証内訳!I46","v":0},{"$f":"領収証内訳!J46","v":0},{"$f":"領収証内訳!K46","v":0},{"$f":"領収証内訳!L46","v":0},{"$f":"領収証内訳!M46","v":0},{"$f":"領収証内訳!N46","v":0},{"$f":"領収証内訳!O46","v":0},{"$f":"領収証内訳!P46","v":0},{"$f":"領収証内訳!Q46","v":0},{"$f":"領収証内訳!R46","v":0},{"$f":"領収証内訳!S46","v":0},{"$f":"領収証内訳!T46","v":0}]
[null,null,null,null,null,null,null,null,null,null,null,null,null,null,null,null,null,null,null,null,null,null,null,null,null,null,null,null,null,null,null,null,null,43,{"$f":"領収証内訳!E47","v":0},{"$f":"領収証内訳!F47","v":0},{"$f":"領収証内訳!G47","v":0},{"$f":"領収証内訳!H47","v":0},{"$f":"領収証内訳!I47","v":0},{"$f":"領収証内訳!J47","v":0},{"$f":"領収証内訳!K47","v":0},{"$f":"領収証内訳!L47","v":0},{"$f":"領収証内訳!M47","v":0},{"$f":"領収証内訳!N47","v":0},{"$f":"領収証内訳!O47","v":0},{"$f":"領収証内訳!P47","v":0},{"$f":"領収証内訳!Q47","v":0},{"$f":"領収証内訳!R47","v":0},{"$f":"領収証内訳!S47","v":0},{"$f":"領収証内訳!T47","v":0}]
[null,null,null,null,null,null,null,null,null,null,null,null,null,null,null,null,null,null,null,null,null,null,null,null,null,null,null,null,null,null,null,null,null,44,{"$f":"領収証内訳!E48","v":0},{"$f":"領収証内訳!F48","v":0},{"$f":"領収証内訳!G48","v":0},{"$f":"領収証内訳!H48","v":0},{"$f":"領収証内訳!I48","v":0},{"$f":"領収証内訳!J48","v":0},{"$f":"領収証内訳!K48","v":0},{"$f":"領収証内訳!L48","v":0},{"$f":"領収証内訳!M48","v":0},{"$f":"領収証内訳!N48","v":0},{"$f":"領収証内訳!O48","v":0},{"$f":"領収証内訳!P48","v":0},{"$f":"領収証内訳!Q48","v":0},{"$f":"領収証内訳!R48","v":0},{"$f":"領収証内訳!S48","v":0},{"$f":"領収証内訳!T48","v":0}]
[null,null,null,null,null,null,null,null,null,null,null,null,null,null,null,null,null,null,null,null,null,null,null,null,null,null,null,null,null,null,null,null,null,45,{"$f":"領収証内訳!E49","v":0},{"$f":"領収証内訳!F49","v":0},{"$f":"領収証内訳!G49","v":0},{"$f":"領収証内訳!H49","v":0},{"$f":"領収証内訳!I49","v":0},{"$f":"領収証内訳!J49","v":0},{"$f":"領収証内訳!K49","v":0},{"$f":"領収証内訳!L49","v":0},{"$f":"領収証内訳!M49","v":0},{"$f":"領収証内訳!N49","v":0},{"$f":"領収証内訳!O49","v":0},{"$f":"領収証内訳!P49","v":0},{"$f":"領収証内訳!Q49","v":0},{"$f":"領収証内訳!R49","v":0},{"$f":"領収証内訳!S49","v":0},{"$f":"領収証内訳!T49","v":0}]
[null,null,null,null,null,null,null,null,null,null,null,null,null,null,null,null,null,null,null,null,null,null,null,null,null,null,null,null,null,null,null,null,null,46,{"$f":"領収証内訳!E50","v":0},{"$f":"領収証内訳!F50","v":0},{"$f":"領収証内訳!G50","v":0},{"$f":"領収証内訳!H50","v":0},{"$f":"領収証内訳!I50","v":0},{"$f":"領収証内訳!J50","v":0},{"$f":"領収証内訳!K50","v":0},{"$f":"領収証内訳!L50","v":0},{"$f":"領収証内訳!M50","v":0},{"$f":"領収証内訳!N50","v":0},{"$f":"領収証内訳!O50","v":0},{"$f":"領収証内訳!P50","v":0},{"$f":"領収証内訳!Q50","v":0},{"$f":"領収証内訳!R50","v":0},{"$f":"領収証内訳!S50","v":0},{"$f":"領収証内訳!T50","v":0}]
[null,null,null,null,null,null,null,null,null,null,null,null,null,null,null,null,null,null,null,null,null,null,null,null,null,null,null,null,null,null,null,null,null,47,{"$f":"領収証内訳!E51","v":0},{"$f":"領収証内訳!F51","v":0},{"$f":"領収証内訳!G51","v":0},{"$f":"領収証内訳!H51","v":0},{"$f":"領収証内訳!I51","v":0},{"$f":"領収証内訳!J51","v":0},{"$f":"領収証内訳!K51","v":0},{"$f":"領収証内訳!L51","v":0},{"$f":"領収証内訳!M51","v":0},{"$f":"領収証内訳!N51","v":0},{"$f":"領収証内訳!O51","v":0},{"$f":"領収証内訳!P51","v":0},{"$f":"領収証内訳!Q51","v":0},{"$f":"領収証内訳!R51","v":0},{"$f":"領収証内訳!S51","v":0},{"$f":"領収証内訳!T51","v":0}]
[null,null,null,null,null,null,null,null,null,null,null,null,null,null,null,null,null,null,null,null,null,null,null,null,null,null,null,null,null,null,null,null,null,48,{"$f":"領収証内訳!E52","v":0},{"$f":"領収証内訳!F52","v":0},{"$f":"領収証内訳!G52","v":0},{"$f":"領収証内訳!H52","v":0},{"$f":"領収証内訳!I52","v":0},{"$f":"領収証内訳!J52","v":0},{"$f":"領収証内訳!K52","v":0},{"$f":"領収証内訳!L52","v":0},{"$f":"領収証内訳!M52","v":0},{"$f":"領収証内訳!N52","v":0},{"$f":"領収証内訳!O52","v":0},{"$f":"領収証内訳!P52","v":0},{"$f":"領収証内訳!Q52","v":0},{"$f":"領収証内訳!R52","v":0},{"$f":"領収証内訳!S52","v":0},{"$f":"領収証内訳!T52","v":0}]
[null,null,null,null,null,null,null,null,null,null,null,null,null,null,null,null,null,null,null,null,null,null,null,null,null,null,null,null,null,null,null,null,null,49,{"$f":"領収証内訳!E53","v":0},{"$f":"領収証内訳!F53","v":0},{"$f":"領収証内訳!G53","v":0},{"$f":"領収証内訳!H53","v":0},{"$f":"領収証内訳!I53","v":0},{"$f":"領収証内訳!J53","v":0},{"$f":"領収証内訳!K53","v":0},{"$f":"領収証内訳!L53","v":0},{"$f":"領収証内訳!M53","v":0},{"$f":"領収証内訳!N53","v":0},{"$f":"領収証内訳!O53","v":0},{"$f":"領収証内訳!P53","v":0},{"$f":"領収証内訳!Q53","v":0},{"$f":"領収証内訳!R53","v":0},{"$f":"領収証内訳!S53","v":0},{"$f":"領収証内訳!T53","v":0}]
[null,null,null,null,null,null,null,null,null,null,null,null,null,null,null,null,null,null,null,null,null,null,null,null,null,null,null,null,null,null,null,null,null,50,{"$f":"領収証内訳!E54","v":0},{"$f":"領収証内訳!F54","v":0},{"$f":"領収証内訳!G54","v":0},{"$f":"領収証内訳!H54","v":0},{"$f":"領収証内訳!I54","v":0},{"$f":"領収証内訳!J54","v":0},{"$f":"領収証内訳!K54","v":0},{"$f":"領収証内訳!L54","v":0},{"$f":"領収証内訳!M54","v":0},{"$f":"領収証内訳!N54","v":0},{"$f":"領収証内訳!O54","v":0},{"$f":"領収証内訳!P54","v":0},{"$f":"領収証内訳!Q54","v":0},{"$f":"領収証内訳!R54","v":0},{"$f":"領収証内訳!S54","v":0},{"$f":"領収証内訳!T54","v":0}]

{"sheet":"記載例","index":5,"n_rows":58,"n_cols":28,"rows_kept":58,"cut":false,"hidden":false,"merged":[[1,1,1,9],[1,11,1,12],[1,23,1,24]]}
[]
[null,"令和8年度　〇〇中学校▲▲クラブ参加費等集金額一覧",null,null,null,null,null,null,null,null,null,null,null,null,null,null,null,null,null,null,null,8,"クラブ名","〇〇中学校▲▲クラブ",null,"代表者名","△△△△"]
[1,2,3,4,5,6,7,8,9,10,11,12,13,14,15,16,17,18,19,20,null,null,null,8,null,"領収日","2026-09-10"]
[null,"No.","年","組","氏　名","入会金","年会費","４月","５月","６月","７月","８月","９月","１０月","１１月","１２月","１月","２月","３月","都度集金","計",null,null,"４月"]
[null,1,null,null,"あ",5000,null,3000,5000,3000,3000,3000,3000,3000,3000,3000,3000,3000,3000,null,43000,null,null,3000,null,null,"入会金",6]
[null,2,null,null,"い",null,36000,null,null,null,null,null,null,null,null,null,null,null,null,null,36000,null,null,0,null,null,"年会費",7]
[null,3,null,null,"う",null,null,3000,3000,3000,3000,3000,3000,3000,3000,3000,3000,3000,3000,null,36000,null,null,3000,null,null,"４月",8]
[null,4,null,null,"え",null,null,3000,3000,3000,3000,3000,3000,3000,3000,3000,3000,3000,3000,null,36000,null,null,3000,null,null,"５月",9]
[null,5,null,null,"お",null,null,3000,3000,3000,3000,3000,3000,3000,3000,3000,3000,3000,3000,null,36000,null,null,3000,null,null,"６月",10]
[null,6,null,null,"か",null,null,3000,3000,3000,3000,3000,3000,3000,3000,3000,3000,3000,3000,null,36000,null,null,3000,null,null,"７月",11]
[null,7,null,null,"き",null,null,3000,3000,3000,3000,3000,3000,3000,3000,3000,3000,3000,3000,null,36000,null,null,3000,null,null,"８月",12]
[null,8,null,null,"く",null,null,3000,3000,3000,3000,3000,3000,3000,3000,3000,3000,3000,3000,null,36000,null,null,3000,null,null,"９月",13]
[null,9,null,null,"け",null,null,3000,3000,3000,3000,3000,3000,3000,3000,3000,3000,3000,3000,null,36000,null,null,3000,null,null,"１０月",14]
[null,10,null,null,"こ",null,null,3000,3000,3000,3000,3000,3000,3000,3000,3000,3000,3000,3000,null,36000,null,null,3000,null,null,"１１月",15]
[null,11,null,null,"さ",null,null,3000,3000,3000,3000,3000,3000,3000,3000,3000,3000,3000,3000,null,36000,null,null,3000,null,null,"１２月",16]
[null,12,null,null,"し",null,null,3000,3000,3000,3000,3000,3000,3000,3000,3000,3000,3000,3000,null,36000,null,null,3000,null,null,"１月",17]
[null,13,null,null,"す",null,null,3000,3000,3000,3000,3000,3000,3000,3000,3000,3000,3000,3000,null,36000,null,null,3000,null,null,"２月",18]
[null,14,null,null,"せ",null,null,3000,3000,3000,3000,3000,3000,3000,3000,3000,3000,3000,3000,null,36000,null,null,3000,null,null,"３月",19]
[null,15,null,null,"そ",null,null,3000,3000,3000,3000,3000,3000,3000,3000,3000,3000,3000,3000,null,36000,null,null,3000,null,null,"都度集金",20]
[null,16,null,null,"た",null,null,3000,3000,3000,3000,3000,3000,3000,3000,3000,3000,3000,3000,null,36000,null,null,3000]
[null,17,null,null,"ち",null,null,3000,3000,3000,3000,3000,3000,3000,3000,3000,3000,3000,3000,null,36000,null,null,3000]
[null,18,null,null,"つ",null,null,3000,3000,3000,3000,3000,3000,3000,3000,3000,3000,3000,3000,null,36000,null,null,3000]
[null,19,null,null,"て",null,null,3000,3000,3000,3000,3000,3000,3000,3000,3000,3000,3000,3000,null,36000,null,null,3000]
[null,20,null,null,"と",null,null,3000,3000,3000,3000,3000,3000,3000,3000,3000,3000,3000,3000,null,36000,null,null,3000]
[null,21,null,null,"な",null,null,3000,3000,3000,3000,3000,3000,3000,3000,3000,3000,3000,3000,null,36000,null,null,3000]
[null,22,null,null,"に",null,null,3000,3000,3000,3000,3000,3000,3000,3000,3000,3000,3000,3000,null,36000,null,null,3000]
[null,23,null,null,"ぬ",null,null,3000,3000,3000,3000,3000,3000,3000,3000,3000,3000,3000,3000,null,36000,null,null,3000]
[null,24,null,null,"ね",null,null,3000,3000,3000,3000,3000,3000,3000,3000,3000,3000,3000,3000,null,36000,null,null,3000]
[null,25,null,null,"の",null,null,3000,3000,3000,3000,3000,3000,3000,3000,3000,3000,3000,3000,null,36000,null,null,3000]
[null,26,null,null,"は",null,null,3000,3000,3000,3000,3000,3000,3000,3000,3000,3000,3000,3000,null,36000,null,null,3000]
[null,27,null,null,"ひ",null,null,3000,3000,3000,3000,3000,3000,3000,3000,3000,3000,3000,3000,null,36000,null,null,3000]
[null,28,null,null,"ふ",null,null,3000,3000,3000,3000,3000,3000,3000,3000,3000,3000,3000,3000,null,36000,null,null,3000]
[null,29,null,null,"へ",null,null,3000,3000,3000,3000,3000,3000,3000,3000,3000,3000,3000,3000,null,36000,null,null,3000]
[null,30,null,null,"ほ",null,null,3000,3000,3000,3000,3000,3000,3000,3000,3000,3000,3000,3000,null,36000,null,null,3000]
[null,31,null,null,"ま",null,null,3000,3000,3000,3000,3000,3000,3000,3000,3000,3000,3000,3000,null,36000,null,null,3000]
[null,32,null,null,"み",null,null,3000,3000,3000,3000,3000,3000,3000,3000,3000,3000,3000,3000,null,36000,null,null,3000]
[null,33,null,null,"む",null,null,3000,3000,3000,3000,3000,3000,3000,3000,3000,3000,3000,3000,null,36000,null,null,3000]
[null,34,null,null,"め",null,null,3000,3000,3000,3000,3000,3000,3000,3000,3000,3000,3000,3000,null,36000,null,null,3000]
[null,35,null,null,"も",null,null,3000,3000,3000,3000,3000,3000,3000,3000,3000,3000,3000,3000,null,36000,null,null,3000]
[null,36,null,null,"や",null,null,3000,3000,3000,3000,3000,3000,3000,3000,3000,3000,3000,3000,null,36000,null,null,3000]
[null,37,null,null,"い",null,null,3000,3000,3000,3000,3000,3000,3000,3000,3000,3000,3000,3000,null,36000,null,null,3000]
[null,38,null,null,"う",null,null,3000,3000,3000,3000,3000,3000,3000,3000,3000,3000,3000,3000,null,36000,null,null,3000]
[null,39,null,null,"え",null,null,3000,3000,3000,3000,3000,3000,3000,3000,3000,3000,3000,3000,null,36000,null,null,3000]
[null,40,null,null,"よ",null,null,3000,3000,3000,3000,3000,3000,3000,3000,3000,3000,3000,3000,null,36000,null,null,3000]
[null,41,null,null,"ら",null,null,3000,3000,3000,3000,3000,3000,3000,3000,3000,3000,3000,3000,null,36000,null,null,3000]
[null,42,null,null,"り",null,null,3000,3000,3000,3000,3000,3000,3000,3000,3000,3000,3000,3000,null,36000,null,null,3000]
[null,43,null,null,"る",null,null,3000,3000,3000,3000,3000,3000,3000,3000,3000,3000,3000,3000,null,36000,null,null,3000]
[null,44,null,null,"れ",null,null,3000,3000,3000,3000,3000,3000,3000,3000,3000,3000,3000,3000,null,36000,null,null,3000]
[null,45,null,null,"ろ",null,null,3000,3000,3000,3000,3000,3000,3000,3000,3000,3000,3000,3000,null,36000,null,null,3000]
[null,46,null,null,"わ",null,null,3000,3000,3000,3000,3000,3000,3000,3000,3000,3000,3000,3000,null,36000,null,null,3000]
[null,47,null,null,"い",null,null,3000,3000,3000,3000,3000,3000,3000,3000,3000,3000,3000,3000,null,36000,null,null,3000]
[null,48,null,null,"う",null,null,3000,3000,3000,3000,3000,3000,3000,3000,3000,3000,3000,3000,null,36000,null,null,3000]
[null,49,null,null,"え",null,null,3000,3000,3000,3000,3000,3000,3000,3000,3000,3000,3000,3000,null,36000,null,null,3000]
[null,50,null,null,"を",null,null,3000,3000,3000,3000,3000,3000,3000,3000,3000,3000,3000,3000,null,36000,null,null,3000]
[null,null,null,"計",null,5000,36000,147000,149000,147000,147000,147000,147000,147000,147000,147000,147000,147000,147000,0,1807000]
[null,null,null,null,null,null,null,49,49,49,49,49,49,49,49,49,49,49,49,0]
[null,null,null,null,null,null,null,null,null,null,null,null,null,null,null,null,null,null,null,null,"合計"]
[null,null,null,null,null,null,null,null,null,null,null,null,null,null,null,null,null,null,null,null,0]