Workbook

Sheet 入力の流れ
B2: 補助金交付申請書作成システム 入力の流れ
B4: ① | C4: まず、基本データシートの項目１～１０を入力します。
C5: 特に項目６・７・８・９は補助単価を決める項目になりますので、正確に入力してください。
B7: ② | C7: 第３号様式（収入予算書）シートに予算額等を入力し、収入予算書を作成します。
C8: その際、右下の計算表の「差引額」が必ず０になるよう予算額を調節してください。
C9: また、対象内・対象外の選別にもご注意願います。
B11: ③ | C11: 第１号、第２号様式の必要な個所に入力し、提出書類を完成させます。
B13: ④ | C13: ３月に提出する収支決算書も、２月の支出が確定した後、②と同様第１１号様式に決算額を入力し作成します。

Sheet 基本データ
B2: 浜松市はまクル認定クラブ活動支援事業費補助金交付申請書作成システム | M2: Ver.3.0
B4: 1 | C4: 認定クラブ登録番号 | D4: 1000 | F4: 6 | G4: 競技・活動区分 | H4: スポーツ | J4: 10 | K4: 年度 | M4: 令和 | O4: 8 | P4: 年度
B6: 2 | C6: 認定クラブ名 | D6: 〇〇中学校▲▲クラブ | F6: 7 | G6: 参加生徒数 | H6: =IF(ISERROR(ROUNDUP(H7/V7,0)),"",(ROUNDUP(H7/V7,0))) -> 20 | I6: 4月 | J6: 5月 | K6: 6月 | L6: 7月 | M6: 8月 | N6: 9月 | O6: 10月 | P6: 11月 | Q6: 12月 | R6: 1月 | S6: 2月 | T6: 3月
C7: 運営主体が別の場合 | G7: （延べ人数） | H7: =SUM(I7:T7) -> 120 | N7: 20 | O7: 20 | P7: 20 | Q7: 20 | R7: 20 | S7: 20 | V7: =COUNTA(I7:S7)-COUNTIF(I7:S7,0) -> 6
B8: 3 | C8: 代表者氏名 | D8: 浜 来代 | G8: 参加生徒数（変更後） | H8: =IF(ISERROR(ROUNDUP(H9/V9,0)),"",(ROUNDUP(H9/V9,0))) | I8: 4月 | J8: 5月 | K8: 6月 | L8: 7月 | M8: 8月 | N8: 9月 | O8: 10月 | P8: 11月 | Q8: 12月 | R8: 1月 | S8: 2月 | T8: 3月
G9: （延べ人数） | H9: =SUM(I9:T9) -> 0 | V9: =COUNTA(I9:S9)-COUNTIF(I9:S9,0) -> 0
B10: 4 | C10: クラブ所在地（代表者住所） | D10: 浜松市□□区〇〇町１－２ | F10: 8 | G10: 指導者数 | H10: 2 | I10: 人
G11: 指導者数（変更後） | H11: 2 | I11: 人
B12: 5 | C12: クラブ連絡先（代表者連絡先） | D12: 9012345678 | F12: 9 | G12: 活動頻度 | H12: 4 | I12: 回／月

Sheet 第1号
A1: 第１号様式（第５条関係） | I1: 受付番号 ※市教委記載欄
I2: 登録番号 | J2: =基本データ!D4 -> 1000
I3: 46275
A5: （あて先）浜松市長
F7: 住 所 | H7: =基本データ!D10 -> 浜松市□□区〇〇町１－２
D8: 申請者 | F8: 認定クラブ名 | H8: =基本データ!D6 -> 〇〇中学校▲▲クラブ
F9: 氏 名 | H9: =基本データ!D8 -> 浜 来代 | J9: ㊞
F10: 連絡先 | H10: =基本データ!D12 -> 9012345678
F11: （署名又は記名押印をしてください）
A13: 浜松市はまクル認定クラブ活動支援事業費補助金交付申請書
A15: ="令和"&DBCS(基本データ!O4) -> 令和８ | B15: 年度浜松市はまクル認定クラブ活動支援事業費補助金の交付を受けたいので、次のとおり
A16: 申請します。
A17: 記
A18: １ 補助事業の目的及び内容
B19: 〇〇中学校の生徒数平均２０名を対象に▲▲の活動を９月から月４回実施するため。
A22: ２ 補助事業の完了予定期日
B23: 令和 ９年 ２月 ２８日
A25: ３ 交付申請額及びその算出の基礎
A26: （１）交付申請額 金 | D26: =P44 -> 222000 | E26: 円 | F26: （千円未満切り捨て）
A27: （２）算出の基礎 ・第３号様式 補助金算定額(収支予算書(Ｃ)) | I27: =第3号!G55 -> 222400 | J27: 円
A28: ・別表２の補助単価 | I28: =Y32 -> 288000 | J28: 円
A29: ・補助対象経費(収支予算書(Ａ))の１/２の額 | I29: =P43 -> 291700 | J29: 円
D30: （区分・人数等） | S30: 参加生徒数 | T30: 指導者数 | U30: 活動クラブ種別 | V30: 月の活動回数
D31: 競技・活動区分 | G31: 参加生徒数 | I31: 指導者数 | J31: 活動頻度 | S31: =G32 -> 20 | T31: =I32 -> 2 | U31: =D32 -> スポーツ | V31: =J32 -> 4
D32: =基本データ!H4 -> スポーツ | G32: =基本データ!H6 -> 20 | I32: =基本データ!H10 -> 2 | J32: =基本データ!H12 -> 4 | S32: =IF(S31>26,1,IF(S31>12,2,IF(S31>4,3,4))) -> 2 | T32: =IF(T31>2,1,IF(T31>1,2,3)) -> 2 | U32: =IF(U31="スポーツ",1,2) -> 1 | V32: =IF(V31=4,1,IF(V31=3,2,IF(V31=2,3,4))) -> 1 | X32: =VALUE(S32&T32&U32&V32) -> 2211 | Y32: =VLOOKUP(X32,単価データ!B3:E98,2,FALSE) -> 288000
A34: ４ 市税の納付又は納入の状況の確認についての同意（同意する場合は下記に☑を記入）
A35: ☑ | B35: 浜松市はまクル認定クラブ活動支援事業費補助金交付要綱第７条の規定により、市において、
B36: 補助金交付申請者の市税の納付状況について確認することに同意します。
J37: （裏面あり）
A39: ５ 暴力団排除に関する誓約（誓約及び承諾する場合は下記に☑を記入） | N39: 会費等収入計 | P39: =第3号!D55 -> 361000 | Q39: 円
A40: ☑ | B40: 浜松市はまクル認定クラブ活動支援事業費補助金の交付申請にあたり、下記事項について誓約 | N40: 補助対象経費計 | P40: =第3号!B55 -> 583400 | Q40: 円
B41: します。 | N41: ②支出ー①収入＝ | P41: =P40-P39 -> 222400 | Q41: 円
A42: （１）次に掲げる者のいずれにも該当しません。 | N42: 補助金単価 | P42: =Y32 -> 288000 | Q42: 円
A43: ・暴力団（浜松市暴力団排除条例（平成２４年浜松市条例第８１号。以下「条例」という。） | N43: 補助経費上限（１/２） | P43: =ROUNDDOWN(P40/2,0) -> 291700 | Q43: 円
B44: 第２条第１号に規定する暴力団をいう。） | N44: 補助金額 | P44: =IF(P42="対象外",0,ROUNDDOWN(MAX(0,MIN(P41:P43)),-3)) -> 222000 | Q44: 円
A45: ・暴力団員等（条例第２条第４号に規定する暴力団員等をいう。以下同じ。）
A46: ・暴力団員等と密接な関係を有する者
A47: ・（法人その他の団体の場合）上記３点に掲げる者のいずれかが役員等（無限責任社員、取
B48: 締役、執行役若しくは監査役又はこれらに準じるべきもの、支配人及び清算人をいう。）
B49: となっている法人その他の団体
...

Sheet 第2号
B1: 第２号様式（第５条関係）
B4: 事業計画書（変更事業計画書）
B6: １ 運営主体の名称 | E6: （ | F6: =IF(基本データ!D7="",基本データ!D6,基本データ!D7) -> 〇〇中学校▲▲クラブ | M6: ）
B8: ２ はまクル認定クラブ名称 （ | F8: =基本データ!D6 -> 〇〇中学校▲▲クラブ | M8: ）
B10: ３ はまクル認定クラブ所在地 ( | F10: =基本データ!D10 -> 浜松市□□区〇〇町１－２ | M10: ）
B12: ４ 運営開始年月日 | E12: 46266
B14: ５ 事業計画
B15: （１）事業期間 | E15: 46266 | G15: ～ | H15: 46446
B17: （２）月平均活動日数・活動時間及び年間平均参加生徒数（見込み）
C19: 平均活動日数 | E19: 活動時間 | J19: 平均参加生徒数
C20: =第1号!J32 -> 4 | D20: 回/月 | E20: 午前９時００分 | G20: ～ | H20: 午後０時００分 | J20: =第1号!G32 -> 20 | K20: 人
B23: （３）活動場所 | D23: （ | E23: 浜松市立〇〇中学校 体育館 | M23: ）
D24: （ | M24: ）
D25: （ | M25: ）
B27: （４）事業概要の分かるものを添付
B28: クラブ員名簿、規約・募集案内など

Sheet 第3号
B2: 第３号様式（第５条関係）
B4: 収支予算書（変更収支予算書）
B6: 【支出】 | J6: (単位：円）
B7: 区分(勘定科目) | C7: 予算額 | E7: 説明（内訳等）
B8: 諸謝金 | C8: 287310 | E8: 指導者等報酬 | R8: =IF(J8="",F8*H8*I8,F8*H8*I8*J8) -> 0
R9: =IF(J9="",F9*H9*I9,F9*H9*I9*J9) -> 0
R10: =F10*H10*I10*J10 -> 0
R11: =F11*H11*I11 -> 0
B12: 旅費 | C12: 42000 | E12: 指導者大会交通費
B13: 通信運搬費 | C13: 13000 | E13: 切手代等
B14: 印刷製本費 | C14: 30000 | E14: チラシ印刷代
B15: 会議費
B16: 備品費 | C16: 0
B17: 消耗品費 | C17: 67000 | E17: クラブ用具、事務用品
B18: 借料及び損料 | C18: 116810 | E18: 会場使用料、貸切バス代
B19: 保険料 | C19: 0
B20: 雑役務費 | C20: 27280 | E20: アプリ使用料、手数料等
B21: 諸謝金（対象外経費） | C21: 47885 | E21: 指導者等報酬 | R21: =IF(J21="",F21*H21*I21,F21*H21*I21*J21) -> 0
R22: =IF(J22="",F22*H22*I22,F22*H22*I22*J22) -> 0
R23: =F23*H23*I23*J23 -> 0
R24: =F24*H24*I24 -> 0
B25: 旅費（対象外経費） | C25: 0
B26: 通信運搬費（対象外経費） | C26: 0
B27: 印刷製本費（対象外経費） | C27: 0
B28: 会議費（対象外経費）
B29: 備品費（対象外経費） | C29: 0
B30: 消耗品費（対象外経費） | C30: 0
B31: 借料及び損料（対象外経費） | C31: 0
B32: 保険料（対象外経費） | C32: 20000 | E32: 800円×20人（生徒）2,000円×2人（指導者）
B33: 雑役務費（対象外経費） | C33: 0
B34: その他の経費（対象外経費） | C34: 0
B35: 計 | C35: =SUM(C7:D34) -> 651285
B36: （うち補助対象経費） | C36: =SUM(C8:D20) -> 583400
B38: 【収入】 | J38: (単位：円）
B39: 区分(勘定科目) | C39: 予算額 | E39: 説明（内訳等）
B40: 生徒参加費 | C40: 360000 | E40: 3,000円×6か月×20人
B41: 保険料 | C41: 0
B42: 雑収入 | C42: 1000 | E42: 利息等
B43: 生徒参加費（算定対象外） | C43: 60000 | E43: 3,000円×1か月×20人
B44: 保険料（算定対象外） | C44: 16000 | E44: 800円×20人（生徒） | N44: 会費等収入計 | P44: =第3号!D55 -> 361000 | Q44: 円
...

Sheet 第４号
A1: 第４号様式（第６条関係）
I3: 浜松市指令教学学第 | M3: 号
J4: 年 月 日
A6: （クラブ名）
A7: =基本データ!D6&" 様" -> 〇〇中学校▲▲クラブ 様
H9: 浜松市長 | L9: 印
A11: 浜松市はまクル認定クラブ活動支援事業費補助金交付決定通知書
A13: =第1号!I3 -> 46275 | D13: ="付けで申請のあった令和"&DBCS(基本データ!O4)&"年度浜松市はまクル認定クラブ活動支援" -> 付けで申請のあった令和８年度浜松市はまクル認定クラブ活動支援
A14: 事業費補助金について、下記のとおり交付を決定したので通知します。
A16: 記
A18: 補助金の額
C19: 金額 | E19: =IF($T19<8,"",MID($S$19,$T$19-7,1)) | F19: =IF($T19<7,"\",MID($S$19,$T$19-6,1)) -> \ | G19: =IF($T19<6,"\",MID($S$19,$T$19-5,1)) -> 2 | H19: =IF($T19<5,"",MID($S$19,$T$19-4,1)) -> 2 | I19: =IF($T19<4,"",MID($S$19,$T$19-3,1)) -> 2 | J19: =IF($T19<3,"",MID($S$19,$T$19-2,1)) -> 0 | K19: =IF($T19<2,"",MID($S$19,$T$19-1,1)) -> 0 | L19: =IF($T19<1,"",MID($S$19,$T$19,1)) -> 0 | S19: =第1号!D26 -> 222000 | T19: =LEN(S19) -> 6
A21: 交付の条件
A22: １ 補助金を当該補助事業以外の目的に使用してはならない。
A23: ２ 補助事業を中止し、又は廃止する場合は、あらかじめ市長の承認を受けること。
A24: ３ 補助事業が予定の期間内に完了しない場合又はその遂行が困難となった場合は、速やかに
A25: 市長に報告してその指示を受けること。
A26: ４ 補助事業の完了により当該クラブに相当の収益が生じると認められる場合においては、当
A27: 該補助金の交付の目的に反しない場合に限り、その交付した補助金の全部又は一部に相当
A28: する金額を市に納付すること。
A29: ５ 規則第１７条第１項の規定により補助金の交付の決定の取消しを受け、補助金の返還の請
A30: 求を受けたとき又は当該返還の期限までに納付しなかったときは、規則第１８条の２の規
A31: 定に基づき、加算金又は遅延損害金を市に納付すること。
A32: ６ 補助金の返還の請求を受け、当該補助金、加算金又は遅延損害金の全部又は一部を納付し
... A34: 一時停止し、又は未納額との相殺をする場合がある。

Sheet 第５号
A1: 第５号様式（第８条関係） | I1: 受付番号 ※市教委記載欄
I2: 登録番号 | J2: =基本データ!D4 -> 1000
I3: 46296
A5: （あて先）浜松市長
F7: 住 所 | H7: =第1号!H7 -> 浜松市□□区〇〇町１－２
D8: 申請者 | F8: 認定クラブ名 | H8: =第1号!H8 -> 〇〇中学校▲▲クラブ
F9: 氏 名 | H9: =第1号!H9 -> 浜 来代 | J9: ㊞
F10: 連絡先 | H10: =第1号!H10 -> 9012345678
F11: （署名又は記名押印をしてください）
A13: 浜松市はまクル認定クラブ活動支援事業費補助金変更交付申請書
A15: ="令和"&DBCS(基本データ!O4) -> 令和８ | B15: 年 月 日付け浜松市指令教学学第 号により交付決定を受けた令和 ８ 年度浜松市
A16: はまクル認定クラブ活動支援事業費補助金について、下記のとおり変更したいので申請します。
A17: 記
A18: １ 変更の内容
A21: ２ 変更の理由
A24: ３ 交付申請額及びその算出の基礎
A25: （１）変更交付申請額 金 | D25: =P45 -> 239000 | E25: 円 | F25: （千円未満切り捨て）
A26: （２）算出の基礎 ・第３号様式 補助金算定額(変更収支予算書(Ｃ)) | I26: =第3号!G55 -> 222400 | J26: 円
A27: ・別表２の補助単価 | I27: =Y31 -> 288000 | J27: 円
A28: ・補助対象経費(変更収支予算書(Ａ))の1/2の額 | I28: =P44 -> 300000 | J28: 円
D29: （区分・人数等） | S29: 参加生徒数 | T29: 指導者数 | U29: 活動クラブ種別 | V29: 月の活動回数
D30: 競技・活動区分 | G30: 参加生徒数 | I30: 指導者数 | J30: 活動頻度 | S30: =G32 | T30: =I32 -> 2 | U30: =D32 -> スポーツ | V30: =J32 -> 4
B31: ※変更前 | D31: =基本データ!H4 -> スポーツ | G31: =基本データ!H6 -> 20 | I31: 2 | J31: 4 | S31: =IF(S30>26,1,IF(S30>12,2,IF(S30>4,3,4))) -> 1 | T31: =IF(T30>2,1,IF(T30>1,2,3)) -> 2 | U31: =IF(U30="スポーツ",1,2) -> 1 | V31: =IF(V30=4,1,IF(V30=3,2,IF(V30=2,3,4))) -> 1 | X31: =VALUE(S31&T31&U31&V31) -> 1211 | Y31: =VLOOKUP(X31,単価データ!B3:E98,2,FALSE) -> 288000
B32: ※変更後 | D32: =D31 -> スポーツ | G32: =基本データ!H8 | I32: =基本データ!H11 -> 2 | J32: 4
A34: （３）既交付額 金 | D34: =第1号!D26 -> 222000 | E34: 円
A35: （４）差引額 金 | D35: =D25-D34 -> 17000 | E35: 円
A37: ４ 補助事業の遂行に関する計画
A38: 別紙「変更事業計画書（第２号様式）」及び「変更収支予算書（第３号様式）」のとおり。
N40: 会費等収入計 | P40: ='第3号 (変更)'!D55 -> 361000 | Q40: 円
N41: 補助対象経費計 | P41: ='第3号 (変更)'!B55 -> 600000 | Q41: 円
N42: ②支出ー①収入＝ | P42: =P41-P40 -> 239000 | Q42: 円
N43: 補助金単価 | P43: =Y31 -> 288000 | Q43: 円
N44: 補助経費上限（１/２） | P44: =ROUNDDOWN(P41/2,0) -> 300000 | Q44: 円
N45: 補助金額 | P45: =ROUNDDOWN(IF(P43="対象外",0,IF(P43<P42,P43,IF(P44>P42,P42,P44))),-3) -> 239000 | Q45: 円

Sheet 第3号 (変更)
B2: 第３号様式（第５条関係）
B4: 収支予算書（変更収支予算書）
B6: 【支出】 | J6: (単位：円）
B7: 区分(勘定科目) | C7: 予算額 | E7: 説明（内訳等）
B8: 諸謝金 | C8: 287310 | E8: 指導者等報酬 | R8: =IF(J8="",F8*H8*I8,F8*H8*I8*J8) -> 0
R9: =IF(J9="",F9*H9*I9,F9*H9*I9*J9) -> 0
R10: =F10*H10*I10*J10 -> 0
R11: =F11*H11*I11 -> 0
B12: 旅費 | C12: 42000 | E12: 指導者大会交通費
B13: 通信運搬費 | C13: 13000 | E13: 切手代等
B14: 印刷製本費 | C14: 30000 | E14: チラシ印刷代
B15: 会議費
B16: 備品費 | C16: 0
B17: 消耗品費 | C17: 83600 | E17: クラブ用具、事務用品
B18: 借料及び損料 | C18: 116810 | E18: 会場使用料、貸切バス代
B19: 保険料 | C19: 0
B20: 雑役務費 | C20: 27280 | E20: アプリ使用料、手数料等
B21: 諸謝金（対象外経費） | C21: 47885 | E21: 指導者等報酬 | R21: =IF(J21="",F21*H21*I21,F21*H21*I21*J21) -> 0
R22: =IF(J22="",F22*H22*I22,F22*H22*I22*J22) -> 0
R23: =F23*H23*I23*J23 -> 0
R24: =F24*H24*I24 -> 0
B25: 旅費（対象外経費） | C25: 0
B26: 通信運搬費（対象外経費） | C26: 0
B27: 印刷製本費（対象外経費） | C27: 0
B28: 会議費（対象外経費）
B29: 備品費（対象外経費） | C29: 0
B30: 消耗品費（対象外経費） | C30: 12115 | E30: ３月購入消耗品
B31: 借料及び損料（対象外経費） | C31: 0
B32: 保険料（対象外経費） | C32: 20000 | E32: 800円×20人（生徒）2,000円×2人（指導者）
B33: 雑役務費（対象外経費） | C33: 0
B34: その他の経費（対象外経費） | C34: 0
B35: 計 | C35: =SUM(C7:D34) -> 680000
B36: （うち補助対象経費） | C36: =SUM(C8:D20) -> 600000
B38: 【収入】 | J38: (単位：円）
B39: 区分(勘定科目) | C39: 予算額 | E39: 説明（内訳等）
B40: 生徒参加費 | C40: 360000 | E40: 3,000円×6か月×20人
B41: 保険料 | C41: 0
B42: 雑収入 | C42: 1000 | E42: 利息等
B43: 生徒参加費（算定対象外） | C43: 60000 | E43: 3,000円×1か月×20人
B44: 保険料（算定対象外） | C44: 20000 | E44: 800円×20人（生徒）2,000円×2人（指導者） | N44: 会費等収入計 | P44: ='第3号 (変更)'!D55 -> 361000 | Q44: 円
...

Sheet 第６号
A1: 第６号様式（第９条関係）
I3: 浜松市指令教学学第 | M3: 号
J4: 年 月 日
A6: （クラブ名）
A7: =基本データ!D6&" 様" -> 〇〇中学校▲▲クラブ 様
H9: 浜松市長 | L9: 印
A11: 浜松市はまクル認定クラブ活動支援事業費補助金変更交付決定通知書
A13: =第1号!I3 -> 46275 | D13: ="付けで申請のあった令和"&DBCS(基本データ!O4)&"年度浜松市はまクル認定クラブ活動支援" -> 付けで申請のあった令和８年度浜松市はまクル認定クラブ活動支援
A14: 事業費補助金について、下記のとおり交付決定の内容を変更したので通知します。
A16: 記
A18: １ 変更後の補助金の額
C19: 金額 | F19: =IF($T19<7,"\",MID($S$19,$T$19-6,1)) -> \ | G19: =IF($T19<6,"\",MID($S$19,$T$19-5,1)) -> 2 | H19: =IF($T19<5,"",MID($S$19,$T$19-4,1)) -> 3 | I19: =IF($T19<4,"",MID($S$19,$T$19-3,1)) -> 9 | J19: =IF($T19<3,"",MID($S$19,$T$19-2,1)) -> 0 | K19: =IF($T19<2,"",MID($S$19,$T$19-1,1)) -> 0 | L19: =IF($T19<1,"",MID($S$19,$T$19,1)) -> 0 | S19: =第５号!D25 -> 239000 | T19: =LEN(S19) -> 6
A21: ２ 変更後の事業内容
A22: =第５号!I3 -> 46296 | D22: 付けの変更交付申請書記載のとおりとする。
A24: 交付の条件
A25: １ 補助金を当該補助事業以外の目的に使用してはならない。
A26: ２ 補助事業を中止し、又は廃止する場合は、あらかじめ市長の承認を受けること。
A27: ３ 補助事業が予定の期間内に完了しない場合又はその遂行が困難となった場合は、速やかに
A28: 市長に報告してその指示を受けること。
A29: ４ 補助事業の完了により当該クラブに相当の収益が生じると認められる場合においては、当
A30: 該補助金の交付の目的に反しない場合に限り、その交付した補助金の全部又は一部に相当
A31: する金額を市に納付すること。
A32: ５ 規則第１７条第１項の規定により補助金の交付の決定の取消しを受け、補助金の返還の請
A33: 求を受けたとき又は当該返還の期限までに納付しなかったときは、規則第１８条の２の規
A34: 定に基づき、加算金又は遅延損害金を市に納付すること。
A35: ６ 補助金の返還の請求を受け、当該補助金、加算金又は遅延損害金の全部又は一部を納付し
... A37: 一時停止し、又は未納額との相殺をする場合がある。

Sheet 第７号
A1: 第７号様式（第１２条関係） | I1: 受付番号 ※市教委記載欄
I2: 登録番号 | J2: =基本データ!D4 -> 1000
I3: 46419
A5: （あて先）浜松市長
F7: 住 所 | H7: =第1号!H7 -> 浜松市□□区〇〇町１－２
D8: 申請者 | F8: 認定クラブ名 | H8: =第1号!H8 -> 〇〇中学校▲▲クラブ
F9: 氏 名 | H9: =第1号!H9 -> 浜 来代 | J9: ㊞
F10: 連絡先 | H10: =第1号!H10 -> 9012345678
F11: （署名又は記名押印をしてください）
A13: 財産処分承認申請書
A15: 浜松市はまクル認定クラブ活動支援事業費補助金により取得した財産について、浜松市はまク
A16: ル認定クラブ活動事業費補助金交付要綱第１２条に基づく財産処分の承認を受けたいので、関係
A17: 書類を添えて申請します。
A19: １ 処分財産の内容
A20: （１）名称
A21: （２）所在地
A22: （３）種類等
A23: （４）数量
A24: （５）取得年月日及び経過年数
A25: （６）残存年数
A26: （７）総事業費、補助額及び補助率
... A34: （５）その他

Sheet 第８号
A1: 第８号様式（第１２条関係）
I3: 浜松市指令教学学第 | M3: 号
J4: 年 月 日
A6: （クラブ名）
A7: =基本データ!D6&" 様" -> 〇〇中学校▲▲クラブ 様
H9: 浜松市長 | L9: 印
A11: 財産処分承認通知書
A13: =第７号!I3 -> 46419 | D13: ="付けで申請のあった令和"&DBCS(基本データ!O4)&"年度浜松市はまクル認定クラブ活動支援事業費" -> 付けで申請のあった令和８年度浜松市はまクル認定クラブ活動支援事業費
A14: 補助金に係る財産処分について、以下のとおり条件を付けて承認します。
A16: １ 処分財産の名称
B17: =第７号!C20 -> 0
A19: ２ 財産処分納付金額及び算定根拠
B20: =第７号!F32 -> 0
B21: =第７号!C24 -> 0
A22: ３ その他
B23: =第７号!D34 -> 0

Sheet 第９号
A1: 第９号様式（第１２条関係） | I1: 受付番号 ※市教委記載欄
I2: 登録番号 | J2: =基本データ!D4 -> 1000
I3: 46091
A5: （あて先）浜松市長
F7: 住 所 | H7: =第1号!H7 -> 浜松市□□区〇〇町１－２
D8: 申請者 | F8: 認定クラブ名 | H8: =第1号!H8 -> 〇〇中学校▲▲クラブ
F9: 氏 名 | H9: =第1号!H9 -> 浜 来代 | J9: ㊞
F10: 連絡先 | H10: =第1号!H10 -> 9012345678
F11: （署名又は記名押印をしてください）
A13: 財産処分報告書
A15: 浜松市はまクル認定クラブ活動支援事業費補助金により取得した財産を処分したので、関係書類
A16: を添えて報告します。
A18: １ 処分財産の内容
A19: （１）名称
A20: （２）所在地
A21: （３）種類等
A22: （４）数量
A23: （５）取得年月日及び経過年数
A24: （６）残存年数
A25: （７）総事業費、補助額及び補助率
A26: （８）その他
... A33: （５）その他

Sheet 第１０号
A1: 第１０号様式（第１３条関係） | I1: 受付番号 ※市教委記載欄
I2: 登録番号 | J2: =基本データ!D4 -> 1000
I3: 46447
A5: （あて先）浜松市長
F7: 住 所 | H7: =第1号!H7 -> 浜松市□□区〇〇町１－２
D8: 申請者 | F8: 認定クラブ名 | H8: =第1号!H8 -> 〇〇中学校▲▲クラブ
F9: 氏 名 | H9: =第1号!H9 -> 浜 来代 | J9: ㊞
F10: 連絡先 | H10: =第1号!H10 -> 9012345678
F11: （署名又は記名押印をしてください）
A13: 浜松市はまクル認定クラブ活動支援事業費補助金実績報告書
A15: ="令和"&DBCS(基本データ!O4) -> 令和８ | B15: 年 月 日付け浜松市指令教学学第 号により交付決定を受けた令和 ８ 年度浜松市
A16: はまクル認定クラブ活動支援事業費補助金について、事業が完了したので、次のとおり報告します。
A17: 記
A18: １ 補助事業の完了年月日
B19: 令和 ９年 ２月 ２８日
A21: ２ 補助事業の内容及び成果
A24: ３ 収支の状況及び補助事業により生じる収入金
B25: 別紙「収支決算書（第１１号様式）」のとおり。
A26: ４ 補助金交付申請書と相違した場合はその理由
A29: ５ 交付決定済額及びその算出の基礎
A30: （１）交付決定済額 金 | D30: =P49 -> 227000 | E30: 円 | F30: （千円未満切り捨て）
A31: （２）算出の基礎 ・第１１号様式 補助算定額(収支決算書(Ｃ)) | I31: =第１１号!G55 -> 227190 | J31: 円
A32: ・別表２の補助単価 | I32: =X36 -> 288000 | J32: 円
A33: ・補助対象経費(収支決算書(Ａ))の１/２の額 | I33: =P48 -> 294095 | J33: 円
D34: （区分・人数等） | R34: 参加生徒数 | S34: 指導者数 | T34: 活動クラブ種別 | U34: 月の活動回数
D35: 競技・活動区分 | G35: 参加生徒数 | I35: 指導者数 | J35: 活動頻度 | R35: =G36 -> 20 | S35: =I36 -> 2 | T35: =D36 -> スポーツ | U35: =J36 -> 4
D36: スポーツ | G36: =IF(基本データ!H8="",基本データ!H6,基本データ!H8) -> 20 | I36: =IF(基本データ!H11="",基本データ!H10,基本データ!H11) -> 2 | J36: =基本データ!H12 -> 4 | R36: =IF(R35>26,1,IF(R35>12,2,IF(R35>4,3,4))) -> 2 | S36: =IF(S35>2,1,IF(S35>1,2,3)) -> 2 | T36: =IF(T35="スポーツ",1,2) -> 1 | U36: =IF(U35=4,1,IF(U35=3,2,IF(U35=2,3,4))) -> 1 | W36: =VALUE(R36&S36&T36&U36) -> 2211 | X36: =VLOOKUP(W36,単価データ!B3:E98,2,FALSE) -> 288000
N44: 会費等収入計 | P44: =第１１号!D55 -> 361000 | Q44: 円
N45: 補助対象経費計 | P45: =第１１号!B55 -> 588190 | Q45: 円
N46: ②支出ー①収入＝ | P46: =P45-P44 -> 227190 | Q46: 円
N47: 補助金単価 | P47: =X36 -> 288000 | Q47: 円
N48: 補助経費上限（１/２） | P48: =ROUNDDOWN(P45/2,0) -> 294095 | Q48: 円
N49: 補助金額 | P49: =IF(P47="対象外",0,ROUNDDOWN(MAX(0,MIN(P46:P48)),-3)) -> 227000 | Q49: 円

Sheet 第１１号
B2: 第１１号様式（第１３条関係）
B4: 収支決算書
B6: 【支出】 | J6: (単位：円）
B7: 区分(勘定科目) | C7: 決算額 | E7: 説明（内訳等）
B8: 諸謝金 | C8: 287310 | E8: 指導者等報酬 | R8: =IF(J8="",F8*H8*I8,F8*H8*I8*J8) -> 0
R9: =IF(J9="",F9*H9*I9,F9*H9*I9*J9) -> 0
R10: =F10*H10*I10*J10 -> 0
R11: =F11*H11*I11 -> 0
B12: 旅費 | C12: 42000 | E12: 指導者大会交通費
B13: 通信運搬費 | C13: 13000 | E13: 切手代等
B14: 印刷製本費 | C14: 30000 | E14: チラシ印刷代
B15: 会議費
B16: 備品費 | C16: 0
B17: 消耗品費 | C17: 83600 | E17: クラブ用具、事務用品
B18: 借料及び損料 | C18: 105000 | E18: 会場使用料、貸切バス代
B19: 保険料 | C19: 0
B20: 雑役務費 | C20: 27280 | E20: アプリ使用料、手数料等
B21: 諸謝金（対象外経費） | C21: 47885 | E21: 指導者等報酬 | R21: =IF(J21="",F21*H21*I21,F21*H21*I21*J21) -> 0
R22: =IF(J22="",F22*H22*I22,F22*H22*I22*J22) -> 0
R23: =F23*H23*I23*J23 -> 0
R24: =F24*H24*I24 -> 0
B25: 旅費（対象外経費） | C25: 0
B26: 通信運搬費（対象外経費） | C26: 0
B27: 印刷製本費（対象外経費） | C27: 0
B28: 会議費（対象外経費）
B29: 備品費（対象外経費） | C29: 0
B30: 消耗品費（対象外経費） | C30: 10000 | E30: ３月購入消耗品
B31: 借料及び損料（対象外経費） | C31: 0
B32: 保険料（対象外経費） | C32: 20000 | E32: 800円×20人（生徒）2,000円×2人（指導者）
B33: 雑役務費（対象外経費） | C33: 0
B34: その他の経費（対象外経費） | C34: 0
B35: 計 | C35: =SUM(C7:D34) -> 666075
B36: （うち補助対象経費） | C36: =SUM(C8:D20) -> 588190
B38: 【収入】 | J38: (単位：円）
B39: 区分(勘定科目) | C39: 決算額 | E39: 説明（内訳等）
B40: 生徒参加費 | C40: 360000 | E40: 3,000円×6か月×20人
B41: 保険料 | C41: 0
B42: 雑収入 | C42: 1000 | E42: 利息等
B43: 生徒参加費（算定対象外） | C43: 60000 | E43: 3,000円×1か月×20人
B44: 保険料（算定対象） | C44: 20000 | E44: 800円×20人（生徒）2,000円×2人（指導者） | N44: 会費等収入計 | P44: =D55 -> 361000 | Q44: 円
...

Sheet 第１２号
A1: 第１２号様式（第１４条関係）
I3: 浜教学学第 | M3: 号
J4: 年 月 日
A6: （クラブ名）
A7: =基本データ!D6&" 様" -> 〇〇中学校▲▲クラブ 様
H9: 浜松市長 | L9: 印
A11: 浜松市はまクル認定クラブ活動支援事業費補助金交付確定通知書
A13: =第１０号!I3 -> 46447 | D13: ="付け実績報告書を審査した結果、次の金額を令和 ８ 年度浜松市はま" -> 付け実績報告書を審査した結果、次の金額を令和 ８ 年度浜松市はま
A14: クル認定クラブ活動支援事業費補助金として確定したので通知します。
A16: 記
A18: 補助金の確定額
C19: 金額 | F19: =IF($T19<7,"\",MID($S$19,$T$19-6,1)) -> \ | G19: =IF($T19<6,"\",MID($S$19,$T$19-5,1)) -> 2 | H19: =IF($T19<5,"",MID($S$19,$T$19-4,1)) -> 2 | I19: =IF($T19<4,"",MID($S$19,$T$19-3,1)) -> 7 | J19: =IF($T19<3,"",MID($S$19,$T$19-2,1)) -> 0 | K19: =IF($T19<2,"",MID($S$19,$T$19-1,1)) -> 0 | L19: =IF($T19<1,"",MID($S$19,$T$19,1)) -> 0 | S19: =第１０号!D30 -> 227000 | T19: =LEN(S19) -> 6

Sheet 第１３号
A1: 第１３号様式（第１５・１６条関係） | J1: 受付番号 ※市教委記載欄 | P1: 精算(概算払い無) | Q1: =IF(P1="概算",1,IF(P1="精算(概算払い有)",2,3)) -> 3
J2: 登録番号 | L2: =基本データ!D4 -> 1000
P3: 概算か精算（概算払い有・無）を選択
A4: 補助金請求書（概算払請求書）
C6: 金額 | E6: ￥ | F6: =E12 -> 227000 | K6: 円
B8: ただし、浜松市はまクル認定クラブ活動支援事業費補助金 （単位：円）
E9: 請求額
B10: 円 | C10: 交付決定額 | E10: =IF(Q1=1,第1号!D26,第１０号!D30) -> 227000 | K10: 円
B11: 円 | C11: 受領済額 | E11: =IF(Q1=2,第１４号!B20,0) -> 0 | K11: 円
B12: 円 | C12: 今回請求額 | E12: =IF(Q1=1,第１４号!B20,IF(Q1=2,第１０号!D30-第１４号!B20,第１０号!D30)) -> 227000 | K12: 円
B13: 円 | C13: 残 額 | E13: =E10-E11-E12 -> 0 | K13: 円
B15: 支払 方法 | C15: 口座 振替払 | D15: 〇〇 | F15: 銀 行 信用金庫 農 協 | G15: 〇〇 | H15: 本 店 支 店 支 所 営業部 | I15: 普通 当座 | J15: 第 | K15: 1234567 | L15: 号
B16: 口座名義（カナ） | F16: マルマルチュウガッコウサンカクサンカククラブ
B17: インボイス制度適格請求書 発行事業者登録番号
A19: 上記の金額を請求します。
A21: 46283
A23: （あて先）浜松市長
E25: 住所 | G25: =第1号!H7 -> 浜松市□□区〇〇町１－２
A27: 氏名 | E27: 認定クラブ名 | G27: =第1号!H8 -> 〇〇中学校▲▲クラブ
E29: 氏名 | G29: =第1号!H9 -> 浜 来代

Sheet 第１４号
A1: 第１４号様式（第１６条関係） | H1: 受付番号 ※市教委記載欄
H2: 登録番号 | I2: =基本データ!D4 -> 1000
H3: 46283
A5: （あて先）浜松市長
F7: 住 所 | H7: =基本データ!D10 -> 浜松市□□区〇〇町１－２
E8: 申請者 | F8: 認定クラブ名 | H8: =基本データ!D6 -> 〇〇中学校▲▲クラブ
F9: 氏 名 | H9: =基本データ!D8 -> 浜 来代 | I9: ㊞
F10: 連絡先 | H10: =基本データ!D12 -> 9012345678
F11: （署名又は記名押印をしてください）
A13: 浜松市はまクル認定クラブ活動支援事業費補助金概算払承認申請書
A15: ="令和"&DBCS(基本データ!O4) -> 令和８ | B15: 年 月 日付け浜松市指令教学学第 号により交付決定を受けた令和 ８ 年度
A16: 浜松市はまクル認定クラブ活動支援事業費補助金について、下記のとおり概算払を受けたいので
A17: 申請します。
A18: 記
A19: １ 概算払を必要とする金額
B20: =ROUNDDOWN((第1号!D26*0.6),-3) -> 133000 | C20: 円 | D20: ※補助金額の６割
A22: ２ 概算払を必要とする理由
B23: クラブ運営を円滑かつ安定的に運営するため
A25: ３ 概算払を必要とする期日
B26: 令和 ８年 １０月

Sheet 第１５号
B1: 第１５号様式（第１６条関係）
I2: 資金計画表
L3: 認定クラブ名： | N3: =第1号!H8 -> 〇〇中学校▲▲クラブ
O4: （単位：円）
B5: 区分(勘定科目) | D5: 4月 | E5: 5月 | F5: 6月 | G5: 7月 | H5: 8月 | I5: 9月 | J5: 10月 | K5: 11月 | L5: 12月 | M5: 1月 | N5: 2月 | O5: 3月 | P5: 合計
B6: 収入 | C6: 補助金 | J6: 133000 | N6: 89000 | P6: =SUM(D6:N6) -> 222000
C7: 生徒参加費 | I7: 60000 | J7: 60000 | K7: 60000 | L7: 60000 | M7: 60000 | N7: 60000 | P7: =SUM(D7:O7) -> 360000
C8: 保険料 | P8: =SUM(D8:O8) -> 0
C9: 雑収入 | N9: 1000 | P9: =SUM(D9:O9) -> 1000
C10: 生徒参加費（算定対象外） | O10: 60000 | P10: =SUM(D10:O10) -> 60000
C11: 保険料（算定対象外） | I11: 16000 | P11: =SUM(D11:O11) -> 16000
C12: 前年度繰越（算定対象外） | P12: =SUM(D12:O12) -> 0
C13: 雑収入（算定対象外） | P13: =SUM(D13:O13) -> 0
C14: 計 | D14: =SUM(D7:D13) -> 0 | E14: =SUM(E7:E13) -> 0 | F14: =SUM(F7:F13) -> 0 | G14: =SUM(G7:G13) -> 0 | H14: =SUM(H7:H13) -> 0 | I14: =SUM(I6:I13) -> 76000 | J14: =SUM(J6:J13) -> 193000 | K14: =SUM(K6:K13) -> 60000 | L14: =SUM(L6:L13) -> 60000 | M14: =SUM(M6:M13) -> 60000 | N14: =SUM(N6:N13) -> 150000 | O14: =SUM(O6:O13) -> 60000 | P14: =SUM(D14:O14) -> 659000
B15: 支出 | C15: 謝金 | I15: 47885 | J15: 47885 | K15: 47885 | L15: 47885 | M15: 47885 | N15: 47885 | P15: =SUM(D15:O15) -> 287310
C16: 旅費 | J16: 30000 | N16: 12000 | P16: =SUM(D16:O16) -> 42000
C17: 通信運搬費 | J17: 10000 | N17: 3000 | P17: =SUM(D17:O17) -> 13000
C18: 印刷製本費 | J18: 15000 | K18: 15000 | P18: =SUM(D18:O18) -> 30000
C19: 備品 | P19: =SUM(D19:O19) -> 0
C20: 消耗品費 | N20: 67000 | P20: =SUM(D20:O20) -> 67000
C21: 借料及び損料 | N21: 116810 | P21: =SUM(D21:O21) -> 116810
C22: 保険料 | P22: =SUM(D22:O22) -> 0
C23: 雑役務費 | I23: 27280 | P23: =SUM(D23:O23) -> 27280
C24: 謝金（対象外経費） | O24: 47885 | P24: =SUM(D24:O24) -> 47885
C25: 旅費（対象外経費） | P25: =SUM(D25:O25) -> 0
C26: 通信運搬費（対象外経費） | P26: =SUM(D26:O26) -> 0
C27: 印刷製本費（対象外経費） | P27: =SUM(D27:O27) -> 0
C28: 備品（対象外経費） | P28: =SUM(D28:O28) -> 0
C29: 消耗品費（対象外経費） | P29: =SUM(D29:O29) -> 0
C30: 借料及び損料（対象外経費） | P30: =SUM(D30:O30) -> 0
C31: 保険料（対象外経費） | O31: 20000 | P31: =SUM(D31:O31) -> 20000
C32: 雑役務費（対象外経費） | P32: =SUM(D32:O32) -> 0
C33: その他の経費（対象外経費） | P33: =SUM(D33:O33) -> 0
C34: 計 | D34: =SUM(D15:D33) -> 0 | E34: =SUM(E15:E33) -> 0 | F34: =SUM(F15:F33) -> 0 | G34: =SUM(G15:G33) -> 0 | H34: =SUM(H15:H33) -> 0 | I34: =SUM(I15:I33) -> 75165 | J34: =SUM(J15:J33) -> 102885 | K34: =SUM(K15:K33) -> 62885 | ... O34: =SUM(O15:O33) -> 67885 | P34: =SUM(D34:O34) -> 651285
B35: 差引翌月繰越額 | D35: =D14-D34 -> 0 | E35: =D35+E14-E34 -> 0 | F35: =E35+F14-F34 -> 0 | G35: =F35+G14-G34 -> 0 | H35: =G35+H14-H34 -> 0 | I35: =H35+I14-I34 -> 835 | J35: =I35+J14-J34 -> 90950 | K35: =J35+K14-K34 -> 88065 | L35: =K35+L14-L34 -> 100180 | ... O35: =N35+O14-O34 -> 7715 | P35: =P14-P34 -> 7715

Sheet 第１６号
A1: 第１６号様式（第１６条関係）
I3: 浜松市指令教学学第 | M3: 号
J4: 年 月 日
A6: （クラブ名）
A7: =基本データ!D6&" 様" -> 〇〇中学校▲▲クラブ 様
H9: 浜松市長 | L9: 印
A11: 浜松市はまクル認定クラブ活動支援事業費補助金概算払承認通知書
A13: =第１４号!H3 -> 46283 | D13: ="付けで概算払承認申請のあった令和"&DBCS(基本データ!O4)&"年度浜松市はまクル認定クラ" -> 付けで概算払承認申請のあった令和８年度浜松市はまクル認定クラ
A14: ブ活動支援事業費補助金について、次のとおり概算払を承認したので通知します。
A16: 記
A18: １ 概算払の額
C19: 金額 | F19: =IF($T19<7,"\",MID($S$19,$T$19-6,1)) -> \ | G19: =IF($T19<6,"\",MID($S$19,$T$19-5,1)) -> 1 | H19: =IF($T19<5,"",MID($S$19,$T$19-4,1)) -> 3 | I19: =IF($T19<4,"",MID($S$19,$T$19-3,1)) -> 3 | J19: =IF($T19<3,"",MID($S$19,$T$19-2,1)) -> 0 | K19: =IF($T19<2,"",MID($S$19,$T$19-1,1)) -> 0 | L19: =IF($T19<1,"",MID($S$19,$T$19,1)) -> 0 | S19: =第１４号!B20 -> 133000 | T19: =LEN(S19) -> 6
A21: ２ 概算払をする時期
A22: ="令和"&DBCS(基本データ!O4) -> 令和８ | B22: 年１０月

Sheet 第１７号様式 
A1: 第１７号様式（第１７条関係）
I3: 浜松市指令教学学第 | M3: 号
J4: 年 月 日
A6: （クラブ名）
A7: =基本データ!D6&" 様" -> 〇〇中学校▲▲クラブ 様
H9: 浜松市長 | L9: 印
A11: 浜松市はまクル認定クラブ活動支援事業費補助金交付決定取消通知及び返還命令書
B13: 年 月 日付け浜松市指令教学学第 号により通知した浜松市はまクル認定ク
A14: ラブ活動支援事業費補助金交付決定の全部（一部）を次のとおり、浜松市補助金交付規則（昭
A15: 和５５年浜松市規則第１７号。以下「市交付規則」という。）第１７条第１項に基づき取り消
A16: すとともに、市交付規則第１８条第１項に基づき返還を命じます。
A18: １ 交付決定の取消し及び返還命令額
B20: 補助金名 | F20: 浜松市はまクル認定クラブ活動支援事業費補助金
B21: 交付決定額 | K21: 円
B22: 取消し及び返還命令額 | K22: 円
A24: ２ 取消しをする根拠及び理由
A27: ３ 補助金返還、加算金及び延滞金
A28: （１）市交付規則第１８条第１項により、交付決定を取り消された場合は、既に交付された
B29: 補助金を返還しなければならないとされています。別途発行する納入通知書により納
B30: 付してください。
A31: （２）市交付規則第１８条の２第１項により、交付決定取消額とは別に加算金（補助金を受
B32: 領した日から返還の日までの日数に応じ、当該補助金の額につき、年１０.９５パーセ
B33: ントの割合で計算した額）を納付する必要があります。
A34: （３）補助金返還額が納期日までに納付されないときは、市交付規則第１８条の２第４項に
B35: より、遅延損害金（納期日の翌日から納付の日までの日数に応じ、未納付額につき年
B36: １０.９５パーセントの割合で計算した額）を納付する必要があります。
A37: （４）なお、加算金及び遅延損害金は、交付決定の取消額が納付された後、改めて請求しま
B38: す。

Sheet 別表１(1)
A1: 別表１（第３条関係）
B2: 補助金の対象経費
B3: 項目 | C3: 対象経費 | D3: 対象外経費
A4: 1 | B4: 人件費 | C4: 給与手当、法定福利費、福利厚生費、賞与など
A5: 2 | B5: 諸謝金 | C5: 外部有識者や指導者等に対して払う謝礼 | D5: ・菓子折り ・金券 ・商品券
A6: 3 | B6: 旅費 | C6: 指導者等の交通費（原則、公共交通機関に限る）、事業の実施に必要な旅費（地方公共団体の旅費規程、もしくは国家公務員等の旅費に関する法律を準用） | D6: ・参加者の交通費（乗車賃や自家用車のガソリン代等の補助など） ・外国旅費 ・タクシーまたはレンタカーに係る旅費（公共機関が整備されていない・使用できない特別な場合は除く）
A7: 4 | B7: 借料及び損料 | C7: 事業を行うために必要な機械器具、バス、会場等のリース・レンタルに要する経費 | D7: ・中学生、指導者以外に係る借用料 ・補助対象期間外のレンタル料金等
A8: 5 | B8: 消耗品費 | C8: 事業を行うために必要な物品であって備品でないもの、事務用消耗品、参加者が共用するスポーツ用品・用具等 | D8: ・参加者等が個人で所有し、使用するもの （ユニフォーム等は団体が所有し、貸与するものであれば可） ・明確に使用状況が区分できないもの
A9: 6 | B9: 印刷製本費 | C9: 事業で使用するパンフレット・リーフレット、通知、事業成果報告書等の印刷製本に関する経費 | D9: 今年度使い切る量を上回る部数の場合 （デザイン料は雑役務費）
A10: 7 | B10: 通信運搬費 | C10: 事業に必要な郵送料、運送代、通信・電話料に関する経費（携帯電話は自治体・団体が契約するもの,切手は本事業で使用する最低限な枚数） | D10: ・個人名義の携帯電話使用料 ・補助事業期間内に使用予定がない大量の切手の購入
A11: 8 | B11: 雑役務費 | C11: 事業の目的を達成するために付随して必要になる軽微な請負業務、振込手数料、著作権使用料、アプリ使用料等
A12: 9 | B12: 保険料 | C12: 指導者や参加する生徒、運営団体等の保険料 | D12: ・中学生・指導者以外の保険料 ・参加者から保険料を徴収した保険料
A13: 10 | B13: 備品費 | C13: 事業を行うために必要な物品（１年以上継続して使用できるもの）の購入 | D13: ・事業の目的を超えて広範に利用され得る備品 ・高額な備品は留意
A14: 11 | B14: 委託費 | C14: 専門性、効率性の観点から外部に委託する経費、WEB制作・デザイン費など
A15: 12 | B15: その他の経費
A16: ※施設整備費は対象外とする。

Sheet 別表１
A1: 別表１（第３条関係）
B2: 補助金の主な対象経費一覧
C3: 対象経費 | D3: 対象経費例 | E3: 対象外経費 | F3: 必要となる証憑資料
A4: 1 | B4: 諸謝金 | C4: 外部有識者や指導者等に対して払う謝礼 | D4: ・指導者謝金 ・運営スタッフ謝金 ・指導補助（見守り）ボランティア等謝金 | E4: ・菓子折り ・金券 ・商品券 | F4: □謝金単価表（単価設定の理由が分かる書類） □依頼したことを示す書類（依頼書） □実施したことを示す書類（業務月報） □支払いを証明できる書類（領収書等）
A5: 2 | B5: 旅費 | C5: 指導者等の交通費（原則、公共交通機関に限る）、事業の実施に必要な旅費（地方公共団体の旅費規程、もしくは国家公務員等の旅費に関する法律を準用） | D5: ・指導者、スタッフ、ボランティアの交通費 ・会議・研修参加のための出張旅費 | E5: ・参加者の交通費（乗車賃や自家用車のガソリン代等の補助など） ・外国旅費 ・タクシーまたはレンタカーに係る旅費（公共機関が整備されていない・使用できない特別な場合は除く） | F5: □出張命令や依頼文、大会要項等 □経路・金額が分かる書類 □支払いを証明できる書類
A6: 3 | B6: 借料及び損料 | C6: 一時的に借り上げる物品、施設、バス等の使用料 | D6: ・体育施設等、用具保管場所の借上料 ・機材・備品のレンタル料 ・貸切バス等のレンタル料 | E6: ・中学生、指導者以外に係る借用料 ・補助対象期間外のレンタル料金等 | F6: □見積書 □請求書 □支払証明書類または領収書 ※発注書（控）または申込書（控）または契約書（写し） □リース・レンタルに関する理由書（パソコンや複合機等の汎用性が高い製品をリースする場合、本事業への占有を証明する理由書が必要です。） □大会・会議等を実施したことが分かる書類一式（開催通知・要項、参加者・出席者名簿等） ※バス借り上げの際の用件、行先、経路等を確認できる書類
A7: 4 | B7: 消耗品費 | C7: 事務用消耗品、参加者が共用するスポーツ用品・用具等、事業を行うために必要な物品であって備品でないもの | D7: ・コピー用紙やファイル、筆記用具など文房具 ・野球のボールなど参加者が共用するスポーツ用品・用具等 ・救急用品等（熱中症対策用飲料含む） | E7: ・参加者等が個人で所有し、使用するもの （ユニフォーム等は団体が所有し、貸与するものであれば可） ・明確に使用状況が区分できないもの | F7: □見積書 □請求書 □支払いを証明できる書類（レシートなど購入品の詳細が分かるもの） ※明確に使用状況が区分できないものは補助対象外です。
A8: 6 | B8: 印刷製本費 | C8: 印刷物・製本物の作成費 | D8: ・認定クラブ説明資料の印刷費 ・保護者向け案内チラシの印刷 | E8: 今年度使い切る量を上回る部数の場合 （デザイン料は雑役務費） | F8: □見積書 □請求書 □支払いを証明できる書類 ※仕様書、発注書（控）、納品書、使用（配布）状況が分かる資料
A9: 7 | B9: 通信運搬費 | C9: 事業に必要な郵送料、運送代、通信・電話料に関する経費（携帯電話は団体が契約するもの,切手は本事業で使用する最低限な枚数） | D9: ・郵送料（切手、宅配料） ・団体が契約する携帯電話使用料・インターネット接続料 | E9: ・個人名義の携帯電話使用料 ・補助事業期間内に使用予定がない大量の切手の購入 | F9: □見積書 □請求書 □支払いを証明できる書類 ※郵送報告書、受払簿、切手を購入する場合、本事業を行うために必要な最小限の枚数とし、受払簿等で適切に管理してください。 ※切手を購入する場合、本事業を行うために必要な最小限の枚数とし、受払簿等で適切に管理してください。
A10: 8 | B10: 雑役務費 | C10: 事業の目的を達成するために付随して必要になる軽微な請負業務、振込手数料、著作権使用料、地域クラブ向けアプリ使用料等 | D10: ・金融機関等の振込手数料 ・部活動認定地域クラブ向けアプリ使用料 ・ＨＰ作成、管理料 ・資格登録料 | F10: □振込手数料（内容と金額がわかる資料 ※振込明細書など） □システム使用料（見積書・請求書・支払いを証明できる書類） □資格登録料等（見積書・請求書・支払いを証明できる書類、登録証・定証（写）） □HP作成＜請負業務＞（見積書・契約書・仕様書・請求書・支払証明書類・完了報告書・団体の検収）
A11: 9 | B11: 保険料 | C11: 指導者や参加する生徒、運営団体等の保険料 | D11: ・指導者、クラブ員スポーツ保険料 ・指導者賠償責任保険料 （今年度については対象期間から外れるため、全額対象外経費となります） | E11: ・中学生・指導者以外の保険料 ・参加者から保険料を徴収した保険料 | F11: □見積書 □請求書 □支払いを証明できる書類 □申込書
A12: 10 | B12: 備品費 | C12: 事業を行うために必要な物品（１年以上継続して使用でき、５万円以上のもの）の購入 | D12: ・スポーツ用具等備品（共用で使用するもの） ・認定クラブに必要な器具類 | E12: ・事業の目的を超えて広範に利用され得る備品 ・個人所有のスポーツ用具等備品 ・高額な備品は留意 | F12: □見積書 □納品書 □請求書 □支払証明書類または領収書 ※発注書（控）または契約書（写し） インターネットやメール等により注文を行い、発注書を取っていない場合には、発注書に代わるもの（電子媒体等の印字したもの）を用意してください。
A13: ※施設整備費は対象外とする。
A14: ※人件費の区分については、雇用契約を結ぶクラブに対し、別途対応する。

Sheet 別表２
A1: 休日の地域クラブ活動の活動費等の支援（補助単価） | L1: 別表２
A2: 【補助単価（1クラブ活動当たり年額）】
A3: ＜令和8年度＞※9月～2月までの６か月分とした補助単価
C4: ※参加生徒数は、各月の参加生徒数の年間平均で算出する（小数点以下は切り上げ）。 | L4: 単位：円
A5: No. | B5: 区分 | C5: 月4回程度活動 | E5: クラブ数 | F5: 月3回程度活動 | H5: 月2回程度活動 | J5: クラブ数 | K5: 月1回程度活動
A6: 1 | B6: 参加生徒数27人以上で 指導者を3人以上配置 | C6: スポーツ | D6: =単価データ!C3 -> 336000 | F6: スポーツ | G6: =単価データ!C4 -> 275000 | H6: スポーツ | I6: =単価データ!C5 -> 213000 | K6: スポーツ | L6: =単価データ!C6 -> 152000
C7: 文化 | D7: =単価データ!C7 -> 345000 | F7: 文化 | G7: =単価データ!C8 -> 284000 | H7: 文化 | I7: =単価データ!C9 -> 223000 | K7: 文化 | L7: =単価データ!C10 -> 161000
A8: 2 | B8: 参加生徒数13人～26人で 指導者を2人配置 | C8: スポーツ | D8: =単価データ!C11 -> 288000 | E8: 96 | F8: スポーツ | G8: =単価データ!C12 -> 237000 | H8: スポーツ | I8: =単価データ!C13 -> 186000 | J8: 32 | K8: スポーツ | L8: =単価データ!C14 -> 136000
C9: 文化 | D9: =単価データ!C15 -> 298000 | E9: 24 | F9: 文化 | G9: =単価データ!C16 -> 247000 | H9: 文化 | I9: =単価データ!C17 -> 196000 | J9: 8 | K9: 文化 | L9: =単価データ!C18 -> 145000
A10: 3 | B10: 参加生徒数5人～12人で 指導者を２人配置 | C10: スポーツ | D10: =単価データ!C19 -> 211000 | E10: 24 | F10: スポーツ | G10: =単価データ!C20 -> 178000 | H10: スポーツ | I10: =単価データ!C21 -> 145000 | J10: 8 | K10: スポーツ | L10: =単価データ!C22 -> 112000
C11: 文化 | D11: =単価データ!C23 -> 221000 | E11: 6 | F11: 文化 | G11: =単価データ!C24 -> 188000 | H11: 文化 | I11: =単価データ!C25 -> 155000 | J11: 2 | K11: 文化 | L11: =単価データ!C26 -> 122000
E12: =SUM(E8:E11) -> 150 | J12: =SUM(J8:J11) -> 50
A13: ＜令和9年度以降＞※11か月分（4月～2月）
C14: ※参加生徒数は、各月の参加生徒数の年間平均で算出する（小数点以下は切り上げ）。 | L14: 単位：円
C15: 月4回程度活動 | E15: クラブ数 | F15: 月3回程度活動 | H15: 月2回程度活動 | J15: クラブ数 | K15: 月1回程度活動
A16: 1 | B16: 参加生徒数27人以上で 指導者を3人以上配置 | C16: スポーツ | D16: =単価データ!D3 -> 616000 | F16: スポーツ | G16: =単価データ!D4 -> 504000 | H16: スポーツ | I16: =単価データ!D5 -> 391000 | K16: スポーツ | L16: =単価データ!D6 -> 279000
C17: 文化 | D17: =単価データ!D7 -> 633000 | F17: 文化 | G17: =単価データ!D8 -> 521000 | H17: 文化 | I17: =単価データ!D9 -> 408000 | K17: 文化 | L17: =単価データ!D10 -> 296000
A18: 2 | B18: 参加生徒数13人～26人で 指導者を2人配置 | C18: スポーツ | D18: =単価データ!D11 -> 528000 | F18: スポーツ | G18: =単価データ!D12 -> 435000 | H18: スポーツ | I18: =単価データ!D13 -> 341000 | K18: スポーツ | L18: =単価データ!D14 -> 249000
C19: 文化 | D19: =単価データ!D15 -> 546000 | F19: 文化 | G19: =単価データ!D16 -> 452000 | H19: 文化 | I19: =単価データ!D17 -> 360000 | K19: 文化 | L19: =単価データ!D18 -> 266000
A20: 3 | B20: 参加生徒数5人～12人で 指導者を２人配置 | C20: スポーツ | D20: =単価データ!D19 -> 387000 | F20: スポーツ | G20: =単価データ!D20 -> 326000 | H20: スポーツ | I20: =単価データ!D21 -> 265000 | K20: スポーツ | L20: =単価データ!D22 -> 205000
C21: 文化 | D21: =単価データ!D23 -> 406000 | F21: 文化 | G21: =単価データ!D24 -> 345000 | H21: 文化 | I21: =単価データ!D25 -> 285000 | K21: 文化 | L21: =単価データ!E26 -> 245000

Sheet 単価データ
C1: =基本データ!V7 -> 6 | D1: 11
B3: 1111 | C3: =ROUNDDOWN(($E3/12*$C$1),-3) -> 336000 | D3: =ROUNDDOWN(($E3/12*$D$1),-3) -> 616000 | E3: 673000
B4: 1112 | C4: =ROUNDDOWN((E4/12*$C$1),-3) -> 275000 | D4: =ROUNDDOWN(($E4/12*$D$1),-3) -> 504000 | E4: 550000
B5: 1113 | C5: =ROUNDDOWN((E5/12*$C$1),-3) -> 213000 | D5: =ROUNDDOWN(($E5/12*$D$1),-3) -> 391000 | E5: 427000
B6: 1114 | C6: =ROUNDDOWN((E6/12*$C$1),-3) -> 152000 | D6: =ROUNDDOWN(($E6/12*$D$1),-3) -> 279000 | E6: 305000
B7: 1121 | C7: =ROUNDDOWN((E7/12*$C$1),-3) -> 345000 | D7: =ROUNDDOWN(($E7/12*$D$1),-3) -> 633000 | E7: 691000
B8: 1122 | C8: =ROUNDDOWN((E8/12*$C$1),-3) -> 284000 | D8: =ROUNDDOWN(($E8/12*$D$1),-3) -> 521000 | E8: 569000
B9: 1123 | C9: =ROUNDDOWN((E9/12*$C$1),-3) -> 223000 | D9: =ROUNDDOWN(($E9/12*$D$1),-3) -> 408000 | E9: 446000
B10: 1124 | C10: =ROUNDDOWN((E10/12*$C$1),-3) -> 161000 | D10: =ROUNDDOWN(($E10/12*$D$1),-3) -> 296000 | E10: 323000
B11: 2111 | C11: =ROUNDDOWN((E11/12*$C$1),-3) -> 288000 | D11: =ROUNDDOWN(($E11/12*$D$1),-3) -> 528000 | E11: 576000
B12: 2112 | C12: =ROUNDDOWN((E12/12*$C$1),-3) -> 237000 | D12: =ROUNDDOWN(($E12/12*$D$1),-3) -> 435000 | E12: 475000
B13: 2113 | C13: =ROUNDDOWN((E13/12*$C$1),-3) -> 186000 | D13: =ROUNDDOWN(($E13/12*$D$1),-3) -> 341000 | E13: 373000
B14: 2114 | C14: =ROUNDDOWN((E14/12*$C$1),-3) -> 136000 | D14: =ROUNDDOWN(($E14/12*$D$1),-3) -> 249000 | E14: 272000
B15: 2121 | C15: =ROUNDDOWN((E15/12*$C$1),-3) -> 298000 | D15: =ROUNDDOWN(($E15/12*$D$1),-3) -> 546000 | E15: 596000
... B26: 3124 | C26: =ROUNDDOWN((E26/12*$C$1),-3) -> 122000 | D26: =ROUNDDOWN(($E26/12*$D$1),-3) -> 224000 | E26: 245000
B27: 4111 | C27: 対象外 | D27: 対象外 | E27: 対象外
B28: 4112 | C28: 対象外 | D28: 対象外 | E28: 対象外
B29: 4113 | C29: 対象外 | D29: 対象外 | E29: 対象外
B30: 4114 | C30: 対象外 | D30: 対象外 | E30: 対象外
B31: 4121 | C31: 対象外 | D31: 対象外 | E31: 対象外
B32: 4122 | C32: 対象外 | D32: 対象外 | E32: 対象外
B33: 4123 | C33: 対象外 | D33: 対象外 | E33: 対象外
B34: 4124 | C34: 対象外 | D34: 対象外 | E34: 対象外
B35: 1211 | C35: =ROUNDDOWN((E35/12*$C$1),-3) -> 288000 | D35: =ROUNDDOWN(($E35/12*$D$1),-3) -> 528000 | E35: 576000
B36: 1212 | C36: =ROUNDDOWN((E36/12*$C$1),-3) -> 237000 | D36: =ROUNDDOWN(($E36/12*$D$1),-3) -> 435000 | E36: 475000
B37: 1213 | C37: =ROUNDDOWN((E37/12*$C$1),-3) -> 186000 | D37: =ROUNDDOWN(($E37/12*$D$1),-3) -> 341000 | E37: 373000
B38: 1214 | C38: =ROUNDDOWN((E38/12*$C$1),-3) -> 136000 | D38: =ROUNDDOWN(($E38/12*$D$1),-3) -> 249000 | E38: 272000
B39: 1221 | C39: =ROUNDDOWN((E39/12*$C$1),-3) -> 298000 | D39: =ROUNDDOWN(($E39/12*$D$1),-3) -> 546000 | E39: 596000
B40: 1222 | C40: =ROUNDDOWN((E40/12*$C$1),-3) -> 247000 | D40: =ROUNDDOWN(($E40/12*$D$1),-3) -> 452000 | E40: 494000
B41: 1223 | C41: =ROUNDDOWN((E41/12*$C$1),-3) -> 196000 | D41: =ROUNDDOWN(($E41/12*$D$1),-3) -> 360000 | E41: 393000
B42: 1224 | C42: =ROUNDDOWN((E42/12*$C$1),-3) -> 145000 | D42: =ROUNDDOWN(($E42/12*$D$1),-3) -> 266000 | E42: 291000
B43: 2211 | C43: =ROUNDDOWN((E43/12*$C$1),-3) -> 288000 | D43: =ROUNDDOWN(($E43/12*$D$1),-3) -> 528000 | E43: 576000
B44: 2212 | C44: =ROUNDDOWN((E44/12*$C$1),-3) -> 237000 | D44: =ROUNDDOWN(($E44/12*$D$1),-3) -> 435000 | E44: 475000
B45: 2213 | C45: =ROUNDDOWN((E45/12*$C$1),-3) -> 186000 | D45: =ROUNDDOWN(($E45/12*$D$1),-3) -> 341000 | E45: 373000
B46: 2214 | C46: =ROUNDDOWN((E46/12*$C$1),-3) -> 136000 | D46: =ROUNDDOWN(($E46/12*$D$1),-3) -> 249000 | E46: 272000
... B58: 3224 | C58: =ROUNDDOWN((E58/12*$C$1),-3) -> 122000 | D58: =ROUNDDOWN(($E58/12*$D$1),-3) -> 224000 | E58: 245000
B59: 4211 | C59: 対象外 | D59: 対象外 | E59: 対象外
B60: 4212 | C60: 対象外 | D60: 対象外 | E60: 対象外
B61: 4213 | C61: 対象外 | D61: 対象外 | E61: 対象外
B62: 4214 | C62: 対象外 | D62: 対象外 | E62: 対象外
...
