Workbook

Sheet 管理に係る経費の収支予算書・報告書（本業務）
A1: 第５－２号様式
A2: 20XX（令和X）年度 | G2: 施設名： | H2: ○○センター
G3: 指定管理者： | H3: ○○○○
A4: 管理に係る経費の収支予算書及び報告書
A5: 収入の部 | H5: （税込、単位：円）
A6: 科目 | C6: 細目 | D6: 消費税 取引区分 | E6: 予算額 | F6: 決算額 | G6: 増減額 | H6: 説明
A7: 指定管理料 | E7: =SUM(E8:E9) -> 0 | F7: =SUM(F8:F9) -> 0 | G7: =F7-E7 -> 0
D8: 課税 | G8: =F8-E8 -> 0
G9: =F9-E9 -> 0
A10: 利用料金収入 ※3 | E10: =SUM(E11:E12) -> 0 | F10: =SUM(F11:F12) -> 0 | G10: =F10-E10 -> 0
D11: 課税 | G11: =F11-E11 -> 0
G12: =F12-E12 -> 0
A13: 指定事業収入 | E13: =SUM(E14:E15) -> 0 | F13: =SUM(F14:F15) -> 0 | G13: =F13-E13 -> 0
D14: 課税 | G14: =F14-E14 -> 0
G15: =F15-E15 -> 0
A16: その他収入 | E16: =SUM(E17:E20) -> 0 | F16: =SUM(F17:F20) -> 0 | G16: =F16-E16 -> 0
C17: 自動販売機手数料収入 | D17: 課税 | G17: =F17-E17 -> 0
C18: コピー料収入 | D18: 課税 | G18: =F18-E18 -> 0
C19: 補助金等 | D19: 不課税 | G19: =F19-E19 -> 0
G20: =F20-E20 -> 0
A21: 収入小計 (a) | E21: =SUM(E7,E10,E13,E16) -> 0 | F21: =SUM(F7,F10,F13,F16) -> 0 | G21: =F21-E21 -> 0
A22: 自主事業からの繰入金相当額 (b) | G22: =F22-E22 -> 0
A23: 収入合計 (a)+(b) | E23: =E21+E22 -> 0 | F23: =F21+F22 -> 0 | G23: =F23-E23 -> 0
A24: （仮受消費税額計算） | E24: =(SUMIFS(E7:E21,D7:D21,"課税"))/1.1*0.1 -> 0 | F24: =(SUMIFS(F7:F21,D7:D21,"課税"))/1.1*0.1 -> 0 | G24: =F24-E24 -> 0 | H24: ※消費税納付額相当分計算用
A26: 支出等の部 | H26: （税込、単位：円）
A27: 科目 | C27: 細目 | D27: 消費税 取引区分 | E27: 予算額 | F27: 決算額 | G27: 増減額 | H27: 説明
A28: 人件費 ※4 | E28: =SUM(E29:E34) -> 0 | F28: =SUM(F29:F34) -> 0 | G28: =F28-E28 -> 0
C29: 給与・賃金 | D29: 不課税 | G29: =F29-E29 -> 0
C30: 社会保険料 | D30: 不課税 | G30: =F30-E30 -> 0
C31: 通勤手当 | D31: 課税 | G31: =F31-E31 -> 0
C32: 健康診断費 | D32: 課税 | G32: =F32-E32 -> 0
C33: 退職給付引当金繰入額 | D33: 不課税 | G33: =F33-E33 -> 0
G34: =F34-E34 -> 0
A35: 管理費 | E35: =SUM(E36,E43,E49,E52,E59,E65,E71,E75,E78) -> 0 | F35: =SUM(F36,F43,F49,F52,F59,F65,F71,F75,F78) -> 0 | G35: =F35-E35 -> 0
B36: 光熱水費 ※5 | E36: =SUM(E37:E42) -> 0 | F36: =SUM(F37:F42) -> 0 | G36: =F36-E36 -> 0
C37: 電気料金 | D37: 課税 | G37: =F37-E37 -> 0
C38: 水道料金 | D38: 課税 | G38: =F38-E38 -> 0
C39: ガス料金 | D39: 課税 | G39: =F39-E39 -> 0
C40: 重油料 | D40: 課税 | G40: =F40-E40 -> 0
C41: 灯油料 | D41: 課税 | G41: =F41-E41 -> 0
...

Sheet 自主事業に係る収支予算書・報告書
A1: 第５－２号様式
A2: ='管理に係る経費の収支予算書・報告書（本業務）'!A2:C2 -> 20XX（令和X）年度 | G2: 施設名： | H2: ='管理に係る経費の収支予算書・報告書（本業務）'!H2 -> ○○センター
G3: 指定管理者： | H3: ='管理に係る経費の収支予算書・報告書（本業務）'!H3 -> ○○○○
A4: 自主事業に係る収支予算書及び報告書
A5: 収入の部 | H5: （税込、単位：円）
A6: 科目 | C6: 細目 | D6: 消費税 取引区分 | E6: 予算額 | F6: 決算額 | G6: 増減額 | H6: 説明
G7: =F7-E7 -> 0
G8: =F8-E8 -> 0
G9: =F9-E9 -> 0
G10: =F10-E10 -> 0
G11: =F11-E11 -> 0
A12: 収入小計 (a) | E12: =SUM(E7:E11) -> 0 | F12: =SUM(F7:F11) -> 0 | G12: =F12-E12 -> 0
A13: 本業務からの繰入金相当額 (b) | G13: =F13-E13 -> 0
A14: 収入合計 (a)+(b) | E14: =E12+E13 -> 0 | F14: =F12+F13 -> 0 | G14: =F14-E14 -> 0
A15: （仮受消費税額計算） | E15: =(SUMIFS(E7:E12,D7:D12,"課税"))/1.1*0.1 -> 0 | F15: =(SUMIFS(F7:F12,D7:D12,"課税"))/1.1*0.1 -> 0 | G15: =F15-E15 -> 0 | H15: ※消費税納付額相当分計算用
A17: 支出等の部 | H17: （税込、単位：円）
A18: 科目 | C18: 細目 | D18: 消費税 取引区分 | E18: 予算額 | F18: 決算額 | G18: 増減額 | H18: 説明
A19: 人件費 ※1 | E19: =SUM(E20:E22) -> 0 | F19: =SUM(F20:F22) -> 0 | G19: =F19-E19 -> 0
C20: 給与・賃金 | D20: 不課税 | G20: =F20-E20 -> 0
G21: =F21-E21 -> 0
G22: =F22-E22 -> 0
A23: 事業費 | E23: =SUM(E24:E34) -> 0 | F23: =SUM(F24:F34) -> 0 | G23: =F23-E23 -> 0
C24: 報償費 | D24: 課税 | G24: =F24-E24 -> 0
C25: 消耗品費 | D25: 課税 | G25: =F25-E25 -> 0
C26: 印刷製本費 | D26: 課税 | G26: =F26-E26 -> 0
C27: 施設利用料 | D27: 課税 | G27: =F27-E27 -> 0
C28: 使用料及び賃借料 | D28: 課税 | G28: =F28-E28 -> 0
C29: 行政財産使用料 | D29: 課税 | G29: =F29-E29 -> 0
C30: 保険料 | D30: 非課税 | G30: =F30-E30 -> 0
C31: 広告料 | D31: 課税 | G31: =F31-E31 -> 0
C32: 郵便料 | D32: 課税 | G32: =F32-E32 -> 0
G33: =F33-E33 -> 0
G34: =F34-E34 -> 0
A35: 事務費 | E35: =SUM(E36:E38) -> 0 | F35: =SUM(F36:F38) -> 0 | G35: =F35-E35 -> 0
C36: 旅費 | D36: 課税 | G36: =F36-E36 -> 0
C37: 消耗品費 | D37: 課税 | G37: =F37-E37 -> 0
G38: =F38-E38 -> 0
A39: その他支出 | E39: =SUM(E40:E41) -> 0 | F39: =SUM(F40:F41) -> 0 | G39: =F39-E39 -> 0
G40: =F40-E40 -> 0
G41: =F41-E41 -> 0
...

Sheet 連結収支予算書・報告書
A1: 第５－２号様式
A2: ='管理に係る経費の収支予算書・報告書（本業務）'!A2:C2 -> 20XX（令和X）年度 | G2: 施設名： | H2: ='管理に係る経費の収支予算書・報告書（本業務）'!H2 -> ○○センター
G3: 指定管理者： | H3: ='管理に係る経費の収支予算書・報告書（本業務）'!H3 -> ○○○○
A4: 連結収支予算書・報告書（本業務＋自主事業）
A5: 収入の部 | H5: （税込、単位：円）
A6: 科目 | D6: 消費税 取引区分 | E6: 予算額 | F6: 決算額 | G6: 増減額 | H6: 説明
A7: 管理に係る経費収入小計 | D7: ― | E7: ='管理に係る経費の収支予算書・報告書（本業務）'!E21 -> 0 | F7: ='管理に係る経費の収支予算書・報告書（本業務）'!F21 -> 0 | G7: =F7-E7 -> 0
A8: 自主事業に係る収入小計 | D8: ― | E8: =自主事業に係る収支予算書・報告書!E12 -> 0 | F8: =自主事業に係る収支予算書・報告書!F12 -> 0 | G8: =F8-E8 -> 0
A9: 総収入合計 | E9: =SUM(E7:E8) -> 0 | F9: =SUM(F7:F8) -> 0 | G9: =F9-E9 -> 0
A11: 支出等の部 | H11: （税込、単位：円）
A12: 科目 | D12: 消費税 取引区分 | E12: 予算額 | F12: 決算額 | G12: 増減額 | H12: 説明
A13: 管理に係る経費支出等小計 | D13: ― | E13: ='管理に係る経費の収支予算書・報告書（本業務）'!E109 -> 0 | F13: ='管理に係る経費の収支予算書・報告書（本業務）'!F109 -> 0 | G13: =F13-E13 -> 0
A14: 自主事業に係る支出等小計 | D14: ― | E14: =自主事業に係る収支予算書・報告書!E47 -> 0 | F14: =自主事業に係る収支予算書・報告書!F47 -> 0 | G14: =F14-E14 -> 0
A15: 総支出等合計 | E15: =SUM(E13:E14) -> 0 | F15: =SUM(F13:F14) -> 0 | G15: =F15-E15 -> 0
A16: 参考（再掲）
A17: 科目 | D17: 消費税 取引区分 | E17: 予算額 | F17: 決算額 | G17: 増減額 | H17: 説明
A18: 一般管理費等（本業務） | D18: ― | E18: ='管理に係る経費の収支予算書・報告書（本業務）'!E108 -> 0 | F18: ='管理に係る経費の収支予算書・報告書（本業務）'!F108 -> 0 | G18: =F18-E18 -> 0
A19: 一般管理費等（自主事業） | D19: ― | E19: =自主事業に係る収支予算書・報告書!E46 -> 0 | F19: =自主事業に係る収支予算書・報告書!F46 -> 0 | G19: =F19-E19 -> 0
A20: 一般管理費等合計 | E20: =SUM(E18:E19) -> 0 | F20: =SUM(F18:F19) -> 0 | G20: =F20-E20 -> 0
A22: ＜注意事項＞
A23: ※1 | C23: 連結収支には、本業務⇔自主事業間の繰入金、繰出金は加算しないでください。
