{"text_format":"1","workbook":"xlsx","n_sheets":18,"sheets":["資料一覧","【共通】","P1","P2","P3-1","P3-2","P3-3","P4","（旧）P5-1","（旧）P5-2","P5-1","P5-2","P5-3","P5-4","P6","P7","P8","P9"],"not_rendered":{"charts":0,"images":0,"macros":1,"external_links":7,"defined_names":234,"comments":0,"pivot_tables":0},"unopened":[],"bounds":{"document_bytes":16777216,"sheet_cells":100000,"rows_first":2000,"rows_last":500,"rows_between":2000,"halvings":0,"cell_chars":16384,"cell_head_chars":4096},"cells_cut":0,"cells_raw":0,"read":"whole","date_system":"1900"}

{"sheet":"資料一覧","index":0,"n_rows":69,"n_cols":3,"rows_kept":69,"cut":false,"hidden":false,"merged":[[40,1,40,2],[42,1,42,2],[56,1,56,2],[0,0,1,1],[3,0,3,2],[26,0,26,2],[31,1,31,2]]}
["【居宅介護等事業所用】"]
[]
[1,"事前提出書類"]
[" ・ 特に指定のあるもの以外は、運営指導実施予定日の属する月の\n　　前々月末時点の状況を記入してください。"]
[null,null,"提出チェック"]
["（1）","事前提出資料（すべてこのエクセルファイルにあります）","事業者"]
[null,"【共通】基本情報　※事業所番号ごとに作成すること"]
[null,"P1　職員の配置状況"]
[null,"P2　職員の勤務状況（１）シフト別の勤務形態"]
[null,"P3-1　職員の勤務状況（２）勤務実績　（直近3か月分の実績）"]
[null,"P3-2　職員の勤務状況（２）勤務実績　（直近3か月分の実績）"]
[null,"P3-3　職員の勤務状況（２）勤務実績　（直近3か月分の実績）"]
[null,"P4　サービス提供責任者配置数の根拠"]
[null,"P5-1　障害福祉サービス費の請求状況（居宅介護、重度訪問介護）"]
[null,"P5-2　障害福祉サービス費の請求状況（行動援護、同行援護）"]
[null,"P6-1　利用者情報及び居宅介護等計画の作成状況（居宅介護）"]
[null,"P6-2　利用者情報及び居宅介護等計画の作成状況（重度訪問介護）"]
[null,"P6-3　利用者情報及び居宅介護等計画の作成状況（行動援護）"]
[null,"P6-4　利用者情報及び居宅介護等計画の作成状況（同行援護）"]
[null,"P7　苦情・事故の対応記録"]
[null,"P8　業務継続計画、衛生管理、身体拘束の禁止及び虐待の防止に関する取組状況"]
[null,"P9　主眼事項・着眼点自己点検"]
["（2）","運営規程、サービス利用契約書、重要事項説明書、個人情報提供に係る同意書"]
["（3）","法人・事業所の組織図、施設案内（パンフレット等）"]
[]
[2,"当日準備書類等"]
[" ・ 次の書類はすべてのサービスに共通するものではありません。\n ・ 準備すべき書類の中で該当するものがない場合は、\n  　今回の指導のためだけに新たに作成する必要はありません。\n ・ 会場配置図を参考にご用意ください。（会場内に準備してください。）\n ・ 指導当日に追加資料の提示を求める場合があります。\n ・ 指導対象は、基本的に運営指導を行う前年度から指導日の当月までが原則となりますが、\n    さかのぼって資料を求める場合があります。"]
[null,null,"提出チェック"]
["（1）","指定基準に関する書類","事業者"]
["①","指定基準省令と解釈通知"]
["②","報酬告示と留意事項通知"]
["（2）","人員に関する書類"]
["①","職員勤務表"]
["②","出勤簿又はタイムカード"]
["③","専任、兼任の状況がわかる書類"]
["④","利用者数がわかる書類（当該年度の利用者数）"]
["⑤","職員履歴書及び資格、経験がわかる書類（資格証など）"]
["⑥","就業規則"]
["⑦","雇用契約書及び辞令がある場合は辞令書"]
["⑧","給与支払明細書"]
["（3）","設備に関する書類"]
["①","設備・備品台帳"]
["（4）","運営に関する書類"]
["①","定款、寄付行為等"]
["②","サービスの提供の記録(実績記録票、その他ケース記録など）"]
["③","利用契約に関する書類"]
["④","支給決定障害者・保護者に関する市町への通知に係る記録"]
["⑤","サービス等（障害児支援）利用計画書・児童発達支援計画書"]
["⑥","個別支援計画等原案の同意に関する記録"]
["⑦","受給者証写し"]
["⑧","利用申込み受付簿"]
["⑨","身体拘束等の記録（委員会の議事録及び研修の記録等）"]
["⑩","職員研修に関する記録"]
["⑪","苦情の内容等の記録"]
["⑫","事故の状況及び事故に際して採った処置についての記録"]
["⑬","虐待防止のための取組みがわかる記録・書類（委員会の議事録及び研修の記録等）"]
["（5）","自立支援給付費等及び利用者負担額に関する書類"]
["①","介護給付費・訓練等給付費等請求書"]
["②","介護給付費・訓練等給付費等明細書"]
["③","特例介護給付費・訓練等給付費等請求書"]
["④","特例介護給付費・訓練等給付費等明細書"]
["⑤","サービス実績記録票"]
["⑥","各種加算関係書類"]
["⑦","利用者負担額の請求書"]
["⑧","利用者負担額の領収書控"]
["⑨","法定代理受領の通知の写し"]
["⑩","サービス提供証明書"]
["⑪","金銭の支払を求める同意に関する記録"]
["⑫","支払を求める金銭の算定に関する積算の根拠"]

{"sheet":"【共通】","index":1,"n_rows":134,"n_cols":21,"rows_kept":134,"cut":false,"hidden":false,"merged":[[5,1,6,1],[5,2,5,3],[6,3,6,11],[0,10,0,12],[0,13,0,17],[2,1,2,17],[3,9,3,10],[4,2,4,6],[9,1,15,1],[9,2,9,4],[9,5,9,6],[9,7,15,7],[9,8,9,17],[15,2,15,4],[15,9,15,10],[12,2,12,4],[7,2,7,6],[8,2,8,6],[7,8,7,17],[8,9,8,10],[18,7,20,11],[16,2,16,6],[16,8,16,17],[10,2,10,4],[10,9,10,10],[11,2,11,4],[11,9,11,10],[12,9,12,10],[13,2,13,4],[13,9,13,10],[14,2,14,4],[14,9,14,10],[23,9,23,10],[33,0,46,17],[24,0,24,3],[24,4,24,7],[24,8,24,17],[25,0,30,3],[25,4,30,7],[25,8,30,17]]}
[null,null,null,null,null,null,null,null,null,null,"資料作成者"]
[]
[null,"指定障害福祉サービス事業者・障害者支援施設・一般相談・特定相談支援事業者指導資料"]
[null,null,null,null,null,null,null,null,null,"（令和",null,{"$f":"IF(L9=\"\",\"\",IF(N9=1,L9-1,L9))","v":7},"年",{"$f":"IF(N9=\"\",\"\",MONTH(EOMONTH(DATE(SUM(2018+L9),N9,P9),-1)))","v":6},"月",{"$f":"IF(N4=\"\",\"\",20)","v":20},"日現在）"]
[null,"事業所・施設名",null,null,null,null,null,"事業所番号",2,2]
[null,"事業所等所在地","〒     －",null,null,null,null,null,null,null,null,null,"TEL",null,"-",null,"-"]
[null,null,"浜松市",null,null,null,null,null,null,null,null,null,"FAX",null,"-",null,"-"]
[null,"法人名",null,null,null,null,null,"法人代表者"]
[null,"管理者",null,null,null,null,null,"運営指導年月日",null,"令和 ",null,7,"年",7,"月",10,"日"]
[null,"実施サービス種類\n（施設サービス含む）\nとその利用定員、\n利用者の数","サービス種類",null,null,"契約者の数",null,"左記サービスの\n当初指定年月日"]
[null,null,null,null,null,null,"人",null,null,null,null,null,"年",null,"月",1,"日",null,null,null,"平成 "]
[null,null,null,null,null,null,"人",null,null,null,null,null,"年",null,"月",1,"日",null,null,null,"令和 "]
[null,null,null,null,null,null,"人",null,null,null,null,null,"年",null,"月",1,"日"]
[null,null,null,null,null,null,"人",null,null,null,null,null,"年",null,"月",1,"日"]
[null,null,null,null,null,null,"人",null,null,null,null,null,"年",null,"月",1,"日"]
[null,null,null,null,null,null,"人",null,null,null,null,null,"年",null,"月",1,"日"]
[null,"併設事業所",null,null,null,null,null,"バックアップ\n施設等"]
[null,"※事業所番号ごとに作成すること。"]
[null,null,"部分のみ入力可能。",null,null,null,null,"※以降、全シート共通"]
[]
[null,null,"部分はプルダウンメニューから該当するものを選択すること。"]
[]
[]
["●前回指導結果通知に基づく指導事項（助言指導を含む。）の改善状況",null,null,null,null,null,null,null," （前回指導実施日","令和 ",null,null,"年",null,"月",null,"日）"]
["指導事項",null,null,null,"改善措置状況",null,null,null,"未改善の理由"]
[]
[]
[]
[]
[]
[]
[]
["●市への質疑事項"]
[]
[]
[]
[]
[]
[]
[]
[]
[]
[]
[]
[]
[]
[]
[]
[]
[]
[]
[]
[]
[]
[]
[]
[]
[]
[]
[]
[]
[]
[]
[]
[]
[]
[]
[]
[]
[]
[]
[]
[]
[]
[]
[]
[]
[]
[]
[]
[]
[]
[]
[]
[]
[]
[]
[]
[]
[]
[]
[]
[]
[]
[]
[]
[]
[]
[]
[]
[]
[]
[]
[]
[]
[]
[]
[]
[]
[]
[]
[null,null,"居宅介護"]
[null,null,"重度訪問介護"]
[null,null,"同行援護"]
[null,null,"行動援護"]
[null,null,"療養介護"]
[null,null,"生活介護"]
[null,null,"短期入所（空床型）"]
[null,null,"短期入所（併設型）"]
[null,null,"短期入所（単独型）"]
[null,null,"自立訓練（機能訓練）"]
[null,null,"自立訓練（生活訓練）"]
[null,null,"宿泊型自立訓練"]
[null,null,"就労移行支援"]
[null,null,"就労継続支援Ａ型"]
[null,null,"就労継続支援Ｂ型"]
[null,null,"就労定着支援"]
[null,null,"自立生活援助"]
[null,null,"共同生活援助"]
[null,null,"施設入所支援"]
[null,null,"施設入所支援（経過的）"]
[null,null,"地域相談支援（地域移行支援）"]
[null,null,"地域相談支援（地域定着支援）"]
[null,null,"計画相談支援"]

{"sheet":"P1","index":2,"n_rows":96,"n_cols":17,"rows_kept":96,"cut":false,"hidden":false,"merged":[]}
[null,"１　職員の配置状況（既存資料の添付可）",null,null,{"$f":"【共通】!J4&【共通】!L4&【共通】!M4&【共通】!N4&【共通】!O4&【共通】!P4&【共通】!Q4","v":"（令和7年6月20日現在）"},null,null,null,null,null,null,null,null,{"$f":"\" １ / \"&Q1","v":" １ / 1"},null,null,{"$f":"IF(C76<>\"\",4,IF(C53<>\"\",3,IF(C30<>\"\",2,1)))","v":1}]
[null,null,"職　　　　種","氏　　　　名","年齢","雇用\n形態","勤続年数","勤務形態","兼務先","資格","居宅\n介護","重度\n訪問","行動\n援護","同行\n援護",null,null,"常勤／専従"]
[null,"例","管理者兼サービス提供責任者","○○　○○",50,"正","5年以上\n10年未満","常勤／兼務","同事業所","介護福祉士、同行援護従事者養成研修（一般・応用）","サ","サ","×","サ",null,null,"常勤／兼務"]
[null,"例","サービス提供責任者","□□　□□",45,"正","10年以上","常勤／専従","-","実務者研修、ヘルパー２級","サ","サ","×","×",null,null,"非常勤／専従"]
[null,"例","ヘルパー","△△　△△",30,"登","1年以上\n3年未満","非常勤／兼務","他法人","居宅介護職員初任者研修、同行援護従事者養成研修（一般）","従","×","×","従",null,null,"非常勤／兼務"]
[null,1,null,null,null,null,null,null,null,null,null,null,null,null,null,null,"同事業所"]
[null,{"$f":"B6+1","v":2},null,null,null,null,null,null,null,null,null,null,null,null,null,null,"同法人\n他事業所"]
[null,{"$f":"B7+1","v":3},null,null,null,null,null,null,null,null,null,null,null,null,null,null,"他法人"]
[null,4,null,null,null,null,null,null,null,null,null,null,null,null,null,null,"-"]
[null,{"$f":"B9+1","v":5},null,null,null,null,null,null,null,null,null,null,null,null,null,null,"1年未満"]
[null,6,null,null,null,null,null,null,null,null,null,null,null,null,null,null,"1年以上\n3年未満"]
[null,7,null,null,null,null,null,null,null,null,null,null,null,null,null,null,"3年以上\n5年未満"]
[null,8,null,null,null,null,null,null,null,null,null,null,null,null,null,null,"5年以上"]
[null,9]
[null,10]
[null,11]
[null,12]
[null,13]
[null,14]
[null,15]
[null,"注","１　登録ヘルパーも含め、当該事業所の職員として勤務するすべての職員について記載すること。"]
[null,null,"２　雇用形態は、正規職員は「正」、非正規雇用職員は「非」、登録ヘルパーは「登」を選択すること。"]
[null,null,"３　勤務年数は、当該事業所における勤務年数を選択すること。"]
[null,null,"４　勤務形態は、「常勤／専従」、「常勤／兼務」、「非常勤／専従」、「非常勤／兼務」のいずれかを選択すること。"]
[null,null,"５　兼務先は、「同事業所内」、「同法人他事業所」、「他法人」から選択すること。"]
[null,null,"６　資格は、介護福祉士、実務者研修、看護師、各種修了した研修名等を記載すること。"]
[null,null,"７　K～Ｎ列は各サービスの従事状況を記入することとし、サービス提供責任者は「サ」、従業者は「従」、従事しない事業は「×」を選択すること。"]
[null,"１　職員の配置状況（既存資料の添付可）",null,null,{"$f":"$E$1","v":"（令和7年6月20日現在）"},null,null,null,null,null,null,null,null,{"$f":"\" 2 / \"&Q1","v":" 2 / 1"}]
[null,null,"職　　　　種","氏　　　　名","年齢","雇用\n形態","勤続年数","勤務形態","兼務先","資格","居宅\n介護","重度\n訪問","行動\n援護","同行\n援護"]
[null,{"$f":"B20+1","v":16}]
[null,{"$f":"B30+1","v":17}]
[null,{"$f":"B31+1","v":18}]
[null,19]
[null,20]
[null,21]
[null,22]
[null,23]
[null,24]
[null,25]
[null,26]
[null,27]
[null,28]
[null,29]
[null,30]
[null,31]
[null,32]
[null,33]
[null,34]
[null,35]
[null,36]
[null,"１　職員の配置状況（既存資料の添付可）",null,null,{"$f":"$E$1","v":"（令和7年6月20日現在）"},null,null,null,null,null,null,null,null,{"$f":"\" 3 / \"&Q1","v":" 3 / 1"}]
[null,null,"職　　　　種","氏　　　　名","年齢","雇用\n形態","勤続年数","勤務形態","兼務先","資格","居宅\n介護","重度\n訪問","行動\n援護","同行\n援護"]
[null,{"$f":"B50+1","v":37}]
[null,{"$f":"B53+1","v":38}]
[null,{"$f":"B54+1","v":39}]
[null,40]
[null,41]
[null,42]
[null,43]
[null,44]
[null,45]
[null,46]
[null,47]
[null,48]
[null,49]
[null,50]
[null,51]
[null,52]
[null,53]
[null,54]
[null,55]
[null,56]
[null,57]
[null,"１　職員の配置状況（既存資料の添付可）",null,null,{"$f":"$E$1","v":"（令和7年6月20日現在）"},null,null,null,null,null,null,null,null,{"$f":"\" 4 / \"&Q1","v":" 4 / 1"}]
[null,null,"職　　　　種","氏　　　　名","年齢","雇用\n形態","勤続年数","勤務形態","兼務先","資格","居宅\n介護","重度\n訪問","行動\n援護","同行\n援護"]
[null,{"$f":"B73+1","v":58}]
[null,{"$f":"B76+1","v":59}]
[null,{"$f":"B77+1","v":60}]
[null,61]
[null,62]
[null,63]
[null,64]
[null,65]
[null,66]
[null,67]
[null,68]
[null,69]
[null,70]
[null,71]
[null,72]
[null,73]
[null,74]
[null,75]
[null,76]
[null,77]
[null,78]

{"sheet":"P2","index":3,"n_rows":64,"n_cols":12,"rows_kept":64,"cut":false,"hidden":false,"merged":[[41,3,41,7],[42,3,42,7],[63,3,63,7],[55,1,56,2],[43,3,43,7],[44,3,44,7],[45,3,45,7],[46,3,46,7],[62,3,62,7],[36,3,36,7],[37,3,37,7],[38,3,38,7],[39,3,39,7],[40,3,40,7],[31,3,31,7],[32,3,32,7],[33,3,33,7],[34,3,34,7],[35,3,35,7]]}
[null,"２　直接処遇職員（介護職員等）の勤務状況"]
[null,"(1)　シフト別の勤務形態"]
[null,"記号",null,"始業時間",null,"終業時間",null,"休憩時間",null,"実働時間",null,"備考"]
[null,"A","：",null,"～",null,"（",null,"）",{"$f":"IF(OR(D4=\"\",F4=\"\"),0,(IF(D4>F4,1,0)-D4+F4-H4)*24)","v":0}]
[null,"B","：",null,"～",null,"（",null,"）",0]
[null,"C","：",null,"～",null,"（",null,"）",0]
[null,"D","：",null,"～",null,"（",null,"）",0]
[null,"E","：",null,"～",null,"（",null,"）",0]
[null,"F","：",null,"～",null,"（",null,"）",{"$f":"IF(OR(D9=\"\",F9=\"\"),0,(IF(D9>F9,1,0)-D9+F9-H9)*24)","v":0}]
[null,"G","：",null,"～",null,"（",null,"）",{"$f":"IF(OR(D10=\"\",F10=\"\"),0,(IF(D10>F10,1,0)-D10+F10-H10)*24)","v":0}]
[null,"H","：",null,"～",null,"（",null,"）",{"$f":"IF(OR(D11=\"\",F11=\"\"),0,(IF(D11>F11,1,0)-D11+F11-H11)*24)","v":0}]
[null,"I","：",null,"～",null,"（",null,"）",0]
[null,"J","：",null,"～",null,"（",null,"）",0]
[null,"K","：",null,"～",null,"（",null,"）",{"$f":"IF(OR(D14=\"\",F14=\"\"),0,(IF(D14>F14,1,0)-D14+F14-H14)*24)","v":0}]
[null,"L","：",null,"～",null,"（",null,"）",{"$f":"IF(OR(D15=\"\",F15=\"\"),0,(IF(D15>F15,1,0)-D15+F15-H15)*24)","v":0}]
[null,"M","：",null,"～",null,"（",null,"）",0]
[null,"N","：",null,"～",null,"（",null,"）",{"$f":"IF(OR(D17=\"\",F17=\"\"),0,(IF(D17>F17,1,0)-D17+F17-H17)*24)","v":0}]
[null,"O","：",null,"～",null,"（",null,"）",0]
[null,"Ｐ","：",null,"～",null,"（",null,"）",0]
[null,"Ｑ","：",null,"～",null,"（",null,"）",{"$f":"IF(OR(D20=\"\",F20=\"\"),0,(IF(D20>F20,1,0)-D20+F20-H20)*24)","v":0}]
[null,"Ｒ","：",null,"～",null,"（",null,"）",0]
[null,"S","：",null,"～",null,"（",null,"）",0]
[null,"T","：",null,"～",null,"（",null,"）",0]
[null,"U","：",null,"～",null,"（",null,"）",0]
[null,"V","：",null,"～",null,"（",null,"）",0]
[null,"W","：",null,"～",null,"（",null,"）",0]
[null,"X","：",null,"～",null,"（",null,"）",0]
[null,"Y","：",null,"～",null,"（",null,"）",0]
[null,"Z","：",null,"～",null,"（",null,"）",{"$f":"IF(OR(D29=\"\",F29=\"\"),0,(IF(D29>F29,1,0)-D29+F29-H29)*24)","v":0}]
[null,null,"：",null,"～",null,"（",null,"）",0]
[]
[null,"登①","：",null,null,null,null,null,null,{"$f":"IF(D32=\"\",0,D32*24)","v":0}]
[null,"登②","：",null,null,null,null,null,null,{"$f":"IF(D33=\"\",0,D33*24)","v":0}]
[null,"登③","：",null,null,null,null,null,null,0]
[null,"登④","：",null,null,null,null,null,null,0]
[null,"登⑤","：",null,null,null,null,null,null,0]
[null,"登⑥","：",null,null,null,null,null,null,0]
[null,"登⑦","：",null,null,null,null,null,null,0]
[null,"登⑧","：",null,null,null,null,null,null,0]
[null,"登⑨","：",null,null,null,null,null,null,0]
[null,"登⑩","：",null,null,null,null,null,null,0]
[null,"登⑪","：",null,null,null,null,null,null,0]
[null,"登⑫","：",null,null,null,null,null,null,0]
[null,"登⑬","：",null,null,null,null,null,null,0]
[null,"登⑭","：",null,null,null,null,null,null,0]
[null,"登⑮","：",null,null,null,null,null,null,0]
[null,null,"：",null,null,null,null,null,null,0]
[]
[null,"注１　始業時間及び終業時間は24時間表記とすること。"]
[null,"注２　休憩時間は、1時間の場合「1:00」、45分の場合「00:45」と入力すること。 "]
[null,"※休憩時間がない場合も「0：00」と入力すること。"]
[null,"注３　シフト管理が困難な登録ヘルパーについては、従事する時間数を入力すること。 "]
[null,"（例）1時間30分の勤務⇒「1：30」、2時間の勤務⇒「2：00」"]
[null,"注４　シフト記号が不足する場合は適宜行を追加し、任意のシフト記号を設けること。"]
[]
[null,"【記載例】"]
[]
[null,"記号",null,"始業時間",null,"終業時間",null,"休憩時間",null,"実働時間",null,"備考"]
[null,"A","：","08:30:00","～","17:15:00","（","01:00:00","）",{"$f":"IF(OR(D59=\"\",F59=\"\"),0,(IF(D59>F59,1,0)-D59+F59-H59)*24)","v":7.7499999999999991}]
[null,"B","：","09:00:00","～","16:30:00","（","00:45:00","）",{"$f":"IF(OR(D60=\"\",F60=\"\"),0,(IF(D60>F60,1,0)-D60+F60-H60)*24)","v":6.75},null,"育児・介護休業法に係る短時間勤務該当者"]
[null,"C","：","10:30:00","～","16:00:00","（","00:00:00","）",{"$f":"IF(OR(D61=\"\",F61=\"\"),0,(IF(D61>F61,1,0)-D61+F61-H61)*24)","v":5.4999999999999991}]
[]
[null,"登①","：","01:30:00",null,null,null,null,null,{"$f":"IF(D63=\"\",0,D63*24)","v":1.5}]
[null,"登②","：","02:45:00",null,null,null,null,null,{"$f":"IF(D64=\"\",0,D64*24)","v":2.75}]

{"sheet":"P3-1","index":4,"n_rows":247,"n_cols":65,"rows_kept":247,"cut":false,"hidden":false,"merged":[[4,49,5,49],[2,41,2,42],[2,43,2,44],[2,45,2,46],[6,1,7,1],[6,2,7,7],[6,8,7,12],[6,13,7,15],[6,48,7,48],[6,49,7,49],[4,1,5,1],[4,2,5,7],[4,8,5,12],[4,13,5,15],[4,48,5,48],[2,13,2,14],[2,26,2,36],[2,37,2,38],[2,39,2,40],[2,19,2,20],[10,1,11,1],[10,2,11,7],[10,8,11,12],[10,13,11,15],[10,48,11,48],[10,49,11,49],[8,1,9,1],[8,2,9,7],[8,8,9,12],[8,13,9,15],[8,48,9,48],[8,49,9,49],[14,1,15,1],[14,2,15,7],[14,8,15,12],[14,13,15,15],[14,48,15,48],[14,49,15,49],[12,1,13,1],[12,2,13,7],[12,8,13,12],[12,13,13,15],[12,48,13,48],[12,49,13,49],[18,1,19,1],[18,2,19,7],[18,8,19,12],[18,13,19,15],[18,48,19,48],[18,49,19,49],[16,1,17,1],[16,2,17,7],[16,8,17,12],[16,13,17,15],[16,48,17,48],[16,49,17,49],[22,1,23,1],[22,2,23,7],[22,8,23,12],[22,13,23,15],[22,48,23,48],[22,49,23,49],[20,1,21,1],[20,2,21,7],[20,8,21,12],[20,13,21,15],[20,48,21,48],[20,49,21,49],[26,1,27,1],[26,2,27,7],[26,8,27,12],[26,13,27,15],[26,48,27,48],[26,49,27,49],[24,1,25,1],[24,2,25,7],[24,8,25,12],[24,13,25,15],[24,48,25,48],[24,49,25,49],[30,1,31,1],[30,2,31,7],[30,8,31,12],[30,13,31,15],[30,48,31,48],[30,49,31,49],[28,1,29,1],[28,2,29,7],[28,8,29,12],[28,13,29,15],[28,48,29,48],[28,49,29,49],[34,1,35,1],[34,2,35,7],[34,8,35,12],[34,13,35,15],[34,48,35,48],[34,49,35,49],[32,1,33,1],[32,2,33,7],[32,8,33,12],[32,13,33,15],[32,48,33,48],[32,49,33,49],[38,1,39,1],[38,2,39,7],[38,8,39,12],[38,13,39,15],[38,48,39,48],[38,49,39,49],[36,1,37,1],[36,2,37,7],[36,8,37,12],[36,13,37,15],[36,48,37,48],[36,49,37,49],[42,1,43,1],[42,2,43,7],[42,8,43,12],[42,13,43,15],[42,48,43,48],[42,49,43,49],[40,1,41,1],[40,2,41,7],[40,8,41,12],[40,13,41,15],[40,48,41,48],[40,49,41,49],[46,1,47,1],[46,2,47,7],[46,8,47,12],[46,13,47,15],[46,48,47,48],[46,49,47,49],[44,1,45,1],[44,2,45,7],[44,8,45,12],[44,13,45,15],[44,48,45,48],[44,49,45,49],[54,48,55,48],[54,49,55,49],[56,1,57,1],[56,2,57,7],[56,8,57,12],[56,13,57,15],[56,48,57,48],[56,49,57,49],[53,19,53,20],[54,1,55,1],[54,2,55,7],[54,8,55,12],[54,13,55,15],[60,1,61,1],[60,2,61,7],[60,8,61,12],[60,13,61,15],[60,48,61,48],[60,49,61,49],[58,1,59,1],[58,2,59,7],[58,8,59,12],[58,13,59,15],[58,48,59,48],[58,49,59,49],[64,1,65,1],[64,2,65,7],[64,8,65,12],[64,13,65,15],[64,48,65,48],[64,49,65,49],[62,1,63,1],[62,2,63,7],[62,8,63,12],[62,13,63,15],[62,48,63,48],[62,49,63,49],[68,1,69,1],[68,2,69,7],[68,8,69,12],[68,13,69,15],[68,48,69,48],[68,49,69,49],[66,1,67,1],[66,2,67,7],[66,8,67,12],[66,13,67,15],[66,48,67,48],[66,49,67,49],[72,1,73,1],[72,2,73,7],[72,8,73,12],[72,13,73,15],[72,48,73,48],[72,49,73,49],[70,1,71,1],[70,2,71,7],[70,8,71,12],[70,13,71,15],[70,48,71,48],[70,49,71,49],[76,1,77,1],[76,2,77,7],[76,8,77,12],[76,13,77,15],[76,48,77,48],[76,49,77,49],[74,1,75,1],[74,2,75,7],[74,8,75,12],[74,13,75,15],[74,48,75,48],[74,49,75,49],[80,1,81,1],[80,2,81,7],[80,8,81,12],[80,13,81,15],[80,48,81,48],[80,49,81,49],[78,1,79,1],[78,2,79,7],[78,8,79,12],[78,13,79,15],[78,48,79,48],[78,49,79,49],[84,1,85,1],[84,2,85,7],[84,8,85,12],[84,13,85,15],[84,48,85,48],[84,49,85,49],[82,1,83,1],[82,2,83,7],[82,8,83,12],[82,13,83,15],[82,48,83,48],[82,49,83,49],[88,1,89,1],[88,2,89,7],[88,8,89,12],[88,13,89,15],[88,48,89,48],[88,49,89,49],[86,1,87,1],[86,2,87,7],[86,8,87,12],[86,13,87,15],[86,48,87,48],[86,49,87,49],[92,1,93,1],[92,2,93,7],[92,8,93,12],[92,13,93,15],[92,48,93,48],[92,49,93,49],[90,1,91,1],[90,2,91,7],[90,8,91,12],[90,13,91,15],[90,48,91,48],[90,49,91,49],[96,1,97,1],[96,2,97,7],[96,8,97,12],[96,13,97,15],[96,48,97,48],[96,49,97,49],[94,1,95,1],[94,2,95,7],[94,8,95,12],[94,13,95,15],[94,48,95,48],[94,49,95,49],[98,1,99,1],[98,2,99,7],[98,8,99,12],[98,13,99,15],[98,48,99,48],[98,49,99,49],[102,19,102,20],[103,1,104,1],[103,2,104,7],[103,8,104,12],[103,13,104,15],[103,48,104,48],[105,1,106,1],[105,2,106,7],[105,8,106,12],[105,13,106,15],[105,48,106,48],[103,49,104,49],[109,1,110,1],[109,2,110,7],[109,8,110,12],[109,13,110,15],[109,48,110,48],[109,49,110,49],[105,49,106,49],[107,1,108,1],[107,2,108,7],[107,8,108,12],[107,13,108,15],[107,48,108,48],[107,49,108,49],[113,1,114,1],[113,2,114,7],[113,8,114,12],[113,13,114,15],[113,48,114,48],[113,49,114,49],[111,1,112,1],[111,2,112,7],[111,8,112,12],[111,13,112,15],[111,48,112,48],[111,49,112,49],[117,1,118,1],[117,2,118,7],[117,8,118,12],[117,13,118,15],[117,48,118,48],[117,49,118,49],[115,1,116,1],[115,2,116,7],[115,8,116,12],[115,13,116,15],[115,48,116,48],[115,49,116,49],[121,1,122,1],[121,2,122,7],[121,8,122,12],[121,13,122,15],[121,48,122,48],[121,49,122,49],[119,1,120,1],[119,2,120,7],[119,8,120,12],[119,13,120,15],[119,48,120,48],[119,49,120,49],[125,1,126,1],[125,2,126,7],[125,8,126,12],[125,13,126,15],[125,48,126,48],[125,49,126,49],[123,1,124,1],[123,2,124,7],[123,8,124,12],[123,13,124,15],[123,48,124,48],[123,49,124,49],[129,1,130,1],[129,2,130,7],[129,8,130,12],[129,13,130,15],[129,48,130,48],[129,49,130,49],[127,1,128,1],[127,2,128,7],[127,8,128,12],[127,13,128,15],[127,48,128,48],[127,49,128,49],[133,1,134,1],[133,2,134,7],[133,8,134,12],[133,13,134,15],[133,48,134,48],[133,49,134,49],[131,1,132,1],[131,2,132,7],[131,8,132,12],[131,13,132,15],[131,48,132,48],[131,49,132,49],[137,1,138,1],[137,2,138,7],[137,8,138,12],[137,13,138,15],[137,48,138,48],[137,49,138,49],[135,1,136,1],[135,2,136,7],[135,8,136,12],[135,13,136,15],[135,48,136,48],[135,49,136,49],[141,1,142,1],[141,2,142,7],[141,8,142,12],[141,13,142,15],[141,48,142,48],[141,49,142,49],[139,1,140,1],[139,2,140,7],[139,8,140,12],[139,13,140,15],[139,48,140,48],[139,49,140,49],[145,1,146,1],[145,2,146,7],[145,8,146,12],[145,13,146,15],[145,48,146,48],[145,49,146,49],[143,1,144,1],[143,2,144,7],[143,8,144,12],[143,13,144,15],[143,48,144,48],[143,49,144,49],[147,1,148,1],[147,2,148,7],[147,8,148,12],[147,13,148,15],[147,48,148,48],[147,49,148,49],[151,19,151,20],[152,1,153,1],[152,2,153,7],[152,8,153,12],[152,13,153,15],[152,48,153,48],[154,1,155,1],[154,2,155,7],[154,8,155,12],[154,13,155,15],[154,48,155,48],[152,49,153,49],[158,1,159,1],[158,2,159,7],[158,8,159,12],[158,13,159,15],[158,48,159,48],[158,49,159,49],[154,49,155,49],[156,1,157,1],[156,2,157,7],[156,8,157,12],[156,13,157,15],[156,48,157,48],[156,49,157,49],[162,1,163,1],[162,2,163,7],[162,8,163,12],[162,13,163,15],[162,48,163,48],[162,49,163,49],[160,1,161,1],[160,2,161,7],[160,8,161,12],[160,13,161,15],[160,48,161,48],[160,49,161,49],[166,1,167,1],[166,2,167,7],[166,8,167,12],[166,13,167,15],[166,48,167,48],[166,49,167,49],[164,1,165,1],[164,2,165,7],[164,8,165,12],[164,13,165,15],[164,48,165,48],[164,49,165,49],[170,1,171,1],[170,2,171,7],[170,8,171,12],[170,13,171,15],[170,48,171,48],[170,49,171,49],[168,1,169,1],[168,2,169,7],[168,8,169,12],[168,13,169,15],[168,48,169,48],[168,49,169,49],[174,1,175,1],[174,2,175,7],[174,8,175,12],[174,13,175,15],[174,48,175,48],[174,49,175,49],[172,1,173,1],[172,2,173,7],[172,8,173,12],[172,13,173,15],[172,48,173,48],[172,49,173,49],[178,1,179,1],[178,2,179,7],[178,8,179,12],[178,13,179,15],[178,48,179,48],[178,49,179,49],[176,1,177,1],[176,2,177,7],[176,8,177,12],[176,13,177,15],[176,48,177,48],[176,49,177,49],[182,1,183,1],[182,2,183,7],[182,8,183,12],[182,13,183,15],[182,48,183,48],[182,49,183,49],[180,1,181,1],[180,2,181,7],[180,8,181,12],[180,13,181,15],[180,48,181,48],[180,49,181,49],[186,1,187,1],[186,2,187,7],[186,8,187,12],[186,13,187,15],[186,48,187,48],[186,49,187,49],[184,1,185,1],[184,2,185,7],[184,8,185,12],[184,13,185,15],[184,48,185,48],[184,49,185,49],[190,1,191,1],[190,2,191,7],[190,8,191,12],[190,13,191,15],[190,48,191,48],[190,49,191,49],[188,1,189,1],[188,2,189,7],[188,8,189,12],[188,13,189,15],[188,48,189,48],[188,49,189,49],[194,1,195,1],[194,2,195,7],[194,8,195,12],[194,13,195,15],[194,48,195,48],[194,49,195,49],[192,1,193,1],[192,2,193,7],[192,8,193,12],[192,13,193,15],[192,48,193,48],[192,49,193,49],[196,1,197,1],[196,2,197,7],[196,8,197,12],[196,13,197,15],[196,48,197,48],[196,49,197,49],[200,19,200,20],[201,1,202,1],[201,2,202,7],[203,49,204,49],[205,1,206,1],[205,2,206,7],[205,8,206,12],[205,13,206,15],[205,48,206,48],[205,49,206,49],[201,8,202,12],[201,13,202,15],[201,48,202,48],[203,1,204,1],[203,2,204,7],[203,8,204,12],[203,13,204,15],[203,48,204,48],[201,49,202,49],[209,1,210,1],[209,2,210,7],[209,8,210,12],[209,13,210,15],[209,48,210,48],[209,49,210,49],[207,1,208,1],[207,2,208,7],[207,8,208,12],[207,13,208,15],[207,48,208,48],[207,49,208,49],[213,1,214,1],[213,2,214,7],[213,8,214,12],[213,13,214,15],[213,48,214,48],[213,49,214,49],[211,1,212,1],[211,2,212,7],[211,8,212,12],[211,13,212,15],[211,48,212,48],[211,49,212,49],[217,1,218,1],[217,2,218,7],[217,8,218,12],[217,13,218,15],[217,48,218,48],[217,49,218,49],[215,1,216,1],[215,2,216,7],[215,8,216,12],[215,13,216,15],[215,48,216,48],[215,49,216,49],[221,1,222,1],[221,2,222,7],[221,8,222,12],[221,13,222,15],[221,48,222,48],[221,49,222,49],[219,1,220,1],[219,2,220,7],[219,8,220,12],[219,13,220,15],[219,48,220,48],[219,49,220,49],[225,1,226,1],[225,2,226,7],[225,8,226,12],[225,13,226,15],[225,48,226,48],[225,49,226,49],[223,1,224,1],[223,2,224,7],[223,8,224,12],[223,13,224,15],[223,48,224,48],[223,49,224,49],[229,1,230,1],[229,2,230,7],[229,8,230,12],[229,13,230,15],[229,48,230,48],[229,49,230,49],[227,1,228,1],[227,2,228,7],[227,8,228,12],[227,13,228,15],[227,48,228,48],[227,49,228,49],[233,1,234,1],[233,2,234,7],[233,8,234,12],[233,13,234,15],[233,48,234,48],[233,49,234,49],[231,1,232,1],[231,2,232,7],[231,8,232,12],[231,13,232,15],[231,48,232,48],[231,49,232,49],[237,1,238,1],[237,2,238,7],[237,8,238,12],[237,13,238,15],[237,48,238,48],[237,49,238,49],[235,1,236,1],[235,2,236,7],[235,8,236,12],[235,13,236,15],[235,48,236,48],[235,49,236,49],[241,1,242,1],[241,2,242,7],[241,8,242,12],[241,13,242,15],[241,48,242,48],[241,49,242,49],[239,1,240,1],[239,2,240,7],[239,8,240,12],[239,13,240,15],[239,48,240,48],[239,49,240,49],[245,1,246,1],[245,2,246,7],[245,8,246,12],[245,13,246,15],[245,48,246,48],[245,49,246,49],[243,1,244,1],[243,2,244,7],[243,8,244,12],[243,13,244,15],[243,48,244,48],[243,49,244,49]]}
[]
[]
[null,"(2)　勤務実績　（直近3か月分の実績）",null,null,null,null,null,null,null,null,null,null,null,{"$f":"YEAR(EOMONTH(DATE(SUM(2018+【共通】!L9),【共通】!N9,【共通】!P9),-2))","v":2025},null,null,null,null,"（",{"$f":"IFERROR(\"令和　\"&VLOOKUP(N3,BL5:BM12,2,FALSE),\"\")","v":"令和　7"},null,"年",{"$f":"MONTH(EOMONTH(DATE(2023,【共通】!N9,【共通】!P9),-2))","v":5},"月分実績",null,"）","当該事業所の常勤の職員が当該月に勤務すべき時間数",null,null,null,null,null,null,null,null,null,null,null,null," 時間／日",null,null,null," 時間／週",null,null,null," 時間／月",null,{"$f":"\"1 / \"&COUNTA(C$7,C$57,C$106,C$155,C$204)","v":"1 / 1"}]
[]
[null,null,"職　　種",null,null,null,null,null,"氏　　名",null,null,null,null,"勤務\n形態",null,null,{"$f":"DATE($N$3,$W$3,1)","v":"2025-05-01"},{"$f":"Q5+1","v":"2025-05-02"},{"$f":"R5+1","v":"2025-05-03"},{"$f":"S5+1","v":"2025-05-04"},"2025-05-05","2025-05-06","2025-05-07","2025-05-08","2025-05-09","2025-05-10","2025-05-11","2025-05-12","2025-05-13","2025-05-14","2025-05-15","2025-05-16","2025-05-17","2025-05-18","2025-05-19","2025-05-20","2025-05-21","2025-05-22","2025-05-23","2025-05-24","2025-05-25","2025-05-26","2025-05-27",{"$f":"AQ5+1","v":"2025-05-28"},{"$f":"IF(DAY(DATE($N$3,$W$3,29))=29,AR5+1,\"\")","v":"2025-05-29"},{"$f":"IF(DAY(DATE($N$3,$W$3,30))=30,AS5+1,\"\")","v":"2025-05-30"},{"$f":"IF(DAY(DATE($N$3,$W$3,31))=31,AT5+1,\"\")","v":"2025-05-31"},"勤務日数",null,"常勤換算",null,null,null,null,null,null,null,null,null,null,null,null,null,2023,5]
[null,null,null,null,null,null,null,null,null,null,null,null,null,null,null,null,{"$f":"VLOOKUP(WEEKDAY(Q5,2),$BA$7:$BB$14,2,FALSE)","v":"木"},"金","土","日","月","火","水","木","金","土","日","月","火","水","木","金","土","日","月","火","水","木","金","土","日","月","火","水",{"$f":"IF(AS5=\"\",\"\",VLOOKUP(WEEKDAY(AS5,2),$BA$7:$BB$14,2,FALSE))","v":"木"},{"$f":"IF(AT5=\"\",\"\",VLOOKUP(WEEKDAY(AT5,2),$BA$7:$BB$14,2,FALSE))","v":"金"},{"$f":"IF(AU5=\"\",\"\",VLOOKUP(WEEKDAY(AU5,2),$BA$7:$BB$14,2,FALSE))","v":"土"},"勤務時間",null,null,null,null,null,null,null,null,null,null,null,null,null,null,null,{"$f":"BL5+1","v":2024},{"$f":"BM5+1","v":6}]
[null,"例","管理者",null,null,null,null,null,"○○　○○",null,null,null,null,"常勤\n兼務",null,null,"A","A",null,null,"A","A","A","A","A",null,null,"A","A","A","A","A",null,null,"A","A","A","A","A",null,null,"A","A","A","A","A",null,{"$f":"COUNTA(Q7:AU7)","v":22},{"$f":"AV8","v":170.49999999999997},{"$f":"IFERROR(ROUNDDOWN(AV8/$AT$3,1),\"\")","v":""},null,null,1,"月","管理者",null,null,null,"常勤\n専従","常勤\n兼務","非常勤\n専従","非常勤\n兼務",null,{"$f":"BL6+1","v":2025},7]
[null,null,null,null,null,null,null,null,null,null,null,null,null,null,null,null,{"$f":"IFERROR(VLOOKUP(Q7,'P2'!$B$59:$J$64,9,FALSE),\"\")","v":7.7499999999999991},{"$f":"IFERROR(VLOOKUP(R7,'P2'!$B$59:$J$64,9,FALSE),\"\")","v":7.7499999999999991},{"$f":"IFERROR(VLOOKUP(S7,'P2'!$B$59:$J$64,9,FALSE),\"\")","v":""},{"$f":"IFERROR(VLOOKUP(T7,'P2'!$B$59:$J$64,9,FALSE),\"\")","v":""},{"$f":"IFERROR(VLOOKUP(U7,'P2'!$B$59:$J$64,9,FALSE),\"\")","v":7.7499999999999991},{"$f":"IFERROR(VLOOKUP(V7,'P2'!$B$59:$J$64,9,FALSE),\"\")","v":7.7499999999999991},{"$f":"IFERROR(VLOOKUP(W7,'P2'!$B$59:$J$64,9,FALSE),\"\")","v":7.7499999999999991},{"$f":"IFERROR(VLOOKUP(X7,'P2'!$B$59:$J$64,9,FALSE),\"\")","v":7.7499999999999991},{"$f":"IFERROR(VLOOKUP(Y7,'P2'!$B$59:$J$64,9,FALSE),\"\")","v":7.7499999999999991},{"$f":"IFERROR(VLOOKUP(Z7,'P2'!$B$59:$J$64,9,FALSE),\"\")","v":""},{"$f":"IFERROR(VLOOKUP(AA7,'P2'!$B$59:$J$64,9,FALSE),\"\")","v":""},{"$f":"IFERROR(VLOOKUP(AB7,'P2'!$B$59:$J$64,9,FALSE),\"\")","v":7.7499999999999991},{"$f":"IFERROR(VLOOKUP(AC7,'P2'!$B$59:$J$64,9,FALSE),\"\")","v":7.7499999999999991},{"$f":"IFERROR(VLOOKUP(AD7,'P2'!$B$59:$J$64,9,FALSE),\"\")","v":7.7499999999999991},{"$f":"IFERROR(VLOOKUP(AE7,'P2'!$B$59:$J$64,9,FALSE),\"\")","v":7.7499999999999991},{"$f":"IFERROR(VLOOKUP(AF7,'P2'!$B$59:$J$64,9,FALSE),\"\")","v":7.7499999999999991},{"$f":"IFERROR(VLOOKUP(AG7,'P2'!$B$59:$J$64,9,FALSE),\"\")","v":""},{"$f":"IFERROR(VLOOKUP(AH7,'P2'!$B$59:$J$64,9,FALSE),\"\")","v":""},{"$f":"IFERROR(VLOOKUP(AI7,'P2'!$B$59:$J$64,9,FALSE),\"\")","v":7.7499999999999991},{"$f":"IFERROR(VLOOKUP(AJ7,'P2'!$B$59:$J$64,9,FALSE),\"\")","v":7.7499999999999991},{"$f":"IFERROR(VLOOKUP(AK7,'P2'!$B$59:$J$64,9,FALSE),\"\")","v":7.7499999999999991},{"$f":"IFERROR(VLOOKUP(AL7,'P2'!$B$59:$J$64,9,FALSE),\"\")","v":7.7499999999999991},{"$f":"IFERROR(VLOOKUP(AM7,'P2'!$B$59:$J$64,9,FALSE),\"\")","v":7.7499999999999991},{"$f":"IFERROR(VLOOKUP(AN7,'P2'!$B$59:$J$64,9,FALSE),\"\")","v":""},{"$f":"IFERROR(VLOOKUP(AO7,'P2'!$B$59:$J$64,9,FALSE),\"\")","v":""},{"$f":"IFERROR(VLOOKUP(AP7,'P2'!$B$59:$J$64,9,FALSE),\"\")","v":7.7499999999999991},{"$f":"IFERROR(VLOOKUP(AQ7,'P2'!$B$59:$J$64,9,FALSE),\"\")","v":7.7499999999999991},{"$f":"IFERROR(VLOOKUP(AR7,'P2'!$B$59:$J$64,9,FALSE),\"\")","v":7.7499999999999991},{"$f":"IFERROR(VLOOKUP(AS7,'P2'!$B$59:$J$64,9,FALSE),\"\")","v":7.7499999999999991},{"$f":"IFERROR(VLOOKUP(AT7,'P2'!$B$59:$J$64,9,FALSE),\"\")","v":7.7499999999999991},{"$f":"IFERROR(VLOOKUP(AU7,'P2'!$B$59:$J$64,9,FALSE),\"\")","v":""},{"$f":"SUM(Q8:AU8)","v":170.49999999999997},null,null,null,null,2,"火","サービス提供責任者",null,null,null,null,null,null,null,null,2026,8]
[null,"例","サービス提供責任者",null,null,null,null,null,"××　××",null,null,null,null,"常勤\n専従",null,null,"B","B",null,null,"B","B","B","B","B",null,null,"B","B","B","B","B",null,null,"B","B","B","B","B",null,null,"B","B","B","B","B","B",{"$f":"COUNTA(Q9:AU9)","v":23},{"$f":"AV10","v":155.25},{"$f":"IFERROR(ROUNDDOWN(AV10/$AT$3,1),\"\")","v":""},null,null,3,"水","ヘルパー",null,null,null,null,null,null,null,null,2027,9]
[null,null,null,null,null,null,null,null,null,null,null,null,null,null,null,null,{"$f":"IFERROR(VLOOKUP(Q9,'P2'!$B$59:$J$64,9,FALSE),\"\")","v":6.75},{"$f":"IFERROR(VLOOKUP(R9,'P2'!$B$59:$J$64,9,FALSE),\"\")","v":6.75},{"$f":"IFERROR(VLOOKUP(S9,'P2'!$B$59:$J$64,9,FALSE),\"\")","v":""},{"$f":"IFERROR(VLOOKUP(T9,'P2'!$B$59:$J$64,9,FALSE),\"\")","v":""},{"$f":"IFERROR(VLOOKUP(U9,'P2'!$B$59:$J$64,9,FALSE),\"\")","v":6.75},{"$f":"IFERROR(VLOOKUP(V9,'P2'!$B$59:$J$64,9,FALSE),\"\")","v":6.75},{"$f":"IFERROR(VLOOKUP(W9,'P2'!$B$59:$J$64,9,FALSE),\"\")","v":6.75},{"$f":"IFERROR(VLOOKUP(X9,'P2'!$B$59:$J$64,9,FALSE),\"\")","v":6.75},{"$f":"IFERROR(VLOOKUP(Y9,'P2'!$B$59:$J$64,9,FALSE),\"\")","v":6.75},{"$f":"IFERROR(VLOOKUP(Z9,'P2'!$B$59:$J$64,9,FALSE),\"\")","v":""},{"$f":"IFERROR(VLOOKUP(AA9,'P2'!$B$59:$J$64,9,FALSE),\"\")","v":""},{"$f":"IFERROR(VLOOKUP(AB9,'P2'!$B$59:$J$64,9,FALSE),\"\")","v":6.75},{"$f":"IFERROR(VLOOKUP(AC9,'P2'!$B$59:$J$64,9,FALSE),\"\")","v":6.75},{"$f":"IFERROR(VLOOKUP(AD9,'P2'!$B$59:$J$64,9,FALSE),\"\")","v":6.75},{"$f":"IFERROR(VLOOKUP(AE9,'P2'!$B$59:$J$64,9,FALSE),\"\")","v":6.75},{"$f":"IFERROR(VLOOKUP(AF9,'P2'!$B$59:$J$64,9,FALSE),\"\")","v":6.75},{"$f":"IFERROR(VLOOKUP(AG9,'P2'!$B$59:$J$64,9,FALSE),\"\")","v":""},{"$f":"IFERROR(VLOOKUP(AH9,'P2'!$B$59:$J$64,9,FALSE),\"\")","v":""},{"$f":"IFERROR(VLOOKUP(AI9,'P2'!$B$59:$J$64,9,FALSE),\"\")","v":6.75},{"$f":"IFERROR(VLOOKUP(AJ9,'P2'!$B$59:$J$64,9,FALSE),\"\")","v":6.75},{"$f":"IFERROR(VLOOKUP(AK9,'P2'!$B$59:$J$64,9,FALSE),\"\")","v":6.75},{"$f":"IFERROR(VLOOKUP(AL9,'P2'!$B$59:$J$64,9,FALSE),\"\")","v":6.75},{"$f":"IFERROR(VLOOKUP(AM9,'P2'!$B$59:$J$64,9,FALSE),\"\")","v":6.75},{"$f":"IFERROR(VLOOKUP(AN9,'P2'!$B$59:$J$64,9,FALSE),\"\")","v":""},{"$f":"IFERROR(VLOOKUP(AO9,'P2'!$B$59:$J$64,9,FALSE),\"\")","v":""},{"$f":"IFERROR(VLOOKUP(AP9,'P2'!$B$59:$J$64,9,FALSE),\"\")","v":6.75},{"$f":"IFERROR(VLOOKUP(AQ9,'P2'!$B$59:$J$64,9,FALSE),\"\")","v":6.75},{"$f":"IFERROR(VLOOKUP(AR9,'P2'!$B$59:$J$64,9,FALSE),\"\")","v":6.75},{"$f":"IFERROR(VLOOKUP(AS9,'P2'!$B$59:$J$64,9,FALSE),\"\")","v":6.75},{"$f":"IFERROR(VLOOKUP(AT9,'P2'!$B$59:$J$64,9,FALSE),\"\")","v":6.75},{"$f":"IFERROR(VLOOKUP(AU9,'P2'!$B$59:$J$64,9,FALSE),\"\")","v":6.75},{"$f":"SUM(Q10:AU10)","v":155.25},null,null,null,null,4,"木","登録ヘルパー",null,null,null,null,null,null,null,null,2028,10]
[null,"例","ヘルパー",null,null,null,null,null,"△△　△△",null,null,null,null,"非常勤\n兼務",null,null,"登②","登②",null,null,"登①","登①",null,"登②","登②",null,null,"登①","登①",null,"登②","登②",null,null,"登①","登①",null,"登②","登②",null,null,"登①","登①",null,"登②","登②",null,{"$f":"COUNTA(Q11:AU11)","v":18},{"$f":"AV12","v":39.5},{"$f":"IFERROR(ROUNDDOWN(AV12/$AT$3,1),\"\")","v":""},null,null,5,"金",null,null,null,null,null,null,null,null,null,2029,11]
[null,null,null,null,null,null,null,null,null,null,null,null,null,null,null,null,{"$f":"IFERROR(VLOOKUP(Q11,'P2'!$B$59:$J$64,9,FALSE),\"\")","v":2.75},{"$f":"IFERROR(VLOOKUP(R11,'P2'!$B$59:$J$64,9,FALSE),\"\")","v":2.75},{"$f":"IFERROR(VLOOKUP(S11,'P2'!$B$59:$J$64,9,FALSE),\"\")","v":""},{"$f":"IFERROR(VLOOKUP(T11,'P2'!$B$59:$J$64,9,FALSE),\"\")","v":""},{"$f":"IFERROR(VLOOKUP(U11,'P2'!$B$59:$J$64,9,FALSE),\"\")","v":1.5},{"$f":"IFERROR(VLOOKUP(V11,'P2'!$B$59:$J$64,9,FALSE),\"\")","v":1.5},{"$f":"IFERROR(VLOOKUP(W11,'P2'!$B$59:$J$64,9,FALSE),\"\")","v":""},{"$f":"IFERROR(VLOOKUP(X11,'P2'!$B$59:$J$64,9,FALSE),\"\")","v":2.75},{"$f":"IFERROR(VLOOKUP(Y11,'P2'!$B$59:$J$64,9,FALSE),\"\")","v":2.75},{"$f":"IFERROR(VLOOKUP(Z11,'P2'!$B$59:$J$64,9,FALSE),\"\")","v":""},{"$f":"IFERROR(VLOOKUP(AA11,'P2'!$B$59:$J$64,9,FALSE),\"\")","v":""},{"$f":"IFERROR(VLOOKUP(AB11,'P2'!$B$59:$J$64,9,FALSE),\"\")","v":1.5},{"$f":"IFERROR(VLOOKUP(AC11,'P2'!$B$59:$J$64,9,FALSE),\"\")","v":1.5},{"$f":"IFERROR(VLOOKUP(AD11,'P2'!$B$59:$J$64,9,FALSE),\"\")","v":""},{"$f":"IFERROR(VLOOKUP(AE11,'P2'!$B$59:$J$64,9,FALSE),\"\")","v":2.75},{"$f":"IFERROR(VLOOKUP(AF11,'P2'!$B$59:$J$64,9,FALSE),\"\")","v":2.75},{"$f":"IFERROR(VLOOKUP(AG11,'P2'!$B$59:$J$64,9,FALSE),\"\")","v":""},{"$f":"IFERROR(VLOOKUP(AH11,'P2'!$B$59:$J$64,9,FALSE),\"\")","v":""},{"$f":"IFERROR(VLOOKUP(AI11,'P2'!$B$59:$J$64,9,FALSE),\"\")","v":1.5},{"$f":"IFERROR(VLOOKUP(AJ11,'P2'!$B$59:$J$64,9,FALSE),\"\")","v":1.5},{"$f":"IFERROR(VLOOKUP(AK11,'P2'!$B$59:$J$64,9,FALSE),\"\")","v":""},{"$f":"IFERROR(VLOOKUP(AL11,'P2'!$B$59:$J$64,9,FALSE),\"\")","v":2.75},{"$f":"IFERROR(VLOOKUP(AM11,'P2'!$B$59:$J$64,9,FALSE),\"\")","v":2.75},{"$f":"IFERROR(VLOOKUP(AN11,'P2'!$B$59:$J$64,9,FALSE),\"\")","v":""},{"$f":"IFERROR(VLOOKUP(AO11,'P2'!$B$59:$J$64,9,FALSE),\"\")","v":""},{"$f":"IFERROR(VLOOKUP(AP11,'P2'!$B$59:$J$64,9,FALSE),\"\")","v":1.5},{"$f":"IFERROR(VLOOKUP(AQ11,'P2'!$B$59:$J$64,9,FALSE),\"\")","v":1.5},{"$f":"IFERROR(VLOOKUP(AR11,'P2'!$B$59:$J$64,9,FALSE),\"\")","v":""},{"$f":"IFERROR(VLOOKUP(AS11,'P2'!$B$59:$J$64,9,FALSE),\"\")","v":2.75},{"$f":"IFERROR(VLOOKUP(AT11,'P2'!$B$59:$J$64,9,FALSE),\"\")","v":2.75},{"$f":"IFERROR(VLOOKUP(AU11,'P2'!$B$59:$J$64,9,FALSE),\"\")","v":""},{"$f":"SUM(Q12:AU12)","v":39.5},null,null,null,null,6,"土",null,null,null,null,null,null,null,null,null,2030,12]
[null,{"$f":"ROW(B1)","v":1},null,null,null,null,null,null,null,null,null,null,null,null,null,null,null,null,null,null,null,null,null,null,null,null,null,null,null,null,null,null,null,null,null,null,null,null,null,null,null,null,null,null,null,null,null,{"$f":"COUNTA(Q13:AU13)","v":0},{"$f":"AV14","v":0},{"$f":"IFERROR(ROUNDDOWN(AV14/$AT$3,1),\"\")","v":""},null,null,7,"日"]
[null,null,null,null,null,null,null,null,null,null,null,null,null,null,null,null,{"$f":"IFERROR(VLOOKUP(Q13,'P2'!$B$4:$J$48,9,FALSE),\"\")","v":""},{"$f":"IFERROR(VLOOKUP(R13,'P2'!$B$4:$J$48,9,FALSE),\"\")","v":""},{"$f":"IFERROR(VLOOKUP(S13,'P2'!$B$4:$J$48,9,FALSE),\"\")","v":""},{"$f":"IFERROR(VLOOKUP(T13,'P2'!$B$4:$J$48,9,FALSE),\"\")","v":""},{"$f":"IFERROR(VLOOKUP(U13,'P2'!$B$4:$J$48,9,FALSE),\"\")","v":""},{"$f":"IFERROR(VLOOKUP(V13,'P2'!$B$4:$J$48,9,FALSE),\"\")","v":""},{"$f":"IFERROR(VLOOKUP(W13,'P2'!$B$4:$J$48,9,FALSE),\"\")","v":""},{"$f":"IFERROR(VLOOKUP(X13,'P2'!$B$4:$J$48,9,FALSE),\"\")","v":""},{"$f":"IFERROR(VLOOKUP(Y13,'P2'!$B$4:$J$48,9,FALSE),\"\")","v":""},{"$f":"IFERROR(VLOOKUP(Z13,'P2'!$B$4:$J$48,9,FALSE),\"\")","v":""},{"$f":"IFERROR(VLOOKUP(AA13,'P2'!$B$4:$J$48,9,FALSE),\"\")","v":""},{"$f":"IFERROR(VLOOKUP(AB13,'P2'!$B$4:$J$48,9,FALSE),\"\")","v":""},{"$f":"IFERROR(VLOOKUP(AC13,'P2'!$B$4:$J$48,9,FALSE),\"\")","v":""},{"$f":"IFERROR(VLOOKUP(AD13,'P2'!$B$4:$J$48,9,FALSE),\"\")","v":""},{"$f":"IFERROR(VLOOKUP(AE13,'P2'!$B$4:$J$48,9,FALSE),\"\")","v":""},{"$f":"IFERROR(VLOOKUP(AF13,'P2'!$B$4:$J$48,9,FALSE),\"\")","v":""},{"$f":"IFERROR(VLOOKUP(AG13,'P2'!$B$4:$J$48,9,FALSE),\"\")","v":""},{"$f":"IFERROR(VLOOKUP(AH13,'P2'!$B$4:$J$48,9,FALSE),\"\")","v":""},{"$f":"IFERROR(VLOOKUP(AI13,'P2'!$B$4:$J$48,9,FALSE),\"\")","v":""},{"$f":"IFERROR(VLOOKUP(AJ13,'P2'!$B$4:$J$48,9,FALSE),\"\")","v":""},{"$f":"IFERROR(VLOOKUP(AK13,'P2'!$B$4:$J$48,9,FALSE),\"\")","v":""},{"$f":"IFERROR(VLOOKUP(AL13,'P2'!$B$4:$J$48,9,FALSE),\"\")","v":""},{"$f":"IFERROR(VLOOKUP(AM13,'P2'!$B$4:$J$48,9,FALSE),\"\")","v":""},{"$f":"IFERROR(VLOOKUP(AN13,'P2'!$B$4:$J$48,9,FALSE),\"\")","v":""},{"$f":"IFERROR(VLOOKUP(AO13,'P2'!$B$4:$J$48,9,FALSE),\"\")","v":""},{"$f":"IFERROR(VLOOKUP(AP13,'P2'!$B$4:$J$48,9,FALSE),\"\")","v":""},{"$f":"IFERROR(VLOOKUP(AQ13,'P2'!$B$4:$J$48,9,FALSE),\"\")","v":""},{"$f":"IFERROR(VLOOKUP(AR13,'P2'!$B$4:$J$48,9,FALSE),\"\")","v":""},{"$f":"IFERROR(VLOOKUP(AS13,'P2'!$B$4:$J$48,9,FALSE),\"\")","v":""},{"$f":"IFERROR(VLOOKUP(AT13,'P2'!$B$4:$J$48,9,FALSE),\"\")","v":""},{"$f":"IFERROR(VLOOKUP(AU13,'P2'!$B$4:$J$48,9,FALSE),\"\")","v":""},{"$f":"SUM(Q14:AU14)","v":0}]
[null,{"$f":"B13+1","v":2},null,null,null,null,null,null,null,null,null,null,null,null,null,null,null,null,null,null,null,null,null,null,null,null,null,null,null,null,null,null,null,null,null,null,null,null,null,null,null,null,null,null,null,null,null,{"$f":"COUNTA(Q15:AU15)","v":0},{"$f":"AV16","v":0},{"$f":"IFERROR(ROUNDDOWN(AV16/$AT$3,1),\"\")","v":""}]
[null,null,null,null,null,null,null,null,null,null,null,null,null,null,null,null,{"$f":"IFERROR(VLOOKUP(Q15,'P2'!$B$4:$J$48,9,FALSE),\"\")","v":""},{"$f":"IFERROR(VLOOKUP(R15,'P2'!$B$4:$J$48,9,FALSE),\"\")","v":""},{"$f":"IFERROR(VLOOKUP(S15,'P2'!$B$4:$J$48,9,FALSE),\"\")","v":""},{"$f":"IFERROR(VLOOKUP(T15,'P2'!$B$4:$J$48,9,FALSE),\"\")","v":""},{"$f":"IFERROR(VLOOKUP(U15,'P2'!$B$4:$J$48,9,FALSE),\"\")","v":""},{"$f":"IFERROR(VLOOKUP(V15,'P2'!$B$4:$J$48,9,FALSE),\"\")","v":""},{"$f":"IFERROR(VLOOKUP(W15,'P2'!$B$4:$J$48,9,FALSE),\"\")","v":""},{"$f":"IFERROR(VLOOKUP(X15,'P2'!$B$4:$J$48,9,FALSE),\"\")","v":""},{"$f":"IFERROR(VLOOKUP(Y15,'P2'!$B$4:$J$48,9,FALSE),\"\")","v":""},{"$f":"IFERROR(VLOOKUP(Z15,'P2'!$B$4:$J$48,9,FALSE),\"\")","v":""},{"$f":"IFERROR(VLOOKUP(AA15,'P2'!$B$4:$J$48,9,FALSE),\"\")","v":""},{"$f":"IFERROR(VLOOKUP(AB15,'P2'!$B$4:$J$48,9,FALSE),\"\")","v":""},{"$f":"IFERROR(VLOOKUP(AC15,'P2'!$B$4:$J$48,9,FALSE),\"\")","v":""},{"$f":"IFERROR(VLOOKUP(AD15,'P2'!$B$4:$J$48,9,FALSE),\"\")","v":""},{"$f":"IFERROR(VLOOKUP(AE15,'P2'!$B$4:$J$48,9,FALSE),\"\")","v":""},{"$f":"IFERROR(VLOOKUP(AF15,'P2'!$B$4:$J$48,9,FALSE),\"\")","v":""},{"$f":"IFERROR(VLOOKUP(AG15,'P2'!$B$4:$J$48,9,FALSE),\"\")","v":""},{"$f":"IFERROR(VLOOKUP(AH15,'P2'!$B$4:$J$48,9,FALSE),\"\")","v":""},{"$f":"IFERROR(VLOOKUP(AI15,'P2'!$B$4:$J$48,9,FALSE),\"\")","v":""},{"$f":"IFERROR(VLOOKUP(AJ15,'P2'!$B$4:$J$48,9,FALSE),\"\")","v":""},{"$f":"IFERROR(VLOOKUP(AK15,'P2'!$B$4:$J$48,9,FALSE),\"\")","v":""},{"$f":"IFERROR(VLOOKUP(AL15,'P2'!$B$4:$J$48,9,FALSE),\"\")","v":""},{"$f":"IFERROR(VLOOKUP(AM15,'P2'!$B$4:$J$48,9,FALSE),\"\")","v":""},{"$f":"IFERROR(VLOOKUP(AN15,'P2'!$B$4:$J$48,9,FALSE),\"\")","v":""},{"$f":"IFERROR(VLOOKUP(AO15,'P2'!$B$4:$J$48,9,FALSE),\"\")","v":""},{"$f":"IFERROR(VLOOKUP(AP15,'P2'!$B$4:$J$48,9,FALSE),\"\")","v":""},{"$f":"IFERROR(VLOOKUP(AQ15,'P2'!$B$4:$J$48,9,FALSE),\"\")","v":""},{"$f":"IFERROR(VLOOKUP(AR15,'P2'!$B$4:$J$48,9,FALSE),\"\")","v":""},{"$f":"IFERROR(VLOOKUP(AS15,'P2'!$B$4:$J$48,9,FALSE),\"\")","v":""},{"$f":"IFERROR(VLOOKUP(AT15,'P2'!$B$4:$J$48,9,FALSE),\"\")","v":""},{"$f":"IFERROR(VLOOKUP(AU15,'P2'!$B$4:$J$48,9,FALSE),\"\")","v":""},{"$f":"SUM(Q16:AU16)","v":0}]
[null,{"$f":"B15+1","v":3},null,null,null,null,null,null,null,null,null,null,null,null,null,null,null,null,null,null,null,null,null,null,null,null,null,null,null,null,null,null,null,null,null,null,null,null,null,null,null,null,null,null,null,null,null,{"$f":"COUNTA(Q17:AU17)","v":0},{"$f":"AV18","v":0},{"$f":"IFERROR(ROUNDDOWN(AV18/$AT$3,1),\"\")","v":""}]
[null,null,null,null,null,null,null,null,null,null,null,null,null,null,null,null,{"$f":"IFERROR(VLOOKUP(Q17,'P2'!$B$4:$J$48,9,FALSE),\"\")","v":""},{"$f":"IFERROR(VLOOKUP(R17,'P2'!$B$4:$J$48,9,FALSE),\"\")","v":""},{"$f":"IFERROR(VLOOKUP(S17,'P2'!$B$4:$J$48,9,FALSE),\"\")","v":""},{"$f":"IFERROR(VLOOKUP(T17,'P2'!$B$4:$J$48,9,FALSE),\"\")","v":""},{"$f":"IFERROR(VLOOKUP(U17,'P2'!$B$4:$J$48,9,FALSE),\"\")","v":""},{"$f":"IFERROR(VLOOKUP(V17,'P2'!$B$4:$J$48,9,FALSE),\"\")","v":""},{"$f":"IFERROR(VLOOKUP(W17,'P2'!$B$4:$J$48,9,FALSE),\"\")","v":""},{"$f":"IFERROR(VLOOKUP(X17,'P2'!$B$4:$J$48,9,FALSE),\"\")","v":""},{"$f":"IFERROR(VLOOKUP(Y17,'P2'!$B$4:$J$48,9,FALSE),\"\")","v":""},{"$f":"IFERROR(VLOOKUP(Z17,'P2'!$B$4:$J$48,9,FALSE),\"\")","v":""},{"$f":"IFERROR(VLOOKUP(AA17,'P2'!$B$4:$J$48,9,FALSE),\"\")","v":""},{"$f":"IFERROR(VLOOKUP(AB17,'P2'!$B$4:$J$48,9,FALSE),\"\")","v":""},{"$f":"IFERROR(VLOOKUP(AC17,'P2'!$B$4:$J$48,9,FALSE),\"\")","v":""},{"$f":"IFERROR(VLOOKUP(AD17,'P2'!$B$4:$J$48,9,FALSE),\"\")","v":""},{"$f":"IFERROR(VLOOKUP(AE17,'P2'!$B$4:$J$48,9,FALSE),\"\")","v":""},{"$f":"IFERROR(VLOOKUP(AF17,'P2'!$B$4:$J$48,9,FALSE),\"\")","v":""},{"$f":"IFERROR(VLOOKUP(AG17,'P2'!$B$4:$J$48,9,FALSE),\"\")","v":""},{"$f":"IFERROR(VLOOKUP(AH17,'P2'!$B$4:$J$48,9,FALSE),\"\")","v":""},{"$f":"IFERROR(VLOOKUP(AI17,'P2'!$B$4:$J$48,9,FALSE),\"\")","v":""},{"$f":"IFERROR(VLOOKUP(AJ17,'P2'!$B$4:$J$48,9,FALSE),\"\")","v":""},{"$f":"IFERROR(VLOOKUP(AK17,'P2'!$B$4:$J$48,9,FALSE),\"\")","v":""},{"$f":"IFERROR(VLOOKUP(AL17,'P2'!$B$4:$J$48,9,FALSE),\"\")","v":""},{"$f":"IFERROR(VLOOKUP(AM17,'P2'!$B$4:$J$48,9,FALSE),\"\")","v":""},{"$f":"IFERROR(VLOOKUP(AN17,'P2'!$B$4:$J$48,9,FALSE),\"\")","v":""},{"$f":"IFERROR(VLOOKUP(AO17,'P2'!$B$4:$J$48,9,FALSE),\"\")","v":""},{"$f":"IFERROR(VLOOKUP(AP17,'P2'!$B$4:$J$48,9,FALSE),\"\")","v":""},{"$f":"IFERROR(VLOOKUP(AQ17,'P2'!$B$4:$J$48,9,FALSE),\"\")","v":""},{"$f":"IFERROR(VLOOKUP(AR17,'P2'!$B$4:$J$48,9,FALSE),\"\")","v":""},{"$f":"IFERROR(VLOOKUP(AS17,'P2'!$B$4:$J$48,9,FALSE),\"\")","v":""},{"$f":"IFERROR(VLOOKUP(AT17,'P2'!$B$4:$J$48,9,FALSE),\"\")","v":""},{"$f":"IFERROR(VLOOKUP(AU17,'P2'!$B$4:$J$48,9,FALSE),\"\")","v":""},{"$f":"SUM(Q18:AU18)","v":0}]
[null,{"$f":"B17+1","v":4},null,null,null,null,null,null,null,null,null,null,null,null,null,null,null,null,null,null,null,null,null,null,null,null,null,null,null,null,null,null,null,null,null,null,null,null,null,null,null,null,null,null,null,null,null,{"$f":"COUNTA(Q19:AU19)","v":0},{"$f":"AV20","v":0},{"$f":"IFERROR(ROUNDDOWN(AV20/$AT$3,1),\"\")","v":""}]
[null,null,null,null,null,null,null,null,null,null,null,null,null,null,null,null,{"$f":"IFERROR(VLOOKUP(Q19,'P2'!$B$4:$J$48,9,FALSE),\"\")","v":""},{"$f":"IFERROR(VLOOKUP(R19,'P2'!$B$4:$J$48,9,FALSE),\"\")","v":""},{"$f":"IFERROR(VLOOKUP(S19,'P2'!$B$4:$J$48,9,FALSE),\"\")","v":""},{"$f":"IFERROR(VLOOKUP(T19,'P2'!$B$4:$J$48,9,FALSE),\"\")","v":""},{"$f":"IFERROR(VLOOKUP(U19,'P2'!$B$4:$J$48,9,FALSE),\"\")","v":""},{"$f":"IFERROR(VLOOKUP(V19,'P2'!$B$4:$J$48,9,FALSE),\"\")","v":""},{"$f":"IFERROR(VLOOKUP(W19,'P2'!$B$4:$J$48,9,FALSE),\"\")","v":""},{"$f":"IFERROR(VLOOKUP(X19,'P2'!$B$4:$J$48,9,FALSE),\"\")","v":""},{"$f":"IFERROR(VLOOKUP(Y19,'P2'!$B$4:$J$48,9,FALSE),\"\")","v":""},{"$f":"IFERROR(VLOOKUP(Z19,'P2'!$B$4:$J$48,9,FALSE),\"\")","v":""},{"$f":"IFERROR(VLOOKUP(AA19,'P2'!$B$4:$J$48,9,FALSE),\"\")","v":""},{"$f":"IFERROR(VLOOKUP(AB19,'P2'!$B$4:$J$48,9,FALSE),\"\")","v":""},{"$f":"IFERROR(VLOOKUP(AC19,'P2'!$B$4:$J$48,9,FALSE),\"\")","v":""},{"$f":"IFERROR(VLOOKUP(AD19,'P2'!$B$4:$J$48,9,FALSE),\"\")","v":""},{"$f":"IFERROR(VLOOKUP(AE19,'P2'!$B$4:$J$48,9,FALSE),\"\")","v":""},{"$f":"IFERROR(VLOOKUP(AF19,'P2'!$B$4:$J$48,9,FALSE),\"\")","v":""},{"$f":"IFERROR(VLOOKUP(AG19,'P2'!$B$4:$J$48,9,FALSE),\"\")","v":""},{"$f":"IFERROR(VLOOKUP(AH19,'P2'!$B$4:$J$48,9,FALSE),\"\")","v":""},{"$f":"IFERROR(VLOOKUP(AI19,'P2'!$B$4:$J$48,9,FALSE),\"\")","v":""},{"$f":"IFERROR(VLOOKUP(AJ19,'P2'!$B$4:$J$48,9,FALSE),\"\")","v":""},{"$f":"IFERROR(VLOOKUP(AK19,'P2'!$B$4:$J$48,9,FALSE),\"\")","v":""},{"$f":"IFERROR(VLOOKUP(AL19,'P2'!$B$4:$J$48,9,FALSE),\"\")","v":""},{"$f":"IFERROR(VLOOKUP(AM19,'P2'!$B$4:$J$48,9,FALSE),\"\")","v":""},{"$f":"IFERROR(VLOOKUP(AN19,'P2'!$B$4:$J$48,9,FALSE),\"\")","v":""},{"$f":"IFERROR(VLOOKUP(AO19,'P2'!$B$4:$J$48,9,FALSE),\"\")","v":""},{"$f":"IFERROR(VLOOKUP(AP19,'P2'!$B$4:$J$48,9,FALSE),\"\")","v":""},{"$f":"IFERROR(VLOOKUP(AQ19,'P2'!$B$4:$J$48,9,FALSE),\"\")","v":""},{"$f":"IFERROR(VLOOKUP(AR19,'P2'!$B$4:$J$48,9,FALSE),\"\")","v":""},{"$f":"IFERROR(VLOOKUP(AS19,'P2'!$B$4:$J$48,9,FALSE),\"\")","v":""},{"$f":"IFERROR(VLOOKUP(AT19,'P2'!$B$4:$J$48,9,FALSE),\"\")","v":""},{"$f":"IFERROR(VLOOKUP(AU19,'P2'!$B$4:$J$48,9,FALSE),\"\")","v":""},{"$f":"SUM(Q20:AU20)","v":0}]
[null,{"$f":"B19+1","v":5},null,null,null,null,null,null,null,null,null,null,null,null,null,null,null,null,null,null,null,null,null,null,null,null,null,null,null,null,null,null,null,null,null,null,null,null,null,null,null,null,null,null,null,null,null,{"$f":"COUNTA(Q21:AU21)","v":0},{"$f":"AV22","v":0},{"$f":"IFERROR(ROUNDDOWN(AV22/$AT$3,1),\"\")","v":""}]
[null,null,null,null,null,null,null,null,null,null,null,null,null,null,null,null,{"$f":"IFERROR(VLOOKUP(Q21,'P2'!$B$4:$J$48,9,FALSE),\"\")","v":""},{"$f":"IFERROR(VLOOKUP(R21,'P2'!$B$4:$J$48,9,FALSE),\"\")","v":""},{"$f":"IFERROR(VLOOKUP(S21,'P2'!$B$4:$J$48,9,FALSE),\"\")","v":""},{"$f":"IFERROR(VLOOKUP(T21,'P2'!$B$4:$J$48,9,FALSE),\"\")","v":""},{"$f":"IFERROR(VLOOKUP(U21,'P2'!$B$4:$J$48,9,FALSE),\"\")","v":""},{"$f":"IFERROR(VLOOKUP(V21,'P2'!$B$4:$J$48,9,FALSE),\"\")","v":""},{"$f":"IFERROR(VLOOKUP(W21,'P2'!$B$4:$J$48,9,FALSE),\"\")","v":""},{"$f":"IFERROR(VLOOKUP(X21,'P2'!$B$4:$J$48,9,FALSE),\"\")","v":""},{"$f":"IFERROR(VLOOKUP(Y21,'P2'!$B$4:$J$48,9,FALSE),\"\")","v":""},{"$f":"IFERROR(VLOOKUP(Z21,'P2'!$B$4:$J$48,9,FALSE),\"\")","v":""},{"$f":"IFERROR(VLOOKUP(AA21,'P2'!$B$4:$J$48,9,FALSE),\"\")","v":""},{"$f":"IFERROR(VLOOKUP(AB21,'P2'!$B$4:$J$48,9,FALSE),\"\")","v":""},{"$f":"IFERROR(VLOOKUP(AC21,'P2'!$B$4:$J$48,9,FALSE),\"\")","v":""},{"$f":"IFERROR(VLOOKUP(AD21,'P2'!$B$4:$J$48,9,FALSE),\"\")","v":""},{"$f":"IFERROR(VLOOKUP(AE21,'P2'!$B$4:$J$48,9,FALSE),\"\")","v":""},{"$f":"IFERROR(VLOOKUP(AF21,'P2'!$B$4:$J$48,9,FALSE),\"\")","v":""},{"$f":"IFERROR(VLOOKUP(AG21,'P2'!$B$4:$J$48,9,FALSE),\"\")","v":""},{"$f":"IFERROR(VLOOKUP(AH21,'P2'!$B$4:$J$48,9,FALSE),\"\")","v":""},{"$f":"IFERROR(VLOOKUP(AI21,'P2'!$B$4:$J$48,9,FALSE),\"\")","v":""},{"$f":"IFERROR(VLOOKUP(AJ21,'P2'!$B$4:$J$48,9,FALSE),\"\")","v":""},{"$f":"IFERROR(VLOOKUP(AK21,'P2'!$B$4:$J$48,9,FALSE),\"\")","v":""},{"$f":"IFERROR(VLOOKUP(AL21,'P2'!$B$4:$J$48,9,FALSE),\"\")","v":""},{"$f":"IFERROR(VLOOKUP(AM21,'P2'!$B$4:$J$48,9,FALSE),\"\")","v":""},{"$f":"IFERROR(VLOOKUP(AN21,'P2'!$B$4:$J$48,9,FALSE),\"\")","v":""},{"$f":"IFERROR(VLOOKUP(AO21,'P2'!$B$4:$J$48,9,FALSE),\"\")","v":""},{"$f":"IFERROR(VLOOKUP(AP21,'P2'!$B$4:$J$48,9,FALSE),\"\")","v":""},{"$f":"IFERROR(VLOOKUP(AQ21,'P2'!$B$4:$J$48,9,FALSE),\"\")","v":""},{"$f":"IFERROR(VLOOKUP(AR21,'P2'!$B$4:$J$48,9,FALSE),\"\")","v":""},{"$f":"IFERROR(VLOOKUP(AS21,'P2'!$B$4:$J$48,9,FALSE),\"\")","v":""},{"$f":"IFERROR(VLOOKUP(AT21,'P2'!$B$4:$J$48,9,FALSE),\"\")","v":""},{"$f":"IFERROR(VLOOKUP(AU21,'P2'!$B$4:$J$48,9,FALSE),\"\")","v":""},{"$f":"SUM(Q22:AU22)","v":0}]
[null,{"$f":"B21+1","v":6},null,null,null,null,null,null,null,null,null,null,null,null,null,null,null,null,null,null,null,null,null,null,null,null,null,null,null,null,null,null,null,null,null,null,null,null,null,null,null,null,null,null,null,null,null,{"$f":"COUNTA(Q23:AU23)","v":0},{"$f":"AV24","v":0},{"$f":"IFERROR(ROUNDDOWN(AV24/$AT$3,1),\"\")","v":""}]
[null,null,null,null,null,null,null,null,null,null,null,null,null,null,null,null,{"$f":"IFERROR(VLOOKUP(Q23,'P2'!$B$4:$J$48,9,FALSE),\"\")","v":""},{"$f":"IFERROR(VLOOKUP(R23,'P2'!$B$4:$J$48,9,FALSE),\"\")","v":""},{"$f":"IFERROR(VLOOKUP(S23,'P2'!$B$4:$J$48,9,FALSE),\"\")","v":""},{"$f":"IFERROR(VLOOKUP(T23,'P2'!$B$4:$J$48,9,FALSE),\"\")","v":""},{"$f":"IFERROR(VLOOKUP(U23,'P2'!$B$4:$J$48,9,FALSE),\"\")","v":""},{"$f":"IFERROR(VLOOKUP(V23,'P2'!$B$4:$J$48,9,FALSE),\"\")","v":""},{"$f":"IFERROR(VLOOKUP(W23,'P2'!$B$4:$J$48,9,FALSE),\"\")","v":""},{"$f":"IFERROR(VLOOKUP(X23,'P2'!$B$4:$J$48,9,FALSE),\"\")","v":""},{"$f":"IFERROR(VLOOKUP(Y23,'P2'!$B$4:$J$48,9,FALSE),\"\")","v":""},{"$f":"IFERROR(VLOOKUP(Z23,'P2'!$B$4:$J$48,9,FALSE),\"\")","v":""},{"$f":"IFERROR(VLOOKUP(AA23,'P2'!$B$4:$J$48,9,FALSE),\"\")","v":""},{"$f":"IFERROR(VLOOKUP(AB23,'P2'!$B$4:$J$48,9,FALSE),\"\")","v":""},{"$f":"IFERROR(VLOOKUP(AC23,'P2'!$B$4:$J$48,9,FALSE),\"\")","v":""},{"$f":"IFERROR(VLOOKUP(AD23,'P2'!$B$4:$J$48,9,FALSE),\"\")","v":""},{"$f":"IFERROR(VLOOKUP(AE23,'P2'!$B$4:$J$48,9,FALSE),\"\")","v":""},{"$f":"IFERROR(VLOOKUP(AF23,'P2'!$B$4:$J$48,9,FALSE),\"\")","v":""},{"$f":"IFERROR(VLOOKUP(AG23,'P2'!$B$4:$J$48,9,FALSE),\"\")","v":""},{"$f":"IFERROR(VLOOKUP(AH23,'P2'!$B$4:$J$48,9,FALSE),\"\")","v":""},{"$f":"IFERROR(VLOOKUP(AI23,'P2'!$B$4:$J$48,9,FALSE),\"\")","v":""},{"$f":"IFERROR(VLOOKUP(AJ23,'P2'!$B$4:$J$48,9,FALSE),\"\")","v":""},{"$f":"IFERROR(VLOOKUP(AK23,'P2'!$B$4:$J$48,9,FALSE),\"\")","v":""},{"$f":"IFERROR(VLOOKUP(AL23,'P2'!$B$4:$J$48,9,FALSE),\"\")","v":""},{"$f":"IFERROR(VLOOKUP(AM23,'P2'!$B$4:$J$48,9,FALSE),\"\")","v":""},{"$f":"IFERROR(VLOOKUP(AN23,'P2'!$B$4:$J$48,9,FALSE),\"\")","v":""},{"$f":"IFERROR(VLOOKUP(AO23,'P2'!$B$4:$J$48,9,FALSE),\"\")","v":""},{"$f":"IFERROR(VLOOKUP(AP23,'P2'!$B$4:$J$48,9,FALSE),\"\")","v":""},{"$f":"IFERROR(VLOOKUP(AQ23,'P2'!$B$4:$J$48,9,FALSE),\"\")","v":""},{"$f":"IFERROR(VLOOKUP(AR23,'P2'!$B$4:$J$48,9,FALSE),\"\")","v":""},{"$f":"IFERROR(VLOOKUP(AS23,'P2'!$B$4:$J$48,9,FALSE),\"\")","v":""},{"$f":"IFERROR(VLOOKUP(AT23,'P2'!$B$4:$J$48,9,FALSE),\"\")","v":""},{"$f":"IFERROR(VLOOKUP(AU23,'P2'!$B$4:$J$48,9,FALSE),\"\")","v":""},{"$f":"SUM(Q24:AU24)","v":0}]
[null,{"$f":"B23+1","v":7},null,null,null,null,null,null,null,null,null,null,null,null,null,null,null,null,null,null,null,null,null,null,null,null,null,null,null,null,null,null,null,null,null,null,null,null,null,null,null,null,null,null,null,null,null,{"$f":"COUNTA(Q25:AU25)","v":0},{"$f":"AV26","v":0},{"$f":"IFERROR(ROUNDDOWN(AV26/$AT$3,1),\"\")","v":""}]
[null,null,null,null,null,null,null,null,null,null,null,null,null,null,null,null,{"$f":"IFERROR(VLOOKUP(Q25,'P2'!$B$4:$J$48,9,FALSE),\"\")","v":""},{"$f":"IFERROR(VLOOKUP(R25,'P2'!$B$4:$J$48,9,FALSE),\"\")","v":""},{"$f":"IFERROR(VLOOKUP(S25,'P2'!$B$4:$J$48,9,FALSE),\"\")","v":""},{"$f":"IFERROR(VLOOKUP(T25,'P2'!$B$4:$J$48,9,FALSE),\"\")","v":""},{"$f":"IFERROR(VLOOKUP(U25,'P2'!$B$4:$J$48,9,FALSE),\"\")","v":""},{"$f":"IFERROR(VLOOKUP(V25,'P2'!$B$4:$J$48,9,FALSE),\"\")","v":""},{"$f":"IFERROR(VLOOKUP(W25,'P2'!$B$4:$J$48,9,FALSE),\"\")","v":""},{"$f":"IFERROR(VLOOKUP(X25,'P2'!$B$4:$J$48,9,FALSE),\"\")","v":""},{"$f":"IFERROR(VLOOKUP(Y25,'P2'!$B$4:$J$48,9,FALSE),\"\")","v":""},{"$f":"IFERROR(VLOOKUP(Z25,'P2'!$B$4:$J$48,9,FALSE),\"\")","v":""},{"$f":"IFERROR(VLOOKUP(AA25,'P2'!$B$4:$J$48,9,FALSE),\"\")","v":""},{"$f":"IFERROR(VLOOKUP(AB25,'P2'!$B$4:$J$48,9,FALSE),\"\")","v":""},{"$f":"IFERROR(VLOOKUP(AC25,'P2'!$B$4:$J$48,9,FALSE),\"\")","v":""},{"$f":"IFERROR(VLOOKUP(AD25,'P2'!$B$4:$J$48,9,FALSE),\"\")","v":""},{"$f":"IFERROR(VLOOKUP(AE25,'P2'!$B$4:$J$48,9,FALSE),\"\")","v":""},{"$f":"IFERROR(VLOOKUP(AF25,'P2'!$B$4:$J$48,9,FALSE),\"\")","v":""},{"$f":"IFERROR(VLOOKUP(AG25,'P2'!$B$4:$J$48,9,FALSE),\"\")","v":""},{"$f":"IFERROR(VLOOKUP(AH25,'P2'!$B$4:$J$48,9,FALSE),\"\")","v":""},{"$f":"IFERROR(VLOOKUP(AI25,'P2'!$B$4:$J$48,9,FALSE),\"\")","v":""},{"$f":"IFERROR(VLOOKUP(AJ25,'P2'!$B$4:$J$48,9,FALSE),\"\")","v":""},{"$f":"IFERROR(VLOOKUP(AK25,'P2'!$B$4:$J$48,9,FALSE),\"\")","v":""},{"$f":"IFERROR(VLOOKUP(AL25,'P2'!$B$4:$J$48,9,FALSE),\"\")","v":""},{"$f":"IFERROR(VLOOKUP(AM25,'P2'!$B$4:$J$48,9,FALSE),\"\")","v":""},{"$f":"IFERROR(VLOOKUP(AN25,'P2'!$B$4:$J$48,9,FALSE),\"\")","v":""},{"$f":"IFERROR(VLOOKUP(AO25,'P2'!$B$4:$J$48,9,FALSE),\"\")","v":""},{"$f":"IFERROR(VLOOKUP(AP25,'P2'!$B$4:$J$48,9,FALSE),\"\")","v":""},{"$f":"IFERROR(VLOOKUP(AQ25,'P2'!$B$4:$J$48,9,FALSE),\"\")","v":""},{"$f":"IFERROR(VLOOKUP(AR25,'P2'!$B$4:$J$48,9,FALSE),\"\")","v":""},{"$f":"IFERROR(VLOOKUP(AS25,'P2'!$B$4:$J$48,9,FALSE),\"\")","v":""},{"$f":"IFERROR(VLOOKUP(AT25,'P2'!$B$4:$J$48,9,FALSE),\"\")","v":""},{"$f":"IFERROR(VLOOKUP(AU25,'P2'!$B$4:$J$48,9,FALSE),\"\")","v":""},{"$f":"SUM(Q26:AU26)","v":0}]
[null,{"$f":"B25+1","v":8},null,null,null,null,null,null,null,null,null,null,null,null,null,null,null,null,null,null,null,null,null,null,null,null,null,null,null,null,null,null,null,null,null,null,null,null,null,null,null,null,null,null,null,null,null,{"$f":"COUNTA(Q27:AU27)","v":0},{"$f":"AV28","v":0},{"$f":"IFERROR(ROUNDDOWN(AV28/$AT$3,1),\"\")","v":""}]
[null,null,null,null,null,null,null,null,null,null,null,null,null,null,null,null,{"$f":"IFERROR(VLOOKUP(Q27,'P2'!$B$4:$J$48,9,FALSE),\"\")","v":""},{"$f":"IFERROR(VLOOKUP(R27,'P2'!$B$4:$J$48,9,FALSE),\"\")","v":""},{"$f":"IFERROR(VLOOKUP(S27,'P2'!$B$4:$J$48,9,FALSE),\"\")","v":""},{"$f":"IFERROR(VLOOKUP(T27,'P2'!$B$4:$J$48,9,FALSE),\"\")","v":""},{"$f":"IFERROR(VLOOKUP(U27,'P2'!$B$4:$J$48,9,FALSE),\"\")","v":""},{"$f":"IFERROR(VLOOKUP(V27,'P2'!$B$4:$J$48,9,FALSE),\"\")","v":""},{"$f":"IFERROR(VLOOKUP(W27,'P2'!$B$4:$J$48,9,FALSE),\"\")","v":""},{"$f":"IFERROR(VLOOKUP(X27,'P2'!$B$4:$J$48,9,FALSE),\"\")","v":""},{"$f":"IFERROR(VLOOKUP(Y27,'P2'!$B$4:$J$48,9,FALSE),\"\")","v":""},{"$f":"IFERROR(VLOOKUP(Z27,'P2'!$B$4:$J$48,9,FALSE),\"\")","v":""},{"$f":"IFERROR(VLOOKUP(AA27,'P2'!$B$4:$J$48,9,FALSE),\"\")","v":""},{"$f":"IFERROR(VLOOKUP(AB27,'P2'!$B$4:$J$48,9,FALSE),\"\")","v":""},{"$f":"IFERROR(VLOOKUP(AC27,'P2'!$B$4:$J$48,9,FALSE),\"\")","v":""},{"$f":"IFERROR(VLOOKUP(AD27,'P2'!$B$4:$J$48,9,FALSE),\"\")","v":""},{"$f":"IFERROR(VLOOKUP(AE27,'P2'!$B$4:$J$48,9,FALSE),\"\")","v":""},{"$f":"IFERROR(VLOOKUP(AF27,'P2'!$B$4:$J$48,9,FALSE),\"\")","v":""},{"$f":"IFERROR(VLOOKUP(AG27,'P2'!$B$4:$J$48,9,FALSE),\"\")","v":""},{"$f":"IFERROR(VLOOKUP(AH27,'P2'!$B$4:$J$48,9,FALSE),\"\")","v":""},{"$f":"IFERROR(VLOOKUP(AI27,'P2'!$B$4:$J$48,9,FALSE),\"\")","v":""},{"$f":"IFERROR(VLOOKUP(AJ27,'P2'!$B$4:$J$48,9,FALSE),\"\")","v":""},{"$f":"IFERROR(VLOOKUP(AK27,'P2'!$B$4:$J$48,9,FALSE),\"\")","v":""},{"$f":"IFERROR(VLOOKUP(AL27,'P2'!$B$4:$J$48,9,FALSE),\"\")","v":""},{"$f":"IFERROR(VLOOKUP(AM27,'P2'!$B$4:$J$48,9,FALSE),\"\")","v":""},{"$f":"IFERROR(VLOOKUP(AN27,'P2'!$B$4:$J$48,9,FALSE),\"\")","v":""},{"$f":"IFERROR(VLOOKUP(AO27,'P2'!$B$4:$J$48,9,FALSE),\"\")","v":""},{"$f":"IFERROR(VLOOKUP(AP27,'P2'!$B$4:$J$48,9,FALSE),\"\")","v":""},{"$f":"IFERROR(VLOOKUP(AQ27,'P2'!$B$4:$J$48,9,FALSE),\"\")","v":""},{"$f":"IFERROR(VLOOKUP(AR27,'P2'!$B$4:$J$48,9,FALSE),\"\")","v":""},{"$f":"IFERROR(VLOOKUP(AS27,'P2'!$B$4:$J$48,9,FALSE),\"\")","v":""},{"$f":"IFERROR(VLOOKUP(AT27,'P2'!$B$4:$J$48,9,FALSE),\"\")","v":""},{"$f":"IFERROR(VLOOKUP(AU27,'P2'!$B$4:$J$48,9,FALSE),\"\")","v":""},{"$f":"SUM(Q28:AU28)","v":0}]
[null,{"$f":"B27+1","v":9},null,null,null,null,null,null,null,null,null,null,null,null,null,null,null,null,null,null,null,null,null,null,null,null,null,null,null,null,null,null,null,null,null,null,null,null,null,null,null,null,null,null,null,null,null,{"$f":"COUNTA(Q29:AU29)","v":0},{"$f":"AV30","v":0},{"$f":"IFERROR(ROUNDDOWN(AV30/$AT$3,1),\"\")","v":""}]
[null,null,null,null,null,null,null,null,null,null,null,null,null,null,null,null,{"$f":"IFERROR(VLOOKUP(Q29,'P2'!$B$4:$J$48,9,FALSE),\"\")","v":""},{"$f":"IFERROR(VLOOKUP(R29,'P2'!$B$4:$J$48,9,FALSE),\"\")","v":""},{"$f":"IFERROR(VLOOKUP(S29,'P2'!$B$4:$J$48,9,FALSE),\"\")","v":""},{"$f":"IFERROR(VLOOKUP(T29,'P2'!$B$4:$J$48,9,FALSE),\"\")","v":""},{"$f":"IFERROR(VLOOKUP(U29,'P2'!$B$4:$J$48,9,FALSE),\"\")","v":""},{"$f":"IFERROR(VLOOKUP(V29,'P2'!$B$4:$J$48,9,FALSE),\"\")","v":""},{"$f":"IFERROR(VLOOKUP(W29,'P2'!$B$4:$J$48,9,FALSE),\"\")","v":""},{"$f":"IFERROR(VLOOKUP(X29,'P2'!$B$4:$J$48,9,FALSE),\"\")","v":""},{"$f":"IFERROR(VLOOKUP(Y29,'P2'!$B$4:$J$48,9,FALSE),\"\")","v":""},{"$f":"IFERROR(VLOOKUP(Z29,'P2'!$B$4:$J$48,9,FALSE),\"\")","v":""},{"$f":"IFERROR(VLOOKUP(AA29,'P2'!$B$4:$J$48,9,FALSE),\"\")","v":""},{"$f":"IFERROR(VLOOKUP(AB29,'P2'!$B$4:$J$48,9,FALSE),\"\")","v":""},{"$f":"IFERROR(VLOOKUP(AC29,'P2'!$B$4:$J$48,9,FALSE),\"\")","v":""},{"$f":"IFERROR(VLOOKUP(AD29,'P2'!$B$4:$J$48,9,FALSE),\"\")","v":""},{"$f":"IFERROR(VLOOKUP(AE29,'P2'!$B$4:$J$48,9,FALSE),\"\")","v":""},{"$f":"IFERROR(VLOOKUP(AF29,'P2'!$B$4:$J$48,9,FALSE),\"\")","v":""},{"$f":"IFERROR(VLOOKUP(AG29,'P2'!$B$4:$J$48,9,FALSE),\"\")","v":""},{"$f":"IFERROR(VLOOKUP(AH29,'P2'!$B$4:$J$48,9,FALSE),\"\")","v":""},{"$f":"IFERROR(VLOOKUP(AI29,'P2'!$B$4:$J$48,9,FALSE),\"\")","v":""},{"$f":"IFERROR(VLOOKUP(AJ29,'P2'!$B$4:$J$48,9,FALSE),\"\")","v":""},{"$f":"IFERROR(VLOOKUP(AK29,'P2'!$B$4:$J$48,9,FALSE),\"\")","v":""},{"$f":"IFERROR(VLOOKUP(AL29,'P2'!$B$4:$J$48,9,FALSE),\"\")","v":""},{"$f":"IFERROR(VLOOKUP(AM29,'P2'!$B$4:$J$48,9,FALSE),\"\")","v":""},{"$f":"IFERROR(VLOOKUP(AN29,'P2'!$B$4:$J$48,9,FALSE),\"\")","v":""},{"$f":"IFERROR(VLOOKUP(AO29,'P2'!$B$4:$J$48,9,FALSE),\"\")","v":""},{"$f":"IFERROR(VLOOKUP(AP29,'P2'!$B$4:$J$48,9,FALSE),\"\")","v":""},{"$f":"IFERROR(VLOOKUP(AQ29,'P2'!$B$4:$J$48,9,FALSE),\"\")","v":""},{"$f":"IFERROR(VLOOKUP(AR29,'P2'!$B$4:$J$48,9,FALSE),\"\")","v":""},{"$f":"IFERROR(VLOOKUP(AS29,'P2'!$B$4:$J$48,9,FALSE),\"\")","v":""},{"$f":"IFERROR(VLOOKUP(AT29,'P2'!$B$4:$J$48,9,FALSE),\"\")","v":""},{"$f":"IFERROR(VLOOKUP(AU29,'P2'!$B$4:$J$48,9,FALSE),\"\")","v":""},{"$f":"SUM(Q30:AU30)","v":0}]
[null,{"$f":"B29+1","v":10},null,null,null,null,null,null,null,null,null,null,null,null,null,null,null,null,null,null,null,null,null,null,null,null,null,null,null,null,null,null,null,null,null,null,null,null,null,null,null,null,null,null,null,null,null,{"$f":"COUNTA(Q31:AU31)","v":0},{"$f":"AV32","v":0},{"$f":"IFERROR(ROUNDDOWN(AV32/$AT$3,1),\"\")","v":""}]
[null,null,null,null,null,null,null,null,null,null,null,null,null,null,null,null,{"$f":"IFERROR(VLOOKUP(Q31,'P2'!$B$4:$J$48,9,FALSE),\"\")","v":""},{"$f":"IFERROR(VLOOKUP(R31,'P2'!$B$4:$J$48,9,FALSE),\"\")","v":""},{"$f":"IFERROR(VLOOKUP(S31,'P2'!$B$4:$J$48,9,FALSE),\"\")","v":""},{"$f":"IFERROR(VLOOKUP(T31,'P2'!$B$4:$J$48,9,FALSE),\"\")","v":""},{"$f":"IFERROR(VLOOKUP(U31,'P2'!$B$4:$J$48,9,FALSE),\"\")","v":""},{"$f":"IFERROR(VLOOKUP(V31,'P2'!$B$4:$J$48,9,FALSE),\"\")","v":""},{"$f":"IFERROR(VLOOKUP(W31,'P2'!$B$4:$J$48,9,FALSE),\"\")","v":""},{"$f":"IFERROR(VLOOKUP(X31,'P2'!$B$4:$J$48,9,FALSE),\"\")","v":""},{"$f":"IFERROR(VLOOKUP(Y31,'P2'!$B$4:$J$48,9,FALSE),\"\")","v":""},{"$f":"IFERROR(VLOOKUP(Z31,'P2'!$B$4:$J$48,9,FALSE),\"\")","v":""},{"$f":"IFERROR(VLOOKUP(AA31,'P2'!$B$4:$J$48,9,FALSE),\"\")","v":""},{"$f":"IFERROR(VLOOKUP(AB31,'P2'!$B$4:$J$48,9,FALSE),\"\")","v":""},{"$f":"IFERROR(VLOOKUP(AC31,'P2'!$B$4:$J$48,9,FALSE),\"\")","v":""},{"$f":"IFERROR(VLOOKUP(AD31,'P2'!$B$4:$J$48,9,FALSE),\"\")","v":""},{"$f":"IFERROR(VLOOKUP(AE31,'P2'!$B$4:$J$48,9,FALSE),\"\")","v":""},{"$f":"IFERROR(VLOOKUP(AF31,'P2'!$B$4:$J$48,9,FALSE),\"\")","v":""},{"$f":"IFERROR(VLOOKUP(AG31,'P2'!$B$4:$J$48,9,FALSE),\"\")","v":""},{"$f":"IFERROR(VLOOKUP(AH31,'P2'!$B$4:$J$48,9,FALSE),\"\")","v":""},{"$f":"IFERROR(VLOOKUP(AI31,'P2'!$B$4:$J$48,9,FALSE),\"\")","v":""},{"$f":"IFERROR(VLOOKUP(AJ31,'P2'!$B$4:$J$48,9,FALSE),\"\")","v":""},{"$f":"IFERROR(VLOOKUP(AK31,'P2'!$B$4:$J$48,9,FALSE),\"\")","v":""},{"$f":"IFERROR(VLOOKUP(AL31,'P2'!$B$4:$J$48,9,FALSE),\"\")","v":""},{"$f":"IFERROR(VLOOKUP(AM31,'P2'!$B$4:$J$48,9,FALSE),\"\")","v":""},{"$f":"IFERROR(VLOOKUP(AN31,'P2'!$B$4:$J$48,9,FALSE),\"\")","v":""},{"$f":"IFERROR(VLOOKUP(AO31,'P2'!$B$4:$J$48,9,FALSE),\"\")","v":""},{"$f":"IFERROR(VLOOKUP(AP31,'P2'!$B$4:$J$48,9,FALSE),\"\")","v":""},{"$f":"IFERROR(VLOOKUP(AQ31,'P2'!$B$4:$J$48,9,FALSE),\"\")","v":""},{"$f":"IFERROR(VLOOKUP(AR31,'P2'!$B$4:$J$48,9,FALSE),\"\")","v":""},{"$f":"IFERROR(VLOOKUP(AS31,'P2'!$B$4:$J$48,9,FALSE),\"\")","v":""},{"$f":"IFERROR(VLOOKUP(AT31,'P2'!$B$4:$J$48,9,FALSE),\"\")","v":""},{"$f":"IFERROR(VLOOKUP(AU31,'P2'!$B$4:$J$48,9,FALSE),\"\")","v":""},{"$f":"SUM(Q32:AU32)","v":0}]
[null,{"$f":"B31+1","v":11},null,null,null,null,null,null,null,null,null,null,null,null,null,null,null,null,null,null,null,null,null,null,null,null,null,null,null,null,null,null,null,null,null,null,null,null,null,null,null,null,null,null,null,null,null,{"$f":"COUNTA(Q33:AU33)","v":0},{"$f":"AV34","v":0},{"$f":"IFERROR(ROUNDDOWN(AV34/$AT$3,1),\"\")","v":""}]
[null,null,null,null,null,null,null,null,null,null,null,null,null,null,null,null,{"$f":"IFERROR(VLOOKUP(Q33,'P2'!$B$4:$J$48,9,FALSE),\"\")","v":""},{"$f":"IFERROR(VLOOKUP(R33,'P2'!$B$4:$J$48,9,FALSE),\"\")","v":""},{"$f":"IFERROR(VLOOKUP(S33,'P2'!$B$4:$J$48,9,FALSE),\"\")","v":""},{"$f":"IFERROR(VLOOKUP(T33,'P2'!$B$4:$J$48,9,FALSE),\"\")","v":""},{"$f":"IFERROR(VLOOKUP(U33,'P2'!$B$4:$J$48,9,FALSE),\"\")","v":""},{"$f":"IFERROR(VLOOKUP(V33,'P2'!$B$4:$J$48,9,FALSE),\"\")","v":""},{"$f":"IFERROR(VLOOKUP(W33,'P2'!$B$4:$J$48,9,FALSE),\"\")","v":""},{"$f":"IFERROR(VLOOKUP(X33,'P2'!$B$4:$J$48,9,FALSE),\"\")","v":""},{"$f":"IFERROR(VLOOKUP(Y33,'P2'!$B$4:$J$48,9,FALSE),\"\")","v":""},{"$f":"IFERROR(VLOOKUP(Z33,'P2'!$B$4:$J$48,9,FALSE),\"\")","v":""},{"$f":"IFERROR(VLOOKUP(AA33,'P2'!$B$4:$J$48,9,FALSE),\"\")","v":""},{"$f":"IFERROR(VLOOKUP(AB33,'P2'!$B$4:$J$48,9,FALSE),\"\")","v":""},{"$f":"IFERROR(VLOOKUP(AC33,'P2'!$B$4:$J$48,9,FALSE),\"\")","v":""},{"$f":"IFERROR(VLOOKUP(AD33,'P2'!$B$4:$J$48,9,FALSE),\"\")","v":""},{"$f":"IFERROR(VLOOKUP(AE33,'P2'!$B$4:$J$48,9,FALSE),\"\")","v":""},{"$f":"IFERROR(VLOOKUP(AF33,'P2'!$B$4:$J$48,9,FALSE),\"\")","v":""},{"$f":"IFERROR(VLOOKUP(AG33,'P2'!$B$4:$J$48,9,FALSE),\"\")","v":""},{"$f":"IFERROR(VLOOKUP(AH33,'P2'!$B$4:$J$48,9,FALSE),\"\")","v":""},{"$f":"IFERROR(VLOOKUP(AI33,'P2'!$B$4:$J$48,9,FALSE),\"\")","v":""},{"$f":"IFERROR(VLOOKUP(AJ33,'P2'!$B$4:$J$48,9,FALSE),\"\")","v":""},{"$f":"IFERROR(VLOOKUP(AK33,'P2'!$B$4:$J$48,9,FALSE),\"\")","v":""},{"$f":"IFERROR(VLOOKUP(AL33,'P2'!$B$4:$J$48,9,FALSE),\"\")","v":""},{"$f":"IFERROR(VLOOKUP(AM33,'P2'!$B$4:$J$48,9,FALSE),\"\")","v":""},{"$f":"IFERROR(VLOOKUP(AN33,'P2'!$B$4:$J$48,9,FALSE),\"\")","v":""},{"$f":"IFERROR(VLOOKUP(AO33,'P2'!$B$4:$J$48,9,FALSE),\"\")","v":""},{"$f":"IFERROR(VLOOKUP(AP33,'P2'!$B$4:$J$48,9,FALSE),\"\")","v":""},{"$f":"IFERROR(VLOOKUP(AQ33,'P2'!$B$4:$J$48,9,FALSE),\"\")","v":""},{"$f":"IFERROR(VLOOKUP(AR33,'P2'!$B$4:$J$48,9,FALSE),\"\")","v":""},{"$f":"IFERROR(VLOOKUP(AS33,'P2'!$B$4:$J$48,9,FALSE),\"\")","v":""},{"$f":"IFERROR(VLOOKUP(AT33,'P2'!$B$4:$J$48,9,FALSE),\"\")","v":""},{"$f":"IFERROR(VLOOKUP(AU33,'P2'!$B$4:$J$48,9,FALSE),\"\")","v":""},{"$f":"SUM(Q34:AU34)","v":0}]
[null,{"$f":"B33+1","v":12},null,null,null,null,null,null,null,null,null,null,null,null,null,null,null,null,null,null,null,null,null,null,null,null,null,null,null,null,null,null,null,null,null,null,null,null,null,null,null,null,null,null,null,null,null,{"$f":"COUNTA(Q35:AU35)","v":0},{"$f":"AV36","v":0},{"$f":"IFERROR(ROUNDDOWN(AV36/$AT$3,1),\"\")","v":""}]
[null,null,null,null,null,null,null,null,null,null,null,null,null,null,null,null,{"$f":"IFERROR(VLOOKUP(Q35,'P2'!$B$4:$J$48,9,FALSE),\"\")","v":""},{"$f":"IFERROR(VLOOKUP(R35,'P2'!$B$4:$J$48,9,FALSE),\"\")","v":""},{"$f":"IFERROR(VLOOKUP(S35,'P2'!$B$4:$J$48,9,FALSE),\"\")","v":""},{"$f":"IFERROR(VLOOKUP(T35,'P2'!$B$4:$J$48,9,FALSE),\"\")","v":""},{"$f":"IFERROR(VLOOKUP(U35,'P2'!$B$4:$J$48,9,FALSE),\"\")","v":""},{"$f":"IFERROR(VLOOKUP(V35,'P2'!$B$4:$J$48,9,FALSE),\"\")","v":""},{"$f":"IFERROR(VLOOKUP(W35,'P2'!$B$4:$J$48,9,FALSE),\"\")","v":""},{"$f":"IFERROR(VLOOKUP(X35,'P2'!$B$4:$J$48,9,FALSE),\"\")","v":""},{"$f":"IFERROR(VLOOKUP(Y35,'P2'!$B$4:$J$48,9,FALSE),\"\")","v":""},{"$f":"IFERROR(VLOOKUP(Z35,'P2'!$B$4:$J$48,9,FALSE),\"\")","v":""},{"$f":"IFERROR(VLOOKUP(AA35,'P2'!$B$4:$J$48,9,FALSE),\"\")","v":""},{"$f":"IFERROR(VLOOKUP(AB35,'P2'!$B$4:$J$48,9,FALSE),\"\")","v":""},{"$f":"IFERROR(VLOOKUP(AC35,'P2'!$B$4:$J$48,9,FALSE),\"\")","v":""},{"$f":"IFERROR(VLOOKUP(AD35,'P2'!$B$4:$J$48,9,FALSE),\"\")","v":""},{"$f":"IFERROR(VLOOKUP(AE35,'P2'!$B$4:$J$48,9,FALSE),\"\")","v":""},{"$f":"IFERROR(VLOOKUP(AF35,'P2'!$B$4:$J$48,9,FALSE),\"\")","v":""},{"$f":"IFERROR(VLOOKUP(AG35,'P2'!$B$4:$J$48,9,FALSE),\"\")","v":""},{"$f":"IFERROR(VLOOKUP(AH35,'P2'!$B$4:$J$48,9,FALSE),\"\")","v":""},{"$f":"IFERROR(VLOOKUP(AI35,'P2'!$B$4:$J$48,9,FALSE),\"\")","v":""},{"$f":"IFERROR(VLOOKUP(AJ35,'P2'!$B$4:$J$48,9,FALSE),\"\")","v":""},{"$f":"IFERROR(VLOOKUP(AK35,'P2'!$B$4:$J$48,9,FALSE),\"\")","v":""},{"$f":"IFERROR(VLOOKUP(AL35,'P2'!$B$4:$J$48,9,FALSE),\"\")","v":""},{"$f":"IFERROR(VLOOKUP(AM35,'P2'!$B$4:$J$48,9,FALSE),\"\")","v":""},{"$f":"IFERROR(VLOOKUP(AN35,'P2'!$B$4:$J$48,9,FALSE),\"\")","v":""},{"$f":"IFERROR(VLOOKUP(AO35,'P2'!$B$4:$J$48,9,FALSE),\"\")","v":""},{"$f":"IFERROR(VLOOKUP(AP35,'P2'!$B$4:$J$48,9,FALSE),\"\")","v":""},{"$f":"IFERROR(VLOOKUP(AQ35,'P2'!$B$4:$J$48,9,FALSE),\"\")","v":""},{"$f":"IFERROR(VLOOKUP(AR35,'P2'!$B$4:$J$48,9,FALSE),\"\")","v":""},{"$f":"IFERROR(VLOOKUP(AS35,'P2'!$B$4:$J$48,9,FALSE),\"\")","v":""},{"$f":"IFERROR(VLOOKUP(AT35,'P2'!$B$4:$J$48,9,FALSE),\"\")","v":""},{"$f":"IFERROR(VLOOKUP(AU35,'P2'!$B$4:$J$48,9,FALSE),\"\")","v":""},{"$f":"SUM(Q36:AU36)","v":0}]
[null,{"$f":"B35+1","v":13},null,null,null,null,null,null,null,null,null,null,null,null,null,null,null,null,null,null,null,null,null,null,null,null,null,null,null,null,null,null,null,null,null,null,null,null,null,null,null,null,null,null,null,null,null,{"$f":"COUNTA(Q37:AU37)","v":0},{"$f":"AV38","v":0},{"$f":"IFERROR(ROUNDDOWN(AV38/$AT$3,1),\"\")","v":""}]
[null,null,null,null,null,null,null,null,null,null,null,null,null,null,null,null,{"$f":"IFERROR(VLOOKUP(Q37,'P2'!$B$4:$J$48,9,FALSE),\"\")","v":""},{"$f":"IFERROR(VLOOKUP(R37,'P2'!$B$4:$J$48,9,FALSE),\"\")","v":""},{"$f":"IFERROR(VLOOKUP(S37,'P2'!$B$4:$J$48,9,FALSE),\"\")","v":""},{"$f":"IFERROR(VLOOKUP(T37,'P2'!$B$4:$J$48,9,FALSE),\"\")","v":""},{"$f":"IFERROR(VLOOKUP(U37,'P2'!$B$4:$J$48,9,FALSE),\"\")","v":""},{"$f":"IFERROR(VLOOKUP(V37,'P2'!$B$4:$J$48,9,FALSE),\"\")","v":""},{"$f":"IFERROR(VLOOKUP(W37,'P2'!$B$4:$J$48,9,FALSE),\"\")","v":""},{"$f":"IFERROR(VLOOKUP(X37,'P2'!$B$4:$J$48,9,FALSE),\"\")","v":""},{"$f":"IFERROR(VLOOKUP(Y37,'P2'!$B$4:$J$48,9,FALSE),\"\")","v":""},{"$f":"IFERROR(VLOOKUP(Z37,'P2'!$B$4:$J$48,9,FALSE),\"\")","v":""},{"$f":"IFERROR(VLOOKUP(AA37,'P2'!$B$4:$J$48,9,FALSE),\"\")","v":""},{"$f":"IFERROR(VLOOKUP(AB37,'P2'!$B$4:$J$48,9,FALSE),\"\")","v":""},{"$f":"IFERROR(VLOOKUP(AC37,'P2'!$B$4:$J$48,9,FALSE),\"\")","v":""},{"$f":"IFERROR(VLOOKUP(AD37,'P2'!$B$4:$J$48,9,FALSE),\"\")","v":""},{"$f":"IFERROR(VLOOKUP(AE37,'P2'!$B$4:$J$48,9,FALSE),\"\")","v":""},{"$f":"IFERROR(VLOOKUP(AF37,'P2'!$B$4:$J$48,9,FALSE),\"\")","v":""},{"$f":"IFERROR(VLOOKUP(AG37,'P2'!$B$4:$J$48,9,FALSE),\"\")","v":""},{"$f":"IFERROR(VLOOKUP(AH37,'P2'!$B$4:$J$48,9,FALSE),\"\")","v":""},{"$f":"IFERROR(VLOOKUP(AI37,'P2'!$B$4:$J$48,9,FALSE),\"\")","v":""},{"$f":"IFERROR(VLOOKUP(AJ37,'P2'!$B$4:$J$48,9,FALSE),\"\")","v":""},{"$f":"IFERROR(VLOOKUP(AK37,'P2'!$B$4:$J$48,9,FALSE),\"\")","v":""},{"$f":"IFERROR(VLOOKUP(AL37,'P2'!$B$4:$J$48,9,FALSE),\"\")","v":""},{"$f":"IFERROR(VLOOKUP(AM37,'P2'!$B$4:$J$48,9,FALSE),\"\")","v":""},{"$f":"IFERROR(VLOOKUP(AN37,'P2'!$B$4:$J$48,9,FALSE),\"\")","v":""},{"$f":"IFERROR(VLOOKUP(AO37,'P2'!$B$4:$J$48,9,FALSE),\"\")","v":""},{"$f":"IFERROR(VLOOKUP(AP37,'P2'!$B$4:$J$48,9,FALSE),\"\")","v":""},{"$f":"IFERROR(VLOOKUP(AQ37,'P2'!$B$4:$J$48,9,FALSE),\"\")","v":""},{"$f":"IFERROR(VLOOKUP(AR37,'P2'!$B$4:$J$48,9,FALSE),\"\")","v":""},{"$f":"IFERROR(VLOOKUP(AS37,'P2'!$B$4:$J$48,9,FALSE),\"\")","v":""},{"$f":"IFERROR(VLOOKUP(AT37,'P2'!$B$4:$J$48,9,FALSE),\"\")","v":""},{"$f":"IFERROR(VLOOKUP(AU37,'P2'!$B$4:$J$48,9,FALSE),\"\")","v":""},{"$f":"SUM(Q38:AU38)","v":0}]
[null,{"$f":"B37+1","v":14},null,null,null,null,null,null,null,null,null,null,null,null,null,null,null,null,null,null,null,null,null,null,null,null,null,null,null,null,null,null,null,null,null,null,null,null,null,null,null,null,null,null,null,null,null,{"$f":"COUNTA(Q39:AU39)","v":0},{"$f":"AV40","v":0},{"$f":"IFERROR(ROUNDDOWN(AV40/$AT$3,1),\"\")","v":""}]
[null,null,null,null,null,null,null,null,null,null,null,null,null,null,null,null,{"$f":"IFERROR(VLOOKUP(Q39,'P2'!$B$4:$J$48,9,FALSE),\"\")","v":""},{"$f":"IFERROR(VLOOKUP(R39,'P2'!$B$4:$J$48,9,FALSE),\"\")","v":""},{"$f":"IFERROR(VLOOKUP(S39,'P2'!$B$4:$J$48,9,FALSE),\"\")","v":""},{"$f":"IFERROR(VLOOKUP(T39,'P2'!$B$4:$J$48,9,FALSE),\"\")","v":""},{"$f":"IFERROR(VLOOKUP(U39,'P2'!$B$4:$J$48,9,FALSE),\"\")","v":""},{"$f":"IFERROR(VLOOKUP(V39,'P2'!$B$4:$J$48,9,FALSE),\"\")","v":""},{"$f":"IFERROR(VLOOKUP(W39,'P2'!$B$4:$J$48,9,FALSE),\"\")","v":""},{"$f":"IFERROR(VLOOKUP(X39,'P2'!$B$4:$J$48,9,FALSE),\"\")","v":""},{"$f":"IFERROR(VLOOKUP(Y39,'P2'!$B$4:$J$48,9,FALSE),\"\")","v":""},{"$f":"IFERROR(VLOOKUP(Z39,'P2'!$B$4:$J$48,9,FALSE),\"\")","v":""},{"$f":"IFERROR(VLOOKUP(AA39,'P2'!$B$4:$J$48,9,FALSE),\"\")","v":""},{"$f":"IFERROR(VLOOKUP(AB39,'P2'!$B$4:$J$48,9,FALSE),\"\")","v":""},{"$f":"IFERROR(VLOOKUP(AC39,'P2'!$B$4:$J$48,9,FALSE),\"\")","v":""},{"$f":"IFERROR(VLOOKUP(AD39,'P2'!$B$4:$J$48,9,FALSE),\"\")","v":""},{"$f":"IFERROR(VLOOKUP(AE39,'P2'!$B$4:$J$48,9,FALSE),\"\")","v":""},{"$f":"IFERROR(VLOOKUP(AF39,'P2'!$B$4:$J$48,9,FALSE),\"\")","v":""},{"$f":"IFERROR(VLOOKUP(AG39,'P2'!$B$4:$J$48,9,FALSE),\"\")","v":""},{"$f":"IFERROR(VLOOKUP(AH39,'P2'!$B$4:$J$48,9,FALSE),\"\")","v":""},{"$f":"IFERROR(VLOOKUP(AI39,'P2'!$B$4:$J$48,9,FALSE),\"\")","v":""},{"$f":"IFERROR(VLOOKUP(AJ39,'P2'!$B$4:$J$48,9,FALSE),\"\")","v":""},{"$f":"IFERROR(VLOOKUP(AK39,'P2'!$B$4:$J$48,9,FALSE),\"\")","v":""},{"$f":"IFERROR(VLOOKUP(AL39,'P2'!$B$4:$J$48,9,FALSE),\"\")","v":""},{"$f":"IFERROR(VLOOKUP(AM39,'P2'!$B$4:$J$48,9,FALSE),\"\")","v":""},{"$f":"IFERROR(VLOOKUP(AN39,'P2'!$B$4:$J$48,9,FALSE),\"\")","v":""},{"$f":"IFERROR(VLOOKUP(AO39,'P2'!$B$4:$J$48,9,FALSE),\"\")","v":""},{"$f":"IFERROR(VLOOKUP(AP39,'P2'!$B$4:$J$48,9,FALSE),\"\")","v":""},{"$f":"IFERROR(VLOOKUP(AQ39,'P2'!$B$4:$J$48,9,FALSE),\"\")","v":""},{"$f":"IFERROR(VLOOKUP(AR39,'P2'!$B$4:$J$48,9,FALSE),\"\")","v":""},{"$f":"IFERROR(VLOOKUP(AS39,'P2'!$B$4:$J$48,9,FALSE),\"\")","v":""},{"$f":"IFERROR(VLOOKUP(AT39,'P2'!$B$4:$J$48,9,FALSE),\"\")","v":""},{"$f":"IFERROR(VLOOKUP(AU39,'P2'!$B$4:$J$48,9,FALSE),\"\")","v":""},{"$f":"SUM(Q40:AU40)","v":0}]
[null,{"$f":"B39+1","v":15},null,null,null,null,null,null,null,null,null,null,null,null,null,null,null,null,null,null,null,null,null,null,null,null,null,null,null,null,null,null,null,null,null,null,null,null,null,null,null,null,null,null,null,null,null,{"$f":"COUNTA(Q41:AU41)","v":0},{"$f":"AV42","v":0},{"$f":"IFERROR(ROUNDDOWN(AV42/$AT$3,1),\"\")","v":""}]
[null,null,null,null,null,null,null,null,null,null,null,null,null,null,null,null,{"$f":"IFERROR(VLOOKUP(Q41,'P2'!$B$4:$J$48,9,FALSE),\"\")","v":""},{"$f":"IFERROR(VLOOKUP(R41,'P2'!$B$4:$J$48,9,FALSE),\"\")","v":""},{"$f":"IFERROR(VLOOKUP(S41,'P2'!$B$4:$J$48,9,FALSE),\"\")","v":""},{"$f":"IFERROR(VLOOKUP(T41,'P2'!$B$4:$J$48,9,FALSE),\"\")","v":""},{"$f":"IFERROR(VLOOKUP(U41,'P2'!$B$4:$J$48,9,FALSE),\"\")","v":""},{"$f":"IFERROR(VLOOKUP(V41,'P2'!$B$4:$J$48,9,FALSE),\"\")","v":""},{"$f":"IFERROR(VLOOKUP(W41,'P2'!$B$4:$J$48,9,FALSE),\"\")","v":""},{"$f":"IFERROR(VLOOKUP(X41,'P2'!$B$4:$J$48,9,FALSE),\"\")","v":""},{"$f":"IFERROR(VLOOKUP(Y41,'P2'!$B$4:$J$48,9,FALSE),\"\")","v":""},{"$f":"IFERROR(VLOOKUP(Z41,'P2'!$B$4:$J$48,9,FALSE),\"\")","v":""},{"$f":"IFERROR(VLOOKUP(AA41,'P2'!$B$4:$J$48,9,FALSE),\"\")","v":""},{"$f":"IFERROR(VLOOKUP(AB41,'P2'!$B$4:$J$48,9,FALSE),\"\")","v":""},{"$f":"IFERROR(VLOOKUP(AC41,'P2'!$B$4:$J$48,9,FALSE),\"\")","v":""},{"$f":"IFERROR(VLOOKUP(AD41,'P2'!$B$4:$J$48,9,FALSE),\"\")","v":""},{"$f":"IFERROR(VLOOKUP(AE41,'P2'!$B$4:$J$48,9,FALSE),\"\")","v":""},{"$f":"IFERROR(VLOOKUP(AF41,'P2'!$B$4:$J$48,9,FALSE),\"\")","v":""},{"$f":"IFERROR(VLOOKUP(AG41,'P2'!$B$4:$J$48,9,FALSE),\"\")","v":""},{"$f":"IFERROR(VLOOKUP(AH41,'P2'!$B$4:$J$48,9,FALSE),\"\")","v":""},{"$f":"IFERROR(VLOOKUP(AI41,'P2'!$B$4:$J$48,9,FALSE),\"\")","v":""},{"$f":"IFERROR(VLOOKUP(AJ41,'P2'!$B$4:$J$48,9,FALSE),\"\")","v":""},{"$f":"IFERROR(VLOOKUP(AK41,'P2'!$B$4:$J$48,9,FALSE),\"\")","v":""},{"$f":"IFERROR(VLOOKUP(AL41,'P2'!$B$4:$J$48,9,FALSE),\"\")","v":""},{"$f":"IFERROR(VLOOKUP(AM41,'P2'!$B$4:$J$48,9,FALSE),\"\")","v":""},{"$f":"IFERROR(VLOOKUP(AN41,'P2'!$B$4:$J$48,9,FALSE),\"\")","v":""},{"$f":"IFERROR(VLOOKUP(AO41,'P2'!$B$4:$J$48,9,FALSE),\"\")","v":""},{"$f":"IFERROR(VLOOKUP(AP41,'P2'!$B$4:$J$48,9,FALSE),\"\")","v":""},{"$f":"IFERROR(VLOOKUP(AQ41,'P2'!$B$4:$J$48,9,FALSE),\"\")","v":""},{"$f":"IFERROR(VLOOKUP(AR41,'P2'!$B$4:$J$48,9,FALSE),\"\")","v":""},{"$f":"IFERROR(VLOOKUP(AS41,'P2'!$B$4:$J$48,9,FALSE),\"\")","v":""},{"$f":"IFERROR(VLOOKUP(AT41,'P2'!$B$4:$J$48,9,FALSE),\"\")","v":""},{"$f":"IFERROR(VLOOKUP(AU41,'P2'!$B$4:$J$48,9,FALSE),\"\")","v":""},{"$f":"SUM(Q42:AU42)","v":0}]
[null,{"$f":"B41+1","v":16},null,null,null,null,null,null,null,null,null,null,null,null,null,null,null,null,null,null,null,null,null,null,null,null,null,null,null,null,null,null,null,null,null,null,null,null,null,null,null,null,null,null,null,null,null,{"$f":"COUNTA(Q43:AU43)","v":0},{"$f":"AV44","v":0},{"$f":"IFERROR(ROUNDDOWN(AV44/$AT$3,1),\"\")","v":""}]
[null,null,null,null,null,null,null,null,null,null,null,null,null,null,null,null,{"$f":"IFERROR(VLOOKUP(Q43,'P2'!$B$4:$J$48,9,FALSE),\"\")","v":""},{"$f":"IFERROR(VLOOKUP(R43,'P2'!$B$4:$J$48,9,FALSE),\"\")","v":""},{"$f":"IFERROR(VLOOKUP(S43,'P2'!$B$4:$J$48,9,FALSE),\"\")","v":""},{"$f":"IFERROR(VLOOKUP(T43,'P2'!$B$4:$J$48,9,FALSE),\"\")","v":""},{"$f":"IFERROR(VLOOKUP(U43,'P2'!$B$4:$J$48,9,FALSE),\"\")","v":""},{"$f":"IFERROR(VLOOKUP(V43,'P2'!$B$4:$J$48,9,FALSE),\"\")","v":""},{"$f":"IFERROR(VLOOKUP(W43,'P2'!$B$4:$J$48,9,FALSE),\"\")","v":""},{"$f":"IFERROR(VLOOKUP(X43,'P2'!$B$4:$J$48,9,FALSE),\"\")","v":""},{"$f":"IFERROR(VLOOKUP(Y43,'P2'!$B$4:$J$48,9,FALSE),\"\")","v":""},{"$f":"IFERROR(VLOOKUP(Z43,'P2'!$B$4:$J$48,9,FALSE),\"\")","v":""},{"$f":"IFERROR(VLOOKUP(AA43,'P2'!$B$4:$J$48,9,FALSE),\"\")","v":""},{"$f":"IFERROR(VLOOKUP(AB43,'P2'!$B$4:$J$48,9,FALSE),\"\")","v":""},{"$f":"IFERROR(VLOOKUP(AC43,'P2'!$B$4:$J$48,9,FALSE),\"\")","v":""},{"$f":"IFERROR(VLOOKUP(AD43,'P2'!$B$4:$J$48,9,FALSE),\"\")","v":""},{"$f":"IFERROR(VLOOKUP(AE43,'P2'!$B$4:$J$48,9,FALSE),\"\")","v":""},{"$f":"IFERROR(VLOOKUP(AF43,'P2'!$B$4:$J$48,9,FALSE),\"\")","v":""},{"$f":"IFERROR(VLOOKUP(AG43,'P2'!$B$4:$J$48,9,FALSE),\"\")","v":""},{"$f":"IFERROR(VLOOKUP(AH43,'P2'!$B$4:$J$48,9,FALSE),\"\")","v":""},{"$f":"IFERROR(VLOOKUP(AI43,'P2'!$B$4:$J$48,9,FALSE),\"\")","v":""},{"$f":"IFERROR(VLOOKUP(AJ43,'P2'!$B$4:$J$48,9,FALSE),\"\")","v":""},{"$f":"IFERROR(VLOOKUP(AK43,'P2'!$B$4:$J$48,9,FALSE),\"\")","v":""},{"$f":"IFERROR(VLOOKUP(AL43,'P2'!$B$4:$J$48,9,FALSE),\"\")","v":""},{"$f":"IFERROR(VLOOKUP(AM43,'P2'!$B$4:$J$48,9,FALSE),\"\")","v":""},{"$f":"IFERROR(VLOOKUP(AN43,'P2'!$B$4:$J$48,9,FALSE),\"\")","v":""},{"$f":"IFERROR(VLOOKUP(AO43,'P2'!$B$4:$J$48,9,FALSE),\"\")","v":""},{"$f":"IFERROR(VLOOKUP(AP43,'P2'!$B$4:$J$48,9,FALSE),\"\")","v":""},{"$f":"IFERROR(VLOOKUP(AQ43,'P2'!$B$4:$J$48,9,FALSE),\"\")","v":""},{"$f":"IFERROR(VLOOKUP(AR43,'P2'!$B$4:$J$48,9,FALSE),\"\")","v":""},{"$f":"IFERROR(VLOOKUP(AS43,'P2'!$B$4:$J$48,9,FALSE),\"\")","v":""},{"$f":"IFERROR(VLOOKUP(AT43,'P2'!$B$4:$J$48,9,FALSE),\"\")","v":""},{"$f":"IFERROR(VLOOKUP(AU43,'P2'!$B$4:$J$48,9,FALSE),\"\")","v":""},{"$f":"SUM(Q44:AU44)","v":0}]
[null,{"$f":"B43+1","v":17},null,null,null,null,null,null,null,null,null,null,null,null,null,null,null,null,null,null,null,null,null,null,null,null,null,null,null,null,null,null,null,null,null,null,null,null,null,null,null,null,null,null,null,null,null,{"$f":"COUNTA(Q45:AU45)","v":0},{"$f":"AV46","v":0},{"$f":"IFERROR(ROUNDDOWN(AV46/$AT$3,1),\"\")","v":""}]
[null,null,null,null,null,null,null,null,null,null,null,null,null,null,null,null,{"$f":"IFERROR(VLOOKUP(Q45,'P2'!$B$4:$J$48,9,FALSE),\"\")","v":""},{"$f":"IFERROR(VLOOKUP(R45,'P2'!$B$4:$J$48,9,FALSE),\"\")","v":""},{"$f":"IFERROR(VLOOKUP(S45,'P2'!$B$4:$J$48,9,FALSE),\"\")","v":""},{"$f":"IFERROR(VLOOKUP(T45,'P2'!$B$4:$J$48,9,FALSE),\"\")","v":""},{"$f":"IFERROR(VLOOKUP(U45,'P2'!$B$4:$J$48,9,FALSE),\"\")","v":""},{"$f":"IFERROR(VLOOKUP(V45,'P2'!$B$4:$J$48,9,FALSE),\"\")","v":""},{"$f":"IFERROR(VLOOKUP(W45,'P2'!$B$4:$J$48,9,FALSE),\"\")","v":""},{"$f":"IFERROR(VLOOKUP(X45,'P2'!$B$4:$J$48,9,FALSE),\"\")","v":""},{"$f":"IFERROR(VLOOKUP(Y45,'P2'!$B$4:$J$48,9,FALSE),\"\")","v":""},{"$f":"IFERROR(VLOOKUP(Z45,'P2'!$B$4:$J$48,9,FALSE),\"\")","v":""},{"$f":"IFERROR(VLOOKUP(AA45,'P2'!$B$4:$J$48,9,FALSE),\"\")","v":""},{"$f":"IFERROR(VLOOKUP(AB45,'P2'!$B$4:$J$48,9,FALSE),\"\")","v":""},{"$f":"IFERROR(VLOOKUP(AC45,'P2'!$B$4:$J$48,9,FALSE),\"\")","v":""},{"$f":"IFERROR(VLOOKUP(AD45,'P2'!$B$4:$J$48,9,FALSE),\"\")","v":""},{"$f":"IFERROR(VLOOKUP(AE45,'P2'!$B$4:$J$48,9,FALSE),\"\")","v":""},{"$f":"IFERROR(VLOOKUP(AF45,'P2'!$B$4:$J$48,9,FALSE),\"\")","v":""},{"$f":"IFERROR(VLOOKUP(AG45,'P2'!$B$4:$J$48,9,FALSE),\"\")","v":""},{"$f":"IFERROR(VLOOKUP(AH45,'P2'!$B$4:$J$48,9,FALSE),\"\")","v":""},{"$f":"IFERROR(VLOOKUP(AI45,'P2'!$B$4:$J$48,9,FALSE),\"\")","v":""},{"$f":"IFERROR(VLOOKUP(AJ45,'P2'!$B$4:$J$48,9,FALSE),\"\")","v":""},{"$f":"IFERROR(VLOOKUP(AK45,'P2'!$B$4:$J$48,9,FALSE),\"\")","v":""},{"$f":"IFERROR(VLOOKUP(AL45,'P2'!$B$4:$J$48,9,FALSE),\"\")","v":""},{"$f":"IFERROR(VLOOKUP(AM45,'P2'!$B$4:$J$48,9,FALSE),\"\")","v":""},{"$f":"IFERROR(VLOOKUP(AN45,'P2'!$B$4:$J$48,9,FALSE),\"\")","v":""},{"$f":"IFERROR(VLOOKUP(AO45,'P2'!$B$4:$J$48,9,FALSE),\"\")","v":""},{"$f":"IFERROR(VLOOKUP(AP45,'P2'!$B$4:$J$48,9,FALSE),\"\")","v":""},{"$f":"IFERROR(VLOOKUP(AQ45,'P2'!$B$4:$J$48,9,FALSE),\"\")","v":""},{"$f":"IFERROR(VLOOKUP(AR45,'P2'!$B$4:$J$48,9,FALSE),\"\")","v":""},{"$f":"IFERROR(VLOOKUP(AS45,'P2'!$B$4:$J$48,9,FALSE),\"\")","v":""},{"$f":"IFERROR(VLOOKUP(AT45,'P2'!$B$4:$J$48,9,FALSE),\"\")","v":""},{"$f":"IFERROR(VLOOKUP(AU45,'P2'!$B$4:$J$48,9,FALSE),\"\")","v":""},{"$f":"SUM(Q46:AU46)","v":0}]
[null,{"$f":"B45+1","v":18},null,null,null,null,null,null,null,null,null,null,null,null,null,null,null,null,null,null,null,null,null,null,null,null,null,null,null,null,null,null,null,null,null,null,null,null,null,null,null,null,null,null,null,null,null,{"$f":"COUNTA(Q47:AU47)","v":0},{"$f":"AV48","v":0},{"$f":"IFERROR(ROUNDDOWN(AV48/$AT$3,1),\"\")","v":""}]
[null,null,null,null,null,null,null,null,null,null,null,null,null,null,null,null,{"$f":"IFERROR(VLOOKUP(Q47,'P2'!$B$4:$J$48,9,FALSE),\"\")","v":""},{"$f":"IFERROR(VLOOKUP(R47,'P2'!$B$4:$J$48,9,FALSE),\"\")","v":""},{"$f":"IFERROR(VLOOKUP(S47,'P2'!$B$4:$J$48,9,FALSE),\"\")","v":""},{"$f":"IFERROR(VLOOKUP(T47,'P2'!$B$4:$J$48,9,FALSE),\"\")","v":""},{"$f":"IFERROR(VLOOKUP(U47,'P2'!$B$4:$J$48,9,FALSE),\"\")","v":""},{"$f":"IFERROR(VLOOKUP(V47,'P2'!$B$4:$J$48,9,FALSE),\"\")","v":""},{"$f":"IFERROR(VLOOKUP(W47,'P2'!$B$4:$J$48,9,FALSE),\"\")","v":""},{"$f":"IFERROR(VLOOKUP(X47,'P2'!$B$4:$J$48,9,FALSE),\"\")","v":""},{"$f":"IFERROR(VLOOKUP(Y47,'P2'!$B$4:$J$48,9,FALSE),\"\")","v":""},{"$f":"IFERROR(VLOOKUP(Z47,'P2'!$B$4:$J$48,9,FALSE),\"\")","v":""},{"$f":"IFERROR(VLOOKUP(AA47,'P2'!$B$4:$J$48,9,FALSE),\"\")","v":""},{"$f":"IFERROR(VLOOKUP(AB47,'P2'!$B$4:$J$48,9,FALSE),\"\")","v":""},{"$f":"IFERROR(VLOOKUP(AC47,'P2'!$B$4:$J$48,9,FALSE),\"\")","v":""},{"$f":"IFERROR(VLOOKUP(AD47,'P2'!$B$4:$J$48,9,FALSE),\"\")","v":""},{"$f":"IFERROR(VLOOKUP(AE47,'P2'!$B$4:$J$48,9,FALSE),\"\")","v":""},{"$f":"IFERROR(VLOOKUP(AF47,'P2'!$B$4:$J$48,9,FALSE),\"\")","v":""},{"$f":"IFERROR(VLOOKUP(AG47,'P2'!$B$4:$J$48,9,FALSE),\"\")","v":""},{"$f":"IFERROR(VLOOKUP(AH47,'P2'!$B$4:$J$48,9,FALSE),\"\")","v":""},{"$f":"IFERROR(VLOOKUP(AI47,'P2'!$B$4:$J$48,9,FALSE),\"\")","v":""},{"$f":"IFERROR(VLOOKUP(AJ47,'P2'!$B$4:$J$48,9,FALSE),\"\")","v":""},{"$f":"IFERROR(VLOOKUP(AK47,'P2'!$B$4:$J$48,9,FALSE),\"\")","v":""},{"$f":"IFERROR(VLOOKUP(AL47,'P2'!$B$4:$J$48,9,FALSE),\"\")","v":""},{"$f":"IFERROR(VLOOKUP(AM47,'P2'!$B$4:$J$48,9,FALSE),\"\")","v":""},{"$f":"IFERROR(VLOOKUP(AN47,'P2'!$B$4:$J$48,9,FALSE),\"\")","v":""},{"$f":"IFERROR(VLOOKUP(AO47,'P2'!$B$4:$J$48,9,FALSE),\"\")","v":""},{"$f":"IFERROR(VLOOKUP(AP47,'P2'!$B$4:$J$48,9,FALSE),\"\")","v":""},{"$f":"IFERROR(VLOOKUP(AQ47,'P2'!$B$4:$J$48,9,FALSE),\"\")","v":""},{"$f":"IFERROR(VLOOKUP(AR47,'P2'!$B$4:$J$48,9,FALSE),\"\")","v":""},{"$f":"IFERROR(VLOOKUP(AS47,'P2'!$B$4:$J$48,9,FALSE),\"\")","v":""},{"$f":"IFERROR(VLOOKUP(AT47,'P2'!$B$4:$J$48,9,FALSE),\"\")","v":""},{"$f":"IFERROR(VLOOKUP(AU47,'P2'!$B$4:$J$48,9,FALSE),\"\")","v":""},{"$f":"SUM(Q48:AU48)","v":0}]
[]
[]
[null,"※P2で作成したシフト記号を記載すること。なお、公休の場合は空欄とすること。"]
[null,"※管理者が他の職種と兼務する場合は、職種ごとに分けて記載すること。"]
[]
[null,"(2)　勤務実績　（直近3か月分の実績）",null,null,null,null,null,null,null,null,null,null,null,null,null,null,null,null,"（",{"$f":"$T$3","v":"令和　7"},null,"年",{"$f":"$W$3","v":5},"月分実績",null,"）",null,null,null,null,null,null,null,null,null,null,null,null,null,null,null,null,null,null,null,null,null,null,null,{"$f":"\"2 / \"&COUNTA(C$7,C$57,C$106,C$155,C$204)","v":"2 / 1"}]
[null,null,"職　　種",null,null,null,null,null,"氏　　名",null,null,null,null,"勤務\n形態",null,null,{"$f":"Q$5","v":"2025-05-01"},{"$f":"R$5","v":"2025-05-02"},"2025-05-03","2025-05-04","2025-05-05","2025-05-06","2025-05-07","2025-05-08","2025-05-09","2025-05-10","2025-05-11","2025-05-12","2025-05-13","2025-05-14","2025-05-15","2025-05-16","2025-05-17","2025-05-18","2025-05-19","2025-05-20","2025-05-21","2025-05-22","2025-05-23","2025-05-24","2025-05-25","2025-05-26","2025-05-27","2025-05-28","2025-05-29","2025-05-30","2025-05-31","勤務日数",null,"常勤換算"]
[null,null,null,null,null,null,null,null,null,null,null,null,null,null,null,null,{"$f":"Q$6","v":"木"},{"$f":"R$6","v":"金"},"土","日","月","火","水","木","金","土","日","月","火","水","木","金","土","日","月","火","水","木","金","土","日","月","火","水","木","金","土","勤務時間"]
[null,{"$f":"B47+1","v":19},null,null,null,null,null,null,null,null,null,null,null,null,null,null,null,null,null,null,null,null,null,null,null,null,null,null,null,null,null,null,null,null,null,null,null,null,null,null,null,null,null,null,null,null,null,{"$f":"COUNTA(Q57:AU57)","v":0},{"$f":"AV58","v":0},{"$f":"IFERROR(ROUNDDOWN(AV58/$AT$3,1),\"\")","v":""}]
[null,null,null,null,null,null,null,null,null,null,null,null,null,null,null,null,{"$f":"IFERROR(VLOOKUP(Q57,'P2'!$B$4:$J$48,9,FALSE),\"\")","v":""},{"$f":"IFERROR(VLOOKUP(R57,'P2'!$B$4:$J$48,9,FALSE),\"\")","v":""},{"$f":"IFERROR(VLOOKUP(S57,'P2'!$B$4:$J$48,9,FALSE),\"\")","v":""},{"$f":"IFERROR(VLOOKUP(T57,'P2'!$B$4:$J$48,9,FALSE),\"\")","v":""},{"$f":"IFERROR(VLOOKUP(U57,'P2'!$B$4:$J$48,9,FALSE),\"\")","v":""},{"$f":"IFERROR(VLOOKUP(V57,'P2'!$B$4:$J$48,9,FALSE),\"\")","v":""},{"$f":"IFERROR(VLOOKUP(W57,'P2'!$B$4:$J$48,9,FALSE),\"\")","v":""},{"$f":"IFERROR(VLOOKUP(X57,'P2'!$B$4:$J$48,9,FALSE),\"\")","v":""},{"$f":"IFERROR(VLOOKUP(Y57,'P2'!$B$4:$J$48,9,FALSE),\"\")","v":""},{"$f":"IFERROR(VLOOKUP(Z57,'P2'!$B$4:$J$48,9,FALSE),\"\")","v":""},{"$f":"IFERROR(VLOOKUP(AA57,'P2'!$B$4:$J$48,9,FALSE),\"\")","v":""},{"$f":"IFERROR(VLOOKUP(AB57,'P2'!$B$4:$J$48,9,FALSE),\"\")","v":""},{"$f":"IFERROR(VLOOKUP(AC57,'P2'!$B$4:$J$48,9,FALSE),\"\")","v":""},{"$f":"IFERROR(VLOOKUP(AD57,'P2'!$B$4:$J$48,9,FALSE),\"\")","v":""},{"$f":"IFERROR(VLOOKUP(AE57,'P2'!$B$4:$J$48,9,FALSE),\"\")","v":""},{"$f":"IFERROR(VLOOKUP(AF57,'P2'!$B$4:$J$48,9,FALSE),\"\")","v":""},{"$f":"IFERROR(VLOOKUP(AG57,'P2'!$B$4:$J$48,9,FALSE),\"\")","v":""},{"$f":"IFERROR(VLOOKUP(AH57,'P2'!$B$4:$J$48,9,FALSE),\"\")","v":""},{"$f":"IFERROR(VLOOKUP(AI57,'P2'!$B$4:$J$48,9,FALSE),\"\")","v":""},{"$f":"IFERROR(VLOOKUP(AJ57,'P2'!$B$4:$J$48,9,FALSE),\"\")","v":""},{"$f":"IFERROR(VLOOKUP(AK57,'P2'!$B$4:$J$48,9,FALSE),\"\")","v":""},{"$f":"IFERROR(VLOOKUP(AL57,'P2'!$B$4:$J$48,9,FALSE),\"\")","v":""},{"$f":"IFERROR(VLOOKUP(AM57,'P2'!$B$4:$J$48,9,FALSE),\"\")","v":""},{"$f":"IFERROR(VLOOKUP(AN57,'P2'!$B$4:$J$48,9,FALSE),\"\")","v":""},{"$f":"IFERROR(VLOOKUP(AO57,'P2'!$B$4:$J$48,9,FALSE),\"\")","v":""},{"$f":"IFERROR(VLOOKUP(AP57,'P2'!$B$4:$J$48,9,FALSE),\"\")","v":""},{"$f":"IFERROR(VLOOKUP(AQ57,'P2'!$B$4:$J$48,9,FALSE),\"\")","v":""},{"$f":"IFERROR(VLOOKUP(AR57,'P2'!$B$4:$J$48,9,FALSE),\"\")","v":""},{"$f":"IFERROR(VLOOKUP(AS57,'P2'!$B$4:$J$48,9,FALSE),\"\")","v":""},{"$f":"IFERROR(VLOOKUP(AT57,'P2'!$B$4:$J$48,9,FALSE),\"\")","v":""},{"$f":"IFERROR(VLOOKUP(AU57,'P2'!$B$4:$J$48,9,FALSE),\"\")","v":""},{"$f":"SUM(Q58:AU58)","v":0}]
[null,{"$f":"B57+1","v":20},null,null,null,null,null,null,null,null,null,null,null,null,null,null,null,null,null,null,null,null,null,null,null,null,null,null,null,null,null,null,null,null,null,null,null,null,null,null,null,null,null,null,null,null,null,{"$f":"COUNTA(Q59:AU59)","v":0},{"$f":"AV60","v":0},{"$f":"IFERROR(ROUNDDOWN(AV60/$AT$3,1),\"\")","v":""}]
[null,null,null,null,null,null,null,null,null,null,null,null,null,null,null,null,{"$f":"IFERROR(VLOOKUP(Q59,'P2'!$B$4:$J$48,9,FALSE),\"\")","v":""},{"$f":"IFERROR(VLOOKUP(R59,'P2'!$B$4:$J$48,9,FALSE),\"\")","v":""},{"$f":"IFERROR(VLOOKUP(S59,'P2'!$B$4:$J$48,9,FALSE),\"\")","v":""},{"$f":"IFERROR(VLOOKUP(T59,'P2'!$B$4:$J$48,9,FALSE),\"\")","v":""},{"$f":"IFERROR(VLOOKUP(U59,'P2'!$B$4:$J$48,9,FALSE),\"\")","v":""},{"$f":"IFERROR(VLOOKUP(V59,'P2'!$B$4:$J$48,9,FALSE),\"\")","v":""},{"$f":"IFERROR(VLOOKUP(W59,'P2'!$B$4:$J$48,9,FALSE),\"\")","v":""},{"$f":"IFERROR(VLOOKUP(X59,'P2'!$B$4:$J$48,9,FALSE),\"\")","v":""},{"$f":"IFERROR(VLOOKUP(Y59,'P2'!$B$4:$J$48,9,FALSE),\"\")","v":""},{"$f":"IFERROR(VLOOKUP(Z59,'P2'!$B$4:$J$48,9,FALSE),\"\")","v":""},{"$f":"IFERROR(VLOOKUP(AA59,'P2'!$B$4:$J$48,9,FALSE),\"\")","v":""},{"$f":"IFERROR(VLOOKUP(AB59,'P2'!$B$4:$J$48,9,FALSE),\"\")","v":""},{"$f":"IFERROR(VLOOKUP(AC59,'P2'!$B$4:$J$48,9,FALSE),\"\")","v":""},{"$f":"IFERROR(VLOOKUP(AD59,'P2'!$B$4:$J$48,9,FALSE),\"\")","v":""},{"$f":"IFERROR(VLOOKUP(AE59,'P2'!$B$4:$J$48,9,FALSE),\"\")","v":""},{"$f":"IFERROR(VLOOKUP(AF59,'P2'!$B$4:$J$48,9,FALSE),\"\")","v":""},{"$f":"IFERROR(VLOOKUP(AG59,'P2'!$B$4:$J$48,9,FALSE),\"\")","v":""},{"$f":"IFERROR(VLOOKUP(AH59,'P2'!$B$4:$J$48,9,FALSE),\"\")","v":""},{"$f":"IFERROR(VLOOKUP(AI59,'P2'!$B$4:$J$48,9,FALSE),\"\")","v":""},{"$f":"IFERROR(VLOOKUP(AJ59,'P2'!$B$4:$J$48,9,FALSE),\"\")","v":""},{"$f":"IFERROR(VLOOKUP(AK59,'P2'!$B$4:$J$48,9,FALSE),\"\")","v":""},{"$f":"IFERROR(VLOOKUP(AL59,'P2'!$B$4:$J$48,9,FALSE),\"\")","v":""},{"$f":"IFERROR(VLOOKUP(AM59,'P2'!$B$4:$J$48,9,FALSE),\"\")","v":""},{"$f":"IFERROR(VLOOKUP(AN59,'P2'!$B$4:$J$48,9,FALSE),\"\")","v":""},{"$f":"IFERROR(VLOOKUP(AO59,'P2'!$B$4:$J$48,9,FALSE),\"\")","v":""},{"$f":"IFERROR(VLOOKUP(AP59,'P2'!$B$4:$J$48,9,FALSE),\"\")","v":""},{"$f":"IFERROR(VLOOKUP(AQ59,'P2'!$B$4:$J$48,9,FALSE),\"\")","v":""},{"$f":"IFERROR(VLOOKUP(AR59,'P2'!$B$4:$J$48,9,FALSE),\"\")","v":""},{"$f":"IFERROR(VLOOKUP(AS59,'P2'!$B$4:$J$48,9,FALSE),\"\")","v":""},{"$f":"IFERROR(VLOOKUP(AT59,'P2'!$B$4:$J$48,9,FALSE),\"\")","v":""},{"$f":"IFERROR(VLOOKUP(AU59,'P2'!$B$4:$J$48,9,FALSE),\"\")","v":""},{"$f":"SUM(Q60:AU60)","v":0}]
[null,21,null,null,null,null,null,null,null,null,null,null,null,null,null,null,null,null,null,null,null,null,null,null,null,null,null,null,null,null,null,null,null,null,null,null,null,null,null,null,null,null,null,null,null,null,null,{"$f":"COUNTA(Q61:AU61)","v":0},{"$f":"AV62","v":0},{"$f":"IFERROR(ROUNDDOWN(AV62/$AT$3,1),\"\")","v":""}]
[null,null,null,null,null,null,null,null,null,null,null,null,null,null,null,null,{"$f":"IFERROR(VLOOKUP(Q61,'P2'!$B$4:$J$48,9,FALSE),\"\")","v":""},{"$f":"IFERROR(VLOOKUP(R61,'P2'!$B$4:$J$48,9,FALSE),\"\")","v":""},{"$f":"IFERROR(VLOOKUP(S61,'P2'!$B$4:$J$48,9,FALSE),\"\")","v":""},{"$f":"IFERROR(VLOOKUP(T61,'P2'!$B$4:$J$48,9,FALSE),\"\")","v":""},{"$f":"IFERROR(VLOOKUP(U61,'P2'!$B$4:$J$48,9,FALSE),\"\")","v":""},{"$f":"IFERROR(VLOOKUP(V61,'P2'!$B$4:$J$48,9,FALSE),\"\")","v":""},{"$f":"IFERROR(VLOOKUP(W61,'P2'!$B$4:$J$48,9,FALSE),\"\")","v":""},{"$f":"IFERROR(VLOOKUP(X61,'P2'!$B$4:$J$48,9,FALSE),\"\")","v":""},{"$f":"IFERROR(VLOOKUP(Y61,'P2'!$B$4:$J$48,9,FALSE),\"\")","v":""},{"$f":"IFERROR(VLOOKUP(Z61,'P2'!$B$4:$J$48,9,FALSE),\"\")","v":""},{"$f":"IFERROR(VLOOKUP(AA61,'P2'!$B$4:$J$48,9,FALSE),\"\")","v":""},{"$f":"IFERROR(VLOOKUP(AB61,'P2'!$B$4:$J$48,9,FALSE),\"\")","v":""},{"$f":"IFERROR(VLOOKUP(AC61,'P2'!$B$4:$J$48,9,FALSE),\"\")","v":""},{"$f":"IFERROR(VLOOKUP(AD61,'P2'!$B$4:$J$48,9,FALSE),\"\")","v":""},{"$f":"IFERROR(VLOOKUP(AE61,'P2'!$B$4:$J$48,9,FALSE),\"\")","v":""},{"$f":"IFERROR(VLOOKUP(AF61,'P2'!$B$4:$J$48,9,FALSE),\"\")","v":""},{"$f":"IFERROR(VLOOKUP(AG61,'P2'!$B$4:$J$48,9,FALSE),\"\")","v":""},{"$f":"IFERROR(VLOOKUP(AH61,'P2'!$B$4:$J$48,9,FALSE),\"\")","v":""},{"$f":"IFERROR(VLOOKUP(AI61,'P2'!$B$4:$J$48,9,FALSE),\"\")","v":""},{"$f":"IFERROR(VLOOKUP(AJ61,'P2'!$B$4:$J$48,9,FALSE),\"\")","v":""},{"$f":"IFERROR(VLOOKUP(AK61,'P2'!$B$4:$J$48,9,FALSE),\"\")","v":""},{"$f":"IFERROR(VLOOKUP(AL61,'P2'!$B$4:$J$48,9,FALSE),\"\")","v":""},{"$f":"IFERROR(VLOOKUP(AM61,'P2'!$B$4:$J$48,9,FALSE),\"\")","v":""},{"$f":"IFERROR(VLOOKUP(AN61,'P2'!$B$4:$J$48,9,FALSE),\"\")","v":""},{"$f":"IFERROR(VLOOKUP(AO61,'P2'!$B$4:$J$48,9,FALSE),\"\")","v":""},{"$f":"IFERROR(VLOOKUP(AP61,'P2'!$B$4:$J$48,9,FALSE),\"\")","v":""},{"$f":"IFERROR(VLOOKUP(AQ61,'P2'!$B$4:$J$48,9,FALSE),\"\")","v":""},{"$f":"IFERROR(VLOOKUP(AR61,'P2'!$B$4:$J$48,9,FALSE),\"\")","v":""},{"$f":"IFERROR(VLOOKUP(AS61,'P2'!$B$4:$J$48,9,FALSE),\"\")","v":""},{"$f":"IFERROR(VLOOKUP(AT61,'P2'!$B$4:$J$48,9,FALSE),\"\")","v":""},{"$f":"IFERROR(VLOOKUP(AU61,'P2'!$B$4:$J$48,9,FALSE),\"\")","v":""},{"$f":"SUM(Q62:AU62)","v":0}]
[null,22,null,null,null,null,null,null,null,null,null,null,null,null,null,null,null,null,null,null,null,null,null,null,null,null,null,null,null,null,null,null,null,null,null,null,null,null,null,null,null,null,null,null,null,null,null,{"$f":"COUNTA(Q63:AU63)","v":0},{"$f":"AV64","v":0},{"$f":"IFERROR(ROUNDDOWN(AV64/$AT$3,1),\"\")","v":""}]
[null,null,null,null,null,null,null,null,null,null,null,null,null,null,null,null,{"$f":"IFERROR(VLOOKUP(Q63,'P2'!$B$4:$J$48,9,FALSE),\"\")","v":""},{"$f":"IFERROR(VLOOKUP(R63,'P2'!$B$4:$J$48,9,FALSE),\"\")","v":""},{"$f":"IFERROR(VLOOKUP(S63,'P2'!$B$4:$J$48,9,FALSE),\"\")","v":""},{"$f":"IFERROR(VLOOKUP(T63,'P2'!$B$4:$J$48,9,FALSE),\"\")","v":""},{"$f":"IFERROR(VLOOKUP(U63,'P2'!$B$4:$J$48,9,FALSE),\"\")","v":""},{"$f":"IFERROR(VLOOKUP(V63,'P2'!$B$4:$J$48,9,FALSE),\"\")","v":""},{"$f":"IFERROR(VLOOKUP(W63,'P2'!$B$4:$J$48,9,FALSE),\"\")","v":""},{"$f":"IFERROR(VLOOKUP(X63,'P2'!$B$4:$J$48,9,FALSE),\"\")","v":""},{"$f":"IFERROR(VLOOKUP(Y63,'P2'!$B$4:$J$48,9,FALSE),\"\")","v":""},{"$f":"IFERROR(VLOOKUP(Z63,'P2'!$B$4:$J$48,9,FALSE),\"\")","v":""},{"$f":"IFERROR(VLOOKUP(AA63,'P2'!$B$4:$J$48,9,FALSE),\"\")","v":""},{"$f":"IFERROR(VLOOKUP(AB63,'P2'!$B$4:$J$48,9,FALSE),\"\")","v":""},{"$f":"IFERROR(VLOOKUP(AC63,'P2'!$B$4:$J$48,9,FALSE),\"\")","v":""},{"$f":"IFERROR(VLOOKUP(AD63,'P2'!$B$4:$J$48,9,FALSE),\"\")","v":""},{"$f":"IFERROR(VLOOKUP(AE63,'P2'!$B$4:$J$48,9,FALSE),\"\")","v":""},{"$f":"IFERROR(VLOOKUP(AF63,'P2'!$B$4:$J$48,9,FALSE),\"\")","v":""},{"$f":"IFERROR(VLOOKUP(AG63,'P2'!$B$4:$J$48,9,FALSE),\"\")","v":""},{"$f":"IFERROR(VLOOKUP(AH63,'P2'!$B$4:$J$48,9,FALSE),\"\")","v":""},{"$f":"IFERROR(VLOOKUP(AI63,'P2'!$B$4:$J$48,9,FALSE),\"\")","v":""},{"$f":"IFERROR(VLOOKUP(AJ63,'P2'!$B$4:$J$48,9,FALSE),\"\")","v":""},{"$f":"IFERROR(VLOOKUP(AK63,'P2'!$B$4:$J$48,9,FALSE),\"\")","v":""},{"$f":"IFERROR(VLOOKUP(AL63,'P2'!$B$4:$J$48,9,FALSE),\"\")","v":""},{"$f":"IFERROR(VLOOKUP(AM63,'P2'!$B$4:$J$48,9,FALSE),\"\")","v":""},{"$f":"IFERROR(VLOOKUP(AN63,'P2'!$B$4:$J$48,9,FALSE),\"\")","v":""},{"$f":"IFERROR(VLOOKUP(AO63,'P2'!$B$4:$J$48,9,FALSE),\"\")","v":""},{"$f":"IFERROR(VLOOKUP(AP63,'P2'!$B$4:$J$48,9,FALSE),\"\")","v":""},{"$f":"IFERROR(VLOOKUP(AQ63,'P2'!$B$4:$J$48,9,FALSE),\"\")","v":""},{"$f":"IFERROR(VLOOKUP(AR63,'P2'!$B$4:$J$48,9,FALSE),\"\")","v":""},{"$f":"IFERROR(VLOOKUP(AS63,'P2'!$B$4:$J$48,9,FALSE),\"\")","v":""},{"$f":"IFERROR(VLOOKUP(AT63,'P2'!$B$4:$J$48,9,FALSE),\"\")","v":""},{"$f":"IFERROR(VLOOKUP(AU63,'P2'!$B$4:$J$48,9,FALSE),\"\")","v":""},{"$f":"SUM(Q64:AU64)","v":0}]
[null,23,null,null,null,null,null,null,null,null,null,null,null,null,null,null,null,null,null,null,null,null,null,null,null,null,null,null,null,null,null,null,null,null,null,null,null,null,null,null,null,null,null,null,null,null,null,{"$f":"COUNTA(Q65:AU65)","v":0},{"$f":"AV66","v":0},{"$f":"IFERROR(ROUNDDOWN(AV66/$AT$3,1),\"\")","v":""}]
[null,null,null,null,null,null,null,null,null,null,null,null,null,null,null,null,{"$f":"IFERROR(VLOOKUP(Q65,'P2'!$B$4:$J$48,9,FALSE),\"\")","v":""},{"$f":"IFERROR(VLOOKUP(R65,'P2'!$B$4:$J$48,9,FALSE),\"\")","v":""},{"$f":"IFERROR(VLOOKUP(S65,'P2'!$B$4:$J$48,9,FALSE),\"\")","v":""},{"$f":"IFERROR(VLOOKUP(T65,'P2'!$B$4:$J$48,9,FALSE),\"\")","v":""},{"$f":"IFERROR(VLOOKUP(U65,'P2'!$B$4:$J$48,9,FALSE),\"\")","v":""},{"$f":"IFERROR(VLOOKUP(V65,'P2'!$B$4:$J$48,9,FALSE),\"\")","v":""},{"$f":"IFERROR(VLOOKUP(W65,'P2'!$B$4:$J$48,9,FALSE),\"\")","v":""},{"$f":"IFERROR(VLOOKUP(X65,'P2'!$B$4:$J$48,9,FALSE),\"\")","v":""},{"$f":"IFERROR(VLOOKUP(Y65,'P2'!$B$4:$J$48,9,FALSE),\"\")","v":""},{"$f":"IFERROR(VLOOKUP(Z65,'P2'!$B$4:$J$48,9,FALSE),\"\")","v":""},{"$f":"IFERROR(VLOOKUP(AA65,'P2'!$B$4:$J$48,9,FALSE),\"\")","v":""},{"$f":"IFERROR(VLOOKUP(AB65,'P2'!$B$4:$J$48,9,FALSE),\"\")","v":""},{"$f":"IFERROR(VLOOKUP(AC65,'P2'!$B$4:$J$48,9,FALSE),\"\")","v":""},{"$f":"IFERROR(VLOOKUP(AD65,'P2'!$B$4:$J$48,9,FALSE),\"\")","v":""},{"$f":"IFERROR(VLOOKUP(AE65,'P2'!$B$4:$J$48,9,FALSE),\"\")","v":""},{"$f":"IFERROR(VLOOKUP(AF65,'P2'!$B$4:$J$48,9,FALSE),\"\")","v":""},{"$f":"IFERROR(VLOOKUP(AG65,'P2'!$B$4:$J$48,9,FALSE),\"\")","v":""},{"$f":"IFERROR(VLOOKUP(AH65,'P2'!$B$4:$J$48,9,FALSE),\"\")","v":""},{"$f":"IFERROR(VLOOKUP(AI65,'P2'!$B$4:$J$48,9,FALSE),\"\")","v":""},{"$f":"IFERROR(VLOOKUP(AJ65,'P2'!$B$4:$J$48,9,FALSE),\"\")","v":""},{"$f":"IFERROR(VLOOKUP(AK65,'P2'!$B$4:$J$48,9,FALSE),\"\")","v":""},{"$f":"IFERROR(VLOOKUP(AL65,'P2'!$B$4:$J$48,9,FALSE),\"\")","v":""},{"$f":"IFERROR(VLOOKUP(AM65,'P2'!$B$4:$J$48,9,FALSE),\"\")","v":""},{"$f":"IFERROR(VLOOKUP(AN65,'P2'!$B$4:$J$48,9,FALSE),\"\")","v":""},{"$f":"IFERROR(VLOOKUP(AO65,'P2'!$B$4:$J$48,9,FALSE),\"\")","v":""},{"$f":"IFERROR(VLOOKUP(AP65,'P2'!$B$4:$J$48,9,FALSE),\"\")","v":""},{"$f":"IFERROR(VLOOKUP(AQ65,'P2'!$B$4:$J$48,9,FALSE),\"\")","v":""},{"$f":"IFERROR(VLOOKUP(AR65,'P2'!$B$4:$J$48,9,FALSE),\"\")","v":""},{"$f":"IFERROR(VLOOKUP(AS65,'P2'!$B$4:$J$48,9,FALSE),\"\")","v":""},{"$f":"IFERROR(VLOOKUP(AT65,'P2'!$B$4:$J$48,9,FALSE),\"\")","v":""},{"$f":"IFERROR(VLOOKUP(AU65,'P2'!$B$4:$J$48,9,FALSE),\"\")","v":""},{"$f":"SUM(Q66:AU66)","v":0}]
[null,24,null,null,null,null,null,null,null,null,null,null,null,null,null,null,null,null,null,null,null,null,null,null,null,null,null,null,null,null,null,null,null,null,null,null,null,null,null,null,null,null,null,null,null,null,null,{"$f":"COUNTA(Q67:AU67)","v":0},{"$f":"AV68","v":0},{"$f":"IFERROR(ROUNDDOWN(AV68/$AT$3,1),\"\")","v":""}]
[null,null,null,null,null,null,null,null,null,null,null,null,null,null,null,null,{"$f":"IFERROR(VLOOKUP(Q67,'P2'!$B$4:$J$48,9,FALSE),\"\")","v":""},{"$f":"IFERROR(VLOOKUP(R67,'P2'!$B$4:$J$48,9,FALSE),\"\")","v":""},{"$f":"IFERROR(VLOOKUP(S67,'P2'!$B$4:$J$48,9,FALSE),\"\")","v":""},{"$f":"IFERROR(VLOOKUP(T67,'P2'!$B$4:$J$48,9,FALSE),\"\")","v":""},{"$f":"IFERROR(VLOOKUP(U67,'P2'!$B$4:$J$48,9,FALSE),\"\")","v":""},{"$f":"IFERROR(VLOOKUP(V67,'P2'!$B$4:$J$48,9,FALSE),\"\")","v":""},{"$f":"IFERROR(VLOOKUP(W67,'P2'!$B$4:$J$48,9,FALSE),\"\")","v":""},{"$f":"IFERROR(VLOOKUP(X67,'P2'!$B$4:$J$48,9,FALSE),\"\")","v":""},{"$f":"IFERROR(VLOOKUP(Y67,'P2'!$B$4:$J$48,9,FALSE),\"\")","v":""},{"$f":"IFERROR(VLOOKUP(Z67,'P2'!$B$4:$J$48,9,FALSE),\"\")","v":""},{"$f":"IFERROR(VLOOKUP(AA67,'P2'!$B$4:$J$48,9,FALSE),\"\")","v":""},{"$f":"IFERROR(VLOOKUP(AB67,'P2'!$B$4:$J$48,9,FALSE),\"\")","v":""},{"$f":"IFERROR(VLOOKUP(AC67,'P2'!$B$4:$J$48,9,FALSE),\"\")","v":""},{"$f":"IFERROR(VLOOKUP(AD67,'P2'!$B$4:$J$48,9,FALSE),\"\")","v":""},{"$f":"IFERROR(VLOOKUP(AE67,'P2'!$B$4:$J$48,9,FALSE),\"\")","v":""},{"$f":"IFERROR(VLOOKUP(AF67,'P2'!$B$4:$J$48,9,FALSE),\"\")","v":""},{"$f":"IFERROR(VLOOKUP(AG67,'P2'!$B$4:$J$48,9,FALSE),\"\")","v":""},{"$f":"IFERROR(VLOOKUP(AH67,'P2'!$B$4:$J$48,9,FALSE),\"\")","v":""},{"$f":"IFERROR(VLOOKUP(AI67,'P2'!$B$4:$J$48,9,FALSE),\"\")","v":""},{"$f":"IFERROR(VLOOKUP(AJ67,'P2'!$B$4:$J$48,9,FALSE),\"\")","v":""},{"$f":"IFERROR(VLOOKUP(AK67,'P2'!$B$4:$J$48,9,FALSE),\"\")","v":""},{"$f":"IFERROR(VLOOKUP(AL67,'P2'!$B$4:$J$48,9,FALSE),\"\")","v":""},{"$f":"IFERROR(VLOOKUP(AM67,'P2'!$B$4:$J$48,9,FALSE),\"\")","v":""},{"$f":"IFERROR(VLOOKUP(AN67,'P2'!$B$4:$J$48,9,FALSE),\"\")","v":""},{"$f":"IFERROR(VLOOKUP(AO67,'P2'!$B$4:$J$48,9,FALSE),\"\")","v":""},{"$f":"IFERROR(VLOOKUP(AP67,'P2'!$B$4:$J$48,9,FALSE),\"\")","v":""},{"$f":"IFERROR(VLOOKUP(AQ67,'P2'!$B$4:$J$48,9,FALSE),\"\")","v":""},{"$f":"IFERROR(VLOOKUP(AR67,'P2'!$B$4:$J$48,9,FALSE),\"\")","v":""},{"$f":"IFERROR(VLOOKUP(AS67,'P2'!$B$4:$J$48,9,FALSE),\"\")","v":""},{"$f":"IFERROR(VLOOKUP(AT67,'P2'!$B$4:$J$48,9,FALSE),\"\")","v":""},{"$f":"IFERROR(VLOOKUP(AU67,'P2'!$B$4:$J$48,9,FALSE),\"\")","v":""},{"$f":"SUM(Q68:AU68)","v":0}]
[null,25,null,null,null,null,null,null,null,null,null,null,null,null,null,null,null,null,null,null,null,null,null,null,null,null,null,null,null,null,null,null,null,null,null,null,null,null,null,null,null,null,null,null,null,null,null,{"$f":"COUNTA(Q69:AU69)","v":0},{"$f":"AV70","v":0},{"$f":"IFERROR(ROUNDDOWN(AV70/$AT$3,1),\"\")","v":""}]
[null,null,null,null,null,null,null,null,null,null,null,null,null,null,null,null,{"$f":"IFERROR(VLOOKUP(Q69,'P2'!$B$4:$J$48,9,FALSE),\"\")","v":""},{"$f":"IFERROR(VLOOKUP(R69,'P2'!$B$4:$J$48,9,FALSE),\"\")","v":""},{"$f":"IFERROR(VLOOKUP(S69,'P2'!$B$4:$J$48,9,FALSE),\"\")","v":""},{"$f":"IFERROR(VLOOKUP(T69,'P2'!$B$4:$J$48,9,FALSE),\"\")","v":""},{"$f":"IFERROR(VLOOKUP(U69,'P2'!$B$4:$J$48,9,FALSE),\"\")","v":""},{"$f":"IFERROR(VLOOKUP(V69,'P2'!$B$4:$J$48,9,FALSE),\"\")","v":""},{"$f":"IFERROR(VLOOKUP(W69,'P2'!$B$4:$J$48,9,FALSE),\"\")","v":""},{"$f":"IFERROR(VLOOKUP(X69,'P2'!$B$4:$J$48,9,FALSE),\"\")","v":""},{"$f":"IFERROR(VLOOKUP(Y69,'P2'!$B$4:$J$48,9,FALSE),\"\")","v":""},{"$f":"IFERROR(VLOOKUP(Z69,'P2'!$B$4:$J$48,9,FALSE),\"\")","v":""},{"$f":"IFERROR(VLOOKUP(AA69,'P2'!$B$4:$J$48,9,FALSE),\"\")","v":""},{"$f":"IFERROR(VLOOKUP(AB69,'P2'!$B$4:$J$48,9,FALSE),\"\")","v":""},{"$f":"IFERROR(VLOOKUP(AC69,'P2'!$B$4:$J$48,9,FALSE),\"\")","v":""},{"$f":"IFERROR(VLOOKUP(AD69,'P2'!$B$4:$J$48,9,FALSE),\"\")","v":""},{"$f":"IFERROR(VLOOKUP(AE69,'P2'!$B$4:$J$48,9,FALSE),\"\")","v":""},{"$f":"IFERROR(VLOOKUP(AF69,'P2'!$B$4:$J$48,9,FALSE),\"\")","v":""},{"$f":"IFERROR(VLOOKUP(AG69,'P2'!$B$4:$J$48,9,FALSE),\"\")","v":""},{"$f":"IFERROR(VLOOKUP(AH69,'P2'!$B$4:$J$48,9,FALSE),\"\")","v":""},{"$f":"IFERROR(VLOOKUP(AI69,'P2'!$B$4:$J$48,9,FALSE),\"\")","v":""},{"$f":"IFERROR(VLOOKUP(AJ69,'P2'!$B$4:$J$48,9,FALSE),\"\")","v":""},{"$f":"IFERROR(VLOOKUP(AK69,'P2'!$B$4:$J$48,9,FALSE),\"\")","v":""},{"$f":"IFERROR(VLOOKUP(AL69,'P2'!$B$4:$J$48,9,FALSE),\"\")","v":""},{"$f":"IFERROR(VLOOKUP(AM69,'P2'!$B$4:$J$48,9,FALSE),\"\")","v":""},{"$f":"IFERROR(VLOOKUP(AN69,'P2'!$B$4:$J$48,9,FALSE),\"\")","v":""},{"$f":"IFERROR(VLOOKUP(AO69,'P2'!$B$4:$J$48,9,FALSE),\"\")","v":""},{"$f":"IFERROR(VLOOKUP(AP69,'P2'!$B$4:$J$48,9,FALSE),\"\")","v":""},{"$f":"IFERROR(VLOOKUP(AQ69,'P2'!$B$4:$J$48,9,FALSE),\"\")","v":""},{"$f":"IFERROR(VLOOKUP(AR69,'P2'!$B$4:$J$48,9,FALSE),\"\")","v":""},{"$f":"IFERROR(VLOOKUP(AS69,'P2'!$B$4:$J$48,9,FALSE),\"\")","v":""},{"$f":"IFERROR(VLOOKUP(AT69,'P2'!$B$4:$J$48,9,FALSE),\"\")","v":""},{"$f":"IFERROR(VLOOKUP(AU69,'P2'!$B$4:$J$48,9,FALSE),\"\")","v":""},{"$f":"SUM(Q70:AU70)","v":0}]
[null,26,null,null,null,null,null,null,null,null,null,null,null,null,null,null,null,null,null,null,null,null,null,null,null,null,null,null,null,null,null,null,null,null,null,null,null,null,null,null,null,null,null,null,null,null,null,{"$f":"COUNTA(Q71:AU71)","v":0},{"$f":"AV72","v":0},{"$f":"IFERROR(ROUNDDOWN(AV72/$AT$3,1),\"\")","v":""}]
[null,null,null,null,null,null,null,null,null,null,null,null,null,null,null,null,{"$f":"IFERROR(VLOOKUP(Q71,'P2'!$B$4:$J$48,9,FALSE),\"\")","v":""},{"$f":"IFERROR(VLOOKUP(R71,'P2'!$B$4:$J$48,9,FALSE),\"\")","v":""},{"$f":"IFERROR(VLOOKUP(S71,'P2'!$B$4:$J$48,9,FALSE),\"\")","v":""},{"$f":"IFERROR(VLOOKUP(T71,'P2'!$B$4:$J$48,9,FALSE),\"\")","v":""},{"$f":"IFERROR(VLOOKUP(U71,'P2'!$B$4:$J$48,9,FALSE),\"\")","v":""},{"$f":"IFERROR(VLOOKUP(V71,'P2'!$B$4:$J$48,9,FALSE),\"\")","v":""},{"$f":"IFERROR(VLOOKUP(W71,'P2'!$B$4:$J$48,9,FALSE),\"\")","v":""},{"$f":"IFERROR(VLOOKUP(X71,'P2'!$B$4:$J$48,9,FALSE),\"\")","v":""},{"$f":"IFERROR(VLOOKUP(Y71,'P2'!$B$4:$J$48,9,FALSE),\"\")","v":""},{"$f":"IFERROR(VLOOKUP(Z71,'P2'!$B$4:$J$48,9,FALSE),\"\")","v":""},{"$f":"IFERROR(VLOOKUP(AA71,'P2'!$B$4:$J$48,9,FALSE),\"\")","v":""},{"$f":"IFERROR(VLOOKUP(AB71,'P2'!$B$4:$J$48,9,FALSE),\"\")","v":""},{"$f":"IFERROR(VLOOKUP(AC71,'P2'!$B$4:$J$48,9,FALSE),\"\")","v":""},{"$f":"IFERROR(VLOOKUP(AD71,'P2'!$B$4:$J$48,9,FALSE),\"\")","v":""},{"$f":"IFERROR(VLOOKUP(AE71,'P2'!$B$4:$J$48,9,FALSE),\"\")","v":""},{"$f":"IFERROR(VLOOKUP(AF71,'P2'!$B$4:$J$48,9,FALSE),\"\")","v":""},{"$f":"IFERROR(VLOOKUP(AG71,'P2'!$B$4:$J$48,9,FALSE),\"\")","v":""},{"$f":"IFERROR(VLOOKUP(AH71,'P2'!$B$4:$J$48,9,FALSE),\"\")","v":""},{"$f":"IFERROR(VLOOKUP(AI71,'P2'!$B$4:$J$48,9,FALSE),\"\")","v":""},{"$f":"IFERROR(VLOOKUP(AJ71,'P2'!$B$4:$J$48,9,FALSE),\"\")","v":""},{"$f":"IFERROR(VLOOKUP(AK71,'P2'!$B$4:$J$48,9,FALSE),\"\")","v":""},{"$f":"IFERROR(VLOOKUP(AL71,'P2'!$B$4:$J$48,9,FALSE),\"\")","v":""},{"$f":"IFERROR(VLOOKUP(AM71,'P2'!$B$4:$J$48,9,FALSE),\"\")","v":""},{"$f":"IFERROR(VLOOKUP(AN71,'P2'!$B$4:$J$48,9,FALSE),\"\")","v":""},{"$f":"IFERROR(VLOOKUP(AO71,'P2'!$B$4:$J$48,9,FALSE),\"\")","v":""},{"$f":"IFERROR(VLOOKUP(AP71,'P2'!$B$4:$J$48,9,FALSE),\"\")","v":""},{"$f":"IFERROR(VLOOKUP(AQ71,'P2'!$B$4:$J$48,9,FALSE),\"\")","v":""},{"$f":"IFERROR(VLOOKUP(AR71,'P2'!$B$4:$J$48,9,FALSE),\"\")","v":""},{"$f":"IFERROR(VLOOKUP(AS71,'P2'!$B$4:$J$48,9,FALSE),\"\")","v":""},{"$f":"IFERROR(VLOOKUP(AT71,'P2'!$B$4:$J$48,9,FALSE),\"\")","v":""},{"$f":"IFERROR(VLOOKUP(AU71,'P2'!$B$4:$J$48,9,FALSE),\"\")","v":""},{"$f":"SUM(Q72:AU72)","v":0}]
[null,27,null,null,null,null,null,null,null,null,null,null,null,null,null,null,null,null,null,null,null,null,null,null,null,null,null,null,null,null,null,null,null,null,null,null,null,null,null,null,null,null,null,null,null,null,null,{"$f":"COUNTA(Q73:AU73)","v":0},{"$f":"AV74","v":0},{"$f":"IFERROR(ROUNDDOWN(AV74/$AT$3,1),\"\")","v":""}]
[null,null,null,null,null,null,null,null,null,null,null,null,null,null,null,null,{"$f":"IFERROR(VLOOKUP(Q73,'P2'!$B$4:$J$48,9,FALSE),\"\")","v":""},{"$f":"IFERROR(VLOOKUP(R73,'P2'!$B$4:$J$48,9,FALSE),\"\")","v":""},{"$f":"IFERROR(VLOOKUP(S73,'P2'!$B$4:$J$48,9,FALSE),\"\")","v":""},{"$f":"IFERROR(VLOOKUP(T73,'P2'!$B$4:$J$48,9,FALSE),\"\")","v":""},{"$f":"IFERROR(VLOOKUP(U73,'P2'!$B$4:$J$48,9,FALSE),\"\")","v":""},{"$f":"IFERROR(VLOOKUP(V73,'P2'!$B$4:$J$48,9,FALSE),\"\")","v":""},{"$f":"IFERROR(VLOOKUP(W73,'P2'!$B$4:$J$48,9,FALSE),\"\")","v":""},{"$f":"IFERROR(VLOOKUP(X73,'P2'!$B$4:$J$48,9,FALSE),\"\")","v":""},{"$f":"IFERROR(VLOOKUP(Y73,'P2'!$B$4:$J$48,9,FALSE),\"\")","v":""},{"$f":"IFERROR(VLOOKUP(Z73,'P2'!$B$4:$J$48,9,FALSE),\"\")","v":""},{"$f":"IFERROR(VLOOKUP(AA73,'P2'!$B$4:$J$48,9,FALSE),\"\")","v":""},{"$f":"IFERROR(VLOOKUP(AB73,'P2'!$B$4:$J$48,9,FALSE),\"\")","v":""},{"$f":"IFERROR(VLOOKUP(AC73,'P2'!$B$4:$J$48,9,FALSE),\"\")","v":""},{"$f":"IFERROR(VLOOKUP(AD73,'P2'!$B$4:$J$48,9,FALSE),\"\")","v":""},{"$f":"IFERROR(VLOOKUP(AE73,'P2'!$B$4:$J$48,9,FALSE),\"\")","v":""},{"$f":"IFERROR(VLOOKUP(AF73,'P2'!$B$4:$J$48,9,FALSE),\"\")","v":""},{"$f":"IFERROR(VLOOKUP(AG73,'P2'!$B$4:$J$48,9,FALSE),\"\")","v":""},{"$f":"IFERROR(VLOOKUP(AH73,'P2'!$B$4:$J$48,9,FALSE),\"\")","v":""},{"$f":"IFERROR(VLOOKUP(AI73,'P2'!$B$4:$J$48,9,FALSE),\"\")","v":""},{"$f":"IFERROR(VLOOKUP(AJ73,'P2'!$B$4:$J$48,9,FALSE),\"\")","v":""},{"$f":"IFERROR(VLOOKUP(AK73,'P2'!$B$4:$J$48,9,FALSE),\"\")","v":""},{"$f":"IFERROR(VLOOKUP(AL73,'P2'!$B$4:$J$48,9,FALSE),\"\")","v":""},{"$f":"IFERROR(VLOOKUP(AM73,'P2'!$B$4:$J$48,9,FALSE),\"\")","v":""},{"$f":"IFERROR(VLOOKUP(AN73,'P2'!$B$4:$J$48,9,FALSE),\"\")","v":""},{"$f":"IFERROR(VLOOKUP(AO73,'P2'!$B$4:$J$48,9,FALSE),\"\")","v":""},{"$f":"IFERROR(VLOOKUP(AP73,'P2'!$B$4:$J$48,9,FALSE),\"\")","v":""},{"$f":"IFERROR(VLOOKUP(AQ73,'P2'!$B$4:$J$48,9,FALSE),\"\")","v":""},{"$f":"IFERROR(VLOOKUP(AR73,'P2'!$B$4:$J$48,9,FALSE),\"\")","v":""},{"$f":"IFERROR(VLOOKUP(AS73,'P2'!$B$4:$J$48,9,FALSE),\"\")","v":""},{"$f":"IFERROR(VLOOKUP(AT73,'P2'!$B$4:$J$48,9,FALSE),\"\")","v":""},{"$f":"IFERROR(VLOOKUP(AU73,'P2'!$B$4:$J$48,9,FALSE),\"\")","v":""},{"$f":"SUM(Q74:AU74)","v":0}]
[null,28,null,null,null,null,null,null,null,null,null,null,null,null,null,null,null,null,null,null,null,null,null,null,null,null,null,null,null,null,null,null,null,null,null,null,null,null,null,null,null,null,null,null,null,null,null,{"$f":"COUNTA(Q75:AU75)","v":0},{"$f":"AV76","v":0},{"$f":"IFERROR(ROUNDDOWN(AV76/$AT$3,1),\"\")","v":""}]
[null,null,null,null,null,null,null,null,null,null,null,null,null,null,null,null,{"$f":"IFERROR(VLOOKUP(Q75,'P2'!$B$4:$J$48,9,FALSE),\"\")","v":""},{"$f":"IFERROR(VLOOKUP(R75,'P2'!$B$4:$J$48,9,FALSE),\"\")","v":""},{"$f":"IFERROR(VLOOKUP(S75,'P2'!$B$4:$J$48,9,FALSE),\"\")","v":""},{"$f":"IFERROR(VLOOKUP(T75,'P2'!$B$4:$J$48,9,FALSE),\"\")","v":""},{"$f":"IFERROR(VLOOKUP(U75,'P2'!$B$4:$J$48,9,FALSE),\"\")","v":""},{"$f":"IFERROR(VLOOKUP(V75,'P2'!$B$4:$J$48,9,FALSE),\"\")","v":""},{"$f":"IFERROR(VLOOKUP(W75,'P2'!$B$4:$J$48,9,FALSE),\"\")","v":""},{"$f":"IFERROR(VLOOKUP(X75,'P2'!$B$4:$J$48,9,FALSE),\"\")","v":""},{"$f":"IFERROR(VLOOKUP(Y75,'P2'!$B$4:$J$48,9,FALSE),\"\")","v":""},{"$f":"IFERROR(VLOOKUP(Z75,'P2'!$B$4:$J$48,9,FALSE),\"\")","v":""},{"$f":"IFERROR(VLOOKUP(AA75,'P2'!$B$4:$J$48,9,FALSE),\"\")","v":""},{"$f":"IFERROR(VLOOKUP(AB75,'P2'!$B$4:$J$48,9,FALSE),\"\")","v":""},{"$f":"IFERROR(VLOOKUP(AC75,'P2'!$B$4:$J$48,9,FALSE),\"\")","v":""},{"$f":"IFERROR(VLOOKUP(AD75,'P2'!$B$4:$J$48,9,FALSE),\"\")","v":""},{"$f":"IFERROR(VLOOKUP(AE75,'P2'!$B$4:$J$48,9,FALSE),\"\")","v":""},{"$f":"IFERROR(VLOOKUP(AF75,'P2'!$B$4:$J$48,9,FALSE),\"\")","v":""},{"$f":"IFERROR(VLOOKUP(AG75,'P2'!$B$4:$J$48,9,FALSE),\"\")","v":""},{"$f":"IFERROR(VLOOKUP(AH75,'P2'!$B$4:$J$48,9,FALSE),\"\")","v":""},{"$f":"IFERROR(VLOOKUP(AI75,'P2'!$B$4:$J$48,9,FALSE),\"\")","v":""},{"$f":"IFERROR(VLOOKUP(AJ75,'P2'!$B$4:$J$48,9,FALSE),\"\")","v":""},{"$f":"IFERROR(VLOOKUP(AK75,'P2'!$B$4:$J$48,9,FALSE),\"\")","v":""},{"$f":"IFERROR(VLOOKUP(AL75,'P2'!$B$4:$J$48,9,FALSE),\"\")","v":""},{"$f":"IFERROR(VLOOKUP(AM75,'P2'!$B$4:$J$48,9,FALSE),\"\")","v":""},{"$f":"IFERROR(VLOOKUP(AN75,'P2'!$B$4:$J$48,9,FALSE),\"\")","v":""},{"$f":"IFERROR(VLOOKUP(AO75,'P2'!$B$4:$J$48,9,FALSE),\"\")","v":""},{"$f":"IFERROR(VLOOKUP(AP75,'P2'!$B$4:$J$48,9,FALSE),\"\")","v":""},{"$f":"IFERROR(VLOOKUP(AQ75,'P2'!$B$4:$J$48,9,FALSE),\"\")","v":""},{"$f":"IFERROR(VLOOKUP(AR75,'P2'!$B$4:$J$48,9,FALSE),\"\")","v":""},{"$f":"IFERROR(VLOOKUP(AS75,'P2'!$B$4:$J$48,9,FALSE),\"\")","v":""},{"$f":"IFERROR(VLOOKUP(AT75,'P2'!$B$4:$J$48,9,FALSE),\"\")","v":""},{"$f":"IFERROR(VLOOKUP(AU75,'P2'!$B$4:$J$48,9,FALSE),\"\")","v":""},{"$f":"SUM(Q76:AU76)","v":0}]
[null,29,null,null,null,null,null,null,null,null,null,null,null,null,null,null,null,null,null,null,null,null,null,null,null,null,null,null,null,null,null,null,null,null,null,null,null,null,null,null,null,null,null,null,null,null,null,{"$f":"COUNTA(Q77:AU77)","v":0},{"$f":"AV78","v":0},{"$f":"IFERROR(ROUNDDOWN(AV78/$AT$3,1),\"\")","v":""}]
[null,null,null,null,null,null,null,null,null,null,null,null,null,null,null,null,{"$f":"IFERROR(VLOOKUP(Q77,'P2'!$B$4:$J$48,9,FALSE),\"\")","v":""},{"$f":"IFERROR(VLOOKUP(R77,'P2'!$B$4:$J$48,9,FALSE),\"\")","v":""},{"$f":"IFERROR(VLOOKUP(S77,'P2'!$B$4:$J$48,9,FALSE),\"\")","v":""},{"$f":"IFERROR(VLOOKUP(T77,'P2'!$B$4:$J$48,9,FALSE),\"\")","v":""},{"$f":"IFERROR(VLOOKUP(U77,'P2'!$B$4:$J$48,9,FALSE),\"\")","v":""},{"$f":"IFERROR(VLOOKUP(V77,'P2'!$B$4:$J$48,9,FALSE),\"\")","v":""},{"$f":"IFERROR(VLOOKUP(W77,'P2'!$B$4:$J$48,9,FALSE),\"\")","v":""},{"$f":"IFERROR(VLOOKUP(X77,'P2'!$B$4:$J$48,9,FALSE),\"\")","v":""},{"$f":"IFERROR(VLOOKUP(Y77,'P2'!$B$4:$J$48,9,FALSE),\"\")","v":""},{"$f":"IFERROR(VLOOKUP(Z77,'P2'!$B$4:$J$48,9,FALSE),\"\")","v":""},{"$f":"IFERROR(VLOOKUP(AA77,'P2'!$B$4:$J$48,9,FALSE),\"\")","v":""},{"$f":"IFERROR(VLOOKUP(AB77,'P2'!$B$4:$J$48,9,FALSE),\"\")","v":""},{"$f":"IFERROR(VLOOKUP(AC77,'P2'!$B$4:$J$48,9,FALSE),\"\")","v":""},{"$f":"IFERROR(VLOOKUP(AD77,'P2'!$B$4:$J$48,9,FALSE),\"\")","v":""},{"$f":"IFERROR(VLOOKUP(AE77,'P2'!$B$4:$J$48,9,FALSE),\"\")","v":""},{"$f":"IFERROR(VLOOKUP(AF77,'P2'!$B$4:$J$48,9,FALSE),\"\")","v":""},{"$f":"IFERROR(VLOOKUP(AG77,'P2'!$B$4:$J$48,9,FALSE),\"\")","v":""},{"$f":"IFERROR(VLOOKUP(AH77,'P2'!$B$4:$J$48,9,FALSE),\"\")","v":""},{"$f":"IFERROR(VLOOKUP(AI77,'P2'!$B$4:$J$48,9,FALSE),\"\")","v":""},{"$f":"IFERROR(VLOOKUP(AJ77,'P2'!$B$4:$J$48,9,FALSE),\"\")","v":""},{"$f":"IFERROR(VLOOKUP(AK77,'P2'!$B$4:$J$48,9,FALSE),\"\")","v":""},{"$f":"IFERROR(VLOOKUP(AL77,'P2'!$B$4:$J$48,9,FALSE),\"\")","v":""},{"$f":"IFERROR(VLOOKUP(AM77,'P2'!$B$4:$J$48,9,FALSE),\"\")","v":""},{"$f":"IFERROR(VLOOKUP(AN77,'P2'!$B$4:$J$48,9,FALSE),\"\")","v":""},{"$f":"IFERROR(VLOOKUP(AO77,'P2'!$B$4:$J$48,9,FALSE),\"\")","v":""},{"$f":"IFERROR(VLOOKUP(AP77,'P2'!$B$4:$J$48,9,FALSE),\"\")","v":""},{"$f":"IFERROR(VLOOKUP(AQ77,'P2'!$B$4:$J$48,9,FALSE),\"\")","v":""},{"$f":"IFERROR(VLOOKUP(AR77,'P2'!$B$4:$J$48,9,FALSE),\"\")","v":""},{"$f":"IFERROR(VLOOKUP(AS77,'P2'!$B$4:$J$48,9,FALSE),\"\")","v":""},{"$f":"IFERROR(VLOOKUP(AT77,'P2'!$B$4:$J$48,9,FALSE),\"\")","v":""},{"$f":"IFERROR(VLOOKUP(AU77,'P2'!$B$4:$J$48,9,FALSE),\"\")","v":""},{"$f":"SUM(Q78:AU78)","v":0}]
[null,30,null,null,null,null,null,null,null,null,null,null,null,null,null,null,null,null,null,null,null,null,null,null,null,null,null,null,null,null,null,null,null,null,null,null,null,null,null,null,null,null,null,null,null,null,null,{"$f":"COUNTA(Q79:AU79)","v":0},{"$f":"AV80","v":0},{"$f":"IFERROR(ROUNDDOWN(AV80/$AT$3,1),\"\")","v":""}]
[null,null,null,null,null,null,null,null,null,null,null,null,null,null,null,null,{"$f":"IFERROR(VLOOKUP(Q79,'P2'!$B$4:$J$48,9,FALSE),\"\")","v":""},{"$f":"IFERROR(VLOOKUP(R79,'P2'!$B$4:$J$48,9,FALSE),\"\")","v":""},{"$f":"IFERROR(VLOOKUP(S79,'P2'!$B$4:$J$48,9,FALSE),\"\")","v":""},{"$f":"IFERROR(VLOOKUP(T79,'P2'!$B$4:$J$48,9,FALSE),\"\")","v":""},{"$f":"IFERROR(VLOOKUP(U79,'P2'!$B$4:$J$48,9,FALSE),\"\")","v":""},{"$f":"IFERROR(VLOOKUP(V79,'P2'!$B$4:$J$48,9,FALSE),\"\")","v":""},{"$f":"IFERROR(VLOOKUP(W79,'P2'!$B$4:$J$48,9,FALSE),\"\")","v":""},{"$f":"IFERROR(VLOOKUP(X79,'P2'!$B$4:$J$48,9,FALSE),\"\")","v":""},{"$f":"IFERROR(VLOOKUP(Y79,'P2'!$B$4:$J$48,9,FALSE),\"\")","v":""},{"$f":"IFERROR(VLOOKUP(Z79,'P2'!$B$4:$J$48,9,FALSE),\"\")","v":""},{"$f":"IFERROR(VLOOKUP(AA79,'P2'!$B$4:$J$48,9,FALSE),\"\")","v":""},{"$f":"IFERROR(VLOOKUP(AB79,'P2'!$B$4:$J$48,9,FALSE),\"\")","v":""},{"$f":"IFERROR(VLOOKUP(AC79,'P2'!$B$4:$J$48,9,FALSE),\"\")","v":""},{"$f":"IFERROR(VLOOKUP(AD79,'P2'!$B$4:$J$48,9,FALSE),\"\")","v":""},{"$f":"IFERROR(VLOOKUP(AE79,'P2'!$B$4:$J$48,9,FALSE),\"\")","v":""},{"$f":"IFERROR(VLOOKUP(AF79,'P2'!$B$4:$J$48,9,FALSE),\"\")","v":""},{"$f":"IFERROR(VLOOKUP(AG79,'P2'!$B$4:$J$48,9,FALSE),\"\")","v":""},{"$f":"IFERROR(VLOOKUP(AH79,'P2'!$B$4:$J$48,9,FALSE),\"\")","v":""},{"$f":"IFERROR(VLOOKUP(AI79,'P2'!$B$4:$J$48,9,FALSE),\"\")","v":""},{"$f":"IFERROR(VLOOKUP(AJ79,'P2'!$B$4:$J$48,9,FALSE),\"\")","v":""},{"$f":"IFERROR(VLOOKUP(AK79,'P2'!$B$4:$J$48,9,FALSE),\"\")","v":""},{"$f":"IFERROR(VLOOKUP(AL79,'P2'!$B$4:$J$48,9,FALSE),\"\")","v":""},{"$f":"IFERROR(VLOOKUP(AM79,'P2'!$B$4:$J$48,9,FALSE),\"\")","v":""},{"$f":"IFERROR(VLOOKUP(AN79,'P2'!$B$4:$J$48,9,FALSE),\"\")","v":""},{"$f":"IFERROR(VLOOKUP(AO79,'P2'!$B$4:$J$48,9,FALSE),\"\")","v":""},{"$f":"IFERROR(VLOOKUP(AP79,'P2'!$B$4:$J$48,9,FALSE),\"\")","v":""},{"$f":"IFERROR(VLOOKUP(AQ79,'P2'!$B$4:$J$48,9,FALSE),\"\")","v":""},{"$f":"IFERROR(VLOOKUP(AR79,'P2'!$B$4:$J$48,9,FALSE),\"\")","v":""},{"$f":"IFERROR(VLOOKUP(AS79,'P2'!$B$4:$J$48,9,FALSE),\"\")","v":""},{"$f":"IFERROR(VLOOKUP(AT79,'P2'!$B$4:$J$48,9,FALSE),\"\")","v":""},{"$f":"IFERROR(VLOOKUP(AU79,'P2'!$B$4:$J$48,9,FALSE),\"\")","v":""},{"$f":"SUM(Q80:AU80)","v":0}]
[null,31,null,null,null,null,null,null,null,null,null,null,null,null,null,null,null,null,null,null,null,null,null,null,null,null,null,null,null,null,null,null,null,null,null,null,null,null,null,null,null,null,null,null,null,null,null,{"$f":"COUNTA(Q81:AU81)","v":0},{"$f":"AV82","v":0},{"$f":"IFERROR(ROUNDDOWN(AV82/$AT$3,1),\"\")","v":""}]
[null,null,null,null,null,null,null,null,null,null,null,null,null,null,null,null,{"$f":"IFERROR(VLOOKUP(Q81,'P2'!$B$4:$J$48,9,FALSE),\"\")","v":""},{"$f":"IFERROR(VLOOKUP(R81,'P2'!$B$4:$J$48,9,FALSE),\"\")","v":""},{"$f":"IFERROR(VLOOKUP(S81,'P2'!$B$4:$J$48,9,FALSE),\"\")","v":""},{"$f":"IFERROR(VLOOKUP(T81,'P2'!$B$4:$J$48,9,FALSE),\"\")","v":""},{"$f":"IFERROR(VLOOKUP(U81,'P2'!$B$4:$J$48,9,FALSE),\"\")","v":""},{"$f":"IFERROR(VLOOKUP(V81,'P2'!$B$4:$J$48,9,FALSE),\"\")","v":""},{"$f":"IFERROR(VLOOKUP(W81,'P2'!$B$4:$J$48,9,FALSE),\"\")","v":""},{"$f":"IFERROR(VLOOKUP(X81,'P2'!$B$4:$J$48,9,FALSE),\"\")","v":""},{"$f":"IFERROR(VLOOKUP(Y81,'P2'!$B$4:$J$48,9,FALSE),\"\")","v":""},{"$f":"IFERROR(VLOOKUP(Z81,'P2'!$B$4:$J$48,9,FALSE),\"\")","v":""},{"$f":"IFERROR(VLOOKUP(AA81,'P2'!$B$4:$J$48,9,FALSE),\"\")","v":""},{"$f":"IFERROR(VLOOKUP(AB81,'P2'!$B$4:$J$48,9,FALSE),\"\")","v":""},{"$f":"IFERROR(VLOOKUP(AC81,'P2'!$B$4:$J$48,9,FALSE),\"\")","v":""},{"$f":"IFERROR(VLOOKUP(AD81,'P2'!$B$4:$J$48,9,FALSE),\"\")","v":""},{"$f":"IFERROR(VLOOKUP(AE81,'P2'!$B$4:$J$48,9,FALSE),\"\")","v":""},{"$f":"IFERROR(VLOOKUP(AF81,'P2'!$B$4:$J$48,9,FALSE),\"\")","v":""},{"$f":"IFERROR(VLOOKUP(AG81,'P2'!$B$4:$J$48,9,FALSE),\"\")","v":""},{"$f":"IFERROR(VLOOKUP(AH81,'P2'!$B$4:$J$48,9,FALSE),\"\")","v":""},{"$f":"IFERROR(VLOOKUP(AI81,'P2'!$B$4:$J$48,9,FALSE),\"\")","v":""},{"$f":"IFERROR(VLOOKUP(AJ81,'P2'!$B$4:$J$48,9,FALSE),\"\")","v":""},{"$f":"IFERROR(VLOOKUP(AK81,'P2'!$B$4:$J$48,9,FALSE),\"\")","v":""},{"$f":"IFERROR(VLOOKUP(AL81,'P2'!$B$4:$J$48,9,FALSE),\"\")","v":""},{"$f":"IFERROR(VLOOKUP(AM81,'P2'!$B$4:$J$48,9,FALSE),\"\")","v":""},{"$f":"IFERROR(VLOOKUP(AN81,'P2'!$B$4:$J$48,9,FALSE),\"\")","v":""},{"$f":"IFERROR(VLOOKUP(AO81,'P2'!$B$4:$J$48,9,FALSE),\"\")","v":""},{"$f":"IFERROR(VLOOKUP(AP81,'P2'!$B$4:$J$48,9,FALSE),\"\")","v":""},{"$f":"IFERROR(VLOOKUP(AQ81,'P2'!$B$4:$J$48,9,FALSE),\"\")","v":""},{"$f":"IFERROR(VLOOKUP(AR81,'P2'!$B$4:$J$48,9,FALSE),\"\")","v":""},{"$f":"IFERROR(VLOOKUP(AS81,'P2'!$B$4:$J$48,9,FALSE),\"\")","v":""},{"$f":"IFERROR(VLOOKUP(AT81,'P2'!$B$4:$J$48,9,FALSE),\"\")","v":""},{"$f":"IFERROR(VLOOKUP(AU81,'P2'!$B$4:$J$48,9,FALSE),\"\")","v":""},{"$f":"SUM(Q82:AU82)","v":0}]
[null,32,null,null,null,null,null,null,null,null,null,null,null,null,null,null,null,null,null,null,null,null,null,null,null,null,null,null,null,null,null,null,null,null,null,null,null,null,null,null,null,null,null,null,null,null,null,{"$f":"COUNTA(Q83:AU83)","v":0},{"$f":"AV84","v":0},{"$f":"IFERROR(ROUNDDOWN(AV84/$AT$3,1),\"\")","v":""}]
[null,null,null,null,null,null,null,null,null,null,null,null,null,null,null,null,{"$f":"IFERROR(VLOOKUP(Q83,'P2'!$B$4:$J$48,9,FALSE),\"\")","v":""},{"$f":"IFERROR(VLOOKUP(R83,'P2'!$B$4:$J$48,9,FALSE),\"\")","v":""},{"$f":"IFERROR(VLOOKUP(S83,'P2'!$B$4:$J$48,9,FALSE),\"\")","v":""},{"$f":"IFERROR(VLOOKUP(T83,'P2'!$B$4:$J$48,9,FALSE),\"\")","v":""},{"$f":"IFERROR(VLOOKUP(U83,'P2'!$B$4:$J$48,9,FALSE),\"\")","v":""},{"$f":"IFERROR(VLOOKUP(V83,'P2'!$B$4:$J$48,9,FALSE),\"\")","v":""},{"$f":"IFERROR(VLOOKUP(W83,'P2'!$B$4:$J$48,9,FALSE),\"\")","v":""},{"$f":"IFERROR(VLOOKUP(X83,'P2'!$B$4:$J$48,9,FALSE),\"\")","v":""},{"$f":"IFERROR(VLOOKUP(Y83,'P2'!$B$4:$J$48,9,FALSE),\"\")","v":""},{"$f":"IFERROR(VLOOKUP(Z83,'P2'!$B$4:$J$48,9,FALSE),\"\")","v":""},{"$f":"IFERROR(VLOOKUP(AA83,'P2'!$B$4:$J$48,9,FALSE),\"\")","v":""},{"$f":"IFERROR(VLOOKUP(AB83,'P2'!$B$4:$J$48,9,FALSE),\"\")","v":""},{"$f":"IFERROR(VLOOKUP(AC83,'P2'!$B$4:$J$48,9,FALSE),\"\")","v":""},{"$f":"IFERROR(VLOOKUP(AD83,'P2'!$B$4:$J$48,9,FALSE),\"\")","v":""},{"$f":"IFERROR(VLOOKUP(AE83,'P2'!$B$4:$J$48,9,FALSE),\"\")","v":""},{"$f":"IFERROR(VLOOKUP(AF83,'P2'!$B$4:$J$48,9,FALSE),\"\")","v":""},{"$f":"IFERROR(VLOOKUP(AG83,'P2'!$B$4:$J$48,9,FALSE),\"\")","v":""},{"$f":"IFERROR(VLOOKUP(AH83,'P2'!$B$4:$J$48,9,FALSE),\"\")","v":""},{"$f":"IFERROR(VLOOKUP(AI83,'P2'!$B$4:$J$48,9,FALSE),\"\")","v":""},{"$f":"IFERROR(VLOOKUP(AJ83,'P2'!$B$4:$J$48,9,FALSE),\"\")","v":""},{"$f":"IFERROR(VLOOKUP(AK83,'P2'!$B$4:$J$48,9,FALSE),\"\")","v":""},{"$f":"IFERROR(VLOOKUP(AL83,'P2'!$B$4:$J$48,9,FALSE),\"\")","v":""},{"$f":"IFERROR(VLOOKUP(AM83,'P2'!$B$4:$J$48,9,FALSE),\"\")","v":""},{"$f":"IFERROR(VLOOKUP(AN83,'P2'!$B$4:$J$48,9,FALSE),\"\")","v":""},{"$f":"IFERROR(VLOOKUP(AO83,'P2'!$B$4:$J$48,9,FALSE),\"\")","v":""},{"$f":"IFERROR(VLOOKUP(AP83,'P2'!$B$4:$J$48,9,FALSE),\"\")","v":""},{"$f":"IFERROR(VLOOKUP(AQ83,'P2'!$B$4:$J$48,9,FALSE),\"\")","v":""},{"$f":"IFERROR(VLOOKUP(AR83,'P2'!$B$4:$J$48,9,FALSE),\"\")","v":""},{"$f":"IFERROR(VLOOKUP(AS83,'P2'!$B$4:$J$48,9,FALSE),\"\")","v":""},{"$f":"IFERROR(VLOOKUP(AT83,'P2'!$B$4:$J$48,9,FALSE),\"\")","v":""},{"$f":"IFERROR(VLOOKUP(AU83,'P2'!$B$4:$J$48,9,FALSE),\"\")","v":""},{"$f":"SUM(Q84:AU84)","v":0}]
[null,33,null,null,null,null,null,null,null,null,null,null,null,null,null,null,null,null,null,null,null,null,null,null,null,null,null,null,null,null,null,null,null,null,null,null,null,null,null,null,null,null,null,null,null,null,null,{"$f":"COUNTA(Q85:AU85)","v":0},{"$f":"AV86","v":0},{"$f":"IFERROR(ROUNDDOWN(AV86/$AT$3,1),\"\")","v":""}]
[null,null,null,null,null,null,null,null,null,null,null,null,null,null,null,null,{"$f":"IFERROR(VLOOKUP(Q85,'P2'!$B$4:$J$48,9,FALSE),\"\")","v":""},{"$f":"IFERROR(VLOOKUP(R85,'P2'!$B$4:$J$48,9,FALSE),\"\")","v":""},{"$f":"IFERROR(VLOOKUP(S85,'P2'!$B$4:$J$48,9,FALSE),\"\")","v":""},{"$f":"IFERROR(VLOOKUP(T85,'P2'!$B$4:$J$48,9,FALSE),\"\")","v":""},{"$f":"IFERROR(VLOOKUP(U85,'P2'!$B$4:$J$48,9,FALSE),\"\")","v":""},{"$f":"IFERROR(VLOOKUP(V85,'P2'!$B$4:$J$48,9,FALSE),\"\")","v":""},{"$f":"IFERROR(VLOOKUP(W85,'P2'!$B$4:$J$48,9,FALSE),\"\")","v":""},{"$f":"IFERROR(VLOOKUP(X85,'P2'!$B$4:$J$48,9,FALSE),\"\")","v":""},{"$f":"IFERROR(VLOOKUP(Y85,'P2'!$B$4:$J$48,9,FALSE),\"\")","v":""},{"$f":"IFERROR(VLOOKUP(Z85,'P2'!$B$4:$J$48,9,FALSE),\"\")","v":""},{"$f":"IFERROR(VLOOKUP(AA85,'P2'!$B$4:$J$48,9,FALSE),\"\")","v":""},{"$f":"IFERROR(VLOOKUP(AB85,'P2'!$B$4:$J$48,9,FALSE),\"\")","v":""},{"$f":"IFERROR(VLOOKUP(AC85,'P2'!$B$4:$J$48,9,FALSE),\"\")","v":""},{"$f":"IFERROR(VLOOKUP(AD85,'P2'!$B$4:$J$48,9,FALSE),\"\")","v":""},{"$f":"IFERROR(VLOOKUP(AE85,'P2'!$B$4:$J$48,9,FALSE),\"\")","v":""},{"$f":"IFERROR(VLOOKUP(AF85,'P2'!$B$4:$J$48,9,FALSE),\"\")","v":""},{"$f":"IFERROR(VLOOKUP(AG85,'P2'!$B$4:$J$48,9,FALSE),\"\")","v":""},{"$f":"IFERROR(VLOOKUP(AH85,'P2'!$B$4:$J$48,9,FALSE),\"\")","v":""},{"$f":"IFERROR(VLOOKUP(AI85,'P2'!$B$4:$J$48,9,FALSE),\"\")","v":""},{"$f":"IFERROR(VLOOKUP(AJ85,'P2'!$B$4:$J$48,9,FALSE),\"\")","v":""},{"$f":"IFERROR(VLOOKUP(AK85,'P2'!$B$4:$J$48,9,FALSE),\"\")","v":""},{"$f":"IFERROR(VLOOKUP(AL85,'P2'!$B$4:$J$48,9,FALSE),\"\")","v":""},{"$f":"IFERROR(VLOOKUP(AM85,'P2'!$B$4:$J$48,9,FALSE),\"\")","v":""},{"$f":"IFERROR(VLOOKUP(AN85,'P2'!$B$4:$J$48,9,FALSE),\"\")","v":""},{"$f":"IFERROR(VLOOKUP(AO85,'P2'!$B$4:$J$48,9,FALSE),\"\")","v":""},{"$f":"IFERROR(VLOOKUP(AP85,'P2'!$B$4:$J$48,9,FALSE),\"\")","v":""},{"$f":"IFERROR(VLOOKUP(AQ85,'P2'!$B$4:$J$48,9,FALSE),\"\")","v":""},{"$f":"IFERROR(VLOOKUP(AR85,'P2'!$B$4:$J$48,9,FALSE),\"\")","v":""},{"$f":"IFERROR(VLOOKUP(AS85,'P2'!$B$4:$J$48,9,FALSE),\"\")","v":""},{"$f":"IFERROR(VLOOKUP(AT85,'P2'!$B$4:$J$48,9,FALSE),\"\")","v":""},{"$f":"IFERROR(VLOOKUP(AU85,'P2'!$B$4:$J$48,9,FALSE),\"\")","v":""},{"$f":"SUM(Q86:AU86)","v":0}]
[null,34,null,null,null,null,null,null,null,null,null,null,null,null,null,null,null,null,null,null,null,null,null,null,null,null,null,null,null,null,null,null,null,null,null,null,null,null,null,null,null,null,null,null,null,null,null,{"$f":"COUNTA(Q87:AU87)","v":0},{"$f":"AV88","v":0},{"$f":"IFERROR(ROUNDDOWN(AV88/$AT$3,1),\"\")","v":""}]
[null,null,null,null,null,null,null,null,null,null,null,null,null,null,null,null,{"$f":"IFERROR(VLOOKUP(Q87,'P2'!$B$4:$J$48,9,FALSE),\"\")","v":""},{"$f":"IFERROR(VLOOKUP(R87,'P2'!$B$4:$J$48,9,FALSE),\"\")","v":""},{"$f":"IFERROR(VLOOKUP(S87,'P2'!$B$4:$J$48,9,FALSE),\"\")","v":""},{"$f":"IFERROR(VLOOKUP(T87,'P2'!$B$4:$J$48,9,FALSE),\"\")","v":""},{"$f":"IFERROR(VLOOKUP(U87,'P2'!$B$4:$J$48,9,FALSE),\"\")","v":""},{"$f":"IFERROR(VLOOKUP(V87,'P2'!$B$4:$J$48,9,FALSE),\"\")","v":""},{"$f":"IFERROR(VLOOKUP(W87,'P2'!$B$4:$J$48,9,FALSE),\"\")","v":""},{"$f":"IFERROR(VLOOKUP(X87,'P2'!$B$4:$J$48,9,FALSE),\"\")","v":""},{"$f":"IFERROR(VLOOKUP(Y87,'P2'!$B$4:$J$48,9,FALSE),\"\")","v":""},{"$f":"IFERROR(VLOOKUP(Z87,'P2'!$B$4:$J$48,9,FALSE),\"\")","v":""},{"$f":"IFERROR(VLOOKUP(AA87,'P2'!$B$4:$J$48,9,FALSE),\"\")","v":""},{"$f":"IFERROR(VLOOKUP(AB87,'P2'!$B$4:$J$48,9,FALSE),\"\")","v":""},{"$f":"IFERROR(VLOOKUP(AC87,'P2'!$B$4:$J$48,9,FALSE),\"\")","v":""},{"$f":"IFERROR(VLOOKUP(AD87,'P2'!$B$4:$J$48,9,FALSE),\"\")","v":""},{"$f":"IFERROR(VLOOKUP(AE87,'P2'!$B$4:$J$48,9,FALSE),\"\")","v":""},{"$f":"IFERROR(VLOOKUP(AF87,'P2'!$B$4:$J$48,9,FALSE),\"\")","v":""},{"$f":"IFERROR(VLOOKUP(AG87,'P2'!$B$4:$J$48,9,FALSE),\"\")","v":""},{"$f":"IFERROR(VLOOKUP(AH87,'P2'!$B$4:$J$48,9,FALSE),\"\")","v":""},{"$f":"IFERROR(VLOOKUP(AI87,'P2'!$B$4:$J$48,9,FALSE),\"\")","v":""},{"$f":"IFERROR(VLOOKUP(AJ87,'P2'!$B$4:$J$48,9,FALSE),\"\")","v":""},{"$f":"IFERROR(VLOOKUP(AK87,'P2'!$B$4:$J$48,9,FALSE),\"\")","v":""},{"$f":"IFERROR(VLOOKUP(AL87,'P2'!$B$4:$J$48,9,FALSE),\"\")","v":""},{"$f":"IFERROR(VLOOKUP(AM87,'P2'!$B$4:$J$48,9,FALSE),\"\")","v":""},{"$f":"IFERROR(VLOOKUP(AN87,'P2'!$B$4:$J$48,9,FALSE),\"\")","v":""},{"$f":"IFERROR(VLOOKUP(AO87,'P2'!$B$4:$J$48,9,FALSE),\"\")","v":""},{"$f":"IFERROR(VLOOKUP(AP87,'P2'!$B$4:$J$48,9,FALSE),\"\")","v":""},{"$f":"IFERROR(VLOOKUP(AQ87,'P2'!$B$4:$J$48,9,FALSE),\"\")","v":""},{"$f":"IFERROR(VLOOKUP(AR87,'P2'!$B$4:$J$48,9,FALSE),\"\")","v":""},{"$f":"IFERROR(VLOOKUP(AS87,'P2'!$B$4:$J$48,9,FALSE),\"\")","v":""},{"$f":"IFERROR(VLOOKUP(AT87,'P2'!$B$4:$J$48,9,FALSE),\"\")","v":""},{"$f":"IFERROR(VLOOKUP(AU87,'P2'!$B$4:$J$48,9,FALSE),\"\")","v":""},{"$f":"SUM(Q88:AU88)","v":0}]
[null,35,null,null,null,null,null,null,null,null,null,null,null,null,null,null,null,null,null,null,null,null,null,null,null,null,null,null,null,null,null,null,null,null,null,null,null,null,null,null,null,null,null,null,null,null,null,{"$f":"COUNTA(Q89:AU89)","v":0},{"$f":"AV90","v":0},{"$f":"IFERROR(ROUNDDOWN(AV90/$AT$3,1),\"\")","v":""}]
[null,null,null,null,null,null,null,null,null,null,null,null,null,null,null,null,{"$f":"IFERROR(VLOOKUP(Q89,'P2'!$B$4:$J$48,9,FALSE),\"\")","v":""},{"$f":"IFERROR(VLOOKUP(R89,'P2'!$B$4:$J$48,9,FALSE),\"\")","v":""},{"$f":"IFERROR(VLOOKUP(S89,'P2'!$B$4:$J$48,9,FALSE),\"\")","v":""},{"$f":"IFERROR(VLOOKUP(T89,'P2'!$B$4:$J$48,9,FALSE),\"\")","v":""},{"$f":"IFERROR(VLOOKUP(U89,'P2'!$B$4:$J$48,9,FALSE),\"\")","v":""},{"$f":"IFERROR(VLOOKUP(V89,'P2'!$B$4:$J$48,9,FALSE),\"\")","v":""},{"$f":"IFERROR(VLOOKUP(W89,'P2'!$B$4:$J$48,9,FALSE),\"\")","v":""},{"$f":"IFERROR(VLOOKUP(X89,'P2'!$B$4:$J$48,9,FALSE),\"\")","v":""},{"$f":"IFERROR(VLOOKUP(Y89,'P2'!$B$4:$J$48,9,FALSE),\"\")","v":""},{"$f":"IFERROR(VLOOKUP(Z89,'P2'!$B$4:$J$48,9,FALSE),\"\")","v":""},{"$f":"IFERROR(VLOOKUP(AA89,'P2'!$B$4:$J$48,9,FALSE),\"\")","v":""},{"$f":"IFERROR(VLOOKUP(AB89,'P2'!$B$4:$J$48,9,FALSE),\"\")","v":""},{"$f":"IFERROR(VLOOKUP(AC89,'P2'!$B$4:$J$48,9,FALSE),\"\")","v":""},{"$f":"IFERROR(VLOOKUP(AD89,'P2'!$B$4:$J$48,9,FALSE),\"\")","v":""},{"$f":"IFERROR(VLOOKUP(AE89,'P2'!$B$4:$J$48,9,FALSE),\"\")","v":""},{"$f":"IFERROR(VLOOKUP(AF89,'P2'!$B$4:$J$48,9,FALSE),\"\")","v":""},{"$f":"IFERROR(VLOOKUP(AG89,'P2'!$B$4:$J$48,9,FALSE),\"\")","v":""},{"$f":"IFERROR(VLOOKUP(AH89,'P2'!$B$4:$J$48,9,FALSE),\"\")","v":""},{"$f":"IFERROR(VLOOKUP(AI89,'P2'!$B$4:$J$48,9,FALSE),\"\")","v":""},{"$f":"IFERROR(VLOOKUP(AJ89,'P2'!$B$4:$J$48,9,FALSE),\"\")","v":""},{"$f":"IFERROR(VLOOKUP(AK89,'P2'!$B$4:$J$48,9,FALSE),\"\")","v":""},{"$f":"IFERROR(VLOOKUP(AL89,'P2'!$B$4:$J$48,9,FALSE),\"\")","v":""},{"$f":"IFERROR(VLOOKUP(AM89,'P2'!$B$4:$J$48,9,FALSE),\"\")","v":""},{"$f":"IFERROR(VLOOKUP(AN89,'P2'!$B$4:$J$48,9,FALSE),\"\")","v":""},{"$f":"IFERROR(VLOOKUP(AO89,'P2'!$B$4:$J$48,9,FALSE),\"\")","v":""},{"$f":"IFERROR(VLOOKUP(AP89,'P2'!$B$4:$J$48,9,FALSE),\"\")","v":""},{"$f":"IFERROR(VLOOKUP(AQ89,'P2'!$B$4:$J$48,9,FALSE),\"\")","v":""},{"$f":"IFERROR(VLOOKUP(AR89,'P2'!$B$4:$J$48,9,FALSE),\"\")","v":""},{"$f":"IFERROR(VLOOKUP(AS89,'P2'!$B$4:$J$48,9,FALSE),\"\")","v":""},{"$f":"IFERROR(VLOOKUP(AT89,'P2'!$B$4:$J$48,9,FALSE),\"\")","v":""},{"$f":"IFERROR(VLOOKUP(AU89,'P2'!$B$4:$J$48,9,FALSE),\"\")","v":""},{"$f":"SUM(Q90:AU90)","v":0}]
[null,36,null,null,null,null,null,null,null,null,null,null,null,null,null,null,null,null,null,null,null,null,null,null,null,null,null,null,null,null,null,null,null,null,null,null,null,null,null,null,null,null,null,null,null,null,null,{"$f":"COUNTA(Q91:AU91)","v":0},{"$f":"AV92","v":0},{"$f":"IFERROR(ROUNDDOWN(AV92/$AT$3,1),\"\")","v":""}]
[null,null,null,null,null,null,null,null,null,null,null,null,null,null,null,null,{"$f":"IFERROR(VLOOKUP(Q91,'P2'!$B$4:$J$48,9,FALSE),\"\")","v":""},{"$f":"IFERROR(VLOOKUP(R91,'P2'!$B$4:$J$48,9,FALSE),\"\")","v":""},{"$f":"IFERROR(VLOOKUP(S91,'P2'!$B$4:$J$48,9,FALSE),\"\")","v":""},{"$f":"IFERROR(VLOOKUP(T91,'P2'!$B$4:$J$48,9,FALSE),\"\")","v":""},{"$f":"IFERROR(VLOOKUP(U91,'P2'!$B$4:$J$48,9,FALSE),\"\")","v":""},{"$f":"IFERROR(VLOOKUP(V91,'P2'!$B$4:$J$48,9,FALSE),\"\")","v":""},{"$f":"IFERROR(VLOOKUP(W91,'P2'!$B$4:$J$48,9,FALSE),\"\")","v":""},{"$f":"IFERROR(VLOOKUP(X91,'P2'!$B$4:$J$48,9,FALSE),\"\")","v":""},{"$f":"IFERROR(VLOOKUP(Y91,'P2'!$B$4:$J$48,9,FALSE),\"\")","v":""},{"$f":"IFERROR(VLOOKUP(Z91,'P2'!$B$4:$J$48,9,FALSE),\"\")","v":""},{"$f":"IFERROR(VLOOKUP(AA91,'P2'!$B$4:$J$48,9,FALSE),\"\")","v":""},{"$f":"IFERROR(VLOOKUP(AB91,'P2'!$B$4:$J$48,9,FALSE),\"\")","v":""},{"$f":"IFERROR(VLOOKUP(AC91,'P2'!$B$4:$J$48,9,FALSE),\"\")","v":""},{"$f":"IFERROR(VLOOKUP(AD91,'P2'!$B$4:$J$48,9,FALSE),\"\")","v":""},{"$f":"IFERROR(VLOOKUP(AE91,'P2'!$B$4:$J$48,9,FALSE),\"\")","v":""},{"$f":"IFERROR(VLOOKUP(AF91,'P2'!$B$4:$J$48,9,FALSE),\"\")","v":""},{"$f":"IFERROR(VLOOKUP(AG91,'P2'!$B$4:$J$48,9,FALSE),\"\")","v":""},{"$f":"IFERROR(VLOOKUP(AH91,'P2'!$B$4:$J$48,9,FALSE),\"\")","v":""},{"$f":"IFERROR(VLOOKUP(AI91,'P2'!$B$4:$J$48,9,FALSE),\"\")","v":""},{"$f":"IFERROR(VLOOKUP(AJ91,'P2'!$B$4:$J$48,9,FALSE),\"\")","v":""},{"$f":"IFERROR(VLOOKUP(AK91,'P2'!$B$4:$J$48,9,FALSE),\"\")","v":""},{"$f":"IFERROR(VLOOKUP(AL91,'P2'!$B$4:$J$48,9,FALSE),\"\")","v":""},{"$f":"IFERROR(VLOOKUP(AM91,'P2'!$B$4:$J$48,9,FALSE),\"\")","v":""},{"$f":"IFERROR(VLOOKUP(AN91,'P2'!$B$4:$J$48,9,FALSE),\"\")","v":""},{"$f":"IFERROR(VLOOKUP(AO91,'P2'!$B$4:$J$48,9,FALSE),\"\")","v":""},{"$f":"IFERROR(VLOOKUP(AP91,'P2'!$B$4:$J$48,9,FALSE),\"\")","v":""},{"$f":"IFERROR(VLOOKUP(AQ91,'P2'!$B$4:$J$48,9,FALSE),\"\")","v":""},{"$f":"IFERROR(VLOOKUP(AR91,'P2'!$B$4:$J$48,9,FALSE),\"\")","v":""},{"$f":"IFERROR(VLOOKUP(AS91,'P2'!$B$4:$J$48,9,FALSE),\"\")","v":""},{"$f":"IFERROR(VLOOKUP(AT91,'P2'!$B$4:$J$48,9,FALSE),\"\")","v":""},{"$f":"IFERROR(VLOOKUP(AU91,'P2'!$B$4:$J$48,9,FALSE),\"\")","v":""},{"$f":"SUM(Q92:AU92)","v":0}]
[null,37,null,null,null,null,null,null,null,null,null,null,null,null,null,null,null,null,null,null,null,null,null,null,null,null,null,null,null,null,null,null,null,null,null,null,null,null,null,null,null,null,null,null,null,null,null,{"$f":"COUNTA(Q93:AU93)","v":0},{"$f":"AV94","v":0},{"$f":"IFERROR(ROUNDDOWN(AV94/$AT$3,1),\"\")","v":""}]
[null,null,null,null,null,null,null,null,null,null,null,null,null,null,null,null,{"$f":"IFERROR(VLOOKUP(Q93,'P2'!$B$4:$J$48,9,FALSE),\"\")","v":""},{"$f":"IFERROR(VLOOKUP(R93,'P2'!$B$4:$J$48,9,FALSE),\"\")","v":""},{"$f":"IFERROR(VLOOKUP(S93,'P2'!$B$4:$J$48,9,FALSE),\"\")","v":""},{"$f":"IFERROR(VLOOKUP(T93,'P2'!$B$4:$J$48,9,FALSE),\"\")","v":""},{"$f":"IFERROR(VLOOKUP(U93,'P2'!$B$4:$J$48,9,FALSE),\"\")","v":""},{"$f":"IFERROR(VLOOKUP(V93,'P2'!$B$4:$J$48,9,FALSE),\"\")","v":""},{"$f":"IFERROR(VLOOKUP(W93,'P2'!$B$4:$J$48,9,FALSE),\"\")","v":""},{"$f":"IFERROR(VLOOKUP(X93,'P2'!$B$4:$J$48,9,FALSE),\"\")","v":""},{"$f":"IFERROR(VLOOKUP(Y93,'P2'!$B$4:$J$48,9,FALSE),\"\")","v":""},{"$f":"IFERROR(VLOOKUP(Z93,'P2'!$B$4:$J$48,9,FALSE),\"\")","v":""},{"$f":"IFERROR(VLOOKUP(AA93,'P2'!$B$4:$J$48,9,FALSE),\"\")","v":""},{"$f":"IFERROR(VLOOKUP(AB93,'P2'!$B$4:$J$48,9,FALSE),\"\")","v":""},{"$f":"IFERROR(VLOOKUP(AC93,'P2'!$B$4:$J$48,9,FALSE),\"\")","v":""},{"$f":"IFERROR(VLOOKUP(AD93,'P2'!$B$4:$J$48,9,FALSE),\"\")","v":""},{"$f":"IFERROR(VLOOKUP(AE93,'P2'!$B$4:$J$48,9,FALSE),\"\")","v":""},{"$f":"IFERROR(VLOOKUP(AF93,'P2'!$B$4:$J$48,9,FALSE),\"\")","v":""},{"$f":"IFERROR(VLOOKUP(AG93,'P2'!$B$4:$J$48,9,FALSE),\"\")","v":""},{"$f":"IFERROR(VLOOKUP(AH93,'P2'!$B$4:$J$48,9,FALSE),\"\")","v":""},{"$f":"IFERROR(VLOOKUP(AI93,'P2'!$B$4:$J$48,9,FALSE),\"\")","v":""},{"$f":"IFERROR(VLOOKUP(AJ93,'P2'!$B$4:$J$48,9,FALSE),\"\")","v":""},{"$f":"IFERROR(VLOOKUP(AK93,'P2'!$B$4:$J$48,9,FALSE),\"\")","v":""},{"$f":"IFERROR(VLOOKUP(AL93,'P2'!$B$4:$J$48,9,FALSE),\"\")","v":""},{"$f":"IFERROR(VLOOKUP(AM93,'P2'!$B$4:$J$48,9,FALSE),\"\")","v":""},{"$f":"IFERROR(VLOOKUP(AN93,'P2'!$B$4:$J$48,9,FALSE),\"\")","v":""},{"$f":"IFERROR(VLOOKUP(AO93,'P2'!$B$4:$J$48,9,FALSE),\"\")","v":""},{"$f":"IFERROR(VLOOKUP(AP93,'P2'!$B$4:$J$48,9,FALSE),\"\")","v":""},{"$f":"IFERROR(VLOOKUP(AQ93,'P2'!$B$4:$J$48,9,FALSE),\"\")","v":""},{"$f":"IFERROR(VLOOKUP(AR93,'P2'!$B$4:$J$48,9,FALSE),\"\")","v":""},{"$f":"IFERROR(VLOOKUP(AS93,'P2'!$B$4:$J$48,9,FALSE),\"\")","v":""},{"$f":"IFERROR(VLOOKUP(AT93,'P2'!$B$4:$J$48,9,FALSE),\"\")","v":""},{"$f":"IFERROR(VLOOKUP(AU93,'P2'!$B$4:$J$48,9,FALSE),\"\")","v":""},{"$f":"SUM(Q94:AU94)","v":0}]
[null,{"$f":"B93+1","v":38},null,null,null,null,null,null,null,null,null,null,null,null,null,null,null,null,null,null,null,null,null,null,null,null,null,null,null,null,null,null,null,null,null,null,null,null,null,null,null,null,null,null,null,null,null,{"$f":"COUNTA(Q95:AU95)","v":0},{"$f":"AV96","v":0},{"$f":"IFERROR(ROUNDDOWN(AV96/$AT$3,1),\"\")","v":""}]
[null,null,null,null,null,null,null,null,null,null,null,null,null,null,null,null,{"$f":"IFERROR(VLOOKUP(Q95,'P2'!$B$4:$J$48,9,FALSE),\"\")","v":""},{"$f":"IFERROR(VLOOKUP(R95,'P2'!$B$4:$J$48,9,FALSE),\"\")","v":""},{"$f":"IFERROR(VLOOKUP(S95,'P2'!$B$4:$J$48,9,FALSE),\"\")","v":""},{"$f":"IFERROR(VLOOKUP(T95,'P2'!$B$4:$J$48,9,FALSE),\"\")","v":""},{"$f":"IFERROR(VLOOKUP(U95,'P2'!$B$4:$J$48,9,FALSE),\"\")","v":""},{"$f":"IFERROR(VLOOKUP(V95,'P2'!$B$4:$J$48,9,FALSE),\"\")","v":""},{"$f":"IFERROR(VLOOKUP(W95,'P2'!$B$4:$J$48,9,FALSE),\"\")","v":""},{"$f":"IFERROR(VLOOKUP(X95,'P2'!$B$4:$J$48,9,FALSE),\"\")","v":""},{"$f":"IFERROR(VLOOKUP(Y95,'P2'!$B$4:$J$48,9,FALSE),\"\")","v":""},{"$f":"IFERROR(VLOOKUP(Z95,'P2'!$B$4:$J$48,9,FALSE),\"\")","v":""},{"$f":"IFERROR(VLOOKUP(AA95,'P2'!$B$4:$J$48,9,FALSE),\"\")","v":""},{"$f":"IFERROR(VLOOKUP(AB95,'P2'!$B$4:$J$48,9,FALSE),\"\")","v":""},{"$f":"IFERROR(VLOOKUP(AC95,'P2'!$B$4:$J$48,9,FALSE),\"\")","v":""},{"$f":"IFERROR(VLOOKUP(AD95,'P2'!$B$4:$J$48,9,FALSE),\"\")","v":""},{"$f":"IFERROR(VLOOKUP(AE95,'P2'!$B$4:$J$48,9,FALSE),\"\")","v":""},{"$f":"IFERROR(VLOOKUP(AF95,'P2'!$B$4:$J$48,9,FALSE),\"\")","v":""},{"$f":"IFERROR(VLOOKUP(AG95,'P2'!$B$4:$J$48,9,FALSE),\"\")","v":""},{"$f":"IFERROR(VLOOKUP(AH95,'P2'!$B$4:$J$48,9,FALSE),\"\")","v":""},{"$f":"IFERROR(VLOOKUP(AI95,'P2'!$B$4:$J$48,9,FALSE),\"\")","v":""},{"$f":"IFERROR(VLOOKUP(AJ95,'P2'!$B$4:$J$48,9,FALSE),\"\")","v":""},{"$f":"IFERROR(VLOOKUP(AK95,'P2'!$B$4:$J$48,9,FALSE),\"\")","v":""},{"$f":"IFERROR(VLOOKUP(AL95,'P2'!$B$4:$J$48,9,FALSE),\"\")","v":""},{"$f":"IFERROR(VLOOKUP(AM95,'P2'!$B$4:$J$48,9,FALSE),\"\")","v":""},{"$f":"IFERROR(VLOOKUP(AN95,'P2'!$B$4:$J$48,9,FALSE),\"\")","v":""},{"$f":"IFERROR(VLOOKUP(AO95,'P2'!$B$4:$J$48,9,FALSE),\"\")","v":""},{"$f":"IFERROR(VLOOKUP(AP95,'P2'!$B$4:$J$48,9,FALSE),\"\")","v":""},{"$f":"IFERROR(VLOOKUP(AQ95,'P2'!$B$4:$J$48,9,FALSE),\"\")","v":""},{"$f":"IFERROR(VLOOKUP(AR95,'P2'!$B$4:$J$48,9,FALSE),\"\")","v":""},{"$f":"IFERROR(VLOOKUP(AS95,'P2'!$B$4:$J$48,9,FALSE),\"\")","v":""},{"$f":"IFERROR(VLOOKUP(AT95,'P2'!$B$4:$J$48,9,FALSE),\"\")","v":""},{"$f":"IFERROR(VLOOKUP(AU95,'P2'!$B$4:$J$48,9,FALSE),\"\")","v":""},{"$f":"SUM(Q96:AU96)","v":0}]
[null,39,null,null,null,null,null,null,null,null,null,null,null,null,null,null,null,null,null,null,null,null,null,null,null,null,null,null,null,null,null,null,null,null,null,null,null,null,null,null,null,null,null,null,null,null,null,{"$f":"COUNTA(Q97:AU97)","v":0},{"$f":"AV98","v":0},{"$f":"IFERROR(ROUNDDOWN(AV98/$AT$3,1),\"\")","v":""}]
[null,null,null,null,null,null,null,null,null,null,null,null,null,null,null,null,{"$f":"IFERROR(VLOOKUP(Q97,'P2'!$B$4:$J$48,9,FALSE),\"\")","v":""},{"$f":"IFERROR(VLOOKUP(R97,'P2'!$B$4:$J$48,9,FALSE),\"\")","v":""},{"$f":"IFERROR(VLOOKUP(S97,'P2'!$B$4:$J$48,9,FALSE),\"\")","v":""},{"$f":"IFERROR(VLOOKUP(T97,'P2'!$B$4:$J$48,9,FALSE),\"\")","v":""},{"$f":"IFERROR(VLOOKUP(U97,'P2'!$B$4:$J$48,9,FALSE),\"\")","v":""},{"$f":"IFERROR(VLOOKUP(V97,'P2'!$B$4:$J$48,9,FALSE),\"\")","v":""},{"$f":"IFERROR(VLOOKUP(W97,'P2'!$B$4:$J$48,9,FALSE),\"\")","v":""},{"$f":"IFERROR(VLOOKUP(X97,'P2'!$B$4:$J$48,9,FALSE),\"\")","v":""},{"$f":"IFERROR(VLOOKUP(Y97,'P2'!$B$4:$J$48,9,FALSE),\"\")","v":""},{"$f":"IFERROR(VLOOKUP(Z97,'P2'!$B$4:$J$48,9,FALSE),\"\")","v":""},{"$f":"IFERROR(VLOOKUP(AA97,'P2'!$B$4:$J$48,9,FALSE),\"\")","v":""},{"$f":"IFERROR(VLOOKUP(AB97,'P2'!$B$4:$J$48,9,FALSE),\"\")","v":""},{"$f":"IFERROR(VLOOKUP(AC97,'P2'!$B$4:$J$48,9,FALSE),\"\")","v":""},{"$f":"IFERROR(VLOOKUP(AD97,'P2'!$B$4:$J$48,9,FALSE),\"\")","v":""},{"$f":"IFERROR(VLOOKUP(AE97,'P2'!$B$4:$J$48,9,FALSE),\"\")","v":""},{"$f":"IFERROR(VLOOKUP(AF97,'P2'!$B$4:$J$48,9,FALSE),\"\")","v":""},{"$f":"IFERROR(VLOOKUP(AG97,'P2'!$B$4:$J$48,9,FALSE),\"\")","v":""},{"$f":"IFERROR(VLOOKUP(AH97,'P2'!$B$4:$J$48,9,FALSE),\"\")","v":""},{"$f":"IFERROR(VLOOKUP(AI97,'P2'!$B$4:$J$48,9,FALSE),\"\")","v":""},{"$f":"IFERROR(VLOOKUP(AJ97,'P2'!$B$4:$J$48,9,FALSE),\"\")","v":""},{"$f":"IFERROR(VLOOKUP(AK97,'P2'!$B$4:$J$48,9,FALSE),\"\")","v":""},{"$f":"IFERROR(VLOOKUP(AL97,'P2'!$B$4:$J$48,9,FALSE),\"\")","v":""},{"$f":"IFERROR(VLOOKUP(AM97,'P2'!$B$4:$J$48,9,FALSE),\"\")","v":""},{"$f":"IFERROR(VLOOKUP(AN97,'P2'!$B$4:$J$48,9,FALSE),\"\")","v":""},{"$f":"IFERROR(VLOOKUP(AO97,'P2'!$B$4:$J$48,9,FALSE),\"\")","v":""},{"$f":"IFERROR(VLOOKUP(AP97,'P2'!$B$4:$J$48,9,FALSE),\"\")","v":""},{"$f":"IFERROR(VLOOKUP(AQ97,'P2'!$B$4:$J$48,9,FALSE),\"\")","v":""},{"$f":"IFERROR(VLOOKUP(AR97,'P2'!$B$4:$J$48,9,FALSE),\"\")","v":""},{"$f":"IFERROR(VLOOKUP(AS97,'P2'!$B$4:$J$48,9,FALSE),\"\")","v":""},{"$f":"IFERROR(VLOOKUP(AT97,'P2'!$B$4:$J$48,9,FALSE),\"\")","v":""},{"$f":"IFERROR(VLOOKUP(AU97,'P2'!$B$4:$J$48,9,FALSE),\"\")","v":""},{"$f":"SUM(Q98:AU98)","v":0}]
[null,40,null,null,null,null,null,null,null,null,null,null,null,null,null,null,null,null,null,null,null,null,null,null,null,null,null,null,null,null,null,null,null,null,null,null,null,null,null,null,null,null,null,null,null,null,null,{"$f":"COUNTA(Q99:AU99)","v":0},{"$f":"AV100","v":0},{"$f":"IFERROR(ROUNDDOWN(AV100/$AT$3,1),\"\")","v":""}]
[null,null,null,null,null,null,null,null,null,null,null,null,null,null,null,null,{"$f":"IFERROR(VLOOKUP(Q99,'P2'!$B$4:$J$48,9,FALSE),\"\")","v":""},{"$f":"IFERROR(VLOOKUP(R99,'P2'!$B$4:$J$48,9,FALSE),\"\")","v":""},{"$f":"IFERROR(VLOOKUP(S99,'P2'!$B$4:$J$48,9,FALSE),\"\")","v":""},{"$f":"IFERROR(VLOOKUP(T99,'P2'!$B$4:$J$48,9,FALSE),\"\")","v":""},{"$f":"IFERROR(VLOOKUP(U99,'P2'!$B$4:$J$48,9,FALSE),\"\")","v":""},{"$f":"IFERROR(VLOOKUP(V99,'P2'!$B$4:$J$48,9,FALSE),\"\")","v":""},{"$f":"IFERROR(VLOOKUP(W99,'P2'!$B$4:$J$48,9,FALSE),\"\")","v":""},{"$f":"IFERROR(VLOOKUP(X99,'P2'!$B$4:$J$48,9,FALSE),\"\")","v":""},{"$f":"IFERROR(VLOOKUP(Y99,'P2'!$B$4:$J$48,9,FALSE),\"\")","v":""},{"$f":"IFERROR(VLOOKUP(Z99,'P2'!$B$4:$J$48,9,FALSE),\"\")","v":""},{"$f":"IFERROR(VLOOKUP(AA99,'P2'!$B$4:$J$48,9,FALSE),\"\")","v":""},{"$f":"IFERROR(VLOOKUP(AB99,'P2'!$B$4:$J$48,9,FALSE),\"\")","v":""},{"$f":"IFERROR(VLOOKUP(AC99,'P2'!$B$4:$J$48,9,FALSE),\"\")","v":""},{"$f":"IFERROR(VLOOKUP(AD99,'P2'!$B$4:$J$48,9,FALSE),\"\")","v":""},{"$f":"IFERROR(VLOOKUP(AE99,'P2'!$B$4:$J$48,9,FALSE),\"\")","v":""},{"$f":"IFERROR(VLOOKUP(AF99,'P2'!$B$4:$J$48,9,FALSE),\"\")","v":""},{"$f":"IFERROR(VLOOKUP(AG99,'P2'!$B$4:$J$48,9,FALSE),\"\")","v":""},{"$f":"IFERROR(VLOOKUP(AH99,'P2'!$B$4:$J$48,9,FALSE),\"\")","v":""},{"$f":"IFERROR(VLOOKUP(AI99,'P2'!$B$4:$J$48,9,FALSE),\"\")","v":""},{"$f":"IFERROR(VLOOKUP(AJ99,'P2'!$B$4:$J$48,9,FALSE),\"\")","v":""},{"$f":"IFERROR(VLOOKUP(AK99,'P2'!$B$4:$J$48,9,FALSE),\"\")","v":""},{"$f":"IFERROR(VLOOKUP(AL99,'P2'!$B$4:$J$48,9,FALSE),\"\")","v":""},{"$f":"IFERROR(VLOOKUP(AM99,'P2'!$B$4:$J$48,9,FALSE),\"\")","v":""},{"$f":"IFERROR(VLOOKUP(AN99,'P2'!$B$4:$J$48,9,FALSE),\"\")","v":""},{"$f":"IFERROR(VLOOKUP(AO99,'P2'!$B$4:$J$48,9,FALSE),\"\")","v":""},{"$f":"IFERROR(VLOOKUP(AP99,'P2'!$B$4:$J$48,9,FALSE),\"\")","v":""},{"$f":"IFERROR(VLOOKUP(AQ99,'P2'!$B$4:$J$48,9,FALSE),\"\")","v":""},{"$f":"IFERROR(VLOOKUP(AR99,'P2'!$B$4:$J$48,9,FALSE),\"\")","v":""},{"$f":"IFERROR(VLOOKUP(AS99,'P2'!$B$4:$J$48,9,FALSE),\"\")","v":""},{"$f":"IFERROR(VLOOKUP(AT99,'P2'!$B$4:$J$48,9,FALSE),\"\")","v":""},{"$f":"IFERROR(VLOOKUP(AU99,'P2'!$B$4:$J$48,9,FALSE),\"\")","v":""},{"$f":"SUM(Q100:AU100)","v":0}]
[]
[]
[null,"(2)　勤務実績　（直近3か月分の実績）",null,null,null,null,null,null,null,null,null,null,null,null,null,null,null,null,"（",{"$f":"$T$3","v":"令和　7"},null,"年",{"$f":"$W$3","v":5},"月分実績",null,"）",null,null,null,null,null,null,null,null,null,null,null,null,null,null,null,null,null,null,null,null,null,null,null,{"$f":"\"3 / \"&COUNTA(C$7,C$57,C$106,C$155,C$204)","v":"3 / 1"}]
[null,null,"職　　種",null,null,null,null,null,"氏　　名",null,null,null,null,"勤務\n形態",null,null,{"$f":"Q$5","v":"2025-05-01"},{"$f":"R$5","v":"2025-05-02"},"2025-05-03","2025-05-04","2025-05-05","2025-05-06","2025-05-07","2025-05-08","2025-05-09","2025-05-10","2025-05-11","2025-05-12","2025-05-13","2025-05-14","2025-05-15","2025-05-16","2025-05-17","2025-05-18","2025-05-19","2025-05-20","2025-05-21","2025-05-22","2025-05-23","2025-05-24","2025-05-25","2025-05-26","2025-05-27","2025-05-28","2025-05-29","2025-05-30","2025-05-31","勤務日数",null,"常勤換算"]
[null,null,null,null,null,null,null,null,null,null,null,null,null,null,null,null,{"$f":"Q$6","v":"木"},{"$f":"R$6","v":"金"},"土","日","月","火","水","木","金","土","日","月","火","水","木","金","土","日","月","火","水","木","金","土","日","月","火","水","木","金","土","勤務時間"]
[null,{"$f":"B99+1","v":41},null,null,null,null,null,null,null,null,null,null,null,null,null,null,null,null,null,null,null,null,null,null,null,null,null,null,null,null,null,null,null,null,null,null,null,null,null,null,null,null,null,null,null,null,null,{"$f":"COUNTA(Q106:AU106)","v":0},{"$f":"AV107","v":0},{"$f":"IFERROR(ROUNDDOWN(AV107/$AT$3,1),\"\")","v":""}]
[null,null,null,null,null,null,null,null,null,null,null,null,null,null,null,null,{"$f":"IFERROR(VLOOKUP(Q106,'P2'!$B$4:$J$48,9,FALSE),\"\")","v":""},{"$f":"IFERROR(VLOOKUP(R106,'P2'!$B$4:$J$48,9,FALSE),\"\")","v":""},{"$f":"IFERROR(VLOOKUP(S106,'P2'!$B$4:$J$48,9,FALSE),\"\")","v":""},{"$f":"IFERROR(VLOOKUP(T106,'P2'!$B$4:$J$48,9,FALSE),\"\")","v":""},{"$f":"IFERROR(VLOOKUP(U106,'P2'!$B$4:$J$48,9,FALSE),\"\")","v":""},{"$f":"IFERROR(VLOOKUP(V106,'P2'!$B$4:$J$48,9,FALSE),\"\")","v":""},{"$f":"IFERROR(VLOOKUP(W106,'P2'!$B$4:$J$48,9,FALSE),\"\")","v":""},{"$f":"IFERROR(VLOOKUP(X106,'P2'!$B$4:$J$48,9,FALSE),\"\")","v":""},{"$f":"IFERROR(VLOOKUP(Y106,'P2'!$B$4:$J$48,9,FALSE),\"\")","v":""},{"$f":"IFERROR(VLOOKUP(Z106,'P2'!$B$4:$J$48,9,FALSE),\"\")","v":""},{"$f":"IFERROR(VLOOKUP(AA106,'P2'!$B$4:$J$48,9,FALSE),\"\")","v":""},{"$f":"IFERROR(VLOOKUP(AB106,'P2'!$B$4:$J$48,9,FALSE),\"\")","v":""},{"$f":"IFERROR(VLOOKUP(AC106,'P2'!$B$4:$J$48,9,FALSE),\"\")","v":""},{"$f":"IFERROR(VLOOKUP(AD106,'P2'!$B$4:$J$48,9,FALSE),\"\")","v":""},{"$f":"IFERROR(VLOOKUP(AE106,'P2'!$B$4:$J$48,9,FALSE),\"\")","v":""},{"$f":"IFERROR(VLOOKUP(AF106,'P2'!$B$4:$J$48,9,FALSE),\"\")","v":""},{"$f":"IFERROR(VLOOKUP(AG106,'P2'!$B$4:$J$48,9,FALSE),\"\")","v":""},{"$f":"IFERROR(VLOOKUP(AH106,'P2'!$B$4:$J$48,9,FALSE),\"\")","v":""},{"$f":"IFERROR(VLOOKUP(AI106,'P2'!$B$4:$J$48,9,FALSE),\"\")","v":""},{"$f":"IFERROR(VLOOKUP(AJ106,'P2'!$B$4:$J$48,9,FALSE),\"\")","v":""},{"$f":"IFERROR(VLOOKUP(AK106,'P2'!$B$4:$J$48,9,FALSE),\"\")","v":""},{"$f":"IFERROR(VLOOKUP(AL106,'P2'!$B$4:$J$48,9,FALSE),\"\")","v":""},{"$f":"IFERROR(VLOOKUP(AM106,'P2'!$B$4:$J$48,9,FALSE),\"\")","v":""},{"$f":"IFERROR(VLOOKUP(AN106,'P2'!$B$4:$J$48,9,FALSE),\"\")","v":""},{"$f":"IFERROR(VLOOKUP(AO106,'P2'!$B$4:$J$48,9,FALSE),\"\")","v":""},{"$f":"IFERROR(VLOOKUP(AP106,'P2'!$B$4:$J$48,9,FALSE),\"\")","v":""},{"$f":"IFERROR(VLOOKUP(AQ106,'P2'!$B$4:$J$48,9,FALSE),\"\")","v":""},{"$f":"IFERROR(VLOOKUP(AR106,'P2'!$B$4:$J$48,9,FALSE),\"\")","v":""},{"$f":"IFERROR(VLOOKUP(AS106,'P2'!$B$4:$J$48,9,FALSE),\"\")","v":""},{"$f":"IFERROR(VLOOKUP(AT106,'P2'!$B$4:$J$48,9,FALSE),\"\")","v":""},{"$f":"IFERROR(VLOOKUP(AU106,'P2'!$B$4:$J$48,9,FALSE),\"\")","v":""},{"$f":"SUM(Q107:AU107)","v":0}]
[null,{"$f":"B106+1","v":42},null,null,null,null,null,null,null,null,null,null,null,null,null,null,null,null,null,null,null,null,null,null,null,null,null,null,null,null,null,null,null,null,null,null,null,null,null,null,null,null,null,null,null,null,null,{"$f":"COUNTA(Q108:AU108)","v":0},{"$f":"AV109","v":0},{"$f":"IFERROR(ROUNDDOWN(AV109/$AT$3,1),\"\")","v":""}]
[null,null,null,null,null,null,null,null,null,null,null,null,null,null,null,null,{"$f":"IFERROR(VLOOKUP(Q108,'P2'!$B$4:$J$48,9,FALSE),\"\")","v":""},{"$f":"IFERROR(VLOOKUP(R108,'P2'!$B$4:$J$48,9,FALSE),\"\")","v":""},{"$f":"IFERROR(VLOOKUP(S108,'P2'!$B$4:$J$48,9,FALSE),\"\")","v":""},{"$f":"IFERROR(VLOOKUP(T108,'P2'!$B$4:$J$48,9,FALSE),\"\")","v":""},{"$f":"IFERROR(VLOOKUP(U108,'P2'!$B$4:$J$48,9,FALSE),\"\")","v":""},{"$f":"IFERROR(VLOOKUP(V108,'P2'!$B$4:$J$48,9,FALSE),\"\")","v":""},{"$f":"IFERROR(VLOOKUP(W108,'P2'!$B$4:$J$48,9,FALSE),\"\")","v":""},{"$f":"IFERROR(VLOOKUP(X108,'P2'!$B$4:$J$48,9,FALSE),\"\")","v":""},{"$f":"IFERROR(VLOOKUP(Y108,'P2'!$B$4:$J$48,9,FALSE),\"\")","v":""},{"$f":"IFERROR(VLOOKUP(Z108,'P2'!$B$4:$J$48,9,FALSE),\"\")","v":""},{"$f":"IFERROR(VLOOKUP(AA108,'P2'!$B$4:$J$48,9,FALSE),\"\")","v":""},{"$f":"IFERROR(VLOOKUP(AB108,'P2'!$B$4:$J$48,9,FALSE),\"\")","v":""},{"$f":"IFERROR(VLOOKUP(AC108,'P2'!$B$4:$J$48,9,FALSE),\"\")","v":""},{"$f":"IFERROR(VLOOKUP(AD108,'P2'!$B$4:$J$48,9,FALSE),\"\")","v":""},{"$f":"IFERROR(VLOOKUP(AE108,'P2'!$B$4:$J$48,9,FALSE),\"\")","v":""},{"$f":"IFERROR(VLOOKUP(AF108,'P2'!$B$4:$J$48,9,FALSE),\"\")","v":""},{"$f":"IFERROR(VLOOKUP(AG108,'P2'!$B$4:$J$48,9,FALSE),\"\")","v":""},{"$f":"IFERROR(VLOOKUP(AH108,'P2'!$B$4:$J$48,9,FALSE),\"\")","v":""},{"$f":"IFERROR(VLOOKUP(AI108,'P2'!$B$4:$J$48,9,FALSE),\"\")","v":""},{"$f":"IFERROR(VLOOKUP(AJ108,'P2'!$B$4:$J$48,9,FALSE),\"\")","v":""},{"$f":"IFERROR(VLOOKUP(AK108,'P2'!$B$4:$J$48,9,FALSE),\"\")","v":""},{"$f":"IFERROR(VLOOKUP(AL108,'P2'!$B$4:$J$48,9,FALSE),\"\")","v":""},{"$f":"IFERROR(VLOOKUP(AM108,'P2'!$B$4:$J$48,9,FALSE),\"\")","v":""},{"$f":"IFERROR(VLOOKUP(AN108,'P2'!$B$4:$J$48,9,FALSE),\"\")","v":""},{"$f":"IFERROR(VLOOKUP(AO108,'P2'!$B$4:$J$48,9,FALSE),\"\")","v":""},{"$f":"IFERROR(VLOOKUP(AP108,'P2'!$B$4:$J$48,9,FALSE),\"\")","v":""},{"$f":"IFERROR(VLOOKUP(AQ108,'P2'!$B$4:$J$48,9,FALSE),\"\")","v":""},{"$f":"IFERROR(VLOOKUP(AR108,'P2'!$B$4:$J$48,9,FALSE),\"\")","v":""},{"$f":"IFERROR(VLOOKUP(AS108,'P2'!$B$4:$J$48,9,FALSE),\"\")","v":""},{"$f":"IFERROR(VLOOKUP(AT108,'P2'!$B$4:$J$48,9,FALSE),\"\")","v":""},{"$f":"IFERROR(VLOOKUP(AU108,'P2'!$B$4:$J$48,9,FALSE),\"\")","v":""},{"$f":"SUM(Q109:AU109)","v":0}]
[null,43,null,null,null,null,null,null,null,null,null,null,null,null,null,null,null,null,null,null,null,null,null,null,null,null,null,null,null,null,null,null,null,null,null,null,null,null,null,null,null,null,null,null,null,null,null,{"$f":"COUNTA(Q110:AU110)","v":0},{"$f":"AV111","v":0},{"$f":"IFERROR(ROUNDDOWN(AV111/$AT$3,1),\"\")","v":""}]
[null,null,null,null,null,null,null,null,null,null,null,null,null,null,null,null,{"$f":"IFERROR(VLOOKUP(Q110,'P2'!$B$4:$J$48,9,FALSE),\"\")","v":""},{"$f":"IFERROR(VLOOKUP(R110,'P2'!$B$4:$J$48,9,FALSE),\"\")","v":""},{"$f":"IFERROR(VLOOKUP(S110,'P2'!$B$4:$J$48,9,FALSE),\"\")","v":""},{"$f":"IFERROR(VLOOKUP(T110,'P2'!$B$4:$J$48,9,FALSE),\"\")","v":""},{"$f":"IFERROR(VLOOKUP(U110,'P2'!$B$4:$J$48,9,FALSE),\"\")","v":""},{"$f":"IFERROR(VLOOKUP(V110,'P2'!$B$4:$J$48,9,FALSE),\"\")","v":""},{"$f":"IFERROR(VLOOKUP(W110,'P2'!$B$4:$J$48,9,FALSE),\"\")","v":""},{"$f":"IFERROR(VLOOKUP(X110,'P2'!$B$4:$J$48,9,FALSE),\"\")","v":""},{"$f":"IFERROR(VLOOKUP(Y110,'P2'!$B$4:$J$48,9,FALSE),\"\")","v":""},{"$f":"IFERROR(VLOOKUP(Z110,'P2'!$B$4:$J$48,9,FALSE),\"\")","v":""},{"$f":"IFERROR(VLOOKUP(AA110,'P2'!$B$4:$J$48,9,FALSE),\"\")","v":""},{"$f":"IFERROR(VLOOKUP(AB110,'P2'!$B$4:$J$48,9,FALSE),\"\")","v":""},{"$f":"IFERROR(VLOOKUP(AC110,'P2'!$B$4:$J$48,9,FALSE),\"\")","v":""},{"$f":"IFERROR(VLOOKUP(AD110,'P2'!$B$4:$J$48,9,FALSE),\"\")","v":""},{"$f":"IFERROR(VLOOKUP(AE110,'P2'!$B$4:$J$48,9,FALSE),\"\")","v":""},{"$f":"IFERROR(VLOOKUP(AF110,'P2'!$B$4:$J$48,9,FALSE),\"\")","v":""},{"$f":"IFERROR(VLOOKUP(AG110,'P2'!$B$4:$J$48,9,FALSE),\"\")","v":""},{"$f":"IFERROR(VLOOKUP(AH110,'P2'!$B$4:$J$48,9,FALSE),\"\")","v":""},{"$f":"IFERROR(VLOOKUP(AI110,'P2'!$B$4:$J$48,9,FALSE),\"\")","v":""},{"$f":"IFERROR(VLOOKUP(AJ110,'P2'!$B$4:$J$48,9,FALSE),\"\")","v":""},{"$f":"IFERROR(VLOOKUP(AK110,'P2'!$B$4:$J$48,9,FALSE),\"\")","v":""},{"$f":"IFERROR(VLOOKUP(AL110,'P2'!$B$4:$J$48,9,FALSE),\"\")","v":""},{"$f":"IFERROR(VLOOKUP(AM110,'P2'!$B$4:$J$48,9,FALSE),\"\")","v":""},{"$f":"IFERROR(VLOOKUP(AN110,'P2'!$B$4:$J$48,9,FALSE),\"\")","v":""},{"$f":"IFERROR(VLOOKUP(AO110,'P2'!$B$4:$J$48,9,FALSE),\"\")","v":""},{"$f":"IFERROR(VLOOKUP(AP110,'P2'!$B$4:$J$48,9,FALSE),\"\")","v":""},{"$f":"IFERROR(VLOOKUP(AQ110,'P2'!$B$4:$J$48,9,FALSE),\"\")","v":""},{"$f":"IFERROR(VLOOKUP(AR110,'P2'!$B$4:$J$48,9,FALSE),\"\")","v":""},{"$f":"IFERROR(VLOOKUP(AS110,'P2'!$B$4:$J$48,9,FALSE),\"\")","v":""},{"$f":"IFERROR(VLOOKUP(AT110,'P2'!$B$4:$J$48,9,FALSE),\"\")","v":""},{"$f":"IFERROR(VLOOKUP(AU110,'P2'!$B$4:$J$48,9,FALSE),\"\")","v":""},{"$f":"SUM(Q111:AU111)","v":0}]
[null,44,null,null,null,null,null,null,null,null,null,null,null,null,null,null,null,null,null,null,null,null,null,null,null,null,null,null,null,null,null,null,null,null,null,null,null,null,null,null,null,null,null,null,null,null,null,{"$f":"COUNTA(Q112:AU112)","v":0},{"$f":"AV113","v":0},{"$f":"IFERROR(ROUNDDOWN(AV113/$AT$3,1),\"\")","v":""}]
[null,null,null,null,null,null,null,null,null,null,null,null,null,null,null,null,{"$f":"IFERROR(VLOOKUP(Q112,'P2'!$B$4:$J$48,9,FALSE),\"\")","v":""},{"$f":"IFERROR(VLOOKUP(R112,'P2'!$B$4:$J$48,9,FALSE),\"\")","v":""},{"$f":"IFERROR(VLOOKUP(S112,'P2'!$B$4:$J$48,9,FALSE),\"\")","v":""},{"$f":"IFERROR(VLOOKUP(T112,'P2'!$B$4:$J$48,9,FALSE),\"\")","v":""},{"$f":"IFERROR(VLOOKUP(U112,'P2'!$B$4:$J$48,9,FALSE),\"\")","v":""},{"$f":"IFERROR(VLOOKUP(V112,'P2'!$B$4:$J$48,9,FALSE),\"\")","v":""},{"$f":"IFERROR(VLOOKUP(W112,'P2'!$B$4:$J$48,9,FALSE),\"\")","v":""},{"$f":"IFERROR(VLOOKUP(X112,'P2'!$B$4:$J$48,9,FALSE),\"\")","v":""},{"$f":"IFERROR(VLOOKUP(Y112,'P2'!$B$4:$J$48,9,FALSE),\"\")","v":""},{"$f":"IFERROR(VLOOKUP(Z112,'P2'!$B$4:$J$48,9,FALSE),\"\")","v":""},{"$f":"IFERROR(VLOOKUP(AA112,'P2'!$B$4:$J$48,9,FALSE),\"\")","v":""},{"$f":"IFERROR(VLOOKUP(AB112,'P2'!$B$4:$J$48,9,FALSE),\"\")","v":""},{"$f":"IFERROR(VLOOKUP(AC112,'P2'!$B$4:$J$48,9,FALSE),\"\")","v":""},{"$f":"IFERROR(VLOOKUP(AD112,'P2'!$B$4:$J$48,9,FALSE),\"\")","v":""},{"$f":"IFERROR(VLOOKUP(AE112,'P2'!$B$4:$J$48,9,FALSE),\"\")","v":""},{"$f":"IFERROR(VLOOKUP(AF112,'P2'!$B$4:$J$48,9,FALSE),\"\")","v":""},{"$f":"IFERROR(VLOOKUP(AG112,'P2'!$B$4:$J$48,9,FALSE),\"\")","v":""},{"$f":"IFERROR(VLOOKUP(AH112,'P2'!$B$4:$J$48,9,FALSE),\"\")","v":""},{"$f":"IFERROR(VLOOKUP(AI112,'P2'!$B$4:$J$48,9,FALSE),\"\")","v":""},{"$f":"IFERROR(VLOOKUP(AJ112,'P2'!$B$4:$J$48,9,FALSE),\"\")","v":""},{"$f":"IFERROR(VLOOKUP(AK112,'P2'!$B$4:$J$48,9,FALSE),\"\")","v":""},{"$f":"IFERROR(VLOOKUP(AL112,'P2'!$B$4:$J$48,9,FALSE),\"\")","v":""},{"$f":"IFERROR(VLOOKUP(AM112,'P2'!$B$4:$J$48,9,FALSE),\"\")","v":""},{"$f":"IFERROR(VLOOKUP(AN112,'P2'!$B$4:$J$48,9,FALSE),\"\")","v":""},{"$f":"IFERROR(VLOOKUP(AO112,'P2'!$B$4:$J$48,9,FALSE),\"\")","v":""},{"$f":"IFERROR(VLOOKUP(AP112,'P2'!$B$4:$J$48,9,FALSE),\"\")","v":""},{"$f":"IFERROR(VLOOKUP(AQ112,'P2'!$B$4:$J$48,9,FALSE),\"\")","v":""},{"$f":"IFERROR(VLOOKUP(AR112,'P2'!$B$4:$J$48,9,FALSE),\"\")","v":""},{"$f":"IFERROR(VLOOKUP(AS112,'P2'!$B$4:$J$48,9,FALSE),\"\")","v":""},{"$f":"IFERROR(VLOOKUP(AT112,'P2'!$B$4:$J$48,9,FALSE),\"\")","v":""},{"$f":"IFERROR(VLOOKUP(AU112,'P2'!$B$4:$J$48,9,FALSE),\"\")","v":""},{"$f":"SUM(Q113:AU113)","v":0}]
[null,45,null,null,null,null,null,null,null,null,null,null,null,null,null,null,null,null,null,null,null,null,null,null,null,null,null,null,null,null,null,null,null,null,null,null,null,null,null,null,null,null,null,null,null,null,null,{"$f":"COUNTA(Q114:AU114)","v":0},{"$f":"AV115","v":0},{"$f":"IFERROR(ROUNDDOWN(AV115/$AT$3,1),\"\")","v":""}]
[null,null,null,null,null,null,null,null,null,null,null,null,null,null,null,null,{"$f":"IFERROR(VLOOKUP(Q114,'P2'!$B$4:$J$48,9,FALSE),\"\")","v":""},{"$f":"IFERROR(VLOOKUP(R114,'P2'!$B$4:$J$48,9,FALSE),\"\")","v":""},{"$f":"IFERROR(VLOOKUP(S114,'P2'!$B$4:$J$48,9,FALSE),\"\")","v":""},{"$f":"IFERROR(VLOOKUP(T114,'P2'!$B$4:$J$48,9,FALSE),\"\")","v":""},{"$f":"IFERROR(VLOOKUP(U114,'P2'!$B$4:$J$48,9,FALSE),\"\")","v":""},{"$f":"IFERROR(VLOOKUP(V114,'P2'!$B$4:$J$48,9,FALSE),\"\")","v":""},{"$f":"IFERROR(VLOOKUP(W114,'P2'!$B$4:$J$48,9,FALSE),\"\")","v":""},{"$f":"IFERROR(VLOOKUP(X114,'P2'!$B$4:$J$48,9,FALSE),\"\")","v":""},{"$f":"IFERROR(VLOOKUP(Y114,'P2'!$B$4:$J$48,9,FALSE),\"\")","v":""},{"$f":"IFERROR(VLOOKUP(Z114,'P2'!$B$4:$J$48,9,FALSE),\"\")","v":""},{"$f":"IFERROR(VLOOKUP(AA114,'P2'!$B$4:$J$48,9,FALSE),\"\")","v":""},{"$f":"IFERROR(VLOOKUP(AB114,'P2'!$B$4:$J$48,9,FALSE),\"\")","v":""},{"$f":"IFERROR(VLOOKUP(AC114,'P2'!$B$4:$J$48,9,FALSE),\"\")","v":""},{"$f":"IFERROR(VLOOKUP(AD114,'P2'!$B$4:$J$48,9,FALSE),\"\")","v":""},{"$f":"IFERROR(VLOOKUP(AE114,'P2'!$B$4:$J$48,9,FALSE),\"\")","v":""},{"$f":"IFERROR(VLOOKUP(AF114,'P2'!$B$4:$J$48,9,FALSE),\"\")","v":""},{"$f":"IFERROR(VLOOKUP(AG114,'P2'!$B$4:$J$48,9,FALSE),\"\")","v":""},{"$f":"IFERROR(VLOOKUP(AH114,'P2'!$B$4:$J$48,9,FALSE),\"\")","v":""},{"$f":"IFERROR(VLOOKUP(AI114,'P2'!$B$4:$J$48,9,FALSE),\"\")","v":""},{"$f":"IFERROR(VLOOKUP(AJ114,'P2'!$B$4:$J$48,9,FALSE),\"\")","v":""},{"$f":"IFERROR(VLOOKUP(AK114,'P2'!$B$4:$J$48,9,FALSE),\"\")","v":""},{"$f":"IFERROR(VLOOKUP(AL114,'P2'!$B$4:$J$48,9,FALSE),\"\")","v":""},{"$f":"IFERROR(VLOOKUP(AM114,'P2'!$B$4:$J$48,9,FALSE),\"\")","v":""},{"$f":"IFERROR(VLOOKUP(AN114,'P2'!$B$4:$J$48,9,FALSE),\"\")","v":""},{"$f":"IFERROR(VLOOKUP(AO114,'P2'!$B$4:$J$48,9,FALSE),\"\")","v":""},{"$f":"IFERROR(VLOOKUP(AP114,'P2'!$B$4:$J$48,9,FALSE),\"\")","v":""},{"$f":"IFERROR(VLOOKUP(AQ114,'P2'!$B$4:$J$48,9,FALSE),\"\")","v":""},{"$f":"IFERROR(VLOOKUP(AR114,'P2'!$B$4:$J$48,9,FALSE),\"\")","v":""},{"$f":"IFERROR(VLOOKUP(AS114,'P2'!$B$4:$J$48,9,FALSE),\"\")","v":""},{"$f":"IFERROR(VLOOKUP(AT114,'P2'!$B$4:$J$48,9,FALSE),\"\")","v":""},{"$f":"IFERROR(VLOOKUP(AU114,'P2'!$B$4:$J$48,9,FALSE),\"\")","v":""},{"$f":"SUM(Q115:AU115)","v":0}]
[null,46,null,null,null,null,null,null,null,null,null,null,null,null,null,null,null,null,null,null,null,null,null,null,null,null,null,null,null,null,null,null,null,null,null,null,null,null,null,null,null,null,null,null,null,null,null,{"$f":"COUNTA(Q116:AU116)","v":0},{"$f":"AV117","v":0},{"$f":"IFERROR(ROUNDDOWN(AV117/$AT$3,1),\"\")","v":""}]
[null,null,null,null,null,null,null,null,null,null,null,null,null,null,null,null,{"$f":"IFERROR(VLOOKUP(Q116,'P2'!$B$4:$J$48,9,FALSE),\"\")","v":""},{"$f":"IFERROR(VLOOKUP(R116,'P2'!$B$4:$J$48,9,FALSE),\"\")","v":""},{"$f":"IFERROR(VLOOKUP(S116,'P2'!$B$4:$J$48,9,FALSE),\"\")","v":""},{"$f":"IFERROR(VLOOKUP(T116,'P2'!$B$4:$J$48,9,FALSE),\"\")","v":""},{"$f":"IFERROR(VLOOKUP(U116,'P2'!$B$4:$J$48,9,FALSE),\"\")","v":""},{"$f":"IFERROR(VLOOKUP(V116,'P2'!$B$4:$J$48,9,FALSE),\"\")","v":""},{"$f":"IFERROR(VLOOKUP(W116,'P2'!$B$4:$J$48,9,FALSE),\"\")","v":""},{"$f":"IFERROR(VLOOKUP(X116,'P2'!$B$4:$J$48,9,FALSE),\"\")","v":""},{"$f":"IFERROR(VLOOKUP(Y116,'P2'!$B$4:$J$48,9,FALSE),\"\")","v":""},{"$f":"IFERROR(VLOOKUP(Z116,'P2'!$B$4:$J$48,9,FALSE),\"\")","v":""},{"$f":"IFERROR(VLOOKUP(AA116,'P2'!$B$4:$J$48,9,FALSE),\"\")","v":""},{"$f":"IFERROR(VLOOKUP(AB116,'P2'!$B$4:$J$48,9,FALSE),\"\")","v":""},{"$f":"IFERROR(VLOOKUP(AC116,'P2'!$B$4:$J$48,9,FALSE),\"\")","v":""},{"$f":"IFERROR(VLOOKUP(AD116,'P2'!$B$4:$J$48,9,FALSE),\"\")","v":""},{"$f":"IFERROR(VLOOKUP(AE116,'P2'!$B$4:$J$48,9,FALSE),\"\")","v":""},{"$f":"IFERROR(VLOOKUP(AF116,'P2'!$B$4:$J$48,9,FALSE),\"\")","v":""},{"$f":"IFERROR(VLOOKUP(AG116,'P2'!$B$4:$J$48,9,FALSE),\"\")","v":""},{"$f":"IFERROR(VLOOKUP(AH116,'P2'!$B$4:$J$48,9,FALSE),\"\")","v":""},{"$f":"IFERROR(VLOOKUP(AI116,'P2'!$B$4:$J$48,9,FALSE),\"\")","v":""},{"$f":"IFERROR(VLOOKUP(AJ116,'P2'!$B$4:$J$48,9,FALSE),\"\")","v":""},{"$f":"IFERROR(VLOOKUP(AK116,'P2'!$B$4:$J$48,9,FALSE),\"\")","v":""},{"$f":"IFERROR(VLOOKUP(AL116,'P2'!$B$4:$J$48,9,FALSE),\"\")","v":""},{"$f":"IFERROR(VLOOKUP(AM116,'P2'!$B$4:$J$48,9,FALSE),\"\")","v":""},{"$f":"IFERROR(VLOOKUP(AN116,'P2'!$B$4:$J$48,9,FALSE),\"\")","v":""},{"$f":"IFERROR(VLOOKUP(AO116,'P2'!$B$4:$J$48,9,FALSE),\"\")","v":""},{"$f":"IFERROR(VLOOKUP(AP116,'P2'!$B$4:$J$48,9,FALSE),\"\")","v":""},{"$f":"IFERROR(VLOOKUP(AQ116,'P2'!$B$4:$J$48,9,FALSE),\"\")","v":""},{"$f":"IFERROR(VLOOKUP(AR116,'P2'!$B$4:$J$48,9,FALSE),\"\")","v":""},{"$f":"IFERROR(VLOOKUP(AS116,'P2'!$B$4:$J$48,9,FALSE),\"\")","v":""},{"$f":"IFERROR(VLOOKUP(AT116,'P2'!$B$4:$J$48,9,FALSE),\"\")","v":""},{"$f":"IFERROR(VLOOKUP(AU116,'P2'!$B$4:$J$48,9,FALSE),\"\")","v":""},{"$f":"SUM(Q117:AU117)","v":0}]
[null,47,null,null,null,null,null,null,null,null,null,null,null,null,null,null,null,null,null,null,null,null,null,null,null,null,null,null,null,null,null,null,null,null,null,null,null,null,null,null,null,null,null,null,null,null,null,{"$f":"COUNTA(Q118:AU118)","v":0},{"$f":"AV119","v":0},{"$f":"IFERROR(ROUNDDOWN(AV119/$AT$3,1),\"\")","v":""}]
[null,null,null,null,null,null,null,null,null,null,null,null,null,null,null,null,{"$f":"IFERROR(VLOOKUP(Q118,'P2'!$B$4:$J$48,9,FALSE),\"\")","v":""},{"$f":"IFERROR(VLOOKUP(R118,'P2'!$B$4:$J$48,9,FALSE),\"\")","v":""},{"$f":"IFERROR(VLOOKUP(S118,'P2'!$B$4:$J$48,9,FALSE),\"\")","v":""},{"$f":"IFERROR(VLOOKUP(T118,'P2'!$B$4:$J$48,9,FALSE),\"\")","v":""},{"$f":"IFERROR(VLOOKUP(U118,'P2'!$B$4:$J$48,9,FALSE),\"\")","v":""},{"$f":"IFERROR(VLOOKUP(V118,'P2'!$B$4:$J$48,9,FALSE),\"\")","v":""},{"$f":"IFERROR(VLOOKUP(W118,'P2'!$B$4:$J$48,9,FALSE),\"\")","v":""},{"$f":"IFERROR(VLOOKUP(X118,'P2'!$B$4:$J$48,9,FALSE),\"\")","v":""},{"$f":"IFERROR(VLOOKUP(Y118,'P2'!$B$4:$J$48,9,FALSE),\"\")","v":""},{"$f":"IFERROR(VLOOKUP(Z118,'P2'!$B$4:$J$48,9,FALSE),\"\")","v":""},{"$f":"IFERROR(VLOOKUP(AA118,'P2'!$B$4:$J$48,9,FALSE),\"\")","v":""},{"$f":"IFERROR(VLOOKUP(AB118,'P2'!$B$4:$J$48,9,FALSE),\"\")","v":""},{"$f":"IFERROR(VLOOKUP(AC118,'P2'!$B$4:$J$48,9,FALSE),\"\")","v":""},{"$f":"IFERROR(VLOOKUP(AD118,'P2'!$B$4:$J$48,9,FALSE),\"\")","v":""},{"$f":"IFERROR(VLOOKUP(AE118,'P2'!$B$4:$J$48,9,FALSE),\"\")","v":""},{"$f":"IFERROR(VLOOKUP(AF118,'P2'!$B$4:$J$48,9,FALSE),\"\")","v":""},{"$f":"IFERROR(VLOOKUP(AG118,'P2'!$B$4:$J$48,9,FALSE),\"\")","v":""},{"$f":"IFERROR(VLOOKUP(AH118,'P2'!$B$4:$J$48,9,FALSE),\"\")","v":""},{"$f":"IFERROR(VLOOKUP(AI118,'P2'!$B$4:$J$48,9,FALSE),\"\")","v":""},{"$f":"IFERROR(VLOOKUP(AJ118,'P2'!$B$4:$J$48,9,FALSE),\"\")","v":""},{"$f":"IFERROR(VLOOKUP(AK118,'P2'!$B$4:$J$48,9,FALSE),\"\")","v":""},{"$f":"IFERROR(VLOOKUP(AL118,'P2'!$B$4:$J$48,9,FALSE),\"\")","v":""},{"$f":"IFERROR(VLOOKUP(AM118,'P2'!$B$4:$J$48,9,FALSE),\"\")","v":""},{"$f":"IFERROR(VLOOKUP(AN118,'P2'!$B$4:$J$48,9,FALSE),\"\")","v":""},{"$f":"IFERROR(VLOOKUP(AO118,'P2'!$B$4:$J$48,9,FALSE),\"\")","v":""},{"$f":"IFERROR(VLOOKUP(AP118,'P2'!$B$4:$J$48,9,FALSE),\"\")","v":""},{"$f":"IFERROR(VLOOKUP(AQ118,'P2'!$B$4:$J$48,9,FALSE),\"\")","v":""},{"$f":"IFERROR(VLOOKUP(AR118,'P2'!$B$4:$J$48,9,FALSE),\"\")","v":""},{"$f":"IFERROR(VLOOKUP(AS118,'P2'!$B$4:$J$48,9,FALSE),\"\")","v":""},{"$f":"IFERROR(VLOOKUP(AT118,'P2'!$B$4:$J$48,9,FALSE),\"\")","v":""},{"$f":"IFERROR(VLOOKUP(AU118,'P2'!$B$4:$J$48,9,FALSE),\"\")","v":""},{"$f":"SUM(Q119:AU119)","v":0}]
[null,48,null,null,null,null,null,null,null,null,null,null,null,null,null,null,null,null,null,null,null,null,null,null,null,null,null,null,null,null,null,null,null,null,null,null,null,null,null,null,null,null,null,null,null,null,null,{"$f":"COUNTA(Q120:AU120)","v":0},{"$f":"AV121","v":0},{"$f":"IFERROR(ROUNDDOWN(AV121/$AT$3,1),\"\")","v":""}]
[null,null,null,null,null,null,null,null,null,null,null,null,null,null,null,null,{"$f":"IFERROR(VLOOKUP(Q120,'P2'!$B$4:$J$48,9,FALSE),\"\")","v":""},{"$f":"IFERROR(VLOOKUP(R120,'P2'!$B$4:$J$48,9,FALSE),\"\")","v":""},{"$f":"IFERROR(VLOOKUP(S120,'P2'!$B$4:$J$48,9,FALSE),\"\")","v":""},{"$f":"IFERROR(VLOOKUP(T120,'P2'!$B$4:$J$48,9,FALSE),\"\")","v":""},{"$f":"IFERROR(VLOOKUP(U120,'P2'!$B$4:$J$48,9,FALSE),\"\")","v":""},{"$f":"IFERROR(VLOOKUP(V120,'P2'!$B$4:$J$48,9,FALSE),\"\")","v":""},{"$f":"IFERROR(VLOOKUP(W120,'P2'!$B$4:$J$48,9,FALSE),\"\")","v":""},{"$f":"IFERROR(VLOOKUP(X120,'P2'!$B$4:$J$48,9,FALSE),\"\")","v":""},{"$f":"IFERROR(VLOOKUP(Y120,'P2'!$B$4:$J$48,9,FALSE),\"\")","v":""},{"$f":"IFERROR(VLOOKUP(Z120,'P2'!$B$4:$J$48,9,FALSE),\"\")","v":""},{"$f":"IFERROR(VLOOKUP(AA120,'P2'!$B$4:$J$48,9,FALSE),\"\")","v":""},{"$f":"IFERROR(VLOOKUP(AB120,'P2'!$B$4:$J$48,9,FALSE),\"\")","v":""},{"$f":"IFERROR(VLOOKUP(AC120,'P2'!$B$4:$J$48,9,FALSE),\"\")","v":""},{"$f":"IFERROR(VLOOKUP(AD120,'P2'!$B$4:$J$48,9,FALSE),\"\")","v":""},{"$f":"IFERROR(VLOOKUP(AE120,'P2'!$B$4:$J$48,9,FALSE),\"\")","v":""},{"$f":"IFERROR(VLOOKUP(AF120,'P2'!$B$4:$J$48,9,FALSE),\"\")","v":""},{"$f":"IFERROR(VLOOKUP(AG120,'P2'!$B$4:$J$48,9,FALSE),\"\")","v":""},{"$f":"IFERROR(VLOOKUP(AH120,'P2'!$B$4:$J$48,9,FALSE),\"\")","v":""},{"$f":"IFERROR(VLOOKUP(AI120,'P2'!$B$4:$J$48,9,FALSE),\"\")","v":""},{"$f":"IFERROR(VLOOKUP(AJ120,'P2'!$B$4:$J$48,9,FALSE),\"\")","v":""},{"$f":"IFERROR(VLOOKUP(AK120,'P2'!$B$4:$J$48,9,FALSE),\"\")","v":""},{"$f":"IFERROR(VLOOKUP(AL120,'P2'!$B$4:$J$48,9,FALSE),\"\")","v":""},{"$f":"IFERROR(VLOOKUP(AM120,'P2'!$B$4:$J$48,9,FALSE),\"\")","v":""},{"$f":"IFERROR(VLOOKUP(AN120,'P2'!$B$4:$J$48,9,FALSE),\"\")","v":""},{"$f":"IFERROR(VLOOKUP(AO120,'P2'!$B$4:$J$48,9,FALSE),\"\")","v":""},{"$f":"IFERROR(VLOOKUP(AP120,'P2'!$B$4:$J$48,9,FALSE),\"\")","v":""},{"$f":"IFERROR(VLOOKUP(AQ120,'P2'!$B$4:$J$48,9,FALSE),\"\")","v":""},{"$f":"IFERROR(VLOOKUP(AR120,'P2'!$B$4:$J$48,9,FALSE),\"\")","v":""},{"$f":"IFERROR(VLOOKUP(AS120,'P2'!$B$4:$J$48,9,FALSE),\"\")","v":""},{"$f":"IFERROR(VLOOKUP(AT120,'P2'!$B$4:$J$48,9,FALSE),\"\")","v":""},{"$f":"IFERROR(VLOOKUP(AU120,'P2'!$B$4:$J$48,9,FALSE),\"\")","v":""},{"$f":"SUM(Q121:AU121)","v":0}]
[null,49,null,null,null,null,null,null,null,null,null,null,null,null,null,null,null,null,null,null,null,null,null,null,null,null,null,null,null,null,null,null,null,null,null,null,null,null,null,null,null,null,null,null,null,null,null,{"$f":"COUNTA(Q122:AU122)","v":0},{"$f":"AV123","v":0},{"$f":"IFERROR(ROUNDDOWN(AV123/$AT$3,1),\"\")","v":""}]
[null,null,null,null,null,null,null,null,null,null,null,null,null,null,null,null,{"$f":"IFERROR(VLOOKUP(Q122,'P2'!$B$4:$J$48,9,FALSE),\"\")","v":""},{"$f":"IFERROR(VLOOKUP(R122,'P2'!$B$4:$J$48,9,FALSE),\"\")","v":""},{"$f":"IFERROR(VLOOKUP(S122,'P2'!$B$4:$J$48,9,FALSE),\"\")","v":""},{"$f":"IFERROR(VLOOKUP(T122,'P2'!$B$4:$J$48,9,FALSE),\"\")","v":""},{"$f":"IFERROR(VLOOKUP(U122,'P2'!$B$4:$J$48,9,FALSE),\"\")","v":""},{"$f":"IFERROR(VLOOKUP(V122,'P2'!$B$4:$J$48,9,FALSE),\"\")","v":""},{"$f":"IFERROR(VLOOKUP(W122,'P2'!$B$4:$J$48,9,FALSE),\"\")","v":""},{"$f":"IFERROR(VLOOKUP(X122,'P2'!$B$4:$J$48,9,FALSE),\"\")","v":""},{"$f":"IFERROR(VLOOKUP(Y122,'P2'!$B$4:$J$48,9,FALSE),\"\")","v":""},{"$f":"IFERROR(VLOOKUP(Z122,'P2'!$B$4:$J$48,9,FALSE),\"\")","v":""},{"$f":"IFERROR(VLOOKUP(AA122,'P2'!$B$4:$J$48,9,FALSE),\"\")","v":""},{"$f":"IFERROR(VLOOKUP(AB122,'P2'!$B$4:$J$48,9,FALSE),\"\")","v":""},{"$f":"IFERROR(VLOOKUP(AC122,'P2'!$B$4:$J$48,9,FALSE),\"\")","v":""},{"$f":"IFERROR(VLOOKUP(AD122,'P2'!$B$4:$J$48,9,FALSE),\"\")","v":""},{"$f":"IFERROR(VLOOKUP(AE122,'P2'!$B$4:$J$48,9,FALSE),\"\")","v":""},{"$f":"IFERROR(VLOOKUP(AF122,'P2'!$B$4:$J$48,9,FALSE),\"\")","v":""},{"$f":"IFERROR(VLOOKUP(AG122,'P2'!$B$4:$J$48,9,FALSE),\"\")","v":""},{"$f":"IFERROR(VLOOKUP(AH122,'P2'!$B$4:$J$48,9,FALSE),\"\")","v":""},{"$f":"IFERROR(VLOOKUP(AI122,'P2'!$B$4:$J$48,9,FALSE),\"\")","v":""},{"$f":"IFERROR(VLOOKUP(AJ122,'P2'!$B$4:$J$48,9,FALSE),\"\")","v":""},{"$f":"IFERROR(VLOOKUP(AK122,'P2'!$B$4:$J$48,9,FALSE),\"\")","v":""},{"$f":"IFERROR(VLOOKUP(AL122,'P2'!$B$4:$J$48,9,FALSE),\"\")","v":""},{"$f":"IFERROR(VLOOKUP(AM122,'P2'!$B$4:$J$48,9,FALSE),\"\")","v":""},{"$f":"IFERROR(VLOOKUP(AN122,'P2'!$B$4:$J$48,9,FALSE),\"\")","v":""},{"$f":"IFERROR(VLOOKUP(AO122,'P2'!$B$4:$J$48,9,FALSE),\"\")","v":""},{"$f":"IFERROR(VLOOKUP(AP122,'P2'!$B$4:$J$48,9,FALSE),\"\")","v":""},{"$f":"IFERROR(VLOOKUP(AQ122,'P2'!$B$4:$J$48,9,FALSE),\"\")","v":""},{"$f":"IFERROR(VLOOKUP(AR122,'P2'!$B$4:$J$48,9,FALSE),\"\")","v":""},{"$f":"IFERROR(VLOOKUP(AS122,'P2'!$B$4:$J$48,9,FALSE),\"\")","v":""},{"$f":"IFERROR(VLOOKUP(AT122,'P2'!$B$4:$J$48,9,FALSE),\"\")","v":""},{"$f":"IFERROR(VLOOKUP(AU122,'P2'!$B$4:$J$48,9,FALSE),\"\")","v":""},{"$f":"SUM(Q123:AU123)","v":0}]
[null,50,null,null,null,null,null,null,null,null,null,null,null,null,null,null,null,null,null,null,null,null,null,null,null,null,null,null,null,null,null,null,null,null,null,null,null,null,null,null,null,null,null,null,null,null,null,{"$f":"COUNTA(Q124:AU124)","v":0},{"$f":"AV125","v":0},{"$f":"IFERROR(ROUNDDOWN(AV125/$AT$3,1),\"\")","v":""}]
[null,null,null,null,null,null,null,null,null,null,null,null,null,null,null,null,{"$f":"IFERROR(VLOOKUP(Q124,'P2'!$B$4:$J$48,9,FALSE),\"\")","v":""},{"$f":"IFERROR(VLOOKUP(R124,'P2'!$B$4:$J$48,9,FALSE),\"\")","v":""},{"$f":"IFERROR(VLOOKUP(S124,'P2'!$B$4:$J$48,9,FALSE),\"\")","v":""},{"$f":"IFERROR(VLOOKUP(T124,'P2'!$B$4:$J$48,9,FALSE),\"\")","v":""},{"$f":"IFERROR(VLOOKUP(U124,'P2'!$B$4:$J$48,9,FALSE),\"\")","v":""},{"$f":"IFERROR(VLOOKUP(V124,'P2'!$B$4:$J$48,9,FALSE),\"\")","v":""},{"$f":"IFERROR(VLOOKUP(W124,'P2'!$B$4:$J$48,9,FALSE),\"\")","v":""},{"$f":"IFERROR(VLOOKUP(X124,'P2'!$B$4:$J$48,9,FALSE),\"\")","v":""},{"$f":"IFERROR(VLOOKUP(Y124,'P2'!$B$4:$J$48,9,FALSE),\"\")","v":""},{"$f":"IFERROR(VLOOKUP(Z124,'P2'!$B$4:$J$48,9,FALSE),\"\")","v":""},{"$f":"IFERROR(VLOOKUP(AA124,'P2'!$B$4:$J$48,9,FALSE),\"\")","v":""},{"$f":"IFERROR(VLOOKUP(AB124,'P2'!$B$4:$J$48,9,FALSE),\"\")","v":""},{"$f":"IFERROR(VLOOKUP(AC124,'P2'!$B$4:$J$48,9,FALSE),\"\")","v":""},{"$f":"IFERROR(VLOOKUP(AD124,'P2'!$B$4:$J$48,9,FALSE),\"\")","v":""},{"$f":"IFERROR(VLOOKUP(AE124,'P2'!$B$4:$J$48,9,FALSE),\"\")","v":""},{"$f":"IFERROR(VLOOKUP(AF124,'P2'!$B$4:$J$48,9,FALSE),\"\")","v":""},{"$f":"IFERROR(VLOOKUP(AG124,'P2'!$B$4:$J$48,9,FALSE),\"\")","v":""},{"$f":"IFERROR(VLOOKUP(AH124,'P2'!$B$4:$J$48,9,FALSE),\"\")","v":""},{"$f":"IFERROR(VLOOKUP(AI124,'P2'!$B$4:$J$48,9,FALSE),\"\")","v":""},{"$f":"IFERROR(VLOOKUP(AJ124,'P2'!$B$4:$J$48,9,FALSE),\"\")","v":""},{"$f":"IFERROR(VLOOKUP(AK124,'P2'!$B$4:$J$48,9,FALSE),\"\")","v":""},{"$f":"IFERROR(VLOOKUP(AL124,'P2'!$B$4:$J$48,9,FALSE),\"\")","v":""},{"$f":"IFERROR(VLOOKUP(AM124,'P2'!$B$4:$J$48,9,FALSE),\"\")","v":""},{"$f":"IFERROR(VLOOKUP(AN124,'P2'!$B$4:$J$48,9,FALSE),\"\")","v":""},{"$f":"IFERROR(VLOOKUP(AO124,'P2'!$B$4:$J$48,9,FALSE),\"\")","v":""},{"$f":"IFERROR(VLOOKUP(AP124,'P2'!$B$4:$J$48,9,FALSE),\"\")","v":""},{"$f":"IFERROR(VLOOKUP(AQ124,'P2'!$B$4:$J$48,9,FALSE),\"\")","v":""},{"$f":"IFERROR(VLOOKUP(AR124,'P2'!$B$4:$J$48,9,FALSE),\"\")","v":""},{"$f":"IFERROR(VLOOKUP(AS124,'P2'!$B$4:$J$48,9,FALSE),\"\")","v":""},{"$f":"IFERROR(VLOOKUP(AT124,'P2'!$B$4:$J$48,9,FALSE),\"\")","v":""},{"$f":"IFERROR(VLOOKUP(AU124,'P2'!$B$4:$J$48,9,FALSE),\"\")","v":""},{"$f":"SUM(Q125:AU125)","v":0}]
[null,51,null,null,null,null,null,null,null,null,null,null,null,null,null,null,null,null,null,null,null,null,null,null,null,null,null,null,null,null,null,null,null,null,null,null,null,null,null,null,null,null,null,null,null,null,null,{"$f":"COUNTA(Q126:AU126)","v":0},{"$f":"AV127","v":0},{"$f":"IFERROR(ROUNDDOWN(AV127/$AT$3,1),\"\")","v":""}]
[null,null,null,null,null,null,null,null,null,null,null,null,null,null,null,null,{"$f":"IFERROR(VLOOKUP(Q126,'P2'!$B$4:$J$48,9,FALSE),\"\")","v":""},{"$f":"IFERROR(VLOOKUP(R126,'P2'!$B$4:$J$48,9,FALSE),\"\")","v":""},{"$f":"IFERROR(VLOOKUP(S126,'P2'!$B$4:$J$48,9,FALSE),\"\")","v":""},{"$f":"IFERROR(VLOOKUP(T126,'P2'!$B$4:$J$48,9,FALSE),\"\")","v":""},{"$f":"IFERROR(VLOOKUP(U126,'P2'!$B$4:$J$48,9,FALSE),\"\")","v":""},{"$f":"IFERROR(VLOOKUP(V126,'P2'!$B$4:$J$48,9,FALSE),\"\")","v":""},{"$f":"IFERROR(VLOOKUP(W126,'P2'!$B$4:$J$48,9,FALSE),\"\")","v":""},{"$f":"IFERROR(VLOOKUP(X126,'P2'!$B$4:$J$48,9,FALSE),\"\")","v":""},{"$f":"IFERROR(VLOOKUP(Y126,'P2'!$B$4:$J$48,9,FALSE),\"\")","v":""},{"$f":"IFERROR(VLOOKUP(Z126,'P2'!$B$4:$J$48,9,FALSE),\"\")","v":""},{"$f":"IFERROR(VLOOKUP(AA126,'P2'!$B$4:$J$48,9,FALSE),\"\")","v":""},{"$f":"IFERROR(VLOOKUP(AB126,'P2'!$B$4:$J$48,9,FALSE),\"\")","v":""},{"$f":"IFERROR(VLOOKUP(AC126,'P2'!$B$4:$J$48,9,FALSE),\"\")","v":""},{"$f":"IFERROR(VLOOKUP(AD126,'P2'!$B$4:$J$48,9,FALSE),\"\")","v":""},{"$f":"IFERROR(VLOOKUP(AE126,'P2'!$B$4:$J$48,9,FALSE),\"\")","v":""},{"$f":"IFERROR(VLOOKUP(AF126,'P2'!$B$4:$J$48,9,FALSE),\"\")","v":""},{"$f":"IFERROR(VLOOKUP(AG126,'P2'!$B$4:$J$48,9,FALSE),\"\")","v":""},{"$f":"IFERROR(VLOOKUP(AH126,'P2'!$B$4:$J$48,9,FALSE),\"\")","v":""},{"$f":"IFERROR(VLOOKUP(AI126,'P2'!$B$4:$J$48,9,FALSE),\"\")","v":""},{"$f":"IFERROR(VLOOKUP(AJ126,'P2'!$B$4:$J$48,9,FALSE),\"\")","v":""},{"$f":"IFERROR(VLOOKUP(AK126,'P2'!$B$4:$J$48,9,FALSE),\"\")","v":""},{"$f":"IFERROR(VLOOKUP(AL126,'P2'!$B$4:$J$48,9,FALSE),\"\")","v":""},{"$f":"IFERROR(VLOOKUP(AM126,'P2'!$B$4:$J$48,9,FALSE),\"\")","v":""},{"$f":"IFERROR(VLOOKUP(AN126,'P2'!$B$4:$J$48,9,FALSE),\"\")","v":""},{"$f":"IFERROR(VLOOKUP(AO126,'P2'!$B$4:$J$48,9,FALSE),\"\")","v":""},{"$f":"IFERROR(VLOOKUP(AP126,'P2'!$B$4:$J$48,9,FALSE),\"\")","v":""},{"$f":"IFERROR(VLOOKUP(AQ126,'P2'!$B$4:$J$48,9,FALSE),\"\")","v":""},{"$f":"IFERROR(VLOOKUP(AR126,'P2'!$B$4:$J$48,9,FALSE),\"\")","v":""},{"$f":"IFERROR(VLOOKUP(AS126,'P2'!$B$4:$J$48,9,FALSE),\"\")","v":""},{"$f":"IFERROR(VLOOKUP(AT126,'P2'!$B$4:$J$48,9,FALSE),\"\")","v":""},{"$f":"IFERROR(VLOOKUP(AU126,'P2'!$B$4:$J$48,9,FALSE),\"\")","v":""},{"$f":"SUM(Q127:AU127)","v":0}]
[null,52,null,null,null,null,null,null,null,null,null,null,null,null,null,null,null,null,null,null,null,null,null,null,null,null,null,null,null,null,null,null,null,null,null,null,null,null,null,null,null,null,null,null,null,null,null,{"$f":"COUNTA(Q128:AU128)","v":0},{"$f":"AV129","v":0},{"$f":"IFERROR(ROUNDDOWN(AV129/$AT$3,1),\"\")","v":""}]
[null,null,null,null,null,null,null,null,null,null,null,null,null,null,null,null,{"$f":"IFERROR(VLOOKUP(Q128,'P2'!$B$4:$J$48,9,FALSE),\"\")","v":""},{"$f":"IFERROR(VLOOKUP(R128,'P2'!$B$4:$J$48,9,FALSE),\"\")","v":""},{"$f":"IFERROR(VLOOKUP(S128,'P2'!$B$4:$J$48,9,FALSE),\"\")","v":""},{"$f":"IFERROR(VLOOKUP(T128,'P2'!$B$4:$J$48,9,FALSE),\"\")","v":""},{"$f":"IFERROR(VLOOKUP(U128,'P2'!$B$4:$J$48,9,FALSE),\"\")","v":""},{"$f":"IFERROR(VLOOKUP(V128,'P2'!$B$4:$J$48,9,FALSE),\"\")","v":""},{"$f":"IFERROR(VLOOKUP(W128,'P2'!$B$4:$J$48,9,FALSE),\"\")","v":""},{"$f":"IFERROR(VLOOKUP(X128,'P2'!$B$4:$J$48,9,FALSE),\"\")","v":""},{"$f":"IFERROR(VLOOKUP(Y128,'P2'!$B$4:$J$48,9,FALSE),\"\")","v":""},{"$f":"IFERROR(VLOOKUP(Z128,'P2'!$B$4:$J$48,9,FALSE),\"\")","v":""},{"$f":"IFERROR(VLOOKUP(AA128,'P2'!$B$4:$J$48,9,FALSE),\"\")","v":""},{"$f":"IFERROR(VLOOKUP(AB128,'P2'!$B$4:$J$48,9,FALSE),\"\")","v":""},{"$f":"IFERROR(VLOOKUP(AC128,'P2'!$B$4:$J$48,9,FALSE),\"\")","v":""},{"$f":"IFERROR(VLOOKUP(AD128,'P2'!$B$4:$J$48,9,FALSE),\"\")","v":""},{"$f":"IFERROR(VLOOKUP(AE128,'P2'!$B$4:$J$48,9,FALSE),\"\")","v":""},{"$f":"IFERROR(VLOOKUP(AF128,'P2'!$B$4:$J$48,9,FALSE),\"\")","v":""},{"$f":"IFERROR(VLOOKUP(AG128,'P2'!$B$4:$J$48,9,FALSE),\"\")","v":""},{"$f":"IFERROR(VLOOKUP(AH128,'P2'!$B$4:$J$48,9,FALSE),\"\")","v":""},{"$f":"IFERROR(VLOOKUP(AI128,'P2'!$B$4:$J$48,9,FALSE),\"\")","v":""},{"$f":"IFERROR(VLOOKUP(AJ128,'P2'!$B$4:$J$48,9,FALSE),\"\")","v":""},{"$f":"IFERROR(VLOOKUP(AK128,'P2'!$B$4:$J$48,9,FALSE),\"\")","v":""},{"$f":"IFERROR(VLOOKUP(AL128,'P2'!$B$4:$J$48,9,FALSE),\"\")","v":""},{"$f":"IFERROR(VLOOKUP(AM128,'P2'!$B$4:$J$48,9,FALSE),\"\")","v":""},{"$f":"IFERROR(VLOOKUP(AN128,'P2'!$B$4:$J$48,9,FALSE),\"\")","v":""},{"$f":"IFERROR(VLOOKUP(AO128,'P2'!$B$4:$J$48,9,FALSE),\"\")","v":""},{"$f":"IFERROR(VLOOKUP(AP128,'P2'!$B$4:$J$48,9,FALSE),\"\")","v":""},{"$f":"IFERROR(VLOOKUP(AQ128,'P2'!$B$4:$J$48,9,FALSE),\"\")","v":""},{"$f":"IFERROR(VLOOKUP(AR128,'P2'!$B$4:$J$48,9,FALSE),\"\")","v":""},{"$f":"IFERROR(VLOOKUP(AS128,'P2'!$B$4:$J$48,9,FALSE),\"\")","v":""},{"$f":"IFERROR(VLOOKUP(AT128,'P2'!$B$4:$J$48,9,FALSE),\"\")","v":""},{"$f":"IFERROR(VLOOKUP(AU128,'P2'!$B$4:$J$48,9,FALSE),\"\")","v":""},{"$f":"SUM(Q129:AU129)","v":0}]
[null,53,null,null,null,null,null,null,null,null,null,null,null,null,null,null,null,null,null,null,null,null,null,null,null,null,null,null,null,null,null,null,null,null,null,null,null,null,null,null,null,null,null,null,null,null,null,{"$f":"COUNTA(Q130:AU130)","v":0},{"$f":"AV131","v":0},{"$f":"IFERROR(ROUNDDOWN(AV131/$AT$3,1),\"\")","v":""}]
[null,null,null,null,null,null,null,null,null,null,null,null,null,null,null,null,{"$f":"IFERROR(VLOOKUP(Q130,'P2'!$B$4:$J$48,9,FALSE),\"\")","v":""},{"$f":"IFERROR(VLOOKUP(R130,'P2'!$B$4:$J$48,9,FALSE),\"\")","v":""},{"$f":"IFERROR(VLOOKUP(S130,'P2'!$B$4:$J$48,9,FALSE),\"\")","v":""},{"$f":"IFERROR(VLOOKUP(T130,'P2'!$B$4:$J$48,9,FALSE),\"\")","v":""},{"$f":"IFERROR(VLOOKUP(U130,'P2'!$B$4:$J$48,9,FALSE),\"\")","v":""},{"$f":"IFERROR(VLOOKUP(V130,'P2'!$B$4:$J$48,9,FALSE),\"\")","v":""},{"$f":"IFERROR(VLOOKUP(W130,'P2'!$B$4:$J$48,9,FALSE),\"\")","v":""},{"$f":"IFERROR(VLOOKUP(X130,'P2'!$B$4:$J$48,9,FALSE),\"\")","v":""},{"$f":"IFERROR(VLOOKUP(Y130,'P2'!$B$4:$J$48,9,FALSE),\"\")","v":""},{"$f":"IFERROR(VLOOKUP(Z130,'P2'!$B$4:$J$48,9,FALSE),\"\")","v":""},{"$f":"IFERROR(VLOOKUP(AA130,'P2'!$B$4:$J$48,9,FALSE),\"\")","v":""},{"$f":"IFERROR(VLOOKUP(AB130,'P2'!$B$4:$J$48,9,FALSE),\"\")","v":""},{"$f":"IFERROR(VLOOKUP(AC130,'P2'!$B$4:$J$48,9,FALSE),\"\")","v":""},{"$f":"IFERROR(VLOOKUP(AD130,'P2'!$B$4:$J$48,9,FALSE),\"\")","v":""},{"$f":"IFERROR(VLOOKUP(AE130,'P2'!$B$4:$J$48,9,FALSE),\"\")","v":""},{"$f":"IFERROR(VLOOKUP(AF130,'P2'!$B$4:$J$48,9,FALSE),\"\")","v":""},{"$f":"IFERROR(VLOOKUP(AG130,'P2'!$B$4:$J$48,9,FALSE),\"\")","v":""},{"$f":"IFERROR(VLOOKUP(AH130,'P2'!$B$4:$J$48,9,FALSE),\"\")","v":""},{"$f":"IFERROR(VLOOKUP(AI130,'P2'!$B$4:$J$48,9,FALSE),\"\")","v":""},{"$f":"IFERROR(VLOOKUP(AJ130,'P2'!$B$4:$J$48,9,FALSE),\"\")","v":""},{"$f":"IFERROR(VLOOKUP(AK130,'P2'!$B$4:$J$48,9,FALSE),\"\")","v":""},{"$f":"IFERROR(VLOOKUP(AL130,'P2'!$B$4:$J$48,9,FALSE),\"\")","v":""},{"$f":"IFERROR(VLOOKUP(AM130,'P2'!$B$4:$J$48,9,FALSE),\"\")","v":""},{"$f":"IFERROR(VLOOKUP(AN130,'P2'!$B$4:$J$48,9,FALSE),\"\")","v":""},{"$f":"IFERROR(VLOOKUP(AO130,'P2'!$B$4:$J$48,9,FALSE),\"\")","v":""},{"$f":"IFERROR(VLOOKUP(AP130,'P2'!$B$4:$J$48,9,FALSE),\"\")","v":""},{"$f":"IFERROR(VLOOKUP(AQ130,'P2'!$B$4:$J$48,9,FALSE),\"\")","v":""},{"$f":"IFERROR(VLOOKUP(AR130,'P2'!$B$4:$J$48,9,FALSE),\"\")","v":""},{"$f":"IFERROR(VLOOKUP(AS130,'P2'!$B$4:$J$48,9,FALSE),\"\")","v":""},{"$f":"IFERROR(VLOOKUP(AT130,'P2'!$B$4:$J$48,9,FALSE),\"\")","v":""},{"$f":"IFERROR(VLOOKUP(AU130,'P2'!$B$4:$J$48,9,FALSE),\"\")","v":""},{"$f":"SUM(Q131:AU131)","v":0}]
[null,54,null,null,null,null,null,null,null,null,null,null,null,null,null,null,null,null,null,null,null,null,null,null,null,null,null,null,null,null,null,null,null,null,null,null,null,null,null,null,null,null,null,null,null,null,null,{"$f":"COUNTA(Q132:AU132)","v":0},{"$f":"AV133","v":0},{"$f":"IFERROR(ROUNDDOWN(AV133/$AT$3,1),\"\")","v":""}]
[null,null,null,null,null,null,null,null,null,null,null,null,null,null,null,null,{"$f":"IFERROR(VLOOKUP(Q132,'P2'!$B$4:$J$48,9,FALSE),\"\")","v":""},{"$f":"IFERROR(VLOOKUP(R132,'P2'!$B$4:$J$48,9,FALSE),\"\")","v":""},{"$f":"IFERROR(VLOOKUP(S132,'P2'!$B$4:$J$48,9,FALSE),\"\")","v":""},{"$f":"IFERROR(VLOOKUP(T132,'P2'!$B$4:$J$48,9,FALSE),\"\")","v":""},{"$f":"IFERROR(VLOOKUP(U132,'P2'!$B$4:$J$48,9,FALSE),\"\")","v":""},{"$f":"IFERROR(VLOOKUP(V132,'P2'!$B$4:$J$48,9,FALSE),\"\")","v":""},{"$f":"IFERROR(VLOOKUP(W132,'P2'!$B$4:$J$48,9,FALSE),\"\")","v":""},{"$f":"IFERROR(VLOOKUP(X132,'P2'!$B$4:$J$48,9,FALSE),\"\")","v":""},{"$f":"IFERROR(VLOOKUP(Y132,'P2'!$B$4:$J$48,9,FALSE),\"\")","v":""},{"$f":"IFERROR(VLOOKUP(Z132,'P2'!$B$4:$J$48,9,FALSE),\"\")","v":""},{"$f":"IFERROR(VLOOKUP(AA132,'P2'!$B$4:$J$48,9,FALSE),\"\")","v":""},{"$f":"IFERROR(VLOOKUP(AB132,'P2'!$B$4:$J$48,9,FALSE),\"\")","v":""},{"$f":"IFERROR(VLOOKUP(AC132,'P2'!$B$4:$J$48,9,FALSE),\"\")","v":""},{"$f":"IFERROR(VLOOKUP(AD132,'P2'!$B$4:$J$48,9,FALSE),\"\")","v":""},{"$f":"IFERROR(VLOOKUP(AE132,'P2'!$B$4:$J$48,9,FALSE),\"\")","v":""},{"$f":"IFERROR(VLOOKUP(AF132,'P2'!$B$4:$J$48,9,FALSE),\"\")","v":""},{"$f":"IFERROR(VLOOKUP(AG132,'P2'!$B$4:$J$48,9,FALSE),\"\")","v":""},{"$f":"IFERROR(VLOOKUP(AH132,'P2'!$B$4:$J$48,9,FALSE),\"\")","v":""},{"$f":"IFERROR(VLOOKUP(AI132,'P2'!$B$4:$J$48,9,FALSE),\"\")","v":""},{"$f":"IFERROR(VLOOKUP(AJ132,'P2'!$B$4:$J$48,9,FALSE),\"\")","v":""},{"$f":"IFERROR(VLOOKUP(AK132,'P2'!$B$4:$J$48,9,FALSE),\"\")","v":""},{"$f":"IFERROR(VLOOKUP(AL132,'P2'!$B$4:$J$48,9,FALSE),\"\")","v":""},{"$f":"IFERROR(VLOOKUP(AM132,'P2'!$B$4:$J$48,9,FALSE),\"\")","v":""},{"$f":"IFERROR(VLOOKUP(AN132,'P2'!$B$4:$J$48,9,FALSE),\"\")","v":""},{"$f":"IFERROR(VLOOKUP(AO132,'P2'!$B$4:$J$48,9,FALSE),\"\")","v":""},{"$f":"IFERROR(VLOOKUP(AP132,'P2'!$B$4:$J$48,9,FALSE),\"\")","v":""},{"$f":"IFERROR(VLOOKUP(AQ132,'P2'!$B$4:$J$48,9,FALSE),\"\")","v":""},{"$f":"IFERROR(VLOOKUP(AR132,'P2'!$B$4:$J$48,9,FALSE),\"\")","v":""},{"$f":"IFERROR(VLOOKUP(AS132,'P2'!$B$4:$J$48,9,FALSE),\"\")","v":""},{"$f":"IFERROR(VLOOKUP(AT132,'P2'!$B$4:$J$48,9,FALSE),\"\")","v":""},{"$f":"IFERROR(VLOOKUP(AU132,'P2'!$B$4:$J$48,9,FALSE),\"\")","v":""},{"$f":"SUM(Q133:AU133)","v":0}]
[null,55,null,null,null,null,null,null,null,null,null,null,null,null,null,null,null,null,null,null,null,null,null,null,null,null,null,null,null,null,null,null,null,null,null,null,null,null,null,null,null,null,null,null,null,null,null,{"$f":"COUNTA(Q134:AU134)","v":0},{"$f":"AV135","v":0},{"$f":"IFERROR(ROUNDDOWN(AV135/$AT$3,1),\"\")","v":""}]
[null,null,null,null,null,null,null,null,null,null,null,null,null,null,null,null,{"$f":"IFERROR(VLOOKUP(Q134,'P2'!$B$4:$J$48,9,FALSE),\"\")","v":""},{"$f":"IFERROR(VLOOKUP(R134,'P2'!$B$4:$J$48,9,FALSE),\"\")","v":""},{"$f":"IFERROR(VLOOKUP(S134,'P2'!$B$4:$J$48,9,FALSE),\"\")","v":""},{"$f":"IFERROR(VLOOKUP(T134,'P2'!$B$4:$J$48,9,FALSE),\"\")","v":""},{"$f":"IFERROR(VLOOKUP(U134,'P2'!$B$4:$J$48,9,FALSE),\"\")","v":""},{"$f":"IFERROR(VLOOKUP(V134,'P2'!$B$4:$J$48,9,FALSE),\"\")","v":""},{"$f":"IFERROR(VLOOKUP(W134,'P2'!$B$4:$J$48,9,FALSE),\"\")","v":""},{"$f":"IFERROR(VLOOKUP(X134,'P2'!$B$4:$J$48,9,FALSE),\"\")","v":""},{"$f":"IFERROR(VLOOKUP(Y134,'P2'!$B$4:$J$48,9,FALSE),\"\")","v":""},{"$f":"IFERROR(VLOOKUP(Z134,'P2'!$B$4:$J$48,9,FALSE),\"\")","v":""},{"$f":"IFERROR(VLOOKUP(AA134,'P2'!$B$4:$J$48,9,FALSE),\"\")","v":""},{"$f":"IFERROR(VLOOKUP(AB134,'P2'!$B$4:$J$48,9,FALSE),\"\")","v":""},{"$f":"IFERROR(VLOOKUP(AC134,'P2'!$B$4:$J$48,9,FALSE),\"\")","v":""},{"$f":"IFERROR(VLOOKUP(AD134,'P2'!$B$4:$J$48,9,FALSE),\"\")","v":""},{"$f":"IFERROR(VLOOKUP(AE134,'P2'!$B$4:$J$48,9,FALSE),\"\")","v":""},{"$f":"IFERROR(VLOOKUP(AF134,'P2'!$B$4:$J$48,9,FALSE),\"\")","v":""},{"$f":"IFERROR(VLOOKUP(AG134,'P2'!$B$4:$J$48,9,FALSE),\"\")","v":""},{"$f":"IFERROR(VLOOKUP(AH134,'P2'!$B$4:$J$48,9,FALSE),\"\")","v":""},{"$f":"IFERROR(VLOOKUP(AI134,'P2'!$B$4:$J$48,9,FALSE),\"\")","v":""},{"$f":"IFERROR(VLOOKUP(AJ134,'P2'!$B$4:$J$48,9,FALSE),\"\")","v":""},{"$f":"IFERROR(VLOOKUP(AK134,'P2'!$B$4:$J$48,9,FALSE),\"\")","v":""},{"$f":"IFERROR(VLOOKUP(AL134,'P2'!$B$4:$J$48,9,FALSE),\"\")","v":""},{"$f":"IFERROR(VLOOKUP(AM134,'P2'!$B$4:$J$48,9,FALSE),\"\")","v":""},{"$f":"IFERROR(VLOOKUP(AN134,'P2'!$B$4:$J$48,9,FALSE),\"\")","v":""},{"$f":"IFERROR(VLOOKUP(AO134,'P2'!$B$4:$J$48,9,FALSE),\"\")","v":""},{"$f":"IFERROR(VLOOKUP(AP134,'P2'!$B$4:$J$48,9,FALSE),\"\")","v":""},{"$f":"IFERROR(VLOOKUP(AQ134,'P2'!$B$4:$J$48,9,FALSE),\"\")","v":""},{"$f":"IFERROR(VLOOKUP(AR134,'P2'!$B$4:$J$48,9,FALSE),\"\")","v":""},{"$f":"IFERROR(VLOOKUP(AS134,'P2'!$B$4:$J$48,9,FALSE),\"\")","v":""},{"$f":"IFERROR(VLOOKUP(AT134,'P2'!$B$4:$J$48,9,FALSE),\"\")","v":""},{"$f":"IFERROR(VLOOKUP(AU134,'P2'!$B$4:$J$48,9,FALSE),\"\")","v":""},{"$f":"SUM(Q135:AU135)","v":0}]
[null,56,null,null,null,null,null,null,null,null,null,null,null,null,null,null,null,null,null,null,null,null,null,null,null,null,null,null,null,null,null,null,null,null,null,null,null,null,null,null,null,null,null,null,null,null,null,{"$f":"COUNTA(Q136:AU136)","v":0},{"$f":"AV137","v":0},{"$f":"IFERROR(ROUNDDOWN(AV137/$AT$3,1),\"\")","v":""}]
[null,null,null,null,null,null,null,null,null,null,null,null,null,null,null,null,{"$f":"IFERROR(VLOOKUP(Q136,'P2'!$B$4:$J$48,9,FALSE),\"\")","v":""},{"$f":"IFERROR(VLOOKUP(R136,'P2'!$B$4:$J$48,9,FALSE),\"\")","v":""},{"$f":"IFERROR(VLOOKUP(S136,'P2'!$B$4:$J$48,9,FALSE),\"\")","v":""},{"$f":"IFERROR(VLOOKUP(T136,'P2'!$B$4:$J$48,9,FALSE),\"\")","v":""},{"$f":"IFERROR(VLOOKUP(U136,'P2'!$B$4:$J$48,9,FALSE),\"\")","v":""},{"$f":"IFERROR(VLOOKUP(V136,'P2'!$B$4:$J$48,9,FALSE),\"\")","v":""},{"$f":"IFERROR(VLOOKUP(W136,'P2'!$B$4:$J$48,9,FALSE),\"\")","v":""},{"$f":"IFERROR(VLOOKUP(X136,'P2'!$B$4:$J$48,9,FALSE),\"\")","v":""},{"$f":"IFERROR(VLOOKUP(Y136,'P2'!$B$4:$J$48,9,FALSE),\"\")","v":""},{"$f":"IFERROR(VLOOKUP(Z136,'P2'!$B$4:$J$48,9,FALSE),\"\")","v":""},{"$f":"IFERROR(VLOOKUP(AA136,'P2'!$B$4:$J$48,9,FALSE),\"\")","v":""},{"$f":"IFERROR(VLOOKUP(AB136,'P2'!$B$4:$J$48,9,FALSE),\"\")","v":""},{"$f":"IFERROR(VLOOKUP(AC136,'P2'!$B$4:$J$48,9,FALSE),\"\")","v":""},{"$f":"IFERROR(VLOOKUP(AD136,'P2'!$B$4:$J$48,9,FALSE),\"\")","v":""},{"$f":"IFERROR(VLOOKUP(AE136,'P2'!$B$4:$J$48,9,FALSE),\"\")","v":""},{"$f":"IFERROR(VLOOKUP(AF136,'P2'!$B$4:$J$48,9,FALSE),\"\")","v":""},{"$f":"IFERROR(VLOOKUP(AG136,'P2'!$B$4:$J$48,9,FALSE),\"\")","v":""},{"$f":"IFERROR(VLOOKUP(AH136,'P2'!$B$4:$J$48,9,FALSE),\"\")","v":""},{"$f":"IFERROR(VLOOKUP(AI136,'P2'!$B$4:$J$48,9,FALSE),\"\")","v":""},{"$f":"IFERROR(VLOOKUP(AJ136,'P2'!$B$4:$J$48,9,FALSE),\"\")","v":""},{"$f":"IFERROR(VLOOKUP(AK136,'P2'!$B$4:$J$48,9,FALSE),\"\")","v":""},{"$f":"IFERROR(VLOOKUP(AL136,'P2'!$B$4:$J$48,9,FALSE),\"\")","v":""},{"$f":"IFERROR(VLOOKUP(AM136,'P2'!$B$4:$J$48,9,FALSE),\"\")","v":""},{"$f":"IFERROR(VLOOKUP(AN136,'P2'!$B$4:$J$48,9,FALSE),\"\")","v":""},{"$f":"IFERROR(VLOOKUP(AO136,'P2'!$B$4:$J$48,9,FALSE),\"\")","v":""},{"$f":"IFERROR(VLOOKUP(AP136,'P2'!$B$4:$J$48,9,FALSE),\"\")","v":""},{"$f":"IFERROR(VLOOKUP(AQ136,'P2'!$B$4:$J$48,9,FALSE),\"\")","v":""},{"$f":"IFERROR(VLOOKUP(AR136,'P2'!$B$4:$J$48,9,FALSE),\"\")","v":""},{"$f":"IFERROR(VLOOKUP(AS136,'P2'!$B$4:$J$48,9,FALSE),\"\")","v":""},{"$f":"IFERROR(VLOOKUP(AT136,'P2'!$B$4:$J$48,9,FALSE),\"\")","v":""},{"$f":"IFERROR(VLOOKUP(AU136,'P2'!$B$4:$J$48,9,FALSE),\"\")","v":""},{"$f":"SUM(Q137:AU137)","v":0}]
[null,57,null,null,null,null,null,null,null,null,null,null,null,null,null,null,null,null,null,null,null,null,null,null,null,null,null,null,null,null,null,null,null,null,null,null,null,null,null,null,null,null,null,null,null,null,null,{"$f":"COUNTA(Q138:AU138)","v":0},{"$f":"AV139","v":0},{"$f":"IFERROR(ROUNDDOWN(AV139/$AT$3,1),\"\")","v":""}]
[null,null,null,null,null,null,null,null,null,null,null,null,null,null,null,null,{"$f":"IFERROR(VLOOKUP(Q138,'P2'!$B$4:$J$48,9,FALSE),\"\")","v":""},{"$f":"IFERROR(VLOOKUP(R138,'P2'!$B$4:$J$48,9,FALSE),\"\")","v":""},{"$f":"IFERROR(VLOOKUP(S138,'P2'!$B$4:$J$48,9,FALSE),\"\")","v":""},{"$f":"IFERROR(VLOOKUP(T138,'P2'!$B$4:$J$48,9,FALSE),\"\")","v":""},{"$f":"IFERROR(VLOOKUP(U138,'P2'!$B$4:$J$48,9,FALSE),\"\")","v":""},{"$f":"IFERROR(VLOOKUP(V138,'P2'!$B$4:$J$48,9,FALSE),\"\")","v":""},{"$f":"IFERROR(VLOOKUP(W138,'P2'!$B$4:$J$48,9,FALSE),\"\")","v":""},{"$f":"IFERROR(VLOOKUP(X138,'P2'!$B$4:$J$48,9,FALSE),\"\")","v":""},{"$f":"IFERROR(VLOOKUP(Y138,'P2'!$B$4:$J$48,9,FALSE),\"\")","v":""},{"$f":"IFERROR(VLOOKUP(Z138,'P2'!$B$4:$J$48,9,FALSE),\"\")","v":""},{"$f":"IFERROR(VLOOKUP(AA138,'P2'!$B$4:$J$48,9,FALSE),\"\")","v":""},{"$f":"IFERROR(VLOOKUP(AB138,'P2'!$B$4:$J$48,9,FALSE),\"\")","v":""},{"$f":"IFERROR(VLOOKUP(AC138,'P2'!$B$4:$J$48,9,FALSE),\"\")","v":""},{"$f":"IFERROR(VLOOKUP(AD138,'P2'!$B$4:$J$48,9,FALSE),\"\")","v":""},{"$f":"IFERROR(VLOOKUP(AE138,'P2'!$B$4:$J$48,9,FALSE),\"\")","v":""},{"$f":"IFERROR(VLOOKUP(AF138,'P2'!$B$4:$J$48,9,FALSE),\"\")","v":""},{"$f":"IFERROR(VLOOKUP(AG138,'P2'!$B$4:$J$48,9,FALSE),\"\")","v":""},{"$f":"IFERROR(VLOOKUP(AH138,'P2'!$B$4:$J$48,9,FALSE),\"\")","v":""},{"$f":"IFERROR(VLOOKUP(AI138,'P2'!$B$4:$J$48,9,FALSE),\"\")","v":""},{"$f":"IFERROR(VLOOKUP(AJ138,'P2'!$B$4:$J$48,9,FALSE),\"\")","v":""},{"$f":"IFERROR(VLOOKUP(AK138,'P2'!$B$4:$J$48,9,FALSE),\"\")","v":""},{"$f":"IFERROR(VLOOKUP(AL138,'P2'!$B$4:$J$48,9,FALSE),\"\")","v":""},{"$f":"IFERROR(VLOOKUP(AM138,'P2'!$B$4:$J$48,9,FALSE),\"\")","v":""},{"$f":"IFERROR(VLOOKUP(AN138,'P2'!$B$4:$J$48,9,FALSE),\"\")","v":""},{"$f":"IFERROR(VLOOKUP(AO138,'P2'!$B$4:$J$48,9,FALSE),\"\")","v":""},{"$f":"IFERROR(VLOOKUP(AP138,'P2'!$B$4:$J$48,9,FALSE),\"\")","v":""},{"$f":"IFERROR(VLOOKUP(AQ138,'P2'!$B$4:$J$48,9,FALSE),\"\")","v":""},{"$f":"IFERROR(VLOOKUP(AR138,'P2'!$B$4:$J$48,9,FALSE),\"\")","v":""},{"$f":"IFERROR(VLOOKUP(AS138,'P2'!$B$4:$J$48,9,FALSE),\"\")","v":""},{"$f":"IFERROR(VLOOKUP(AT138,'P2'!$B$4:$J$48,9,FALSE),\"\")","v":""},{"$f":"IFERROR(VLOOKUP(AU138,'P2'!$B$4:$J$48,9,FALSE),\"\")","v":""},{"$f":"SUM(Q139:AU139)","v":0}]
[null,58,null,null,null,null,null,null,null,null,null,null,null,null,null,null,null,null,null,null,null,null,null,null,null,null,null,null,null,null,null,null,null,null,null,null,null,null,null,null,null,null,null,null,null,null,null,{"$f":"COUNTA(Q140:AU140)","v":0},{"$f":"AV141","v":0},{"$f":"IFERROR(ROUNDDOWN(AV141/$AT$3,1),\"\")","v":""}]
[null,null,null,null,null,null,null,null,null,null,null,null,null,null,null,null,{"$f":"IFERROR(VLOOKUP(Q140,'P2'!$B$4:$J$48,9,FALSE),\"\")","v":""},{"$f":"IFERROR(VLOOKUP(R140,'P2'!$B$4:$J$48,9,FALSE),\"\")","v":""},{"$f":"IFERROR(VLOOKUP(S140,'P2'!$B$4:$J$48,9,FALSE),\"\")","v":""},{"$f":"IFERROR(VLOOKUP(T140,'P2'!$B$4:$J$48,9,FALSE),\"\")","v":""},{"$f":"IFERROR(VLOOKUP(U140,'P2'!$B$4:$J$48,9,FALSE),\"\")","v":""},{"$f":"IFERROR(VLOOKUP(V140,'P2'!$B$4:$J$48,9,FALSE),\"\")","v":""},{"$f":"IFERROR(VLOOKUP(W140,'P2'!$B$4:$J$48,9,FALSE),\"\")","v":""},{"$f":"IFERROR(VLOOKUP(X140,'P2'!$B$4:$J$48,9,FALSE),\"\")","v":""},{"$f":"IFERROR(VLOOKUP(Y140,'P2'!$B$4:$J$48,9,FALSE),\"\")","v":""},{"$f":"IFERROR(VLOOKUP(Z140,'P2'!$B$4:$J$48,9,FALSE),\"\")","v":""},{"$f":"IFERROR(VLOOKUP(AA140,'P2'!$B$4:$J$48,9,FALSE),\"\")","v":""},{"$f":"IFERROR(VLOOKUP(AB140,'P2'!$B$4:$J$48,9,FALSE),\"\")","v":""},{"$f":"IFERROR(VLOOKUP(AC140,'P2'!$B$4:$J$48,9,FALSE),\"\")","v":""},{"$f":"IFERROR(VLOOKUP(AD140,'P2'!$B$4:$J$48,9,FALSE),\"\")","v":""},{"$f":"IFERROR(VLOOKUP(AE140,'P2'!$B$4:$J$48,9,FALSE),\"\")","v":""},{"$f":"IFERROR(VLOOKUP(AF140,'P2'!$B$4:$J$48,9,FALSE),\"\")","v":""},{"$f":"IFERROR(VLOOKUP(AG140,'P2'!$B$4:$J$48,9,FALSE),\"\")","v":""},{"$f":"IFERROR(VLOOKUP(AH140,'P2'!$B$4:$J$48,9,FALSE),\"\")","v":""},{"$f":"IFERROR(VLOOKUP(AI140,'P2'!$B$4:$J$48,9,FALSE),\"\")","v":""},{"$f":"IFERROR(VLOOKUP(AJ140,'P2'!$B$4:$J$48,9,FALSE),\"\")","v":""},{"$f":"IFERROR(VLOOKUP(AK140,'P2'!$B$4:$J$48,9,FALSE),\"\")","v":""},{"$f":"IFERROR(VLOOKUP(AL140,'P2'!$B$4:$J$48,9,FALSE),\"\")","v":""},{"$f":"IFERROR(VLOOKUP(AM140,'P2'!$B$4:$J$48,9,FALSE),\"\")","v":""},{"$f":"IFERROR(VLOOKUP(AN140,'P2'!$B$4:$J$48,9,FALSE),\"\")","v":""},{"$f":"IFERROR(VLOOKUP(AO140,'P2'!$B$4:$J$48,9,FALSE),\"\")","v":""},{"$f":"IFERROR(VLOOKUP(AP140,'P2'!$B$4:$J$48,9,FALSE),\"\")","v":""},{"$f":"IFERROR(VLOOKUP(AQ140,'P2'!$B$4:$J$48,9,FALSE),\"\")","v":""},{"$f":"IFERROR(VLOOKUP(AR140,'P2'!$B$4:$J$48,9,FALSE),\"\")","v":""},{"$f":"IFERROR(VLOOKUP(AS140,'P2'!$B$4:$J$48,9,FALSE),\"\")","v":""},{"$f":"IFERROR(VLOOKUP(AT140,'P2'!$B$4:$J$48,9,FALSE),\"\")","v":""},{"$f":"IFERROR(VLOOKUP(AU140,'P2'!$B$4:$J$48,9,FALSE),\"\")","v":""},{"$f":"SUM(Q141:AU141)","v":0}]
[null,59,null,null,null,null,null,null,null,null,null,null,null,null,null,null,null,null,null,null,null,null,null,null,null,null,null,null,null,null,null,null,null,null,null,null,null,null,null,null,null,null,null,null,null,null,null,{"$f":"COUNTA(Q142:AU142)","v":0},{"$f":"AV143","v":0},{"$f":"IFERROR(ROUNDDOWN(AV143/$AT$3,1),\"\")","v":""}]
[null,null,null,null,null,null,null,null,null,null,null,null,null,null,null,null,{"$f":"IFERROR(VLOOKUP(Q142,'P2'!$B$4:$J$48,9,FALSE),\"\")","v":""},{"$f":"IFERROR(VLOOKUP(R142,'P2'!$B$4:$J$48,9,FALSE),\"\")","v":""},{"$f":"IFERROR(VLOOKUP(S142,'P2'!$B$4:$J$48,9,FALSE),\"\")","v":""},{"$f":"IFERROR(VLOOKUP(T142,'P2'!$B$4:$J$48,9,FALSE),\"\")","v":""},{"$f":"IFERROR(VLOOKUP(U142,'P2'!$B$4:$J$48,9,FALSE),\"\")","v":""},{"$f":"IFERROR(VLOOKUP(V142,'P2'!$B$4:$J$48,9,FALSE),\"\")","v":""},{"$f":"IFERROR(VLOOKUP(W142,'P2'!$B$4:$J$48,9,FALSE),\"\")","v":""},{"$f":"IFERROR(VLOOKUP(X142,'P2'!$B$4:$J$48,9,FALSE),\"\")","v":""},{"$f":"IFERROR(VLOOKUP(Y142,'P2'!$B$4:$J$48,9,FALSE),\"\")","v":""},{"$f":"IFERROR(VLOOKUP(Z142,'P2'!$B$4:$J$48,9,FALSE),\"\")","v":""},{"$f":"IFERROR(VLOOKUP(AA142,'P2'!$B$4:$J$48,9,FALSE),\"\")","v":""},{"$f":"IFERROR(VLOOKUP(AB142,'P2'!$B$4:$J$48,9,FALSE),\"\")","v":""},{"$f":"IFERROR(VLOOKUP(AC142,'P2'!$B$4:$J$48,9,FALSE),\"\")","v":""},{"$f":"IFERROR(VLOOKUP(AD142,'P2'!$B$4:$J$48,9,FALSE),\"\")","v":""},{"$f":"IFERROR(VLOOKUP(AE142,'P2'!$B$4:$J$48,9,FALSE),\"\")","v":""},{"$f":"IFERROR(VLOOKUP(AF142,'P2'!$B$4:$J$48,9,FALSE),\"\")","v":""},{"$f":"IFERROR(VLOOKUP(AG142,'P2'!$B$4:$J$48,9,FALSE),\"\")","v":""},{"$f":"IFERROR(VLOOKUP(AH142,'P2'!$B$4:$J$48,9,FALSE),\"\")","v":""},{"$f":"IFERROR(VLOOKUP(AI142,'P2'!$B$4:$J$48,9,FALSE),\"\")","v":""},{"$f":"IFERROR(VLOOKUP(AJ142,'P2'!$B$4:$J$48,9,FALSE),\"\")","v":""},{"$f":"IFERROR(VLOOKUP(AK142,'P2'!$B$4:$J$48,9,FALSE),\"\")","v":""},{"$f":"IFERROR(VLOOKUP(AL142,'P2'!$B$4:$J$48,9,FALSE),\"\")","v":""},{"$f":"IFERROR(VLOOKUP(AM142,'P2'!$B$4:$J$48,9,FALSE),\"\")","v":""},{"$f":"IFERROR(VLOOKUP(AN142,'P2'!$B$4:$J$48,9,FALSE),\"\")","v":""},{"$f":"IFERROR(VLOOKUP(AO142,'P2'!$B$4:$J$48,9,FALSE),\"\")","v":""},{"$f":"IFERROR(VLOOKUP(AP142,'P2'!$B$4:$J$48,9,FALSE),\"\")","v":""},{"$f":"IFERROR(VLOOKUP(AQ142,'P2'!$B$4:$J$48,9,FALSE),\"\")","v":""},{"$f":"IFERROR(VLOOKUP(AR142,'P2'!$B$4:$J$48,9,FALSE),\"\")","v":""},{"$f":"IFERROR(VLOOKUP(AS142,'P2'!$B$4:$J$48,9,FALSE),\"\")","v":""},{"$f":"IFERROR(VLOOKUP(AT142,'P2'!$B$4:$J$48,9,FALSE),\"\")","v":""},{"$f":"IFERROR(VLOOKUP(AU142,'P2'!$B$4:$J$48,9,FALSE),\"\")","v":""},{"$f":"SUM(Q143:AU143)","v":0}]
[null,60,null,null,null,null,null,null,null,null,null,null,null,null,null,null,null,null,null,null,null,null,null,null,null,null,null,null,null,null,null,null,null,null,null,null,null,null,null,null,null,null,null,null,null,null,null,{"$f":"COUNTA(Q144:AU144)","v":0},{"$f":"AV145","v":0},{"$f":"IFERROR(ROUNDDOWN(AV145/$AT$3,1),\"\")","v":""}]
[null,null,null,null,null,null,null,null,null,null,null,null,null,null,null,null,{"$f":"IFERROR(VLOOKUP(Q144,'P2'!$B$4:$J$48,9,FALSE),\"\")","v":""},{"$f":"IFERROR(VLOOKUP(R144,'P2'!$B$4:$J$48,9,FALSE),\"\")","v":""},{"$f":"IFERROR(VLOOKUP(S144,'P2'!$B$4:$J$48,9,FALSE),\"\")","v":""},{"$f":"IFERROR(VLOOKUP(T144,'P2'!$B$4:$J$48,9,FALSE),\"\")","v":""},{"$f":"IFERROR(VLOOKUP(U144,'P2'!$B$4:$J$48,9,FALSE),\"\")","v":""},{"$f":"IFERROR(VLOOKUP(V144,'P2'!$B$4:$J$48,9,FALSE),\"\")","v":""},{"$f":"IFERROR(VLOOKUP(W144,'P2'!$B$4:$J$48,9,FALSE),\"\")","v":""},{"$f":"IFERROR(VLOOKUP(X144,'P2'!$B$4:$J$48,9,FALSE),\"\")","v":""},{"$f":"IFERROR(VLOOKUP(Y144,'P2'!$B$4:$J$48,9,FALSE),\"\")","v":""},{"$f":"IFERROR(VLOOKUP(Z144,'P2'!$B$4:$J$48,9,FALSE),\"\")","v":""},{"$f":"IFERROR(VLOOKUP(AA144,'P2'!$B$4:$J$48,9,FALSE),\"\")","v":""},{"$f":"IFERROR(VLOOKUP(AB144,'P2'!$B$4:$J$48,9,FALSE),\"\")","v":""},{"$f":"IFERROR(VLOOKUP(AC144,'P2'!$B$4:$J$48,9,FALSE),\"\")","v":""},{"$f":"IFERROR(VLOOKUP(AD144,'P2'!$B$4:$J$48,9,FALSE),\"\")","v":""},{"$f":"IFERROR(VLOOKUP(AE144,'P2'!$B$4:$J$48,9,FALSE),\"\")","v":""},{"$f":"IFERROR(VLOOKUP(AF144,'P2'!$B$4:$J$48,9,FALSE),\"\")","v":""},{"$f":"IFERROR(VLOOKUP(AG144,'P2'!$B$4:$J$48,9,FALSE),\"\")","v":""},{"$f":"IFERROR(VLOOKUP(AH144,'P2'!$B$4:$J$48,9,FALSE),\"\")","v":""},{"$f":"IFERROR(VLOOKUP(AI144,'P2'!$B$4:$J$48,9,FALSE),\"\")","v":""},{"$f":"IFERROR(VLOOKUP(AJ144,'P2'!$B$4:$J$48,9,FALSE),\"\")","v":""},{"$f":"IFERROR(VLOOKUP(AK144,'P2'!$B$4:$J$48,9,FALSE),\"\")","v":""},{"$f":"IFERROR(VLOOKUP(AL144,'P2'!$B$4:$J$48,9,FALSE),\"\")","v":""},{"$f":"IFERROR(VLOOKUP(AM144,'P2'!$B$4:$J$48,9,FALSE),\"\")","v":""},{"$f":"IFERROR(VLOOKUP(AN144,'P2'!$B$4:$J$48,9,FALSE),\"\")","v":""},{"$f":"IFERROR(VLOOKUP(AO144,'P2'!$B$4:$J$48,9,FALSE),\"\")","v":""},{"$f":"IFERROR(VLOOKUP(AP144,'P2'!$B$4:$J$48,9,FALSE),\"\")","v":""},{"$f":"IFERROR(VLOOKUP(AQ144,'P2'!$B$4:$J$48,9,FALSE),\"\")","v":""},{"$f":"IFERROR(VLOOKUP(AR144,'P2'!$B$4:$J$48,9,FALSE),\"\")","v":""},{"$f":"IFERROR(VLOOKUP(AS144,'P2'!$B$4:$J$48,9,FALSE),\"\")","v":""},{"$f":"IFERROR(VLOOKUP(AT144,'P2'!$B$4:$J$48,9,FALSE),\"\")","v":""},{"$f":"IFERROR(VLOOKUP(AU144,'P2'!$B$4:$J$48,9,FALSE),\"\")","v":""},{"$f":"SUM(Q145:AU145)","v":0}]
[null,61,null,null,null,null,null,null,null,null,null,null,null,null,null,null,null,null,null,null,null,null,null,null,null,null,null,null,null,null,null,null,null,null,null,null,null,null,null,null,null,null,null,null,null,null,null,{"$f":"COUNTA(Q146:AU146)","v":0},{"$f":"AV147","v":0},{"$f":"IFERROR(ROUNDDOWN(AV147/$AT$3,1),\"\")","v":""}]
[null,null,null,null,null,null,null,null,null,null,null,null,null,null,null,null,{"$f":"IFERROR(VLOOKUP(Q146,'P2'!$B$4:$J$48,9,FALSE),\"\")","v":""},{"$f":"IFERROR(VLOOKUP(R146,'P2'!$B$4:$J$48,9,FALSE),\"\")","v":""},{"$f":"IFERROR(VLOOKUP(S146,'P2'!$B$4:$J$48,9,FALSE),\"\")","v":""},{"$f":"IFERROR(VLOOKUP(T146,'P2'!$B$4:$J$48,9,FALSE),\"\")","v":""},{"$f":"IFERROR(VLOOKUP(U146,'P2'!$B$4:$J$48,9,FALSE),\"\")","v":""},{"$f":"IFERROR(VLOOKUP(V146,'P2'!$B$4:$J$48,9,FALSE),\"\")","v":""},{"$f":"IFERROR(VLOOKUP(W146,'P2'!$B$4:$J$48,9,FALSE),\"\")","v":""},{"$f":"IFERROR(VLOOKUP(X146,'P2'!$B$4:$J$48,9,FALSE),\"\")","v":""},{"$f":"IFERROR(VLOOKUP(Y146,'P2'!$B$4:$J$48,9,FALSE),\"\")","v":""},{"$f":"IFERROR(VLOOKUP(Z146,'P2'!$B$4:$J$48,9,FALSE),\"\")","v":""},{"$f":"IFERROR(VLOOKUP(AA146,'P2'!$B$4:$J$48,9,FALSE),\"\")","v":""},{"$f":"IFERROR(VLOOKUP(AB146,'P2'!$B$4:$J$48,9,FALSE),\"\")","v":""},{"$f":"IFERROR(VLOOKUP(AC146,'P2'!$B$4:$J$48,9,FALSE),\"\")","v":""},{"$f":"IFERROR(VLOOKUP(AD146,'P2'!$B$4:$J$48,9,FALSE),\"\")","v":""},{"$f":"IFERROR(VLOOKUP(AE146,'P2'!$B$4:$J$48,9,FALSE),\"\")","v":""},{"$f":"IFERROR(VLOOKUP(AF146,'P2'!$B$4:$J$48,9,FALSE),\"\")","v":""},{"$f":"IFERROR(VLOOKUP(AG146,'P2'!$B$4:$J$48,9,FALSE),\"\")","v":""},{"$f":"IFERROR(VLOOKUP(AH146,'P2'!$B$4:$J$48,9,FALSE),\"\")","v":""},{"$f":"IFERROR(VLOOKUP(AI146,'P2'!$B$4:$J$48,9,FALSE),\"\")","v":""},{"$f":"IFERROR(VLOOKUP(AJ146,'P2'!$B$4:$J$48,9,FALSE),\"\")","v":""},{"$f":"IFERROR(VLOOKUP(AK146,'P2'!$B$4:$J$48,9,FALSE),\"\")","v":""},{"$f":"IFERROR(VLOOKUP(AL146,'P2'!$B$4:$J$48,9,FALSE),\"\")","v":""},{"$f":"IFERROR(VLOOKUP(AM146,'P2'!$B$4:$J$48,9,FALSE),\"\")","v":""},{"$f":"IFERROR(VLOOKUP(AN146,'P2'!$B$4:$J$48,9,FALSE),\"\")","v":""},{"$f":"IFERROR(VLOOKUP(AO146,'P2'!$B$4:$J$48,9,FALSE),\"\")","v":""},{"$f":"IFERROR(VLOOKUP(AP146,'P2'!$B$4:$J$48,9,FALSE),\"\")","v":""},{"$f":"IFERROR(VLOOKUP(AQ146,'P2'!$B$4:$J$48,9,FALSE),\"\")","v":""},{"$f":"IFERROR(VLOOKUP(AR146,'P2'!$B$4:$J$48,9,FALSE),\"\")","v":""},{"$f":"IFERROR(VLOOKUP(AS146,'P2'!$B$4:$J$48,9,FALSE),\"\")","v":""},{"$f":"IFERROR(VLOOKUP(AT146,'P2'!$B$4:$J$48,9,FALSE),\"\")","v":""},{"$f":"IFERROR(VLOOKUP(AU146,'P2'!$B$4:$J$48,9,FALSE),\"\")","v":""},{"$f":"SUM(Q147:AU147)","v":0}]
[null,62,null,null,null,null,null,null,null,null,null,null,null,null,null,null,null,null,null,null,null,null,null,null,null,null,null,null,null,null,null,null,null,null,null,null,null,null,null,null,null,null,null,null,null,null,null,{"$f":"COUNTA(Q148:AU148)","v":0},{"$f":"AV149","v":0},{"$f":"IFERROR(ROUNDDOWN(AV149/$AT$3,1),\"\")","v":""}]
[null,null,null,null,null,null,null,null,null,null,null,null,null,null,null,null,{"$f":"IFERROR(VLOOKUP(Q148,'P2'!$B$4:$J$48,9,FALSE),\"\")","v":""},{"$f":"IFERROR(VLOOKUP(R148,'P2'!$B$4:$J$48,9,FALSE),\"\")","v":""},{"$f":"IFERROR(VLOOKUP(S148,'P2'!$B$4:$J$48,9,FALSE),\"\")","v":""},{"$f":"IFERROR(VLOOKUP(T148,'P2'!$B$4:$J$48,9,FALSE),\"\")","v":""},{"$f":"IFERROR(VLOOKUP(U148,'P2'!$B$4:$J$48,9,FALSE),\"\")","v":""},{"$f":"IFERROR(VLOOKUP(V148,'P2'!$B$4:$J$48,9,FALSE),\"\")","v":""},{"$f":"IFERROR(VLOOKUP(W148,'P2'!$B$4:$J$48,9,FALSE),\"\")","v":""},{"$f":"IFERROR(VLOOKUP(X148,'P2'!$B$4:$J$48,9,FALSE),\"\")","v":""},{"$f":"IFERROR(VLOOKUP(Y148,'P2'!$B$4:$J$48,9,FALSE),\"\")","v":""},{"$f":"IFERROR(VLOOKUP(Z148,'P2'!$B$4:$J$48,9,FALSE),\"\")","v":""},{"$f":"IFERROR(VLOOKUP(AA148,'P2'!$B$4:$J$48,9,FALSE),\"\")","v":""},{"$f":"IFERROR(VLOOKUP(AB148,'P2'!$B$4:$J$48,9,FALSE),\"\")","v":""},{"$f":"IFERROR(VLOOKUP(AC148,'P2'!$B$4:$J$48,9,FALSE),\"\")","v":""},{"$f":"IFERROR(VLOOKUP(AD148,'P2'!$B$4:$J$48,9,FALSE),\"\")","v":""},{"$f":"IFERROR(VLOOKUP(AE148,'P2'!$B$4:$J$48,9,FALSE),\"\")","v":""},{"$f":"IFERROR(VLOOKUP(AF148,'P2'!$B$4:$J$48,9,FALSE),\"\")","v":""},{"$f":"IFERROR(VLOOKUP(AG148,'P2'!$B$4:$J$48,9,FALSE),\"\")","v":""},{"$f":"IFERROR(VLOOKUP(AH148,'P2'!$B$4:$J$48,9,FALSE),\"\")","v":""},{"$f":"IFERROR(VLOOKUP(AI148,'P2'!$B$4:$J$48,9,FALSE),\"\")","v":""},{"$f":"IFERROR(VLOOKUP(AJ148,'P2'!$B$4:$J$48,9,FALSE),\"\")","v":""},{"$f":"IFERROR(VLOOKUP(AK148,'P2'!$B$4:$J$48,9,FALSE),\"\")","v":""},{"$f":"IFERROR(VLOOKUP(AL148,'P2'!$B$4:$J$48,9,FALSE),\"\")","v":""},{"$f":"IFERROR(VLOOKUP(AM148,'P2'!$B$4:$J$48,9,FALSE),\"\")","v":""},{"$f":"IFERROR(VLOOKUP(AN148,'P2'!$B$4:$J$48,9,FALSE),\"\")","v":""},{"$f":"IFERROR(VLOOKUP(AO148,'P2'!$B$4:$J$48,9,FALSE),\"\")","v":""},{"$f":"IFERROR(VLOOKUP(AP148,'P2'!$B$4:$J$48,9,FALSE),\"\")","v":""},{"$f":"IFERROR(VLOOKUP(AQ148,'P2'!$B$4:$J$48,9,FALSE),\"\")","v":""},{"$f":"IFERROR(VLOOKUP(AR148,'P2'!$B$4:$J$48,9,FALSE),\"\")","v":""},{"$f":"IFERROR(VLOOKUP(AS148,'P2'!$B$4:$J$48,9,FALSE),\"\")","v":""},{"$f":"IFERROR(VLOOKUP(AT148,'P2'!$B$4:$J$48,9,FALSE),\"\")","v":""},{"$f":"IFERROR(VLOOKUP(AU148,'P2'!$B$4:$J$48,9,FALSE),\"\")","v":""},{"$f":"SUM(Q149:AU149)","v":0}]
[]
[]
[null,"(2)　勤務実績　（直近3か月分の実績）",null,null,null,null,null,null,null,null,null,null,null,null,null,null,null,null,"（",{"$f":"$T$3","v":"令和　7"},null,"年",{"$f":"$W$3","v":5},"月分実績",null,"）",null,null,null,null,null,null,null,null,null,null,null,null,null,null,null,null,null,null,null,null,null,null,null,{"$f":"\"4 / \"&COUNTA(C$7,C$57,C$106,C$155,C$204)","v":"4 / 1"}]
[null,null,"職　　種",null,null,null,null,null,"氏　　名",null,null,null,null,"勤務\n形態",null,null,{"$f":"Q$5","v":"2025-05-01"},{"$f":"R$5","v":"2025-05-02"},"2025-05-03","2025-05-04","2025-05-05","2025-05-06","2025-05-07","2025-05-08","2025-05-09","2025-05-10","2025-05-11","2025-05-12","2025-05-13","2025-05-14","2025-05-15","2025-05-16","2025-05-17","2025-05-18","2025-05-19","2025-05-20","2025-05-21","2025-05-22","2025-05-23","2025-05-24","2025-05-25","2025-05-26","2025-05-27","2025-05-28","2025-05-29","2025-05-30","2025-05-31","勤務日数",null,"常勤換算"]
[null,null,null,null,null,null,null,null,null,null,null,null,null,null,null,null,{"$f":"Q$6","v":"木"},{"$f":"R$6","v":"金"},"土","日","月","火","水","木","金","土","日","月","火","水","木","金","土","日","月","火","水","木","金","土","日","月","火","水","木","金","土","勤務時間"]
[null,{"$f":"B148+1","v":63},null,null,null,null,null,null,null,null,null,null,null,null,null,null,null,null,null,null,null,null,null,null,null,null,null,null,null,null,null,null,null,null,null,null,null,null,null,null,null,null,null,null,null,null,null,{"$f":"COUNTA(Q155:AU155)","v":0},{"$f":"AV156","v":0},{"$f":"IFERROR(ROUNDDOWN(AV156/$AT$3,1),\"\")","v":""}]
[null,null,null,null,null,null,null,null,null,null,null,null,null,null,null,null,{"$f":"IFERROR(VLOOKUP(Q155,'P2'!$B$4:$J$48,9,FALSE),\"\")","v":""},{"$f":"IFERROR(VLOOKUP(R155,'P2'!$B$4:$J$48,9,FALSE),\"\")","v":""},{"$f":"IFERROR(VLOOKUP(S155,'P2'!$B$4:$J$48,9,FALSE),\"\")","v":""},{"$f":"IFERROR(VLOOKUP(T155,'P2'!$B$4:$J$48,9,FALSE),\"\")","v":""},{"$f":"IFERROR(VLOOKUP(U155,'P2'!$B$4:$J$48,9,FALSE),\"\")","v":""},{"$f":"IFERROR(VLOOKUP(V155,'P2'!$B$4:$J$48,9,FALSE),\"\")","v":""},{"$f":"IFERROR(VLOOKUP(W155,'P2'!$B$4:$J$48,9,FALSE),\"\")","v":""},{"$f":"IFERROR(VLOOKUP(X155,'P2'!$B$4:$J$48,9,FALSE),\"\")","v":""},{"$f":"IFERROR(VLOOKUP(Y155,'P2'!$B$4:$J$48,9,FALSE),\"\")","v":""},{"$f":"IFERROR(VLOOKUP(Z155,'P2'!$B$4:$J$48,9,FALSE),\"\")","v":""},{"$f":"IFERROR(VLOOKUP(AA155,'P2'!$B$4:$J$48,9,FALSE),\"\")","v":""},{"$f":"IFERROR(VLOOKUP(AB155,'P2'!$B$4:$J$48,9,FALSE),\"\")","v":""},{"$f":"IFERROR(VLOOKUP(AC155,'P2'!$B$4:$J$48,9,FALSE),\"\")","v":""},{"$f":"IFERROR(VLOOKUP(AD155,'P2'!$B$4:$J$48,9,FALSE),\"\")","v":""},{"$f":"IFERROR(VLOOKUP(AE155,'P2'!$B$4:$J$48,9,FALSE),\"\")","v":""},{"$f":"IFERROR(VLOOKUP(AF155,'P2'!$B$4:$J$48,9,FALSE),\"\")","v":""},{"$f":"IFERROR(VLOOKUP(AG155,'P2'!$B$4:$J$48,9,FALSE),\"\")","v":""},{"$f":"IFERROR(VLOOKUP(AH155,'P2'!$B$4:$J$48,9,FALSE),\"\")","v":""},{"$f":"IFERROR(VLOOKUP(AI155,'P2'!$B$4:$J$48,9,FALSE),\"\")","v":""},{"$f":"IFERROR(VLOOKUP(AJ155,'P2'!$B$4:$J$48,9,FALSE),\"\")","v":""},{"$f":"IFERROR(VLOOKUP(AK155,'P2'!$B$4:$J$48,9,FALSE),\"\")","v":""},{"$f":"IFERROR(VLOOKUP(AL155,'P2'!$B$4:$J$48,9,FALSE),\"\")","v":""},{"$f":"IFERROR(VLOOKUP(AM155,'P2'!$B$4:$J$48,9,FALSE),\"\")","v":""},{"$f":"IFERROR(VLOOKUP(AN155,'P2'!$B$4:$J$48,9,FALSE),\"\")","v":""},{"$f":"IFERROR(VLOOKUP(AO155,'P2'!$B$4:$J$48,9,FALSE),\"\")","v":""},{"$f":"IFERROR(VLOOKUP(AP155,'P2'!$B$4:$J$48,9,FALSE),\"\")","v":""},{"$f":"IFERROR(VLOOKUP(AQ155,'P2'!$B$4:$J$48,9,FALSE),\"\")","v":""},{"$f":"IFERROR(VLOOKUP(AR155,'P2'!$B$4:$J$48,9,FALSE),\"\")","v":""},{"$f":"IFERROR(VLOOKUP(AS155,'P2'!$B$4:$J$48,9,FALSE),\"\")","v":""},{"$f":"IFERROR(VLOOKUP(AT155,'P2'!$B$4:$J$48,9,FALSE),\"\")","v":""},{"$f":"IFERROR(VLOOKUP(AU155,'P2'!$B$4:$J$48,9,FALSE),\"\")","v":""},{"$f":"SUM(Q156:AU156)","v":0}]
[null,{"$f":"B155+1","v":64},null,null,null,null,null,null,null,null,null,null,null,null,null,null,null,null,null,null,null,null,null,null,null,null,null,null,null,null,null,null,null,null,null,null,null,null,null,null,null,null,null,null,null,null,null,{"$f":"COUNTA(Q157:AU157)","v":0},{"$f":"AV158","v":0},{"$f":"IFERROR(ROUNDDOWN(AV158/$AT$3,1),\"\")","v":""}]
[null,null,null,null,null,null,null,null,null,null,null,null,null,null,null,null,{"$f":"IFERROR(VLOOKUP(Q157,'P2'!$B$4:$J$48,9,FALSE),\"\")","v":""},{"$f":"IFERROR(VLOOKUP(R157,'P2'!$B$4:$J$48,9,FALSE),\"\")","v":""},{"$f":"IFERROR(VLOOKUP(S157,'P2'!$B$4:$J$48,9,FALSE),\"\")","v":""},{"$f":"IFERROR(VLOOKUP(T157,'P2'!$B$4:$J$48,9,FALSE),\"\")","v":""},{"$f":"IFERROR(VLOOKUP(U157,'P2'!$B$4:$J$48,9,FALSE),\"\")","v":""},{"$f":"IFERROR(VLOOKUP(V157,'P2'!$B$4:$J$48,9,FALSE),\"\")","v":""},{"$f":"IFERROR(VLOOKUP(W157,'P2'!$B$4:$J$48,9,FALSE),\"\")","v":""},{"$f":"IFERROR(VLOOKUP(X157,'P2'!$B$4:$J$48,9,FALSE),\"\")","v":""},{"$f":"IFERROR(VLOOKUP(Y157,'P2'!$B$4:$J$48,9,FALSE),\"\")","v":""},{"$f":"IFERROR(VLOOKUP(Z157,'P2'!$B$4:$J$48,9,FALSE),\"\")","v":""},{"$f":"IFERROR(VLOOKUP(AA157,'P2'!$B$4:$J$48,9,FALSE),\"\")","v":""},{"$f":"IFERROR(VLOOKUP(AB157,'P2'!$B$4:$J$48,9,FALSE),\"\")","v":""},{"$f":"IFERROR(VLOOKUP(AC157,'P2'!$B$4:$J$48,9,FALSE),\"\")","v":""},{"$f":"IFERROR(VLOOKUP(AD157,'P2'!$B$4:$J$48,9,FALSE),\"\")","v":""},{"$f":"IFERROR(VLOOKUP(AE157,'P2'!$B$4:$J$48,9,FALSE),\"\")","v":""},{"$f":"IFERROR(VLOOKUP(AF157,'P2'!$B$4:$J$48,9,FALSE),\"\")","v":""},{"$f":"IFERROR(VLOOKUP(AG157,'P2'!$B$4:$J$48,9,FALSE),\"\")","v":""},{"$f":"IFERROR(VLOOKUP(AH157,'P2'!$B$4:$J$48,9,FALSE),\"\")","v":""},{"$f":"IFERROR(VLOOKUP(AI157,'P2'!$B$4:$J$48,9,FALSE),\"\")","v":""},{"$f":"IFERROR(VLOOKUP(AJ157,'P2'!$B$4:$J$48,9,FALSE),\"\")","v":""},{"$f":"IFERROR(VLOOKUP(AK157,'P2'!$B$4:$J$48,9,FALSE),\"\")","v":""},{"$f":"IFERROR(VLOOKUP(AL157,'P2'!$B$4:$J$48,9,FALSE),\"\")","v":""},{"$f":"IFERROR(VLOOKUP(AM157,'P2'!$B$4:$J$48,9,FALSE),\"\")","v":""},{"$f":"IFERROR(VLOOKUP(AN157,'P2'!$B$4:$J$48,9,FALSE),\"\")","v":""},{"$f":"IFERROR(VLOOKUP(AO157,'P2'!$B$4:$J$48,9,FALSE),\"\")","v":""},{"$f":"IFERROR(VLOOKUP(AP157,'P2'!$B$4:$J$48,9,FALSE),\"\")","v":""},{"$f":"IFERROR(VLOOKUP(AQ157,'P2'!$B$4:$J$48,9,FALSE),\"\")","v":""},{"$f":"IFERROR(VLOOKUP(AR157,'P2'!$B$4:$J$48,9,FALSE),\"\")","v":""},{"$f":"IFERROR(VLOOKUP(AS157,'P2'!$B$4:$J$48,9,FALSE),\"\")","v":""},{"$f":"IFERROR(VLOOKUP(AT157,'P2'!$B$4:$J$48,9,FALSE),\"\")","v":""},{"$f":"IFERROR(VLOOKUP(AU157,'P2'!$B$4:$J$48,9,FALSE),\"\")","v":""},{"$f":"SUM(Q158:AU158)","v":0}]
[null,65,null,null,null,null,null,null,null,null,null,null,null,null,null,null,null,null,null,null,null,null,null,null,null,null,null,null,null,null,null,null,null,null,null,null,null,null,null,null,null,null,null,null,null,null,null,{"$f":"COUNTA(Q159:AU159)","v":0},{"$f":"AV160","v":0},{"$f":"IFERROR(ROUNDDOWN(AV160/$AT$3,1),\"\")","v":""}]
[null,null,null,null,null,null,null,null,null,null,null,null,null,null,null,null,{"$f":"IFERROR(VLOOKUP(Q159,'P2'!$B$4:$J$48,9,FALSE),\"\")","v":""},{"$f":"IFERROR(VLOOKUP(R159,'P2'!$B$4:$J$48,9,FALSE),\"\")","v":""},{"$f":"IFERROR(VLOOKUP(S159,'P2'!$B$4:$J$48,9,FALSE),\"\")","v":""},{"$f":"IFERROR(VLOOKUP(T159,'P2'!$B$4:$J$48,9,FALSE),\"\")","v":""},{"$f":"IFERROR(VLOOKUP(U159,'P2'!$B$4:$J$48,9,FALSE),\"\")","v":""},{"$f":"IFERROR(VLOOKUP(V159,'P2'!$B$4:$J$48,9,FALSE),\"\")","v":""},{"$f":"IFERROR(VLOOKUP(W159,'P2'!$B$4:$J$48,9,FALSE),\"\")","v":""},{"$f":"IFERROR(VLOOKUP(X159,'P2'!$B$4:$J$48,9,FALSE),\"\")","v":""},{"$f":"IFERROR(VLOOKUP(Y159,'P2'!$B$4:$J$48,9,FALSE),\"\")","v":""},{"$f":"IFERROR(VLOOKUP(Z159,'P2'!$B$4:$J$48,9,FALSE),\"\")","v":""},{"$f":"IFERROR(VLOOKUP(AA159,'P2'!$B$4:$J$48,9,FALSE),\"\")","v":""},{"$f":"IFERROR(VLOOKUP(AB159,'P2'!$B$4:$J$48,9,FALSE),\"\")","v":""},{"$f":"IFERROR(VLOOKUP(AC159,'P2'!$B$4:$J$48,9,FALSE),\"\")","v":""},{"$f":"IFERROR(VLOOKUP(AD159,'P2'!$B$4:$J$48,9,FALSE),\"\")","v":""},{"$f":"IFERROR(VLOOKUP(AE159,'P2'!$B$4:$J$48,9,FALSE),\"\")","v":""},{"$f":"IFERROR(VLOOKUP(AF159,'P2'!$B$4:$J$48,9,FALSE),\"\")","v":""},{"$f":"IFERROR(VLOOKUP(AG159,'P2'!$B$4:$J$48,9,FALSE),\"\")","v":""},{"$f":"IFERROR(VLOOKUP(AH159,'P2'!$B$4:$J$48,9,FALSE),\"\")","v":""},{"$f":"IFERROR(VLOOKUP(AI159,'P2'!$B$4:$J$48,9,FALSE),\"\")","v":""},{"$f":"IFERROR(VLOOKUP(AJ159,'P2'!$B$4:$J$48,9,FALSE),\"\")","v":""},{"$f":"IFERROR(VLOOKUP(AK159,'P2'!$B$4:$J$48,9,FALSE),\"\")","v":""},{"$f":"IFERROR(VLOOKUP(AL159,'P2'!$B$4:$J$48,9,FALSE),\"\")","v":""},{"$f":"IFERROR(VLOOKUP(AM159,'P2'!$B$4:$J$48,9,FALSE),\"\")","v":""},{"$f":"IFERROR(VLOOKUP(AN159,'P2'!$B$4:$J$48,9,FALSE),\"\")","v":""},{"$f":"IFERROR(VLOOKUP(AO159,'P2'!$B$4:$J$48,9,FALSE),\"\")","v":""},{"$f":"IFERROR(VLOOKUP(AP159,'P2'!$B$4:$J$48,9,FALSE),\"\")","v":""},{"$f":"IFERROR(VLOOKUP(AQ159,'P2'!$B$4:$J$48,9,FALSE),\"\")","v":""},{"$f":"IFERROR(VLOOKUP(AR159,'P2'!$B$4:$J$48,9,FALSE),\"\")","v":""},{"$f":"IFERROR(VLOOKUP(AS159,'P2'!$B$4:$J$48,9,FALSE),\"\")","v":""},{"$f":"IFERROR(VLOOKUP(AT159,'P2'!$B$4:$J$48,9,FALSE),\"\")","v":""},{"$f":"IFERROR(VLOOKUP(AU159,'P2'!$B$4:$J$48,9,FALSE),\"\")","v":""},{"$f":"SUM(Q160:AU160)","v":0}]
[null,66,null,null,null,null,null,null,null,null,null,null,null,null,null,null,null,null,null,null,null,null,null,null,null,null,null,null,null,null,null,null,null,null,null,null,null,null,null,null,null,null,null,null,null,null,null,{"$f":"COUNTA(Q161:AU161)","v":0},{"$f":"AV162","v":0},{"$f":"IFERROR(ROUNDDOWN(AV162/$AT$3,1),\"\")","v":""}]
[null,null,null,null,null,null,null,null,null,null,null,null,null,null,null,null,{"$f":"IFERROR(VLOOKUP(Q161,'P2'!$B$4:$J$48,9,FALSE),\"\")","v":""},{"$f":"IFERROR(VLOOKUP(R161,'P2'!$B$4:$J$48,9,FALSE),\"\")","v":""},{"$f":"IFERROR(VLOOKUP(S161,'P2'!$B$4:$J$48,9,FALSE),\"\")","v":""},{"$f":"IFERROR(VLOOKUP(T161,'P2'!$B$4:$J$48,9,FALSE),\"\")","v":""},{"$f":"IFERROR(VLOOKUP(U161,'P2'!$B$4:$J$48,9,FALSE),\"\")","v":""},{"$f":"IFERROR(VLOOKUP(V161,'P2'!$B$4:$J$48,9,FALSE),\"\")","v":""},{"$f":"IFERROR(VLOOKUP(W161,'P2'!$B$4:$J$48,9,FALSE),\"\")","v":""},{"$f":"IFERROR(VLOOKUP(X161,'P2'!$B$4:$J$48,9,FALSE),\"\")","v":""},{"$f":"IFERROR(VLOOKUP(Y161,'P2'!$B$4:$J$48,9,FALSE),\"\")","v":""},{"$f":"IFERROR(VLOOKUP(Z161,'P2'!$B$4:$J$48,9,FALSE),\"\")","v":""},{"$f":"IFERROR(VLOOKUP(AA161,'P2'!$B$4:$J$48,9,FALSE),\"\")","v":""},{"$f":"IFERROR(VLOOKUP(AB161,'P2'!$B$4:$J$48,9,FALSE),\"\")","v":""},{"$f":"IFERROR(VLOOKUP(AC161,'P2'!$B$4:$J$48,9,FALSE),\"\")","v":""},{"$f":"IFERROR(VLOOKUP(AD161,'P2'!$B$4:$J$48,9,FALSE),\"\")","v":""},{"$f":"IFERROR(VLOOKUP(AE161,'P2'!$B$4:$J$48,9,FALSE),\"\")","v":""},{"$f":"IFERROR(VLOOKUP(AF161,'P2'!$B$4:$J$48,9,FALSE),\"\")","v":""},{"$f":"IFERROR(VLOOKUP(AG161,'P2'!$B$4:$J$48,9,FALSE),\"\")","v":""},{"$f":"IFERROR(VLOOKUP(AH161,'P2'!$B$4:$J$48,9,FALSE),\"\")","v":""},{"$f":"IFERROR(VLOOKUP(AI161,'P2'!$B$4:$J$48,9,FALSE),\"\")","v":""},{"$f":"IFERROR(VLOOKUP(AJ161,'P2'!$B$4:$J$48,9,FALSE),\"\")","v":""},{"$f":"IFERROR(VLOOKUP(AK161,'P2'!$B$4:$J$48,9,FALSE),\"\")","v":""},{"$f":"IFERROR(VLOOKUP(AL161,'P2'!$B$4:$J$48,9,FALSE),\"\")","v":""},{"$f":"IFERROR(VLOOKUP(AM161,'P2'!$B$4:$J$48,9,FALSE),\"\")","v":""},{"$f":"IFERROR(VLOOKUP(AN161,'P2'!$B$4:$J$48,9,FALSE),\"\")","v":""},{"$f":"IFERROR(VLOOKUP(AO161,'P2'!$B$4:$J$48,9,FALSE),\"\")","v":""},{"$f":"IFERROR(VLOOKUP(AP161,'P2'!$B$4:$J$48,9,FALSE),\"\")","v":""},{"$f":"IFERROR(VLOOKUP(AQ161,'P2'!$B$4:$J$48,9,FALSE),\"\")","v":""},{"$f":"IFERROR(VLOOKUP(AR161,'P2'!$B$4:$J$48,9,FALSE),\"\")","v":""},{"$f":"IFERROR(VLOOKUP(AS161,'P2'!$B$4:$J$48,9,FALSE),\"\")","v":""},{"$f":"IFERROR(VLOOKUP(AT161,'P2'!$B$4:$J$48,9,FALSE),\"\")","v":""},{"$f":"IFERROR(VLOOKUP(AU161,'P2'!$B$4:$J$48,9,FALSE),\"\")","v":""},{"$f":"SUM(Q162:AU162)","v":0}]
[null,67,null,null,null,null,null,null,null,null,null,null,null,null,null,null,null,null,null,null,null,null,null,null,null,null,null,null,null,null,null,null,null,null,null,null,null,null,null,null,null,null,null,null,null,null,null,{"$f":"COUNTA(Q163:AU163)","v":0},{"$f":"AV164","v":0},{"$f":"IFERROR(ROUNDDOWN(AV164/$AT$3,1),\"\")","v":""}]
[null,null,null,null,null,null,null,null,null,null,null,null,null,null,null,null,{"$f":"IFERROR(VLOOKUP(Q163,'P2'!$B$4:$J$48,9,FALSE),\"\")","v":""},{"$f":"IFERROR(VLOOKUP(R163,'P2'!$B$4:$J$48,9,FALSE),\"\")","v":""},{"$f":"IFERROR(VLOOKUP(S163,'P2'!$B$4:$J$48,9,FALSE),\"\")","v":""},{"$f":"IFERROR(VLOOKUP(T163,'P2'!$B$4:$J$48,9,FALSE),\"\")","v":""},{"$f":"IFERROR(VLOOKUP(U163,'P2'!$B$4:$J$48,9,FALSE),\"\")","v":""},{"$f":"IFERROR(VLOOKUP(V163,'P2'!$B$4:$J$48,9,FALSE),\"\")","v":""},{"$f":"IFERROR(VLOOKUP(W163,'P2'!$B$4:$J$48,9,FALSE),\"\")","v":""},{"$f":"IFERROR(VLOOKUP(X163,'P2'!$B$4:$J$48,9,FALSE),\"\")","v":""},{"$f":"IFERROR(VLOOKUP(Y163,'P2'!$B$4:$J$48,9,FALSE),\"\")","v":""},{"$f":"IFERROR(VLOOKUP(Z163,'P2'!$B$4:$J$48,9,FALSE),\"\")","v":""},{"$f":"IFERROR(VLOOKUP(AA163,'P2'!$B$4:$J$48,9,FALSE),\"\")","v":""},{"$f":"IFERROR(VLOOKUP(AB163,'P2'!$B$4:$J$48,9,FALSE),\"\")","v":""},{"$f":"IFERROR(VLOOKUP(AC163,'P2'!$B$4:$J$48,9,FALSE),\"\")","v":""},{"$f":"IFERROR(VLOOKUP(AD163,'P2'!$B$4:$J$48,9,FALSE),\"\")","v":""},{"$f":"IFERROR(VLOOKUP(AE163,'P2'!$B$4:$J$48,9,FALSE),\"\")","v":""},{"$f":"IFERROR(VLOOKUP(AF163,'P2'!$B$4:$J$48,9,FALSE),\"\")","v":""},{"$f":"IFERROR(VLOOKUP(AG163,'P2'!$B$4:$J$48,9,FALSE),\"\")","v":""},{"$f":"IFERROR(VLOOKUP(AH163,'P2'!$B$4:$J$48,9,FALSE),\"\")","v":""},{"$f":"IFERROR(VLOOKUP(AI163,'P2'!$B$4:$J$48,9,FALSE),\"\")","v":""},{"$f":"IFERROR(VLOOKUP(AJ163,'P2'!$B$4:$J$48,9,FALSE),\"\")","v":""},{"$f":"IFERROR(VLOOKUP(AK163,'P2'!$B$4:$J$48,9,FALSE),\"\")","v":""},{"$f":"IFERROR(VLOOKUP(AL163,'P2'!$B$4:$J$48,9,FALSE),\"\")","v":""},{"$f":"IFERROR(VLOOKUP(AM163,'P2'!$B$4:$J$48,9,FALSE),\"\")","v":""},{"$f":"IFERROR(VLOOKUP(AN163,'P2'!$B$4:$J$48,9,FALSE),\"\")","v":""},{"$f":"IFERROR(VLOOKUP(AO163,'P2'!$B$4:$J$48,9,FALSE),\"\")","v":""},{"$f":"IFERROR(VLOOKUP(AP163,'P2'!$B$4:$J$48,9,FALSE),\"\")","v":""},{"$f":"IFERROR(VLOOKUP(AQ163,'P2'!$B$4:$J$48,9,FALSE),\"\")","v":""},{"$f":"IFERROR(VLOOKUP(AR163,'P2'!$B$4:$J$48,9,FALSE),\"\")","v":""},{"$f":"IFERROR(VLOOKUP(AS163,'P2'!$B$4:$J$48,9,FALSE),\"\")","v":""},{"$f":"IFERROR(VLOOKUP(AT163,'P2'!$B$4:$J$48,9,FALSE),\"\")","v":""},{"$f":"IFERROR(VLOOKUP(AU163,'P2'!$B$4:$J$48,9,FALSE),\"\")","v":""},{"$f":"SUM(Q164:AU164)","v":0}]
[null,68,null,null,null,null,null,null,null,null,null,null,null,null,null,null,null,null,null,null,null,null,null,null,null,null,null,null,null,null,null,null,null,null,null,null,null,null,null,null,null,null,null,null,null,null,null,{"$f":"COUNTA(Q165:AU165)","v":0},{"$f":"AV166","v":0},{"$f":"IFERROR(ROUNDDOWN(AV166/$AT$3,1),\"\")","v":""}]
[null,null,null,null,null,null,null,null,null,null,null,null,null,null,null,null,{"$f":"IFERROR(VLOOKUP(Q165,'P2'!$B$4:$J$48,9,FALSE),\"\")","v":""},{"$f":"IFERROR(VLOOKUP(R165,'P2'!$B$4:$J$48,9,FALSE),\"\")","v":""},{"$f":"IFERROR(VLOOKUP(S165,'P2'!$B$4:$J$48,9,FALSE),\"\")","v":""},{"$f":"IFERROR(VLOOKUP(T165,'P2'!$B$4:$J$48,9,FALSE),\"\")","v":""},{"$f":"IFERROR(VLOOKUP(U165,'P2'!$B$4:$J$48,9,FALSE),\"\")","v":""},{"$f":"IFERROR(VLOOKUP(V165,'P2'!$B$4:$J$48,9,FALSE),\"\")","v":""},{"$f":"IFERROR(VLOOKUP(W165,'P2'!$B$4:$J$48,9,FALSE),\"\")","v":""},{"$f":"IFERROR(VLOOKUP(X165,'P2'!$B$4:$J$48,9,FALSE),\"\")","v":""},{"$f":"IFERROR(VLOOKUP(Y165,'P2'!$B$4:$J$48,9,FALSE),\"\")","v":""},{"$f":"IFERROR(VLOOKUP(Z165,'P2'!$B$4:$J$48,9,FALSE),\"\")","v":""},{"$f":"IFERROR(VLOOKUP(AA165,'P2'!$B$4:$J$48,9,FALSE),\"\")","v":""},{"$f":"IFERROR(VLOOKUP(AB165,'P2'!$B$4:$J$48,9,FALSE),\"\")","v":""},{"$f":"IFERROR(VLOOKUP(AC165,'P2'!$B$4:$J$48,9,FALSE),\"\")","v":""},{"$f":"IFERROR(VLOOKUP(AD165,'P2'!$B$4:$J$48,9,FALSE),\"\")","v":""},{"$f":"IFERROR(VLOOKUP(AE165,'P2'!$B$4:$J$48,9,FALSE),\"\")","v":""},{"$f":"IFERROR(VLOOKUP(AF165,'P2'!$B$4:$J$48,9,FALSE),\"\")","v":""},{"$f":"IFERROR(VLOOKUP(AG165,'P2'!$B$4:$J$48,9,FALSE),\"\")","v":""},{"$f":"IFERROR(VLOOKUP(AH165,'P2'!$B$4:$J$48,9,FALSE),\"\")","v":""},{"$f":"IFERROR(VLOOKUP(AI165,'P2'!$B$4:$J$48,9,FALSE),\"\")","v":""},{"$f":"IFERROR(VLOOKUP(AJ165,'P2'!$B$4:$J$48,9,FALSE),\"\")","v":""},{"$f":"IFERROR(VLOOKUP(AK165,'P2'!$B$4:$J$48,9,FALSE),\"\")","v":""},{"$f":"IFERROR(VLOOKUP(AL165,'P2'!$B$4:$J$48,9,FALSE),\"\")","v":""},{"$f":"IFERROR(VLOOKUP(AM165,'P2'!$B$4:$J$48,9,FALSE),\"\")","v":""},{"$f":"IFERROR(VLOOKUP(AN165,'P2'!$B$4:$J$48,9,FALSE),\"\")","v":""},{"$f":"IFERROR(VLOOKUP(AO165,'P2'!$B$4:$J$48,9,FALSE),\"\")","v":""},{"$f":"IFERROR(VLOOKUP(AP165,'P2'!$B$4:$J$48,9,FALSE),\"\")","v":""},{"$f":"IFERROR(VLOOKUP(AQ165,'P2'!$B$4:$J$48,9,FALSE),\"\")","v":""},{"$f":"IFERROR(VLOOKUP(AR165,'P2'!$B$4:$J$48,9,FALSE),\"\")","v":""},{"$f":"IFERROR(VLOOKUP(AS165,'P2'!$B$4:$J$48,9,FALSE),\"\")","v":""},{"$f":"IFERROR(VLOOKUP(AT165,'P2'!$B$4:$J$48,9,FALSE),\"\")","v":""},{"$f":"IFERROR(VLOOKUP(AU165,'P2'!$B$4:$J$48,9,FALSE),\"\")","v":""},{"$f":"SUM(Q166:AU166)","v":0}]
[null,69,null,null,null,null,null,null,null,null,null,null,null,null,null,null,null,null,null,null,null,null,null,null,null,null,null,null,null,null,null,null,null,null,null,null,null,null,null,null,null,null,null,null,null,null,null,{"$f":"COUNTA(Q167:AU167)","v":0},{"$f":"AV168","v":0},{"$f":"IFERROR(ROUNDDOWN(AV168/$AT$3,1),\"\")","v":""}]
[null,null,null,null,null,null,null,null,null,null,null,null,null,null,null,null,{"$f":"IFERROR(VLOOKUP(Q167,'P2'!$B$4:$J$48,9,FALSE),\"\")","v":""},{"$f":"IFERROR(VLOOKUP(R167,'P2'!$B$4:$J$48,9,FALSE),\"\")","v":""},{"$f":"IFERROR(VLOOKUP(S167,'P2'!$B$4:$J$48,9,FALSE),\"\")","v":""},{"$f":"IFERROR(VLOOKUP(T167,'P2'!$B$4:$J$48,9,FALSE),\"\")","v":""},{"$f":"IFERROR(VLOOKUP(U167,'P2'!$B$4:$J$48,9,FALSE),\"\")","v":""},{"$f":"IFERROR(VLOOKUP(V167,'P2'!$B$4:$J$48,9,FALSE),\"\")","v":""},{"$f":"IFERROR(VLOOKUP(W167,'P2'!$B$4:$J$48,9,FALSE),\"\")","v":""},{"$f":"IFERROR(VLOOKUP(X167,'P2'!$B$4:$J$48,9,FALSE),\"\")","v":""},{"$f":"IFERROR(VLOOKUP(Y167,'P2'!$B$4:$J$48,9,FALSE),\"\")","v":""},{"$f":"IFERROR(VLOOKUP(Z167,'P2'!$B$4:$J$48,9,FALSE),\"\")","v":""},{"$f":"IFERROR(VLOOKUP(AA167,'P2'!$B$4:$J$48,9,FALSE),\"\")","v":""},{"$f":"IFERROR(VLOOKUP(AB167,'P2'!$B$4:$J$48,9,FALSE),\"\")","v":""},{"$f":"IFERROR(VLOOKUP(AC167,'P2'!$B$4:$J$48,9,FALSE),\"\")","v":""},{"$f":"IFERROR(VLOOKUP(AD167,'P2'!$B$4:$J$48,9,FALSE),\"\")","v":""},{"$f":"IFERROR(VLOOKUP(AE167,'P2'!$B$4:$J$48,9,FALSE),\"\")","v":""},{"$f":"IFERROR(VLOOKUP(AF167,'P2'!$B$4:$J$48,9,FALSE),\"\")","v":""},{"$f":"IFERROR(VLOOKUP(AG167,'P2'!$B$4:$J$48,9,FALSE),\"\")","v":""},{"$f":"IFERROR(VLOOKUP(AH167,'P2'!$B$4:$J$48,9,FALSE),\"\")","v":""},{"$f":"IFERROR(VLOOKUP(AI167,'P2'!$B$4:$J$48,9,FALSE),\"\")","v":""},{"$f":"IFERROR(VLOOKUP(AJ167,'P2'!$B$4:$J$48,9,FALSE),\"\")","v":""},{"$f":"IFERROR(VLOOKUP(AK167,'P2'!$B$4:$J$48,9,FALSE),\"\")","v":""},{"$f":"IFERROR(VLOOKUP(AL167,'P2'!$B$4:$J$48,9,FALSE),\"\")","v":""},{"$f":"IFERROR(VLOOKUP(AM167,'P2'!$B$4:$J$48,9,FALSE),\"\")","v":""},{"$f":"IFERROR(VLOOKUP(AN167,'P2'!$B$4:$J$48,9,FALSE),\"\")","v":""},{"$f":"IFERROR(VLOOKUP(AO167,'P2'!$B$4:$J$48,9,FALSE),\"\")","v":""},{"$f":"IFERROR(VLOOKUP(AP167,'P2'!$B$4:$J$48,9,FALSE),\"\")","v":""},{"$f":"IFERROR(VLOOKUP(AQ167,'P2'!$B$4:$J$48,9,FALSE),\"\")","v":""},{"$f":"IFERROR(VLOOKUP(AR167,'P2'!$B$4:$J$48,9,FALSE),\"\")","v":""},{"$f":"IFERROR(VLOOKUP(AS167,'P2'!$B$4:$J$48,9,FALSE),\"\")","v":""},{"$f":"IFERROR(VLOOKUP(AT167,'P2'!$B$4:$J$48,9,FALSE),\"\")","v":""},{"$f":"IFERROR(VLOOKUP(AU167,'P2'!$B$4:$J$48,9,FALSE),\"\")","v":""},{"$f":"SUM(Q168:AU168)","v":0}]
[null,70,null,null,null,null,null,null,null,null,null,null,null,null,null,null,null,null,null,null,null,null,null,null,null,null,null,null,null,null,null,null,null,null,null,null,null,null,null,null,null,null,null,null,null,null,null,{"$f":"COUNTA(Q169:AU169)","v":0},{"$f":"AV170","v":0},{"$f":"IFERROR(ROUNDDOWN(AV170/$AT$3,1),\"\")","v":""}]
[null,null,null,null,null,null,null,null,null,null,null,null,null,null,null,null,{"$f":"IFERROR(VLOOKUP(Q169,'P2'!$B$4:$J$48,9,FALSE),\"\")","v":""},{"$f":"IFERROR(VLOOKUP(R169,'P2'!$B$4:$J$48,9,FALSE),\"\")","v":""},{"$f":"IFERROR(VLOOKUP(S169,'P2'!$B$4:$J$48,9,FALSE),\"\")","v":""},{"$f":"IFERROR(VLOOKUP(T169,'P2'!$B$4:$J$48,9,FALSE),\"\")","v":""},{"$f":"IFERROR(VLOOKUP(U169,'P2'!$B$4:$J$48,9,FALSE),\"\")","v":""},{"$f":"IFERROR(VLOOKUP(V169,'P2'!$B$4:$J$48,9,FALSE),\"\")","v":""},{"$f":"IFERROR(VLOOKUP(W169,'P2'!$B$4:$J$48,9,FALSE),\"\")","v":""},{"$f":"IFERROR(VLOOKUP(X169,'P2'!$B$4:$J$48,9,FALSE),\"\")","v":""},{"$f":"IFERROR(VLOOKUP(Y169,'P2'!$B$4:$J$48,9,FALSE),\"\")","v":""},{"$f":"IFERROR(VLOOKUP(Z169,'P2'!$B$4:$J$48,9,FALSE),\"\")","v":""},{"$f":"IFERROR(VLOOKUP(AA169,'P2'!$B$4:$J$48,9,FALSE),\"\")","v":""},{"$f":"IFERROR(VLOOKUP(AB169,'P2'!$B$4:$J$48,9,FALSE),\"\")","v":""},{"$f":"IFERROR(VLOOKUP(AC169,'P2'!$B$4:$J$48,9,FALSE),\"\")","v":""},{"$f":"IFERROR(VLOOKUP(AD169,'P2'!$B$4:$J$48,9,FALSE),\"\")","v":""},{"$f":"IFERROR(VLOOKUP(AE169,'P2'!$B$4:$J$48,9,FALSE),\"\")","v":""},{"$f":"IFERROR(VLOOKUP(AF169,'P2'!$B$4:$J$48,9,FALSE),\"\")","v":""},{"$f":"IFERROR(VLOOKUP(AG169,'P2'!$B$4:$J$48,9,FALSE),\"\")","v":""},{"$f":"IFERROR(VLOOKUP(AH169,'P2'!$B$4:$J$48,9,FALSE),\"\")","v":""},{"$f":"IFERROR(VLOOKUP(AI169,'P2'!$B$4:$J$48,9,FALSE),\"\")","v":""},{"$f":"IFERROR(VLOOKUP(AJ169,'P2'!$B$4:$J$48,9,FALSE),\"\")","v":""},{"$f":"IFERROR(VLOOKUP(AK169,'P2'!$B$4:$J$48,9,FALSE),\"\")","v":""},{"$f":"IFERROR(VLOOKUP(AL169,'P2'!$B$4:$J$48,9,FALSE),\"\")","v":""},{"$f":"IFERROR(VLOOKUP(AM169,'P2'!$B$4:$J$48,9,FALSE),\"\")","v":""},{"$f":"IFERROR(VLOOKUP(AN169,'P2'!$B$4:$J$48,9,FALSE),\"\")","v":""},{"$f":"IFERROR(VLOOKUP(AO169,'P2'!$B$4:$J$48,9,FALSE),\"\")","v":""},{"$f":"IFERROR(VLOOKUP(AP169,'P2'!$B$4:$J$48,9,FALSE),\"\")","v":""},{"$f":"IFERROR(VLOOKUP(AQ169,'P2'!$B$4:$J$48,9,FALSE),\"\")","v":""},{"$f":"IFERROR(VLOOKUP(AR169,'P2'!$B$4:$J$48,9,FALSE),\"\")","v":""},{"$f":"IFERROR(VLOOKUP(AS169,'P2'!$B$4:$J$48,9,FALSE),\"\")","v":""},{"$f":"IFERROR(VLOOKUP(AT169,'P2'!$B$4:$J$48,9,FALSE),\"\")","v":""},{"$f":"IFERROR(VLOOKUP(AU169,'P2'!$B$4:$J$48,9,FALSE),\"\")","v":""},{"$f":"SUM(Q170:AU170)","v":0}]
[null,71,null,null,null,null,null,null,null,null,null,null,null,null,null,null,null,null,null,null,null,null,null,null,null,null,null,null,null,null,null,null,null,null,null,null,null,null,null,null,null,null,null,null,null,null,null,{"$f":"COUNTA(Q171:AU171)","v":0},{"$f":"AV172","v":0},{"$f":"IFERROR(ROUNDDOWN(AV172/$AT$3,1),\"\")","v":""}]
[null,null,null,null,null,null,null,null,null,null,null,null,null,null,null,null,{"$f":"IFERROR(VLOOKUP(Q171,'P2'!$B$4:$J$48,9,FALSE),\"\")","v":""},{"$f":"IFERROR(VLOOKUP(R171,'P2'!$B$4:$J$48,9,FALSE),\"\")","v":""},{"$f":"IFERROR(VLOOKUP(S171,'P2'!$B$4:$J$48,9,FALSE),\"\")","v":""},{"$f":"IFERROR(VLOOKUP(T171,'P2'!$B$4:$J$48,9,FALSE),\"\")","v":""},{"$f":"IFERROR(VLOOKUP(U171,'P2'!$B$4:$J$48,9,FALSE),\"\")","v":""},{"$f":"IFERROR(VLOOKUP(V171,'P2'!$B$4:$J$48,9,FALSE),\"\")","v":""},{"$f":"IFERROR(VLOOKUP(W171,'P2'!$B$4:$J$48,9,FALSE),\"\")","v":""},{"$f":"IFERROR(VLOOKUP(X171,'P2'!$B$4:$J$48,9,FALSE),\"\")","v":""},{"$f":"IFERROR(VLOOKUP(Y171,'P2'!$B$4:$J$48,9,FALSE),\"\")","v":""},{"$f":"IFERROR(VLOOKUP(Z171,'P2'!$B$4:$J$48,9,FALSE),\"\")","v":""},{"$f":"IFERROR(VLOOKUP(AA171,'P2'!$B$4:$J$48,9,FALSE),\"\")","v":""},{"$f":"IFERROR(VLOOKUP(AB171,'P2'!$B$4:$J$48,9,FALSE),\"\")","v":""},{"$f":"IFERROR(VLOOKUP(AC171,'P2'!$B$4:$J$48,9,FALSE),\"\")","v":""},{"$f":"IFERROR(VLOOKUP(AD171,'P2'!$B$4:$J$48,9,FALSE),\"\")","v":""},{"$f":"IFERROR(VLOOKUP(AE171,'P2'!$B$4:$J$48,9,FALSE),\"\")","v":""},{"$f":"IFERROR(VLOOKUP(AF171,'P2'!$B$4:$J$48,9,FALSE),\"\")","v":""},{"$f":"IFERROR(VLOOKUP(AG171,'P2'!$B$4:$J$48,9,FALSE),\"\")","v":""},{"$f":"IFERROR(VLOOKUP(AH171,'P2'!$B$4:$J$48,9,FALSE),\"\")","v":""},{"$f":"IFERROR(VLOOKUP(AI171,'P2'!$B$4:$J$48,9,FALSE),\"\")","v":""},{"$f":"IFERROR(VLOOKUP(AJ171,'P2'!$B$4:$J$48,9,FALSE),\"\")","v":""},{"$f":"IFERROR(VLOOKUP(AK171,'P2'!$B$4:$J$48,9,FALSE),\"\")","v":""},{"$f":"IFERROR(VLOOKUP(AL171,'P2'!$B$4:$J$48,9,FALSE),\"\")","v":""},{"$f":"IFERROR(VLOOKUP(AM171,'P2'!$B$4:$J$48,9,FALSE),\"\")","v":""},{"$f":"IFERROR(VLOOKUP(AN171,'P2'!$B$4:$J$48,9,FALSE),\"\")","v":""},{"$f":"IFERROR(VLOOKUP(AO171,'P2'!$B$4:$J$48,9,FALSE),\"\")","v":""},{"$f":"IFERROR(VLOOKUP(AP171,'P2'!$B$4:$J$48,9,FALSE),\"\")","v":""},{"$f":"IFERROR(VLOOKUP(AQ171,'P2'!$B$4:$J$48,9,FALSE),\"\")","v":""},{"$f":"IFERROR(VLOOKUP(AR171,'P2'!$B$4:$J$48,9,FALSE),\"\")","v":""},{"$f":"IFERROR(VLOOKUP(AS171,'P2'!$B$4:$J$48,9,FALSE),\"\")","v":""},{"$f":"IFERROR(VLOOKUP(AT171,'P2'!$B$4:$J$48,9,FALSE),\"\")","v":""},{"$f":"IFERROR(VLOOKUP(AU171,'P2'!$B$4:$J$48,9,FALSE),\"\")","v":""},{"$f":"SUM(Q172:AU172)","v":0}]
[null,72,null,null,null,null,null,null,null,null,null,null,null,null,null,null,null,null,null,null,null,null,null,null,null,null,null,null,null,null,null,null,null,null,null,null,null,null,null,null,null,null,null,null,null,null,null,{"$f":"COUNTA(Q173:AU173)","v":0},{"$f":"AV174","v":0},{"$f":"IFERROR(ROUNDDOWN(AV174/$AT$3,1),\"\")","v":""}]
[null,null,null,null,null,null,null,null,null,null,null,null,null,null,null,null,{"$f":"IFERROR(VLOOKUP(Q173,'P2'!$B$4:$J$48,9,FALSE),\"\")","v":""},{"$f":"IFERROR(VLOOKUP(R173,'P2'!$B$4:$J$48,9,FALSE),\"\")","v":""},{"$f":"IFERROR(VLOOKUP(S173,'P2'!$B$4:$J$48,9,FALSE),\"\")","v":""},{"$f":"IFERROR(VLOOKUP(T173,'P2'!$B$4:$J$48,9,FALSE),\"\")","v":""},{"$f":"IFERROR(VLOOKUP(U173,'P2'!$B$4:$J$48,9,FALSE),\"\")","v":""},{"$f":"IFERROR(VLOOKUP(V173,'P2'!$B$4:$J$48,9,FALSE),\"\")","v":""},{"$f":"IFERROR(VLOOKUP(W173,'P2'!$B$4:$J$48,9,FALSE),\"\")","v":""},{"$f":"IFERROR(VLOOKUP(X173,'P2'!$B$4:$J$48,9,FALSE),\"\")","v":""},{"$f":"IFERROR(VLOOKUP(Y173,'P2'!$B$4:$J$48,9,FALSE),\"\")","v":""},{"$f":"IFERROR(VLOOKUP(Z173,'P2'!$B$4:$J$48,9,FALSE),\"\")","v":""},{"$f":"IFERROR(VLOOKUP(AA173,'P2'!$B$4:$J$48,9,FALSE),\"\")","v":""},{"$f":"IFERROR(VLOOKUP(AB173,'P2'!$B$4:$J$48,9,FALSE),\"\")","v":""},{"$f":"IFERROR(VLOOKUP(AC173,'P2'!$B$4:$J$48,9,FALSE),\"\")","v":""},{"$f":"IFERROR(VLOOKUP(AD173,'P2'!$B$4:$J$48,9,FALSE),\"\")","v":""},{"$f":"IFERROR(VLOOKUP(AE173,'P2'!$B$4:$J$48,9,FALSE),\"\")","v":""},{"$f":"IFERROR(VLOOKUP(AF173,'P2'!$B$4:$J$48,9,FALSE),\"\")","v":""},{"$f":"IFERROR(VLOOKUP(AG173,'P2'!$B$4:$J$48,9,FALSE),\"\")","v":""},{"$f":"IFERROR(VLOOKUP(AH173,'P2'!$B$4:$J$48,9,FALSE),\"\")","v":""},{"$f":"IFERROR(VLOOKUP(AI173,'P2'!$B$4:$J$48,9,FALSE),\"\")","v":""},{"$f":"IFERROR(VLOOKUP(AJ173,'P2'!$B$4:$J$48,9,FALSE),\"\")","v":""},{"$f":"IFERROR(VLOOKUP(AK173,'P2'!$B$4:$J$48,9,FALSE),\"\")","v":""},{"$f":"IFERROR(VLOOKUP(AL173,'P2'!$B$4:$J$48,9,FALSE),\"\")","v":""},{"$f":"IFERROR(VLOOKUP(AM173,'P2'!$B$4:$J$48,9,FALSE),\"\")","v":""},{"$f":"IFERROR(VLOOKUP(AN173,'P2'!$B$4:$J$48,9,FALSE),\"\")","v":""},{"$f":"IFERROR(VLOOKUP(AO173,'P2'!$B$4:$J$48,9,FALSE),\"\")","v":""},{"$f":"IFERROR(VLOOKUP(AP173,'P2'!$B$4:$J$48,9,FALSE),\"\")","v":""},{"$f":"IFERROR(VLOOKUP(AQ173,'P2'!$B$4:$J$48,9,FALSE),\"\")","v":""},{"$f":"IFERROR(VLOOKUP(AR173,'P2'!$B$4:$J$48,9,FALSE),\"\")","v":""},{"$f":"IFERROR(VLOOKUP(AS173,'P2'!$B$4:$J$48,9,FALSE),\"\")","v":""},{"$f":"IFERROR(VLOOKUP(AT173,'P2'!$B$4:$J$48,9,FALSE),\"\")","v":""},{"$f":"IFERROR(VLOOKUP(AU173,'P2'!$B$4:$J$48,9,FALSE),\"\")","v":""},{"$f":"SUM(Q174:AU174)","v":0}]
[null,73,null,null,null,null,null,null,null,null,null,null,null,null,null,null,null,null,null,null,null,null,null,null,null,null,null,null,null,null,null,null,null,null,null,null,null,null,null,null,null,null,null,null,null,null,null,{"$f":"COUNTA(Q175:AU175)","v":0},{"$f":"AV176","v":0},{"$f":"IFERROR(ROUNDDOWN(AV176/$AT$3,1),\"\")","v":""}]
[null,null,null,null,null,null,null,null,null,null,null,null,null,null,null,null,{"$f":"IFERROR(VLOOKUP(Q175,'P2'!$B$4:$J$48,9,FALSE),\"\")","v":""},{"$f":"IFERROR(VLOOKUP(R175,'P2'!$B$4:$J$48,9,FALSE),\"\")","v":""},{"$f":"IFERROR(VLOOKUP(S175,'P2'!$B$4:$J$48,9,FALSE),\"\")","v":""},{"$f":"IFERROR(VLOOKUP(T175,'P2'!$B$4:$J$48,9,FALSE),\"\")","v":""},{"$f":"IFERROR(VLOOKUP(U175,'P2'!$B$4:$J$48,9,FALSE),\"\")","v":""},{"$f":"IFERROR(VLOOKUP(V175,'P2'!$B$4:$J$48,9,FALSE),\"\")","v":""},{"$f":"IFERROR(VLOOKUP(W175,'P2'!$B$4:$J$48,9,FALSE),\"\")","v":""},{"$f":"IFERROR(VLOOKUP(X175,'P2'!$B$4:$J$48,9,FALSE),\"\")","v":""},{"$f":"IFERROR(VLOOKUP(Y175,'P2'!$B$4:$J$48,9,FALSE),\"\")","v":""},{"$f":"IFERROR(VLOOKUP(Z175,'P2'!$B$4:$J$48,9,FALSE),\"\")","v":""},{"$f":"IFERROR(VLOOKUP(AA175,'P2'!$B$4:$J$48,9,FALSE),\"\")","v":""},{"$f":"IFERROR(VLOOKUP(AB175,'P2'!$B$4:$J$48,9,FALSE),\"\")","v":""},{"$f":"IFERROR(VLOOKUP(AC175,'P2'!$B$4:$J$48,9,FALSE),\"\")","v":""},{"$f":"IFERROR(VLOOKUP(AD175,'P2'!$B$4:$J$48,9,FALSE),\"\")","v":""},{"$f":"IFERROR(VLOOKUP(AE175,'P2'!$B$4:$J$48,9,FALSE),\"\")","v":""},{"$f":"IFERROR(VLOOKUP(AF175,'P2'!$B$4:$J$48,9,FALSE),\"\")","v":""},{"$f":"IFERROR(VLOOKUP(AG175,'P2'!$B$4:$J$48,9,FALSE),\"\")","v":""},{"$f":"IFERROR(VLOOKUP(AH175,'P2'!$B$4:$J$48,9,FALSE),\"\")","v":""},{"$f":"IFERROR(VLOOKUP(AI175,'P2'!$B$4:$J$48,9,FALSE),\"\")","v":""},{"$f":"IFERROR(VLOOKUP(AJ175,'P2'!$B$4:$J$48,9,FALSE),\"\")","v":""},{"$f":"IFERROR(VLOOKUP(AK175,'P2'!$B$4:$J$48,9,FALSE),\"\")","v":""},{"$f":"IFERROR(VLOOKUP(AL175,'P2'!$B$4:$J$48,9,FALSE),\"\")","v":""},{"$f":"IFERROR(VLOOKUP(AM175,'P2'!$B$4:$J$48,9,FALSE),\"\")","v":""},{"$f":"IFERROR(VLOOKUP(AN175,'P2'!$B$4:$J$48,9,FALSE),\"\")","v":""},{"$f":"IFERROR(VLOOKUP(AO175,'P2'!$B$4:$J$48,9,FALSE),\"\")","v":""},{"$f":"IFERROR(VLOOKUP(AP175,'P2'!$B$4:$J$48,9,FALSE),\"\")","v":""},{"$f":"IFERROR(VLOOKUP(AQ175,'P2'!$B$4:$J$48,9,FALSE),\"\")","v":""},{"$f":"IFERROR(VLOOKUP(AR175,'P2'!$B$4:$J$48,9,FALSE),\"\")","v":""},{"$f":"IFERROR(VLOOKUP(AS175,'P2'!$B$4:$J$48,9,FALSE),\"\")","v":""},{"$f":"IFERROR(VLOOKUP(AT175,'P2'!$B$4:$J$48,9,FALSE),\"\")","v":""},{"$f":"IFERROR(VLOOKUP(AU175,'P2'!$B$4:$J$48,9,FALSE),\"\")","v":""},{"$f":"SUM(Q176:AU176)","v":0}]
[null,74,null,null,null,null,null,null,null,null,null,null,null,null,null,null,null,null,null,null,null,null,null,null,null,null,null,null,null,null,null,null,null,null,null,null,null,null,null,null,null,null,null,null,null,null,null,{"$f":"COUNTA(Q177:AU177)","v":0},{"$f":"AV178","v":0},{"$f":"IFERROR(ROUNDDOWN(AV178/$AT$3,1),\"\")","v":""}]
[null,null,null,null,null,null,null,null,null,null,null,null,null,null,null,null,{"$f":"IFERROR(VLOOKUP(Q177,'P2'!$B$4:$J$48,9,FALSE),\"\")","v":""},{"$f":"IFERROR(VLOOKUP(R177,'P2'!$B$4:$J$48,9,FALSE),\"\")","v":""},{"$f":"IFERROR(VLOOKUP(S177,'P2'!$B$4:$J$48,9,FALSE),\"\")","v":""},{"$f":"IFERROR(VLOOKUP(T177,'P2'!$B$4:$J$48,9,FALSE),\"\")","v":""},{"$f":"IFERROR(VLOOKUP(U177,'P2'!$B$4:$J$48,9,FALSE),\"\")","v":""},{"$f":"IFERROR(VLOOKUP(V177,'P2'!$B$4:$J$48,9,FALSE),\"\")","v":""},{"$f":"IFERROR(VLOOKUP(W177,'P2'!$B$4:$J$48,9,FALSE),\"\")","v":""},{"$f":"IFERROR(VLOOKUP(X177,'P2'!$B$4:$J$48,9,FALSE),\"\")","v":""},{"$f":"IFERROR(VLOOKUP(Y177,'P2'!$B$4:$J$48,9,FALSE),\"\")","v":""},{"$f":"IFERROR(VLOOKUP(Z177,'P2'!$B$4:$J$48,9,FALSE),\"\")","v":""},{"$f":"IFERROR(VLOOKUP(AA177,'P2'!$B$4:$J$48,9,FALSE),\"\")","v":""},{"$f":"IFERROR(VLOOKUP(AB177,'P2'!$B$4:$J$48,9,FALSE),\"\")","v":""},{"$f":"IFERROR(VLOOKUP(AC177,'P2'!$B$4:$J$48,9,FALSE),\"\")","v":""},{"$f":"IFERROR(VLOOKUP(AD177,'P2'!$B$4:$J$48,9,FALSE),\"\")","v":""},{"$f":"IFERROR(VLOOKUP(AE177,'P2'!$B$4:$J$48,9,FALSE),\"\")","v":""},{"$f":"IFERROR(VLOOKUP(AF177,'P2'!$B$4:$J$48,9,FALSE),\"\")","v":""},{"$f":"IFERROR(VLOOKUP(AG177,'P2'!$B$4:$J$48,9,FALSE),\"\")","v":""},{"$f":"IFERROR(VLOOKUP(AH177,'P2'!$B$4:$J$48,9,FALSE),\"\")","v":""},{"$f":"IFERROR(VLOOKUP(AI177,'P2'!$B$4:$J$48,9,FALSE),\"\")","v":""},{"$f":"IFERROR(VLOOKUP(AJ177,'P2'!$B$4:$J$48,9,FALSE),\"\")","v":""},{"$f":"IFERROR(VLOOKUP(AK177,'P2'!$B$4:$J$48,9,FALSE),\"\")","v":""},{"$f":"IFERROR(VLOOKUP(AL177,'P2'!$B$4:$J$48,9,FALSE),\"\")","v":""},{"$f":"IFERROR(VLOOKUP(AM177,'P2'!$B$4:$J$48,9,FALSE),\"\")","v":""},{"$f":"IFERROR(VLOOKUP(AN177,'P2'!$B$4:$J$48,9,FALSE),\"\")","v":""},{"$f":"IFERROR(VLOOKUP(AO177,'P2'!$B$4:$J$48,9,FALSE),\"\")","v":""},{"$f":"IFERROR(VLOOKUP(AP177,'P2'!$B$4:$J$48,9,FALSE),\"\")","v":""},{"$f":"IFERROR(VLOOKUP(AQ177,'P2'!$B$4:$J$48,9,FALSE),\"\")","v":""},{"$f":"IFERROR(VLOOKUP(AR177,'P2'!$B$4:$J$48,9,FALSE),\"\")","v":""},{"$f":"IFERROR(VLOOKUP(AS177,'P2'!$B$4:$J$48,9,FALSE),\"\")","v":""},{"$f":"IFERROR(VLOOKUP(AT177,'P2'!$B$4:$J$48,9,FALSE),\"\")","v":""},{"$f":"IFERROR(VLOOKUP(AU177,'P2'!$B$4:$J$48,9,FALSE),\"\")","v":""},{"$f":"SUM(Q178:AU178)","v":0}]
[null,75,null,null,null,null,null,null,null,null,null,null,null,null,null,null,null,null,null,null,null,null,null,null,null,null,null,null,null,null,null,null,null,null,null,null,null,null,null,null,null,null,null,null,null,null,null,{"$f":"COUNTA(Q179:AU179)","v":0},{"$f":"AV180","v":0},{"$f":"IFERROR(ROUNDDOWN(AV180/$AT$3,1),\"\")","v":""}]
[null,null,null,null,null,null,null,null,null,null,null,null,null,null,null,null,{"$f":"IFERROR(VLOOKUP(Q179,'P2'!$B$4:$J$48,9,FALSE),\"\")","v":""},{"$f":"IFERROR(VLOOKUP(R179,'P2'!$B$4:$J$48,9,FALSE),\"\")","v":""},{"$f":"IFERROR(VLOOKUP(S179,'P2'!$B$4:$J$48,9,FALSE),\"\")","v":""},{"$f":"IFERROR(VLOOKUP(T179,'P2'!$B$4:$J$48,9,FALSE),\"\")","v":""},{"$f":"IFERROR(VLOOKUP(U179,'P2'!$B$4:$J$48,9,FALSE),\"\")","v":""},{"$f":"IFERROR(VLOOKUP(V179,'P2'!$B$4:$J$48,9,FALSE),\"\")","v":""},{"$f":"IFERROR(VLOOKUP(W179,'P2'!$B$4:$J$48,9,FALSE),\"\")","v":""},{"$f":"IFERROR(VLOOKUP(X179,'P2'!$B$4:$J$48,9,FALSE),\"\")","v":""},{"$f":"IFERROR(VLOOKUP(Y179,'P2'!$B$4:$J$48,9,FALSE),\"\")","v":""},{"$f":"IFERROR(VLOOKUP(Z179,'P2'!$B$4:$J$48,9,FALSE),\"\")","v":""},{"$f":"IFERROR(VLOOKUP(AA179,'P2'!$B$4:$J$48,9,FALSE),\"\")","v":""},{"$f":"IFERROR(VLOOKUP(AB179,'P2'!$B$4:$J$48,9,FALSE),\"\")","v":""},{"$f":"IFERROR(VLOOKUP(AC179,'P2'!$B$4:$J$48,9,FALSE),\"\")","v":""},{"$f":"IFERROR(VLOOKUP(AD179,'P2'!$B$4:$J$48,9,FALSE),\"\")","v":""},{"$f":"IFERROR(VLOOKUP(AE179,'P2'!$B$4:$J$48,9,FALSE),\"\")","v":""},{"$f":"IFERROR(VLOOKUP(AF179,'P2'!$B$4:$J$48,9,FALSE),\"\")","v":""},{"$f":"IFERROR(VLOOKUP(AG179,'P2'!$B$4:$J$48,9,FALSE),\"\")","v":""},{"$f":"IFERROR(VLOOKUP(AH179,'P2'!$B$4:$J$48,9,FALSE),\"\")","v":""},{"$f":"IFERROR(VLOOKUP(AI179,'P2'!$B$4:$J$48,9,FALSE),\"\")","v":""},{"$f":"IFERROR(VLOOKUP(AJ179,'P2'!$B$4:$J$48,9,FALSE),\"\")","v":""},{"$f":"IFERROR(VLOOKUP(AK179,'P2'!$B$4:$J$48,9,FALSE),\"\")","v":""},{"$f":"IFERROR(VLOOKUP(AL179,'P2'!$B$4:$J$48,9,FALSE),\"\")","v":""},{"$f":"IFERROR(VLOOKUP(AM179,'P2'!$B$4:$J$48,9,FALSE),\"\")","v":""},{"$f":"IFERROR(VLOOKUP(AN179,'P2'!$B$4:$J$48,9,FALSE),\"\")","v":""},{"$f":"IFERROR(VLOOKUP(AO179,'P2'!$B$4:$J$48,9,FALSE),\"\")","v":""},{"$f":"IFERROR(VLOOKUP(AP179,'P2'!$B$4:$J$48,9,FALSE),\"\")","v":""},{"$f":"IFERROR(VLOOKUP(AQ179,'P2'!$B$4:$J$48,9,FALSE),\"\")","v":""},{"$f":"IFERROR(VLOOKUP(AR179,'P2'!$B$4:$J$48,9,FALSE),\"\")","v":""},{"$f":"IFERROR(VLOOKUP(AS179,'P2'!$B$4:$J$48,9,FALSE),\"\")","v":""},{"$f":"IFERROR(VLOOKUP(AT179,'P2'!$B$4:$J$48,9,FALSE),\"\")","v":""},{"$f":"IFERROR(VLOOKUP(AU179,'P2'!$B$4:$J$48,9,FALSE),\"\")","v":""},{"$f":"SUM(Q180:AU180)","v":0}]
[null,76,null,null,null,null,null,null,null,null,null,null,null,null,null,null,null,null,null,null,null,null,null,null,null,null,null,null,null,null,null,null,null,null,null,null,null,null,null,null,null,null,null,null,null,null,null,{"$f":"COUNTA(Q181:AU181)","v":0},{"$f":"AV182","v":0},{"$f":"IFERROR(ROUNDDOWN(AV182/$AT$3,1),\"\")","v":""}]
[null,null,null,null,null,null,null,null,null,null,null,null,null,null,null,null,{"$f":"IFERROR(VLOOKUP(Q181,'P2'!$B$4:$J$48,9,FALSE),\"\")","v":""},{"$f":"IFERROR(VLOOKUP(R181,'P2'!$B$4:$J$48,9,FALSE),\"\")","v":""},{"$f":"IFERROR(VLOOKUP(S181,'P2'!$B$4:$J$48,9,FALSE),\"\")","v":""},{"$f":"IFERROR(VLOOKUP(T181,'P2'!$B$4:$J$48,9,FALSE),\"\")","v":""},{"$f":"IFERROR(VLOOKUP(U181,'P2'!$B$4:$J$48,9,FALSE),\"\")","v":""},{"$f":"IFERROR(VLOOKUP(V181,'P2'!$B$4:$J$48,9,FALSE),\"\")","v":""},{"$f":"IFERROR(VLOOKUP(W181,'P2'!$B$4:$J$48,9,FALSE),\"\")","v":""},{"$f":"IFERROR(VLOOKUP(X181,'P2'!$B$4:$J$48,9,FALSE),\"\")","v":""},{"$f":"IFERROR(VLOOKUP(Y181,'P2'!$B$4:$J$48,9,FALSE),\"\")","v":""},{"$f":"IFERROR(VLOOKUP(Z181,'P2'!$B$4:$J$48,9,FALSE),\"\")","v":""},{"$f":"IFERROR(VLOOKUP(AA181,'P2'!$B$4:$J$48,9,FALSE),\"\")","v":""},{"$f":"IFERROR(VLOOKUP(AB181,'P2'!$B$4:$J$48,9,FALSE),\"\")","v":""},{"$f":"IFERROR(VLOOKUP(AC181,'P2'!$B$4:$J$48,9,FALSE),\"\")","v":""},{"$f":"IFERROR(VLOOKUP(AD181,'P2'!$B$4:$J$48,9,FALSE),\"\")","v":""},{"$f":"IFERROR(VLOOKUP(AE181,'P2'!$B$4:$J$48,9,FALSE),\"\")","v":""},{"$f":"IFERROR(VLOOKUP(AF181,'P2'!$B$4:$J$48,9,FALSE),\"\")","v":""},{"$f":"IFERROR(VLOOKUP(AG181,'P2'!$B$4:$J$48,9,FALSE),\"\")","v":""},{"$f":"IFERROR(VLOOKUP(AH181,'P2'!$B$4:$J$48,9,FALSE),\"\")","v":""},{"$f":"IFERROR(VLOOKUP(AI181,'P2'!$B$4:$J$48,9,FALSE),\"\")","v":""},{"$f":"IFERROR(VLOOKUP(AJ181,'P2'!$B$4:$J$48,9,FALSE),\"\")","v":""},{"$f":"IFERROR(VLOOKUP(AK181,'P2'!$B$4:$J$48,9,FALSE),\"\")","v":""},{"$f":"IFERROR(VLOOKUP(AL181,'P2'!$B$4:$J$48,9,FALSE),\"\")","v":""},{"$f":"IFERROR(VLOOKUP(AM181,'P2'!$B$4:$J$48,9,FALSE),\"\")","v":""},{"$f":"IFERROR(VLOOKUP(AN181,'P2'!$B$4:$J$48,9,FALSE),\"\")","v":""},{"$f":"IFERROR(VLOOKUP(AO181,'P2'!$B$4:$J$48,9,FALSE),\"\")","v":""},{"$f":"IFERROR(VLOOKUP(AP181,'P2'!$B$4:$J$48,9,FALSE),\"\")","v":""},{"$f":"IFERROR(VLOOKUP(AQ181,'P2'!$B$4:$J$48,9,FALSE),\"\")","v":""},{"$f":"IFERROR(VLOOKUP(AR181,'P2'!$B$4:$J$48,9,FALSE),\"\")","v":""},{"$f":"IFERROR(VLOOKUP(AS181,'P2'!$B$4:$J$48,9,FALSE),\"\")","v":""},{"$f":"IFERROR(VLOOKUP(AT181,'P2'!$B$4:$J$48,9,FALSE),\"\")","v":""},{"$f":"IFERROR(VLOOKUP(AU181,'P2'!$B$4:$J$48,9,FALSE),\"\")","v":""},{"$f":"SUM(Q182:AU182)","v":0}]
[null,77,null,null,null,null,null,null,null,null,null,null,null,null,null,null,null,null,null,null,null,null,null,null,null,null,null,null,null,null,null,null,null,null,null,null,null,null,null,null,null,null,null,null,null,null,null,{"$f":"COUNTA(Q183:AU183)","v":0},{"$f":"AV184","v":0},{"$f":"IFERROR(ROUNDDOWN(AV184/$AT$3,1),\"\")","v":""}]
[null,null,null,null,null,null,null,null,null,null,null,null,null,null,null,null,{"$f":"IFERROR(VLOOKUP(Q183,'P2'!$B$4:$J$48,9,FALSE),\"\")","v":""},{"$f":"IFERROR(VLOOKUP(R183,'P2'!$B$4:$J$48,9,FALSE),\"\")","v":""},{"$f":"IFERROR(VLOOKUP(S183,'P2'!$B$4:$J$48,9,FALSE),\"\")","v":""},{"$f":"IFERROR(VLOOKUP(T183,'P2'!$B$4:$J$48,9,FALSE),\"\")","v":""},{"$f":"IFERROR(VLOOKUP(U183,'P2'!$B$4:$J$48,9,FALSE),\"\")","v":""},{"$f":"IFERROR(VLOOKUP(V183,'P2'!$B$4:$J$48,9,FALSE),\"\")","v":""},{"$f":"IFERROR(VLOOKUP(W183,'P2'!$B$4:$J$48,9,FALSE),\"\")","v":""},{"$f":"IFERROR(VLOOKUP(X183,'P2'!$B$4:$J$48,9,FALSE),\"\")","v":""},{"$f":"IFERROR(VLOOKUP(Y183,'P2'!$B$4:$J$48,9,FALSE),\"\")","v":""},{"$f":"IFERROR(VLOOKUP(Z183,'P2'!$B$4:$J$48,9,FALSE),\"\")","v":""},{"$f":"IFERROR(VLOOKUP(AA183,'P2'!$B$4:$J$48,9,FALSE),\"\")","v":""},{"$f":"IFERROR(VLOOKUP(AB183,'P2'!$B$4:$J$48,9,FALSE),\"\")","v":""},{"$f":"IFERROR(VLOOKUP(AC183,'P2'!$B$4:$J$48,9,FALSE),\"\")","v":""},{"$f":"IFERROR(VLOOKUP(AD183,'P2'!$B$4:$J$48,9,FALSE),\"\")","v":""},{"$f":"IFERROR(VLOOKUP(AE183,'P2'!$B$4:$J$48,9,FALSE),\"\")","v":""},{"$f":"IFERROR(VLOOKUP(AF183,'P2'!$B$4:$J$48,9,FALSE),\"\")","v":""},{"$f":"IFERROR(VLOOKUP(AG183,'P2'!$B$4:$J$48,9,FALSE),\"\")","v":""},{"$f":"IFERROR(VLOOKUP(AH183,'P2'!$B$4:$J$48,9,FALSE),\"\")","v":""},{"$f":"IFERROR(VLOOKUP(AI183,'P2'!$B$4:$J$48,9,FALSE),\"\")","v":""},{"$f":"IFERROR(VLOOKUP(AJ183,'P2'!$B$4:$J$48,9,FALSE),\"\")","v":""},{"$f":"IFERROR(VLOOKUP(AK183,'P2'!$B$4:$J$48,9,FALSE),\"\")","v":""},{"$f":"IFERROR(VLOOKUP(AL183,'P2'!$B$4:$J$48,9,FALSE),\"\")","v":""},{"$f":"IFERROR(VLOOKUP(AM183,'P2'!$B$4:$J$48,9,FALSE),\"\")","v":""},{"$f":"IFERROR(VLOOKUP(AN183,'P2'!$B$4:$J$48,9,FALSE),\"\")","v":""},{"$f":"IFERROR(VLOOKUP(AO183,'P2'!$B$4:$J$48,9,FALSE),\"\")","v":""},{"$f":"IFERROR(VLOOKUP(AP183,'P2'!$B$4:$J$48,9,FALSE),\"\")","v":""},{"$f":"IFERROR(VLOOKUP(AQ183,'P2'!$B$4:$J$48,9,FALSE),\"\")","v":""},{"$f":"IFERROR(VLOOKUP(AR183,'P2'!$B$4:$J$48,9,FALSE),\"\")","v":""},{"$f":"IFERROR(VLOOKUP(AS183,'P2'!$B$4:$J$48,9,FALSE),\"\")","v":""},{"$f":"IFERROR(VLOOKUP(AT183,'P2'!$B$4:$J$48,9,FALSE),\"\")","v":""},{"$f":"IFERROR(VLOOKUP(AU183,'P2'!$B$4:$J$48,9,FALSE),\"\")","v":""},{"$f":"SUM(Q184:AU184)","v":0}]
[null,78,null,null,null,null,null,null,null,null,null,null,null,null,null,null,null,null,null,null,null,null,null,null,null,null,null,null,null,null,null,null,null,null,null,null,null,null,null,null,null,null,null,null,null,null,null,{"$f":"COUNTA(Q185:AU185)","v":0},{"$f":"AV186","v":0},{"$f":"IFERROR(ROUNDDOWN(AV186/$AT$3,1),\"\")","v":""}]
[null,null,null,null,null,null,null,null,null,null,null,null,null,null,null,null,{"$f":"IFERROR(VLOOKUP(Q185,'P2'!$B$4:$J$48,9,FALSE),\"\")","v":""},{"$f":"IFERROR(VLOOKUP(R185,'P2'!$B$4:$J$48,9,FALSE),\"\")","v":""},{"$f":"IFERROR(VLOOKUP(S185,'P2'!$B$4:$J$48,9,FALSE),\"\")","v":""},{"$f":"IFERROR(VLOOKUP(T185,'P2'!$B$4:$J$48,9,FALSE),\"\")","v":""},{"$f":"IFERROR(VLOOKUP(U185,'P2'!$B$4:$J$48,9,FALSE),\"\")","v":""},{"$f":"IFERROR(VLOOKUP(V185,'P2'!$B$4:$J$48,9,FALSE),\"\")","v":""},{"$f":"IFERROR(VLOOKUP(W185,'P2'!$B$4:$J$48,9,FALSE),\"\")","v":""},{"$f":"IFERROR(VLOOKUP(X185,'P2'!$B$4:$J$48,9,FALSE),\"\")","v":""},{"$f":"IFERROR(VLOOKUP(Y185,'P2'!$B$4:$J$48,9,FALSE),\"\")","v":""},{"$f":"IFERROR(VLOOKUP(Z185,'P2'!$B$4:$J$48,9,FALSE),\"\")","v":""},{"$f":"IFERROR(VLOOKUP(AA185,'P2'!$B$4:$J$48,9,FALSE),\"\")","v":""},{"$f":"IFERROR(VLOOKUP(AB185,'P2'!$B$4:$J$48,9,FALSE),\"\")","v":""},{"$f":"IFERROR(VLOOKUP(AC185,'P2'!$B$4:$J$48,9,FALSE),\"\")","v":""},{"$f":"IFERROR(VLOOKUP(AD185,'P2'!$B$4:$J$48,9,FALSE),\"\")","v":""},{"$f":"IFERROR(VLOOKUP(AE185,'P2'!$B$4:$J$48,9,FALSE),\"\")","v":""},{"$f":"IFERROR(VLOOKUP(AF185,'P2'!$B$4:$J$48,9,FALSE),\"\")","v":""},{"$f":"IFERROR(VLOOKUP(AG185,'P2'!$B$4:$J$48,9,FALSE),\"\")","v":""},{"$f":"IFERROR(VLOOKUP(AH185,'P2'!$B$4:$J$48,9,FALSE),\"\")","v":""},{"$f":"IFERROR(VLOOKUP(AI185,'P2'!$B$4:$J$48,9,FALSE),\"\")","v":""},{"$f":"IFERROR(VLOOKUP(AJ185,'P2'!$B$4:$J$48,9,FALSE),\"\")","v":""},{"$f":"IFERROR(VLOOKUP(AK185,'P2'!$B$4:$J$48,9,FALSE),\"\")","v":""},{"$f":"IFERROR(VLOOKUP(AL185,'P2'!$B$4:$J$48,9,FALSE),\"\")","v":""},{"$f":"IFERROR(VLOOKUP(AM185,'P2'!$B$4:$J$48,9,FALSE),\"\")","v":""},{"$f":"IFERROR(VLOOKUP(AN185,'P2'!$B$4:$J$48,9,FALSE),\"\")","v":""},{"$f":"IFERROR(VLOOKUP(AO185,'P2'!$B$4:$J$48,9,FALSE),\"\")","v":""},{"$f":"IFERROR(VLOOKUP(AP185,'P2'!$B$4:$J$48,9,FALSE),\"\")","v":""},{"$f":"IFERROR(VLOOKUP(AQ185,'P2'!$B$4:$J$48,9,FALSE),\"\")","v":""},{"$f":"IFERROR(VLOOKUP(AR185,'P2'!$B$4:$J$48,9,FALSE),\"\")","v":""},{"$f":"IFERROR(VLOOKUP(AS185,'P2'!$B$4:$J$48,9,FALSE),\"\")","v":""},{"$f":"IFERROR(VLOOKUP(AT185,'P2'!$B$4:$J$48,9,FALSE),\"\")","v":""},{"$f":"IFERROR(VLOOKUP(AU185,'P2'!$B$4:$J$48,9,FALSE),\"\")","v":""},{"$f":"SUM(Q186:AU186)","v":0}]
[null,79,null,null,null,null,null,null,null,null,null,null,null,null,null,null,null,null,null,null,null,null,null,null,null,null,null,null,null,null,null,null,null,null,null,null,null,null,null,null,null,null,null,null,null,null,null,{"$f":"COUNTA(Q187:AU187)","v":0},{"$f":"AV188","v":0},{"$f":"IFERROR(ROUNDDOWN(AV188/$AT$3,1),\"\")","v":""}]
[null,null,null,null,null,null,null,null,null,null,null,null,null,null,null,null,{"$f":"IFERROR(VLOOKUP(Q187,'P2'!$B$4:$J$48,9,FALSE),\"\")","v":""},{"$f":"IFERROR(VLOOKUP(R187,'P2'!$B$4:$J$48,9,FALSE),\"\")","v":""},{"$f":"IFERROR(VLOOKUP(S187,'P2'!$B$4:$J$48,9,FALSE),\"\")","v":""},{"$f":"IFERROR(VLOOKUP(T187,'P2'!$B$4:$J$48,9,FALSE),\"\")","v":""},{"$f":"IFERROR(VLOOKUP(U187,'P2'!$B$4:$J$48,9,FALSE),\"\")","v":""},{"$f":"IFERROR(VLOOKUP(V187,'P2'!$B$4:$J$48,9,FALSE),\"\")","v":""},{"$f":"IFERROR(VLOOKUP(W187,'P2'!$B$4:$J$48,9,FALSE),\"\")","v":""},{"$f":"IFERROR(VLOOKUP(X187,'P2'!$B$4:$J$48,9,FALSE),\"\")","v":""},{"$f":"IFERROR(VLOOKUP(Y187,'P2'!$B$4:$J$48,9,FALSE),\"\")","v":""},{"$f":"IFERROR(VLOOKUP(Z187,'P2'!$B$4:$J$48,9,FALSE),\"\")","v":""},{"$f":"IFERROR(VLOOKUP(AA187,'P2'!$B$4:$J$48,9,FALSE),\"\")","v":""},{"$f":"IFERROR(VLOOKUP(AB187,'P2'!$B$4:$J$48,9,FALSE),\"\")","v":""},{"$f":"IFERROR(VLOOKUP(AC187,'P2'!$B$4:$J$48,9,FALSE),\"\")","v":""},{"$f":"IFERROR(VLOOKUP(AD187,'P2'!$B$4:$J$48,9,FALSE),\"\")","v":""},{"$f":"IFERROR(VLOOKUP(AE187,'P2'!$B$4:$J$48,9,FALSE),\"\")","v":""},{"$f":"IFERROR(VLOOKUP(AF187,'P2'!$B$4:$J$48,9,FALSE),\"\")","v":""},{"$f":"IFERROR(VLOOKUP(AG187,'P2'!$B$4:$J$48,9,FALSE),\"\")","v":""},{"$f":"IFERROR(VLOOKUP(AH187,'P2'!$B$4:$J$48,9,FALSE),\"\")","v":""},{"$f":"IFERROR(VLOOKUP(AI187,'P2'!$B$4:$J$48,9,FALSE),\"\")","v":""},{"$f":"IFERROR(VLOOKUP(AJ187,'P2'!$B$4:$J$48,9,FALSE),\"\")","v":""},{"$f":"IFERROR(VLOOKUP(AK187,'P2'!$B$4:$J$48,9,FALSE),\"\")","v":""},{"$f":"IFERROR(VLOOKUP(AL187,'P2'!$B$4:$J$48,9,FALSE),\"\")","v":""},{"$f":"IFERROR(VLOOKUP(AM187,'P2'!$B$4:$J$48,9,FALSE),\"\")","v":""},{"$f":"IFERROR(VLOOKUP(AN187,'P2'!$B$4:$J$48,9,FALSE),\"\")","v":""},{"$f":"IFERROR(VLOOKUP(AO187,'P2'!$B$4:$J$48,9,FALSE),\"\")","v":""},{"$f":"IFERROR(VLOOKUP(AP187,'P2'!$B$4:$J$48,9,FALSE),\"\")","v":""},{"$f":"IFERROR(VLOOKUP(AQ187,'P2'!$B$4:$J$48,9,FALSE),\"\")","v":""},{"$f":"IFERROR(VLOOKUP(AR187,'P2'!$B$4:$J$48,9,FALSE),\"\")","v":""},{"$f":"IFERROR(VLOOKUP(AS187,'P2'!$B$4:$J$48,9,FALSE),\"\")","v":""},{"$f":"IFERROR(VLOOKUP(AT187,'P2'!$B$4:$J$48,9,FALSE),\"\")","v":""},{"$f":"IFERROR(VLOOKUP(AU187,'P2'!$B$4:$J$48,9,FALSE),\"\")","v":""},{"$f":"SUM(Q188:AU188)","v":0}]
[null,80,null,null,null,null,null,null,null,null,null,null,null,null,null,null,null,null,null,null,null,null,null,null,null,null,null,null,null,null,null,null,null,null,null,null,null,null,null,null,null,null,null,null,null,null,null,{"$f":"COUNTA(Q189:AU189)","v":0},{"$f":"AV190","v":0},{"$f":"IFERROR(ROUNDDOWN(AV190/$AT$3,1),\"\")","v":""}]
[null,null,null,null,null,null,null,null,null,null,null,null,null,null,null,null,{"$f":"IFERROR(VLOOKUP(Q189,'P2'!$B$4:$J$48,9,FALSE),\"\")","v":""},{"$f":"IFERROR(VLOOKUP(R189,'P2'!$B$4:$J$48,9,FALSE),\"\")","v":""},{"$f":"IFERROR(VLOOKUP(S189,'P2'!$B$4:$J$48,9,FALSE),\"\")","v":""},{"$f":"IFERROR(VLOOKUP(T189,'P2'!$B$4:$J$48,9,FALSE),\"\")","v":""},{"$f":"IFERROR(VLOOKUP(U189,'P2'!$B$4:$J$48,9,FALSE),\"\")","v":""},{"$f":"IFERROR(VLOOKUP(V189,'P2'!$B$4:$J$48,9,FALSE),\"\")","v":""},{"$f":"IFERROR(VLOOKUP(W189,'P2'!$B$4:$J$48,9,FALSE),\"\")","v":""},{"$f":"IFERROR(VLOOKUP(X189,'P2'!$B$4:$J$48,9,FALSE),\"\")","v":""},{"$f":"IFERROR(VLOOKUP(Y189,'P2'!$B$4:$J$48,9,FALSE),\"\")","v":""},{"$f":"IFERROR(VLOOKUP(Z189,'P2'!$B$4:$J$48,9,FALSE),\"\")","v":""},{"$f":"IFERROR(VLOOKUP(AA189,'P2'!$B$4:$J$48,9,FALSE),\"\")","v":""},{"$f":"IFERROR(VLOOKUP(AB189,'P2'!$B$4:$J$48,9,FALSE),\"\")","v":""},{"$f":"IFERROR(VLOOKUP(AC189,'P2'!$B$4:$J$48,9,FALSE),\"\")","v":""},{"$f":"IFERROR(VLOOKUP(AD189,'P2'!$B$4:$J$48,9,FALSE),\"\")","v":""},{"$f":"IFERROR(VLOOKUP(AE189,'P2'!$B$4:$J$48,9,FALSE),\"\")","v":""},{"$f":"IFERROR(VLOOKUP(AF189,'P2'!$B$4:$J$48,9,FALSE),\"\")","v":""},{"$f":"IFERROR(VLOOKUP(AG189,'P2'!$B$4:$J$48,9,FALSE),\"\")","v":""},{"$f":"IFERROR(VLOOKUP(AH189,'P2'!$B$4:$J$48,9,FALSE),\"\")","v":""},{"$f":"IFERROR(VLOOKUP(AI189,'P2'!$B$4:$J$48,9,FALSE),\"\")","v":""},{"$f":"IFERROR(VLOOKUP(AJ189,'P2'!$B$4:$J$48,9,FALSE),\"\")","v":""},{"$f":"IFERROR(VLOOKUP(AK189,'P2'!$B$4:$J$48,9,FALSE),\"\")","v":""},{"$f":"IFERROR(VLOOKUP(AL189,'P2'!$B$4:$J$48,9,FALSE),\"\")","v":""},{"$f":"IFERROR(VLOOKUP(AM189,'P2'!$B$4:$J$48,9,FALSE),\"\")","v":""},{"$f":"IFERROR(VLOOKUP(AN189,'P2'!$B$4:$J$48,9,FALSE),\"\")","v":""},{"$f":"IFERROR(VLOOKUP(AO189,'P2'!$B$4:$J$48,9,FALSE),\"\")","v":""},{"$f":"IFERROR(VLOOKUP(AP189,'P2'!$B$4:$J$48,9,FALSE),\"\")","v":""},{"$f":"IFERROR(VLOOKUP(AQ189,'P2'!$B$4:$J$48,9,FALSE),\"\")","v":""},{"$f":"IFERROR(VLOOKUP(AR189,'P2'!$B$4:$J$48,9,FALSE),\"\")","v":""},{"$f":"IFERROR(VLOOKUP(AS189,'P2'!$B$4:$J$48,9,FALSE),\"\")","v":""},{"$f":"IFERROR(VLOOKUP(AT189,'P2'!$B$4:$J$48,9,FALSE),\"\")","v":""},{"$f":"IFERROR(VLOOKUP(AU189,'P2'!$B$4:$J$48,9,FALSE),\"\")","v":""},{"$f":"SUM(Q190:AU190)","v":0}]
[null,81,null,null,null,null,null,null,null,null,null,null,null,null,null,null,null,null,null,null,null,null,null,null,null,null,null,null,null,null,null,null,null,null,null,null,null,null,null,null,null,null,null,null,null,null,null,{"$f":"COUNTA(Q191:AU191)","v":0},{"$f":"AV192","v":0},{"$f":"IFERROR(ROUNDDOWN(AV192/$AT$3,1),\"\")","v":""}]
[null,null,null,null,null,null,null,null,null,null,null,null,null,null,null,null,{"$f":"IFERROR(VLOOKUP(Q191,'P2'!$B$4:$J$48,9,FALSE),\"\")","v":""},{"$f":"IFERROR(VLOOKUP(R191,'P2'!$B$4:$J$48,9,FALSE),\"\")","v":""},{"$f":"IFERROR(VLOOKUP(S191,'P2'!$B$4:$J$48,9,FALSE),\"\")","v":""},{"$f":"IFERROR(VLOOKUP(T191,'P2'!$B$4:$J$48,9,FALSE),\"\")","v":""},{"$f":"IFERROR(VLOOKUP(U191,'P2'!$B$4:$J$48,9,FALSE),\"\")","v":""},{"$f":"IFERROR(VLOOKUP(V191,'P2'!$B$4:$J$48,9,FALSE),\"\")","v":""},{"$f":"IFERROR(VLOOKUP(W191,'P2'!$B$4:$J$48,9,FALSE),\"\")","v":""},{"$f":"IFERROR(VLOOKUP(X191,'P2'!$B$4:$J$48,9,FALSE),\"\")","v":""},{"$f":"IFERROR(VLOOKUP(Y191,'P2'!$B$4:$J$48,9,FALSE),\"\")","v":""},{"$f":"IFERROR(VLOOKUP(Z191,'P2'!$B$4:$J$48,9,FALSE),\"\")","v":""},{"$f":"IFERROR(VLOOKUP(AA191,'P2'!$B$4:$J$48,9,FALSE),\"\")","v":""},{"$f":"IFERROR(VLOOKUP(AB191,'P2'!$B$4:$J$48,9,FALSE),\"\")","v":""},{"$f":"IFERROR(VLOOKUP(AC191,'P2'!$B$4:$J$48,9,FALSE),\"\")","v":""},{"$f":"IFERROR(VLOOKUP(AD191,'P2'!$B$4:$J$48,9,FALSE),\"\")","v":""},{"$f":"IFERROR(VLOOKUP(AE191,'P2'!$B$4:$J$48,9,FALSE),\"\")","v":""},{"$f":"IFERROR(VLOOKUP(AF191,'P2'!$B$4:$J$48,9,FALSE),\"\")","v":""},{"$f":"IFERROR(VLOOKUP(AG191,'P2'!$B$4:$J$48,9,FALSE),\"\")","v":""},{"$f":"IFERROR(VLOOKUP(AH191,'P2'!$B$4:$J$48,9,FALSE),\"\")","v":""},{"$f":"IFERROR(VLOOKUP(AI191,'P2'!$B$4:$J$48,9,FALSE),\"\")","v":""},{"$f":"IFERROR(VLOOKUP(AJ191,'P2'!$B$4:$J$48,9,FALSE),\"\")","v":""},{"$f":"IFERROR(VLOOKUP(AK191,'P2'!$B$4:$J$48,9,FALSE),\"\")","v":""},{"$f":"IFERROR(VLOOKUP(AL191,'P2'!$B$4:$J$48,9,FALSE),\"\")","v":""},{"$f":"IFERROR(VLOOKUP(AM191,'P2'!$B$4:$J$48,9,FALSE),\"\")","v":""},{"$f":"IFERROR(VLOOKUP(AN191,'P2'!$B$4:$J$48,9,FALSE),\"\")","v":""},{"$f":"IFERROR(VLOOKUP(AO191,'P2'!$B$4:$J$48,9,FALSE),\"\")","v":""},{"$f":"IFERROR(VLOOKUP(AP191,'P2'!$B$4:$J$48,9,FALSE),\"\")","v":""},{"$f":"IFERROR(VLOOKUP(AQ191,'P2'!$B$4:$J$48,9,FALSE),\"\")","v":""},{"$f":"IFERROR(VLOOKUP(AR191,'P2'!$B$4:$J$48,9,FALSE),\"\")","v":""},{"$f":"IFERROR(VLOOKUP(AS191,'P2'!$B$4:$J$48,9,FALSE),\"\")","v":""},{"$f":"IFERROR(VLOOKUP(AT191,'P2'!$B$4:$J$48,9,FALSE),\"\")","v":""},{"$f":"IFERROR(VLOOKUP(AU191,'P2'!$B$4:$J$48,9,FALSE),\"\")","v":""},{"$f":"SUM(Q192:AU192)","v":0}]
[null,82,null,null,null,null,null,null,null,null,null,null,null,null,null,null,null,null,null,null,null,null,null,null,null,null,null,null,null,null,null,null,null,null,null,null,null,null,null,null,null,null,null,null,null,null,null,{"$f":"COUNTA(Q193:AU193)","v":0},{"$f":"AV194","v":0},{"$f":"IFERROR(ROUNDDOWN(AV194/$AT$3,1),\"\")","v":""}]
[null,null,null,null,null,null,null,null,null,null,null,null,null,null,null,null,{"$f":"IFERROR(VLOOKUP(Q193,'P2'!$B$4:$J$48,9,FALSE),\"\")","v":""},{"$f":"IFERROR(VLOOKUP(R193,'P2'!$B$4:$J$48,9,FALSE),\"\")","v":""},{"$f":"IFERROR(VLOOKUP(S193,'P2'!$B$4:$J$48,9,FALSE),\"\")","v":""},{"$f":"IFERROR(VLOOKUP(T193,'P2'!$B$4:$J$48,9,FALSE),\"\")","v":""},{"$f":"IFERROR(VLOOKUP(U193,'P2'!$B$4:$J$48,9,FALSE),\"\")","v":""},{"$f":"IFERROR(VLOOKUP(V193,'P2'!$B$4:$J$48,9,FALSE),\"\")","v":""},{"$f":"IFERROR(VLOOKUP(W193,'P2'!$B$4:$J$48,9,FALSE),\"\")","v":""},{"$f":"IFERROR(VLOOKUP(X193,'P2'!$B$4:$J$48,9,FALSE),\"\")","v":""},{"$f":"IFERROR(VLOOKUP(Y193,'P2'!$B$4:$J$48,9,FALSE),\"\")","v":""},{"$f":"IFERROR(VLOOKUP(Z193,'P2'!$B$4:$J$48,9,FALSE),\"\")","v":""},{"$f":"IFERROR(VLOOKUP(AA193,'P2'!$B$4:$J$48,9,FALSE),\"\")","v":""},{"$f":"IFERROR(VLOOKUP(AB193,'P2'!$B$4:$J$48,9,FALSE),\"\")","v":""},{"$f":"IFERROR(VLOOKUP(AC193,'P2'!$B$4:$J$48,9,FALSE),\"\")","v":""},{"$f":"IFERROR(VLOOKUP(AD193,'P2'!$B$4:$J$48,9,FALSE),\"\")","v":""},{"$f":"IFERROR(VLOOKUP(AE193,'P2'!$B$4:$J$48,9,FALSE),\"\")","v":""},{"$f":"IFERROR(VLOOKUP(AF193,'P2'!$B$4:$J$48,9,FALSE),\"\")","v":""},{"$f":"IFERROR(VLOOKUP(AG193,'P2'!$B$4:$J$48,9,FALSE),\"\")","v":""},{"$f":"IFERROR(VLOOKUP(AH193,'P2'!$B$4:$J$48,9,FALSE),\"\")","v":""},{"$f":"IFERROR(VLOOKUP(AI193,'P2'!$B$4:$J$48,9,FALSE),\"\")","v":""},{"$f":"IFERROR(VLOOKUP(AJ193,'P2'!$B$4:$J$48,9,FALSE),\"\")","v":""},{"$f":"IFERROR(VLOOKUP(AK193,'P2'!$B$4:$J$48,9,FALSE),\"\")","v":""},{"$f":"IFERROR(VLOOKUP(AL193,'P2'!$B$4:$J$48,9,FALSE),\"\")","v":""},{"$f":"IFERROR(VLOOKUP(AM193,'P2'!$B$4:$J$48,9,FALSE),\"\")","v":""},{"$f":"IFERROR(VLOOKUP(AN193,'P2'!$B$4:$J$48,9,FALSE),\"\")","v":""},{"$f":"IFERROR(VLOOKUP(AO193,'P2'!$B$4:$J$48,9,FALSE),\"\")","v":""},{"$f":"IFERROR(VLOOKUP(AP193,'P2'!$B$4:$J$48,9,FALSE),\"\")","v":""},{"$f":"IFERROR(VLOOKUP(AQ193,'P2'!$B$4:$J$48,9,FALSE),\"\")","v":""},{"$f":"IFERROR(VLOOKUP(AR193,'P2'!$B$4:$J$48,9,FALSE),\"\")","v":""},{"$f":"IFERROR(VLOOKUP(AS193,'P2'!$B$4:$J$48,9,FALSE),\"\")","v":""},{"$f":"IFERROR(VLOOKUP(AT193,'P2'!$B$4:$J$48,9,FALSE),\"\")","v":""},{"$f":"IFERROR(VLOOKUP(AU193,'P2'!$B$4:$J$48,9,FALSE),\"\")","v":""},{"$f":"SUM(Q194:AU194)","v":0}]
[null,83,null,null,null,null,null,null,null,null,null,null,null,null,null,null,null,null,null,null,null,null,null,null,null,null,null,null,null,null,null,null,null,null,null,null,null,null,null,null,null,null,null,null,null,null,null,{"$f":"COUNTA(Q195:AU195)","v":0},{"$f":"AV196","v":0},{"$f":"IFERROR(ROUNDDOWN(AV196/$AT$3,1),\"\")","v":""}]
[null,null,null,null,null,null,null,null,null,null,null,null,null,null,null,null,{"$f":"IFERROR(VLOOKUP(Q195,'P2'!$B$4:$J$48,9,FALSE),\"\")","v":""},{"$f":"IFERROR(VLOOKUP(R195,'P2'!$B$4:$J$48,9,FALSE),\"\")","v":""},{"$f":"IFERROR(VLOOKUP(S195,'P2'!$B$4:$J$48,9,FALSE),\"\")","v":""},{"$f":"IFERROR(VLOOKUP(T195,'P2'!$B$4:$J$48,9,FALSE),\"\")","v":""},{"$f":"IFERROR(VLOOKUP(U195,'P2'!$B$4:$J$48,9,FALSE),\"\")","v":""},{"$f":"IFERROR(VLOOKUP(V195,'P2'!$B$4:$J$48,9,FALSE),\"\")","v":""},{"$f":"IFERROR(VLOOKUP(W195,'P2'!$B$4:$J$48,9,FALSE),\"\")","v":""},{"$f":"IFERROR(VLOOKUP(X195,'P2'!$B$4:$J$48,9,FALSE),\"\")","v":""},{"$f":"IFERROR(VLOOKUP(Y195,'P2'!$B$4:$J$48,9,FALSE),\"\")","v":""},{"$f":"IFERROR(VLOOKUP(Z195,'P2'!$B$4:$J$48,9,FALSE),\"\")","v":""},{"$f":"IFERROR(VLOOKUP(AA195,'P2'!$B$4:$J$48,9,FALSE),\"\")","v":""},{"$f":"IFERROR(VLOOKUP(AB195,'P2'!$B$4:$J$48,9,FALSE),\"\")","v":""},{"$f":"IFERROR(VLOOKUP(AC195,'P2'!$B$4:$J$48,9,FALSE),\"\")","v":""},{"$f":"IFERROR(VLOOKUP(AD195,'P2'!$B$4:$J$48,9,FALSE),\"\")","v":""},{"$f":"IFERROR(VLOOKUP(AE195,'P2'!$B$4:$J$48,9,FALSE),\"\")","v":""},{"$f":"IFERROR(VLOOKUP(AF195,'P2'!$B$4:$J$48,9,FALSE),\"\")","v":""},{"$f":"IFERROR(VLOOKUP(AG195,'P2'!$B$4:$J$48,9,FALSE),\"\")","v":""},{"$f":"IFERROR(VLOOKUP(AH195,'P2'!$B$4:$J$48,9,FALSE),\"\")","v":""},{"$f":"IFERROR(VLOOKUP(AI195,'P2'!$B$4:$J$48,9,FALSE),\"\")","v":""},{"$f":"IFERROR(VLOOKUP(AJ195,'P2'!$B$4:$J$48,9,FALSE),\"\")","v":""},{"$f":"IFERROR(VLOOKUP(AK195,'P2'!$B$4:$J$48,9,FALSE),\"\")","v":""},{"$f":"IFERROR(VLOOKUP(AL195,'P2'!$B$4:$J$48,9,FALSE),\"\")","v":""},{"$f":"IFERROR(VLOOKUP(AM195,'P2'!$B$4:$J$48,9,FALSE),\"\")","v":""},{"$f":"IFERROR(VLOOKUP(AN195,'P2'!$B$4:$J$48,9,FALSE),\"\")","v":""},{"$f":"IFERROR(VLOOKUP(AO195,'P2'!$B$4:$J$48,9,FALSE),\"\")","v":""},{"$f":"IFERROR(VLOOKUP(AP195,'P2'!$B$4:$J$48,9,FALSE),\"\")","v":""},{"$f":"IFERROR(VLOOKUP(AQ195,'P2'!$B$4:$J$48,9,FALSE),\"\")","v":""},{"$f":"IFERROR(VLOOKUP(AR195,'P2'!$B$4:$J$48,9,FALSE),\"\")","v":""},{"$f":"IFERROR(VLOOKUP(AS195,'P2'!$B$4:$J$48,9,FALSE),\"\")","v":""},{"$f":"IFERROR(VLOOKUP(AT195,'P2'!$B$4:$J$48,9,FALSE),\"\")","v":""},{"$f":"IFERROR(VLOOKUP(AU195,'P2'!$B$4:$J$48,9,FALSE),\"\")","v":""},{"$f":"SUM(Q196:AU196)","v":0}]
[null,84,null,null,null,null,null,null,null,null,null,null,null,null,null,null,null,null,null,null,null,null,null,null,null,null,null,null,null,null,null,null,null,null,null,null,null,null,null,null,null,null,null,null,null,null,null,{"$f":"COUNTA(Q197:AU197)","v":0},{"$f":"AV198","v":0},{"$f":"IFERROR(ROUNDDOWN(AV198/$AT$3,1),\"\")","v":""}]
[null,null,null,null,null,null,null,null,null,null,null,null,null,null,null,null,{"$f":"IFERROR(VLOOKUP(Q197,'P2'!$B$4:$J$48,9,FALSE),\"\")","v":""},{"$f":"IFERROR(VLOOKUP(R197,'P2'!$B$4:$J$48,9,FALSE),\"\")","v":""},{"$f":"IFERROR(VLOOKUP(S197,'P2'!$B$4:$J$48,9,FALSE),\"\")","v":""},{"$f":"IFERROR(VLOOKUP(T197,'P2'!$B$4:$J$48,9,FALSE),\"\")","v":""},{"$f":"IFERROR(VLOOKUP(U197,'P2'!$B$4:$J$48,9,FALSE),\"\")","v":""},{"$f":"IFERROR(VLOOKUP(V197,'P2'!$B$4:$J$48,9,FALSE),\"\")","v":""},{"$f":"IFERROR(VLOOKUP(W197,'P2'!$B$4:$J$48,9,FALSE),\"\")","v":""},{"$f":"IFERROR(VLOOKUP(X197,'P2'!$B$4:$J$48,9,FALSE),\"\")","v":""},{"$f":"IFERROR(VLOOKUP(Y197,'P2'!$B$4:$J$48,9,FALSE),\"\")","v":""},{"$f":"IFERROR(VLOOKUP(Z197,'P2'!$B$4:$J$48,9,FALSE),\"\")","v":""},{"$f":"IFERROR(VLOOKUP(AA197,'P2'!$B$4:$J$48,9,FALSE),\"\")","v":""},{"$f":"IFERROR(VLOOKUP(AB197,'P2'!$B$4:$J$48,9,FALSE),\"\")","v":""},{"$f":"IFERROR(VLOOKUP(AC197,'P2'!$B$4:$J$48,9,FALSE),\"\")","v":""},{"$f":"IFERROR(VLOOKUP(AD197,'P2'!$B$4:$J$48,9,FALSE),\"\")","v":""},{"$f":"IFERROR(VLOOKUP(AE197,'P2'!$B$4:$J$48,9,FALSE),\"\")","v":""},{"$f":"IFERROR(VLOOKUP(AF197,'P2'!$B$4:$J$48,9,FALSE),\"\")","v":""},{"$f":"IFERROR(VLOOKUP(AG197,'P2'!$B$4:$J$48,9,FALSE),\"\")","v":""},{"$f":"IFERROR(VLOOKUP(AH197,'P2'!$B$4:$J$48,9,FALSE),\"\")","v":""},{"$f":"IFERROR(VLOOKUP(AI197,'P2'!$B$4:$J$48,9,FALSE),\"\")","v":""},{"$f":"IFERROR(VLOOKUP(AJ197,'P2'!$B$4:$J$48,9,FALSE),\"\")","v":""},{"$f":"IFERROR(VLOOKUP(AK197,'P2'!$B$4:$J$48,9,FALSE),\"\")","v":""},{"$f":"IFERROR(VLOOKUP(AL197,'P2'!$B$4:$J$48,9,FALSE),\"\")","v":""},{"$f":"IFERROR(VLOOKUP(AM197,'P2'!$B$4:$J$48,9,FALSE),\"\")","v":""},{"$f":"IFERROR(VLOOKUP(AN197,'P2'!$B$4:$J$48,9,FALSE),\"\")","v":""},{"$f":"IFERROR(VLOOKUP(AO197,'P2'!$B$4:$J$48,9,FALSE),\"\")","v":""},{"$f":"IFERROR(VLOOKUP(AP197,'P2'!$B$4:$J$48,9,FALSE),\"\")","v":""},{"$f":"IFERROR(VLOOKUP(AQ197,'P2'!$B$4:$J$48,9,FALSE),\"\")","v":""},{"$f":"IFERROR(VLOOKUP(AR197,'P2'!$B$4:$J$48,9,FALSE),\"\")","v":""},{"$f":"IFERROR(VLOOKUP(AS197,'P2'!$B$4:$J$48,9,FALSE),\"\")","v":""},{"$f":"IFERROR(VLOOKUP(AT197,'P2'!$B$4:$J$48,9,FALSE),\"\")","v":""},{"$f":"IFERROR(VLOOKUP(AU197,'P2'!$B$4:$J$48,9,FALSE),\"\")","v":""},{"$f":"SUM(Q198:AU198)","v":0}]
[]
[]
[null,"(2)　勤務実績　（直近3か月分の実績）",null,null,null,null,null,null,null,null,null,null,null,null,null,null,null,null,"（",{"$f":"$T$3","v":"令和　7"},null,"年",{"$f":"$W$3","v":5},"月分実績",null,"）",null,null,null,null,null,null,null,null,null,null,null,null,null,null,null,null,null,null,null,null,null,null,null,{"$f":"\"5 / \"&COUNTA(C$7,C$57,C$106,C$155,C$204)","v":"5 / 1"}]
[null,null,"職　　種",null,null,null,null,null,"氏　　名",null,null,null,null,"勤務\n形態",null,null,{"$f":"Q$5","v":"2025-05-01"},{"$f":"R$5","v":"2025-05-02"},"2025-05-03","2025-05-04","2025-05-05","2025-05-06","2025-05-07","2025-05-08","2025-05-09","2025-05-10","2025-05-11","2025-05-12","2025-05-13","2025-05-14","2025-05-15","2025-05-16","2025-05-17","2025-05-18","2025-05-19","2025-05-20","2025-05-21","2025-05-22","2025-05-23","2025-05-24","2025-05-25","2025-05-26","2025-05-27","2025-05-28","2025-05-29","2025-05-30","2025-05-31","勤務日数",null,"常勤換算"]
[null,null,null,null,null,null,null,null,null,null,null,null,null,null,null,null,{"$f":"Q$6","v":"木"},{"$f":"R$6","v":"金"},"土","日","月","火","水","木","金","土","日","月","火","水","木","金","土","日","月","火","水","木","金","土","日","月","火","水","木","金","土","勤務時間"]
[null,{"$f":"B197+1","v":85},null,null,null,null,null,null,null,null,null,null,null,null,null,null,null,null,null,null,null,null,null,null,null,null,null,null,null,null,null,null,null,null,null,null,null,null,null,null,null,null,null,null,null,null,null,{"$f":"COUNTA(Q204:AU204)","v":0},{"$f":"AV205","v":0},{"$f":"IFERROR(ROUNDDOWN(AV205/$AT$3,1),\"\")","v":""}]
[null,null,null,null,null,null,null,null,null,null,null,null,null,null,null,null,{"$f":"IFERROR(VLOOKUP(Q204,'P2'!$B$4:$J$48,9,FALSE),\"\")","v":""},{"$f":"IFERROR(VLOOKUP(R204,'P2'!$B$4:$J$48,9,FALSE),\"\")","v":""},{"$f":"IFERROR(VLOOKUP(S204,'P2'!$B$4:$J$48,9,FALSE),\"\")","v":""},{"$f":"IFERROR(VLOOKUP(T204,'P2'!$B$4:$J$48,9,FALSE),\"\")","v":""},{"$f":"IFERROR(VLOOKUP(U204,'P2'!$B$4:$J$48,9,FALSE),\"\")","v":""},{"$f":"IFERROR(VLOOKUP(V204,'P2'!$B$4:$J$48,9,FALSE),\"\")","v":""},{"$f":"IFERROR(VLOOKUP(W204,'P2'!$B$4:$J$48,9,FALSE),\"\")","v":""},{"$f":"IFERROR(VLOOKUP(X204,'P2'!$B$4:$J$48,9,FALSE),\"\")","v":""},{"$f":"IFERROR(VLOOKUP(Y204,'P2'!$B$4:$J$48,9,FALSE),\"\")","v":""},{"$f":"IFERROR(VLOOKUP(Z204,'P2'!$B$4:$J$48,9,FALSE),\"\")","v":""},{"$f":"IFERROR(VLOOKUP(AA204,'P2'!$B$4:$J$48,9,FALSE),\"\")","v":""},{"$f":"IFERROR(VLOOKUP(AB204,'P2'!$B$4:$J$48,9,FALSE),\"\")","v":""},{"$f":"IFERROR(VLOOKUP(AC204,'P2'!$B$4:$J$48,9,FALSE),\"\")","v":""},{"$f":"IFERROR(VLOOKUP(AD204,'P2'!$B$4:$J$48,9,FALSE),\"\")","v":""},{"$f":"IFERROR(VLOOKUP(AE204,'P2'!$B$4:$J$48,9,FALSE),\"\")","v":""},{"$f":"IFERROR(VLOOKUP(AF204,'P2'!$B$4:$J$48,9,FALSE),\"\")","v":""},{"$f":"IFERROR(VLOOKUP(AG204,'P2'!$B$4:$J$48,9,FALSE),\"\")","v":""},{"$f":"IFERROR(VLOOKUP(AH204,'P2'!$B$4:$J$48,9,FALSE),\"\")","v":""},{"$f":"IFERROR(VLOOKUP(AI204,'P2'!$B$4:$J$48,9,FALSE),\"\")","v":""},{"$f":"IFERROR(VLOOKUP(AJ204,'P2'!$B$4:$J$48,9,FALSE),\"\")","v":""},{"$f":"IFERROR(VLOOKUP(AK204,'P2'!$B$4:$J$48,9,FALSE),\"\")","v":""},{"$f":"IFERROR(VLOOKUP(AL204,'P2'!$B$4:$J$48,9,FALSE),\"\")","v":""},{"$f":"IFERROR(VLOOKUP(AM204,'P2'!$B$4:$J$48,9,FALSE),\"\")","v":""},{"$f":"IFERROR(VLOOKUP(AN204,'P2'!$B$4:$J$48,9,FALSE),\"\")","v":""},{"$f":"IFERROR(VLOOKUP(AO204,'P2'!$B$4:$J$48,9,FALSE),\"\")","v":""},{"$f":"IFERROR(VLOOKUP(AP204,'P2'!$B$4:$J$48,9,FALSE),\"\")","v":""},{"$f":"IFERROR(VLOOKUP(AQ204,'P2'!$B$4:$J$48,9,FALSE),\"\")","v":""},{"$f":"IFERROR(VLOOKUP(AR204,'P2'!$B$4:$J$48,9,FALSE),\"\")","v":""},{"$f":"IFERROR(VLOOKUP(AS204,'P2'!$B$4:$J$48,9,FALSE),\"\")","v":""},{"$f":"IFERROR(VLOOKUP(AT204,'P2'!$B$4:$J$48,9,FALSE),\"\")","v":""},{"$f":"IFERROR(VLOOKUP(AU204,'P2'!$B$4:$J$48,9,FALSE),\"\")","v":""},{"$f":"SUM(Q205:AU205)","v":0}]
[null,{"$f":"B204+1","v":86},null,null,null,null,null,null,null,null,null,null,null,null,null,null,null,null,null,null,null,null,null,null,null,null,null,null,null,null,null,null,null,null,null,null,null,null,null,null,null,null,null,null,null,null,null,{"$f":"COUNTA(Q206:AU206)","v":0},{"$f":"AV207","v":0},{"$f":"IFERROR(ROUNDDOWN(AV207/$AT$3,1),\"\")","v":""}]
[null,null,null,null,null,null,null,null,null,null,null,null,null,null,null,null,{"$f":"IFERROR(VLOOKUP(Q206,'P2'!$B$4:$J$48,9,FALSE),\"\")","v":""},{"$f":"IFERROR(VLOOKUP(R206,'P2'!$B$4:$J$48,9,FALSE),\"\")","v":""},{"$f":"IFERROR(VLOOKUP(S206,'P2'!$B$4:$J$48,9,FALSE),\"\")","v":""},{"$f":"IFERROR(VLOOKUP(T206,'P2'!$B$4:$J$48,9,FALSE),\"\")","v":""},{"$f":"IFERROR(VLOOKUP(U206,'P2'!$B$4:$J$48,9,FALSE),\"\")","v":""},{"$f":"IFERROR(VLOOKUP(V206,'P2'!$B$4:$J$48,9,FALSE),\"\")","v":""},{"$f":"IFERROR(VLOOKUP(W206,'P2'!$B$4:$J$48,9,FALSE),\"\")","v":""},{"$f":"IFERROR(VLOOKUP(X206,'P2'!$B$4:$J$48,9,FALSE),\"\")","v":""},{"$f":"IFERROR(VLOOKUP(Y206,'P2'!$B$4:$J$48,9,FALSE),\"\")","v":""},{"$f":"IFERROR(VLOOKUP(Z206,'P2'!$B$4:$J$48,9,FALSE),\"\")","v":""},{"$f":"IFERROR(VLOOKUP(AA206,'P2'!$B$4:$J$48,9,FALSE),\"\")","v":""},{"$f":"IFERROR(VLOOKUP(AB206,'P2'!$B$4:$J$48,9,FALSE),\"\")","v":""},{"$f":"IFERROR(VLOOKUP(AC206,'P2'!$B$4:$J$48,9,FALSE),\"\")","v":""},{"$f":"IFERROR(VLOOKUP(AD206,'P2'!$B$4:$J$48,9,FALSE),\"\")","v":""},{"$f":"IFERROR(VLOOKUP(AE206,'P2'!$B$4:$J$48,9,FALSE),\"\")","v":""},{"$f":"IFERROR(VLOOKUP(AF206,'P2'!$B$4:$J$48,9,FALSE),\"\")","v":""},{"$f":"IFERROR(VLOOKUP(AG206,'P2'!$B$4:$J$48,9,FALSE),\"\")","v":""},{"$f":"IFERROR(VLOOKUP(AH206,'P2'!$B$4:$J$48,9,FALSE),\"\")","v":""},{"$f":"IFERROR(VLOOKUP(AI206,'P2'!$B$4:$J$48,9,FALSE),\"\")","v":""},{"$f":"IFERROR(VLOOKUP(AJ206,'P2'!$B$4:$J$48,9,FALSE),\"\")","v":""},{"$f":"IFERROR(VLOOKUP(AK206,'P2'!$B$4:$J$48,9,FALSE),\"\")","v":""},{"$f":"IFERROR(VLOOKUP(AL206,'P2'!$B$4:$J$48,9,FALSE),\"\")","v":""},{"$f":"IFERROR(VLOOKUP(AM206,'P2'!$B$4:$J$48,9,FALSE),\"\")","v":""},{"$f":"IFERROR(VLOOKUP(AN206,'P2'!$B$4:$J$48,9,FALSE),\"\")","v":""},{"$f":"IFERROR(VLOOKUP(AO206,'P2'!$B$4:$J$48,9,FALSE),\"\")","v":""},{"$f":"IFERROR(VLOOKUP(AP206,'P2'!$B$4:$J$48,9,FALSE),\"\")","v":""},{"$f":"IFERROR(VLOOKUP(AQ206,'P2'!$B$4:$J$48,9,FALSE),\"\")","v":""},{"$f":"IFERROR(VLOOKUP(AR206,'P2'!$B$4:$J$48,9,FALSE),\"\")","v":""},{"$f":"IFERROR(VLOOKUP(AS206,'P2'!$B$4:$J$48,9,FALSE),\"\")","v":""},{"$f":"IFERROR(VLOOKUP(AT206,'P2'!$B$4:$J$48,9,FALSE),\"\")","v":""},{"$f":"IFERROR(VLOOKUP(AU206,'P2'!$B$4:$J$48,9,FALSE),\"\")","v":""},{"$f":"SUM(Q207:AU207)","v":0}]
[null,87,null,null,null,null,null,null,null,null,null,null,null,null,null,null,null,null,null,null,null,null,null,null,null,null,null,null,null,null,null,null,null,null,null,null,null,null,null,null,null,null,null,null,null,null,null,{"$f":"COUNTA(Q208:AU208)","v":0},{"$f":"AV209","v":0},{"$f":"IFERROR(ROUNDDOWN(AV209/$AT$3,1),\"\")","v":""}]
[null,null,null,null,null,null,null,null,null,null,null,null,null,null,null,null,{"$f":"IFERROR(VLOOKUP(Q208,'P2'!$B$4:$J$48,9,FALSE),\"\")","v":""},{"$f":"IFERROR(VLOOKUP(R208,'P2'!$B$4:$J$48,9,FALSE),\"\")","v":""},{"$f":"IFERROR(VLOOKUP(S208,'P2'!$B$4:$J$48,9,FALSE),\"\")","v":""},{"$f":"IFERROR(VLOOKUP(T208,'P2'!$B$4:$J$48,9,FALSE),\"\")","v":""},{"$f":"IFERROR(VLOOKUP(U208,'P2'!$B$4:$J$48,9,FALSE),\"\")","v":""},{"$f":"IFERROR(VLOOKUP(V208,'P2'!$B$4:$J$48,9,FALSE),\"\")","v":""},{"$f":"IFERROR(VLOOKUP(W208,'P2'!$B$4:$J$48,9,FALSE),\"\")","v":""},{"$f":"IFERROR(VLOOKUP(X208,'P2'!$B$4:$J$48,9,FALSE),\"\")","v":""},{"$f":"IFERROR(VLOOKUP(Y208,'P2'!$B$4:$J$48,9,FALSE),\"\")","v":""},{"$f":"IFERROR(VLOOKUP(Z208,'P2'!$B$4:$J$48,9,FALSE),\"\")","v":""},{"$f":"IFERROR(VLOOKUP(AA208,'P2'!$B$4:$J$48,9,FALSE),\"\")","v":""},{"$f":"IFERROR(VLOOKUP(AB208,'P2'!$B$4:$J$48,9,FALSE),\"\")","v":""},{"$f":"IFERROR(VLOOKUP(AC208,'P2'!$B$4:$J$48,9,FALSE),\"\")","v":""},{"$f":"IFERROR(VLOOKUP(AD208,'P2'!$B$4:$J$48,9,FALSE),\"\")","v":""},{"$f":"IFERROR(VLOOKUP(AE208,'P2'!$B$4:$J$48,9,FALSE),\"\")","v":""},{"$f":"IFERROR(VLOOKUP(AF208,'P2'!$B$4:$J$48,9,FALSE),\"\")","v":""},{"$f":"IFERROR(VLOOKUP(AG208,'P2'!$B$4:$J$48,9,FALSE),\"\")","v":""},{"$f":"IFERROR(VLOOKUP(AH208,'P2'!$B$4:$J$48,9,FALSE),\"\")","v":""},{"$f":"IFERROR(VLOOKUP(AI208,'P2'!$B$4:$J$48,9,FALSE),\"\")","v":""},{"$f":"IFERROR(VLOOKUP(AJ208,'P2'!$B$4:$J$48,9,FALSE),\"\")","v":""},{"$f":"IFERROR(VLOOKUP(AK208,'P2'!$B$4:$J$48,9,FALSE),\"\")","v":""},{"$f":"IFERROR(VLOOKUP(AL208,'P2'!$B$4:$J$48,9,FALSE),\"\")","v":""},{"$f":"IFERROR(VLOOKUP(AM208,'P2'!$B$4:$J$48,9,FALSE),\"\")","v":""},{"$f":"IFERROR(VLOOKUP(AN208,'P2'!$B$4:$J$48,9,FALSE),\"\")","v":""},{"$f":"IFERROR(VLOOKUP(AO208,'P2'!$B$4:$J$48,9,FALSE),\"\")","v":""},{"$f":"IFERROR(VLOOKUP(AP208,'P2'!$B$4:$J$48,9,FALSE),\"\")","v":""},{"$f":"IFERROR(VLOOKUP(AQ208,'P2'!$B$4:$J$48,9,FALSE),\"\")","v":""},{"$f":"IFERROR(VLOOKUP(AR208,'P2'!$B$4:$J$48,9,FALSE),\"\")","v":""},{"$f":"IFERROR(VLOOKUP(AS208,'P2'!$B$4:$J$48,9,FALSE),\"\")","v":""},{"$f":"IFERROR(VLOOKUP(AT208,'P2'!$B$4:$J$48,9,FALSE),\"\")","v":""},{"$f":"IFERROR(VLOOKUP(AU208,'P2'!$B$4:$J$48,9,FALSE),\"\")","v":""},{"$f":"SUM(Q209:AU209)","v":0}]
[null,88,null,null,null,null,null,null,null,null,null,null,null,null,null,null,null,null,null,null,null,null,null,null,null,null,null,null,null,null,null,null,null,null,null,null,null,null,null,null,null,null,null,null,null,null,null,{"$f":"COUNTA(Q210:AU210)","v":0},{"$f":"AV211","v":0},{"$f":"IFERROR(ROUNDDOWN(AV211/$AT$3,1),\"\")","v":""}]
[null,null,null,null,null,null,null,null,null,null,null,null,null,null,null,null,{"$f":"IFERROR(VLOOKUP(Q210,'P2'!$B$4:$J$48,9,FALSE),\"\")","v":""},{"$f":"IFERROR(VLOOKUP(R210,'P2'!$B$4:$J$48,9,FALSE),\"\")","v":""},{"$f":"IFERROR(VLOOKUP(S210,'P2'!$B$4:$J$48,9,FALSE),\"\")","v":""},{"$f":"IFERROR(VLOOKUP(T210,'P2'!$B$4:$J$48,9,FALSE),\"\")","v":""},{"$f":"IFERROR(VLOOKUP(U210,'P2'!$B$4:$J$48,9,FALSE),\"\")","v":""},{"$f":"IFERROR(VLOOKUP(V210,'P2'!$B$4:$J$48,9,FALSE),\"\")","v":""},{"$f":"IFERROR(VLOOKUP(W210,'P2'!$B$4:$J$48,9,FALSE),\"\")","v":""},{"$f":"IFERROR(VLOOKUP(X210,'P2'!$B$4:$J$48,9,FALSE),\"\")","v":""},{"$f":"IFERROR(VLOOKUP(Y210,'P2'!$B$4:$J$48,9,FALSE),\"\")","v":""},{"$f":"IFERROR(VLOOKUP(Z210,'P2'!$B$4:$J$48,9,FALSE),\"\")","v":""},{"$f":"IFERROR(VLOOKUP(AA210,'P2'!$B$4:$J$48,9,FALSE),\"\")","v":""},{"$f":"IFERROR(VLOOKUP(AB210,'P2'!$B$4:$J$48,9,FALSE),\"\")","v":""},{"$f":"IFERROR(VLOOKUP(AC210,'P2'!$B$4:$J$48,9,FALSE),\"\")","v":""},{"$f":"IFERROR(VLOOKUP(AD210,'P2'!$B$4:$J$48,9,FALSE),\"\")","v":""},{"$f":"IFERROR(VLOOKUP(AE210,'P2'!$B$4:$J$48,9,FALSE),\"\")","v":""},{"$f":"IFERROR(VLOOKUP(AF210,'P2'!$B$4:$J$48,9,FALSE),\"\")","v":""},{"$f":"IFERROR(VLOOKUP(AG210,'P2'!$B$4:$J$48,9,FALSE),\"\")","v":""},{"$f":"IFERROR(VLOOKUP(AH210,'P2'!$B$4:$J$48,9,FALSE),\"\")","v":""},{"$f":"IFERROR(VLOOKUP(AI210,'P2'!$B$4:$J$48,9,FALSE),\"\")","v":""},{"$f":"IFERROR(VLOOKUP(AJ210,'P2'!$B$4:$J$48,9,FALSE),\"\")","v":""},{"$f":"IFERROR(VLOOKUP(AK210,'P2'!$B$4:$J$48,9,FALSE),\"\")","v":""},{"$f":"IFERROR(VLOOKUP(AL210,'P2'!$B$4:$J$48,9,FALSE),\"\")","v":""},{"$f":"IFERROR(VLOOKUP(AM210,'P2'!$B$4:$J$48,9,FALSE),\"\")","v":""},{"$f":"IFERROR(VLOOKUP(AN210,'P2'!$B$4:$J$48,9,FALSE),\"\")","v":""},{"$f":"IFERROR(VLOOKUP(AO210,'P2'!$B$4:$J$48,9,FALSE),\"\")","v":""},{"$f":"IFERROR(VLOOKUP(AP210,'P2'!$B$4:$J$48,9,FALSE),\"\")","v":""},{"$f":"IFERROR(VLOOKUP(AQ210,'P2'!$B$4:$J$48,9,FALSE),\"\")","v":""},{"$f":"IFERROR(VLOOKUP(AR210,'P2'!$B$4:$J$48,9,FALSE),\"\")","v":""},{"$f":"IFERROR(VLOOKUP(AS210,'P2'!$B$4:$J$48,9,FALSE),\"\")","v":""},{"$f":"IFERROR(VLOOKUP(AT210,'P2'!$B$4:$J$48,9,FALSE),\"\")","v":""},{"$f":"IFERROR(VLOOKUP(AU210,'P2'!$B$4:$J$48,9,FALSE),\"\")","v":""},{"$f":"SUM(Q211:AU211)","v":0}]
[null,89,null,null,null,null,null,null,null,null,null,null,null,null,null,null,null,null,null,null,null,null,null,null,null,null,null,null,null,null,null,null,null,null,null,null,null,null,null,null,null,null,null,null,null,null,null,{"$f":"COUNTA(Q212:AU212)","v":0},{"$f":"AV213","v":0},{"$f":"IFERROR(ROUNDDOWN(AV213/$AT$3,1),\"\")","v":""}]
[null,null,null,null,null,null,null,null,null,null,null,null,null,null,null,null,{"$f":"IFERROR(VLOOKUP(Q212,'P2'!$B$4:$J$48,9,FALSE),\"\")","v":""},{"$f":"IFERROR(VLOOKUP(R212,'P2'!$B$4:$J$48,9,FALSE),\"\")","v":""},{"$f":"IFERROR(VLOOKUP(S212,'P2'!$B$4:$J$48,9,FALSE),\"\")","v":""},{"$f":"IFERROR(VLOOKUP(T212,'P2'!$B$4:$J$48,9,FALSE),\"\")","v":""},{"$f":"IFERROR(VLOOKUP(U212,'P2'!$B$4:$J$48,9,FALSE),\"\")","v":""},{"$f":"IFERROR(VLOOKUP(V212,'P2'!$B$4:$J$48,9,FALSE),\"\")","v":""},{"$f":"IFERROR(VLOOKUP(W212,'P2'!$B$4:$J$48,9,FALSE),\"\")","v":""},{"$f":"IFERROR(VLOOKUP(X212,'P2'!$B$4:$J$48,9,FALSE),\"\")","v":""},{"$f":"IFERROR(VLOOKUP(Y212,'P2'!$B$4:$J$48,9,FALSE),\"\")","v":""},{"$f":"IFERROR(VLOOKUP(Z212,'P2'!$B$4:$J$48,9,FALSE),\"\")","v":""},{"$f":"IFERROR(VLOOKUP(AA212,'P2'!$B$4:$J$48,9,FALSE),\"\")","v":""},{"$f":"IFERROR(VLOOKUP(AB212,'P2'!$B$4:$J$48,9,FALSE),\"\")","v":""},{"$f":"IFERROR(VLOOKUP(AC212,'P2'!$B$4:$J$48,9,FALSE),\"\")","v":""},{"$f":"IFERROR(VLOOKUP(AD212,'P2'!$B$4:$J$48,9,FALSE),\"\")","v":""},{"$f":"IFERROR(VLOOKUP(AE212,'P2'!$B$4:$J$48,9,FALSE),\"\")","v":""},{"$f":"IFERROR(VLOOKUP(AF212,'P2'!$B$4:$J$48,9,FALSE),\"\")","v":""},{"$f":"IFERROR(VLOOKUP(AG212,'P2'!$B$4:$J$48,9,FALSE),\"\")","v":""},{"$f":"IFERROR(VLOOKUP(AH212,'P2'!$B$4:$J$48,9,FALSE),\"\")","v":""},{"$f":"IFERROR(VLOOKUP(AI212,'P2'!$B$4:$J$48,9,FALSE),\"\")","v":""},{"$f":"IFERROR(VLOOKUP(AJ212,'P2'!$B$4:$J$48,9,FALSE),\"\")","v":""},{"$f":"IFERROR(VLOOKUP(AK212,'P2'!$B$4:$J$48,9,FALSE),\"\")","v":""},{"$f":"IFERROR(VLOOKUP(AL212,'P2'!$B$4:$J$48,9,FALSE),\"\")","v":""},{"$f":"IFERROR(VLOOKUP(AM212,'P2'!$B$4:$J$48,9,FALSE),\"\")","v":""},{"$f":"IFERROR(VLOOKUP(AN212,'P2'!$B$4:$J$48,9,FALSE),\"\")","v":""},{"$f":"IFERROR(VLOOKUP(AO212,'P2'!$B$4:$J$48,9,FALSE),\"\")","v":""},{"$f":"IFERROR(VLOOKUP(AP212,'P2'!$B$4:$J$48,9,FALSE),\"\")","v":""},{"$f":"IFERROR(VLOOKUP(AQ212,'P2'!$B$4:$J$48,9,FALSE),\"\")","v":""},{"$f":"IFERROR(VLOOKUP(AR212,'P2'!$B$4:$J$48,9,FALSE),\"\")","v":""},{"$f":"IFERROR(VLOOKUP(AS212,'P2'!$B$4:$J$48,9,FALSE),\"\")","v":""},{"$f":"IFERROR(VLOOKUP(AT212,'P2'!$B$4:$J$48,9,FALSE),\"\")","v":""},{"$f":"IFERROR(VLOOKUP(AU212,'P2'!$B$4:$J$48,9,FALSE),\"\")","v":""},{"$f":"SUM(Q213:AU213)","v":0}]
[null,90,null,null,null,null,null,null,null,null,null,null,null,null,null,null,null,null,null,null,null,null,null,null,null,null,null,null,null,null,null,null,null,null,null,null,null,null,null,null,null,null,null,null,null,null,null,{"$f":"COUNTA(Q214:AU214)","v":0},{"$f":"AV215","v":0},{"$f":"IFERROR(ROUNDDOWN(AV215/$AT$3,1),\"\")","v":""}]
[null,null,null,null,null,null,null,null,null,null,null,null,null,null,null,null,{"$f":"IFERROR(VLOOKUP(Q214,'P2'!$B$4:$J$48,9,FALSE),\"\")","v":""},{"$f":"IFERROR(VLOOKUP(R214,'P2'!$B$4:$J$48,9,FALSE),\"\")","v":""},{"$f":"IFERROR(VLOOKUP(S214,'P2'!$B$4:$J$48,9,FALSE),\"\")","v":""},{"$f":"IFERROR(VLOOKUP(T214,'P2'!$B$4:$J$48,9,FALSE),\"\")","v":""},{"$f":"IFERROR(VLOOKUP(U214,'P2'!$B$4:$J$48,9,FALSE),\"\")","v":""},{"$f":"IFERROR(VLOOKUP(V214,'P2'!$B$4:$J$48,9,FALSE),\"\")","v":""},{"$f":"IFERROR(VLOOKUP(W214,'P2'!$B$4:$J$48,9,FALSE),\"\")","v":""},{"$f":"IFERROR(VLOOKUP(X214,'P2'!$B$4:$J$48,9,FALSE),\"\")","v":""},{"$f":"IFERROR(VLOOKUP(Y214,'P2'!$B$4:$J$48,9,FALSE),\"\")","v":""},{"$f":"IFERROR(VLOOKUP(Z214,'P2'!$B$4:$J$48,9,FALSE),\"\")","v":""},{"$f":"IFERROR(VLOOKUP(AA214,'P2'!$B$4:$J$48,9,FALSE),\"\")","v":""},{"$f":"IFERROR(VLOOKUP(AB214,'P2'!$B$4:$J$48,9,FALSE),\"\")","v":""},{"$f":"IFERROR(VLOOKUP(AC214,'P2'!$B$4:$J$48,9,FALSE),\"\")","v":""},{"$f":"IFERROR(VLOOKUP(AD214,'P2'!$B$4:$J$48,9,FALSE),\"\")","v":""},{"$f":"IFERROR(VLOOKUP(AE214,'P2'!$B$4:$J$48,9,FALSE),\"\")","v":""},{"$f":"IFERROR(VLOOKUP(AF214,'P2'!$B$4:$J$48,9,FALSE),\"\")","v":""},{"$f":"IFERROR(VLOOKUP(AG214,'P2'!$B$4:$J$48,9,FALSE),\"\")","v":""},{"$f":"IFERROR(VLOOKUP(AH214,'P2'!$B$4:$J$48,9,FALSE),\"\")","v":""},{"$f":"IFERROR(VLOOKUP(AI214,'P2'!$B$4:$J$48,9,FALSE),\"\")","v":""},{"$f":"IFERROR(VLOOKUP(AJ214,'P2'!$B$4:$J$48,9,FALSE),\"\")","v":""},{"$f":"IFERROR(VLOOKUP(AK214,'P2'!$B$4:$J$48,9,FALSE),\"\")","v":""},{"$f":"IFERROR(VLOOKUP(AL214,'P2'!$B$4:$J$48,9,FALSE),\"\")","v":""},{"$f":"IFERROR(VLOOKUP(AM214,'P2'!$B$4:$J$48,9,FALSE),\"\")","v":""},{"$f":"IFERROR(VLOOKUP(AN214,'P2'!$B$4:$J$48,9,FALSE),\"\")","v":""},{"$f":"IFERROR(VLOOKUP(AO214,'P2'!$B$4:$J$48,9,FALSE),\"\")","v":""},{"$f":"IFERROR(VLOOKUP(AP214,'P2'!$B$4:$J$48,9,FALSE),\"\")","v":""},{"$f":"IFERROR(VLOOKUP(AQ214,'P2'!$B$4:$J$48,9,FALSE),\"\")","v":""},{"$f":"IFERROR(VLOOKUP(AR214,'P2'!$B$4:$J$48,9,FALSE),\"\")","v":""},{"$f":"IFERROR(VLOOKUP(AS214,'P2'!$B$4:$J$48,9,FALSE),\"\")","v":""},{"$f":"IFERROR(VLOOKUP(AT214,'P2'!$B$4:$J$48,9,FALSE),\"\")","v":""},{"$f":"IFERROR(VLOOKUP(AU214,'P2'!$B$4:$J$48,9,FALSE),\"\")","v":""},{"$f":"SUM(Q215:AU215)","v":0}]
[null,91,null,null,null,null,null,null,null,null,null,null,null,null,null,null,null,null,null,null,null,null,null,null,null,null,null,null,null,null,null,null,null,null,null,null,null,null,null,null,null,null,null,null,null,null,null,{"$f":"COUNTA(Q216:AU216)","v":0},{"$f":"AV217","v":0},{"$f":"IFERROR(ROUNDDOWN(AV217/$AT$3,1),\"\")","v":""}]
[null,null,null,null,null,null,null,null,null,null,null,null,null,null,null,null,{"$f":"IFERROR(VLOOKUP(Q216,'P2'!$B$4:$J$48,9,FALSE),\"\")","v":""},{"$f":"IFERROR(VLOOKUP(R216,'P2'!$B$4:$J$48,9,FALSE),\"\")","v":""},{"$f":"IFERROR(VLOOKUP(S216,'P2'!$B$4:$J$48,9,FALSE),\"\")","v":""},{"$f":"IFERROR(VLOOKUP(T216,'P2'!$B$4:$J$48,9,FALSE),\"\")","v":""},{"$f":"IFERROR(VLOOKUP(U216,'P2'!$B$4:$J$48,9,FALSE),\"\")","v":""},{"$f":"IFERROR(VLOOKUP(V216,'P2'!$B$4:$J$48,9,FALSE),\"\")","v":""},{"$f":"IFERROR(VLOOKUP(W216,'P2'!$B$4:$J$48,9,FALSE),\"\")","v":""},{"$f":"IFERROR(VLOOKUP(X216,'P2'!$B$4:$J$48,9,FALSE),\"\")","v":""},{"$f":"IFERROR(VLOOKUP(Y216,'P2'!$B$4:$J$48,9,FALSE),\"\")","v":""},{"$f":"IFERROR(VLOOKUP(Z216,'P2'!$B$4:$J$48,9,FALSE),\"\")","v":""},{"$f":"IFERROR(VLOOKUP(AA216,'P2'!$B$4:$J$48,9,FALSE),\"\")","v":""},{"$f":"IFERROR(VLOOKUP(AB216,'P2'!$B$4:$J$48,9,FALSE),\"\")","v":""},{"$f":"IFERROR(VLOOKUP(AC216,'P2'!$B$4:$J$48,9,FALSE),\"\")","v":""},{"$f":"IFERROR(VLOOKUP(AD216,'P2'!$B$4:$J$48,9,FALSE),\"\")","v":""},{"$f":"IFERROR(VLOOKUP(AE216,'P2'!$B$4:$J$48,9,FALSE),\"\")","v":""},{"$f":"IFERROR(VLOOKUP(AF216,'P2'!$B$4:$J$48,9,FALSE),\"\")","v":""},{"$f":"IFERROR(VLOOKUP(AG216,'P2'!$B$4:$J$48,9,FALSE),\"\")","v":""},{"$f":"IFERROR(VLOOKUP(AH216,'P2'!$B$4:$J$48,9,FALSE),\"\")","v":""},{"$f":"IFERROR(VLOOKUP(AI216,'P2'!$B$4:$J$48,9,FALSE),\"\")","v":""},{"$f":"IFERROR(VLOOKUP(AJ216,'P2'!$B$4:$J$48,9,FALSE),\"\")","v":""},{"$f":"IFERROR(VLOOKUP(AK216,'P2'!$B$4:$J$48,9,FALSE),\"\")","v":""},{"$f":"IFERROR(VLOOKUP(AL216,'P2'!$B$4:$J$48,9,FALSE),\"\")","v":""},{"$f":"IFERROR(VLOOKUP(AM216,'P2'!$B$4:$J$48,9,FALSE),\"\")","v":""},{"$f":"IFERROR(VLOOKUP(AN216,'P2'!$B$4:$J$48,9,FALSE),\"\")","v":""},{"$f":"IFERROR(VLOOKUP(AO216,'P2'!$B$4:$J$48,9,FALSE),\"\")","v":""},{"$f":"IFERROR(VLOOKUP(AP216,'P2'!$B$4:$J$48,9,FALSE),\"\")","v":""},{"$f":"IFERROR(VLOOKUP(AQ216,'P2'!$B$4:$J$48,9,FALSE),\"\")","v":""},{"$f":"IFERROR(VLOOKUP(AR216,'P2'!$B$4:$J$48,9,FALSE),\"\")","v":""},{"$f":"IFERROR(VLOOKUP(AS216,'P2'!$B$4:$J$48,9,FALSE),\"\")","v":""},{"$f":"IFERROR(VLOOKUP(AT216,'P2'!$B$4:$J$48,9,FALSE),\"\")","v":""},{"$f":"IFERROR(VLOOKUP(AU216,'P2'!$B$4:$J$48,9,FALSE),\"\")","v":""},{"$f":"SUM(Q217:AU217)","v":0}]
[null,92,null,null,null,null,null,null,null,null,null,null,null,null,null,null,null,null,null,null,null,null,null,null,null,null,null,null,null,null,null,null,null,null,null,null,null,null,null,null,null,null,null,null,null,null,null,{"$f":"COUNTA(Q218:AU218)","v":0},{"$f":"AV219","v":0},{"$f":"IFERROR(ROUNDDOWN(AV219/$AT$3,1),\"\")","v":""}]
[null,null,null,null,null,null,null,null,null,null,null,null,null,null,null,null,{"$f":"IFERROR(VLOOKUP(Q218,'P2'!$B$4:$J$48,9,FALSE),\"\")","v":""},{"$f":"IFERROR(VLOOKUP(R218,'P2'!$B$4:$J$48,9,FALSE),\"\")","v":""},{"$f":"IFERROR(VLOOKUP(S218,'P2'!$B$4:$J$48,9,FALSE),\"\")","v":""},{"$f":"IFERROR(VLOOKUP(T218,'P2'!$B$4:$J$48,9,FALSE),\"\")","v":""},{"$f":"IFERROR(VLOOKUP(U218,'P2'!$B$4:$J$48,9,FALSE),\"\")","v":""},{"$f":"IFERROR(VLOOKUP(V218,'P2'!$B$4:$J$48,9,FALSE),\"\")","v":""},{"$f":"IFERROR(VLOOKUP(W218,'P2'!$B$4:$J$48,9,FALSE),\"\")","v":""},{"$f":"IFERROR(VLOOKUP(X218,'P2'!$B$4:$J$48,9,FALSE),\"\")","v":""},{"$f":"IFERROR(VLOOKUP(Y218,'P2'!$B$4:$J$48,9,FALSE),\"\")","v":""},{"$f":"IFERROR(VLOOKUP(Z218,'P2'!$B$4:$J$48,9,FALSE),\"\")","v":""},{"$f":"IFERROR(VLOOKUP(AA218,'P2'!$B$4:$J$48,9,FALSE),\"\")","v":""},{"$f":"IFERROR(VLOOKUP(AB218,'P2'!$B$4:$J$48,9,FALSE),\"\")","v":""},{"$f":"IFERROR(VLOOKUP(AC218,'P2'!$B$4:$J$48,9,FALSE),\"\")","v":""},{"$f":"IFERROR(VLOOKUP(AD218,'P2'!$B$4:$J$48,9,FALSE),\"\")","v":""},{"$f":"IFERROR(VLOOKUP(AE218,'P2'!$B$4:$J$48,9,FALSE),\"\")","v":""},{"$f":"IFERROR(VLOOKUP(AF218,'P2'!$B$4:$J$48,9,FALSE),\"\")","v":""},{"$f":"IFERROR(VLOOKUP(AG218,'P2'!$B$4:$J$48,9,FALSE),\"\")","v":""},{"$f":"IFERROR(VLOOKUP(AH218,'P2'!$B$4:$J$48,9,FALSE),\"\")","v":""},{"$f":"IFERROR(VLOOKUP(AI218,'P2'!$B$4:$J$48,9,FALSE),\"\")","v":""},{"$f":"IFERROR(VLOOKUP(AJ218,'P2'!$B$4:$J$48,9,FALSE),\"\")","v":""},{"$f":"IFERROR(VLOOKUP(AK218,'P2'!$B$4:$J$48,9,FALSE),\"\")","v":""},{"$f":"IFERROR(VLOOKUP(AL218,'P2'!$B$4:$J$48,9,FALSE),\"\")","v":""},{"$f":"IFERROR(VLOOKUP(AM218,'P2'!$B$4:$J$48,9,FALSE),\"\")","v":""},{"$f":"IFERROR(VLOOKUP(AN218,'P2'!$B$4:$J$48,9,FALSE),\"\")","v":""},{"$f":"IFERROR(VLOOKUP(AO218,'P2'!$B$4:$J$48,9,FALSE),\"\")","v":""},{"$f":"IFERROR(VLOOKUP(AP218,'P2'!$B$4:$J$48,9,FALSE),\"\")","v":""},{"$f":"IFERROR(VLOOKUP(AQ218,'P2'!$B$4:$J$48,9,FALSE),\"\")","v":""},{"$f":"IFERROR(VLOOKUP(AR218,'P2'!$B$4:$J$48,9,FALSE),\"\")","v":""},{"$f":"IFERROR(VLOOKUP(AS218,'P2'!$B$4:$J$48,9,FALSE),\"\")","v":""},{"$f":"IFERROR(VLOOKUP(AT218,'P2'!$B$4:$J$48,9,FALSE),\"\")","v":""},{"$f":"IFERROR(VLOOKUP(AU218,'P2'!$B$4:$J$48,9,FALSE),\"\")","v":""},{"$f":"SUM(Q219:AU219)","v":0}]
[null,93,null,null,null,null,null,null,null,null,null,null,null,null,null,null,null,null,null,null,null,null,null,null,null,null,null,null,null,null,null,null,null,null,null,null,null,null,null,null,null,null,null,null,null,null,null,{"$f":"COUNTA(Q220:AU220)","v":0},{"$f":"AV221","v":0},{"$f":"IFERROR(ROUNDDOWN(AV221/$AT$3,1),\"\")","v":""}]
[null,null,null,null,null,null,null,null,null,null,null,null,null,null,null,null,{"$f":"IFERROR(VLOOKUP(Q220,'P2'!$B$4:$J$48,9,FALSE),\"\")","v":""},{"$f":"IFERROR(VLOOKUP(R220,'P2'!$B$4:$J$48,9,FALSE),\"\")","v":""},{"$f":"IFERROR(VLOOKUP(S220,'P2'!$B$4:$J$48,9,FALSE),\"\")","v":""},{"$f":"IFERROR(VLOOKUP(T220,'P2'!$B$4:$J$48,9,FALSE),\"\")","v":""},{"$f":"IFERROR(VLOOKUP(U220,'P2'!$B$4:$J$48,9,FALSE),\"\")","v":""},{"$f":"IFERROR(VLOOKUP(V220,'P2'!$B$4:$J$48,9,FALSE),\"\")","v":""},{"$f":"IFERROR(VLOOKUP(W220,'P2'!$B$4:$J$48,9,FALSE),\"\")","v":""},{"$f":"IFERROR(VLOOKUP(X220,'P2'!$B$4:$J$48,9,FALSE),\"\")","v":""},{"$f":"IFERROR(VLOOKUP(Y220,'P2'!$B$4:$J$48,9,FALSE),\"\")","v":""},{"$f":"IFERROR(VLOOKUP(Z220,'P2'!$B$4:$J$48,9,FALSE),\"\")","v":""},{"$f":"IFERROR(VLOOKUP(AA220,'P2'!$B$4:$J$48,9,FALSE),\"\")","v":""},{"$f":"IFERROR(VLOOKUP(AB220,'P2'!$B$4:$J$48,9,FALSE),\"\")","v":""},{"$f":"IFERROR(VLOOKUP(AC220,'P2'!$B$4:$J$48,9,FALSE),\"\")","v":""},{"$f":"IFERROR(VLOOKUP(AD220,'P2'!$B$4:$J$48,9,FALSE),\"\")","v":""},{"$f":"IFERROR(VLOOKUP(AE220,'P2'!$B$4:$J$48,9,FALSE),\"\")","v":""},{"$f":"IFERROR(VLOOKUP(AF220,'P2'!$B$4:$J$48,9,FALSE),\"\")","v":""},{"$f":"IFERROR(VLOOKUP(AG220,'P2'!$B$4:$J$48,9,FALSE),\"\")","v":""},{"$f":"IFERROR(VLOOKUP(AH220,'P2'!$B$4:$J$48,9,FALSE),\"\")","v":""},{"$f":"IFERROR(VLOOKUP(AI220,'P2'!$B$4:$J$48,9,FALSE),\"\")","v":""},{"$f":"IFERROR(VLOOKUP(AJ220,'P2'!$B$4:$J$48,9,FALSE),\"\")","v":""},{"$f":"IFERROR(VLOOKUP(AK220,'P2'!$B$4:$J$48,9,FALSE),\"\")","v":""},{"$f":"IFERROR(VLOOKUP(AL220,'P2'!$B$4:$J$48,9,FALSE),\"\")","v":""},{"$f":"IFERROR(VLOOKUP(AM220,'P2'!$B$4:$J$48,9,FALSE),\"\")","v":""},{"$f":"IFERROR(VLOOKUP(AN220,'P2'!$B$4:$J$48,9,FALSE),\"\")","v":""},{"$f":"IFERROR(VLOOKUP(AO220,'P2'!$B$4:$J$48,9,FALSE),\"\")","v":""},{"$f":"IFERROR(VLOOKUP(AP220,'P2'!$B$4:$J$48,9,FALSE),\"\")","v":""},{"$f":"IFERROR(VLOOKUP(AQ220,'P2'!$B$4:$J$48,9,FALSE),\"\")","v":""},{"$f":"IFERROR(VLOOKUP(AR220,'P2'!$B$4:$J$48,9,FALSE),\"\")","v":""},{"$f":"IFERROR(VLOOKUP(AS220,'P2'!$B$4:$J$48,9,FALSE),\"\")","v":""},{"$f":"IFERROR(VLOOKUP(AT220,'P2'!$B$4:$J$48,9,FALSE),\"\")","v":""},{"$f":"IFERROR(VLOOKUP(AU220,'P2'!$B$4:$J$48,9,FALSE),\"\")","v":""},{"$f":"SUM(Q221:AU221)","v":0}]
[null,94,null,null,null,null,null,null,null,null,null,null,null,null,null,null,null,null,null,null,null,null,null,null,null,null,null,null,null,null,null,null,null,null,null,null,null,null,null,null,null,null,null,null,null,null,null,{"$f":"COUNTA(Q222:AU222)","v":0},{"$f":"AV223","v":0},{"$f":"IFERROR(ROUNDDOWN(AV223/$AT$3,1),\"\")","v":""}]
[null,null,null,null,null,null,null,null,null,null,null,null,null,null,null,null,{"$f":"IFERROR(VLOOKUP(Q222,'P2'!$B$4:$J$48,9,FALSE),\"\")","v":""},{"$f":"IFERROR(VLOOKUP(R222,'P2'!$B$4:$J$48,9,FALSE),\"\")","v":""},{"$f":"IFERROR(VLOOKUP(S222,'P2'!$B$4:$J$48,9,FALSE),\"\")","v":""},{"$f":"IFERROR(VLOOKUP(T222,'P2'!$B$4:$J$48,9,FALSE),\"\")","v":""},{"$f":"IFERROR(VLOOKUP(U222,'P2'!$B$4:$J$48,9,FALSE),\"\")","v":""},{"$f":"IFERROR(VLOOKUP(V222,'P2'!$B$4:$J$48,9,FALSE),\"\")","v":""},{"$f":"IFERROR(VLOOKUP(W222,'P2'!$B$4:$J$48,9,FALSE),\"\")","v":""},{"$f":"IFERROR(VLOOKUP(X222,'P2'!$B$4:$J$48,9,FALSE),\"\")","v":""},{"$f":"IFERROR(VLOOKUP(Y222,'P2'!$B$4:$J$48,9,FALSE),\"\")","v":""},{"$f":"IFERROR(VLOOKUP(Z222,'P2'!$B$4:$J$48,9,FALSE),\"\")","v":""},{"$f":"IFERROR(VLOOKUP(AA222,'P2'!$B$4:$J$48,9,FALSE),\"\")","v":""},{"$f":"IFERROR(VLOOKUP(AB222,'P2'!$B$4:$J$48,9,FALSE),\"\")","v":""},{"$f":"IFERROR(VLOOKUP(AC222,'P2'!$B$4:$J$48,9,FALSE),\"\")","v":""},{"$f":"IFERROR(VLOOKUP(AD222,'P2'!$B$4:$J$48,9,FALSE),\"\")","v":""},{"$f":"IFERROR(VLOOKUP(AE222,'P2'!$B$4:$J$48,9,FALSE),\"\")","v":""},{"$f":"IFERROR(VLOOKUP(AF222,'P2'!$B$4:$J$48,9,FALSE),\"\")","v":""},{"$f":"IFERROR(VLOOKUP(AG222,'P2'!$B$4:$J$48,9,FALSE),\"\")","v":""},{"$f":"IFERROR(VLOOKUP(AH222,'P2'!$B$4:$J$48,9,FALSE),\"\")","v":""},{"$f":"IFERROR(VLOOKUP(AI222,'P2'!$B$4:$J$48,9,FALSE),\"\")","v":""},{"$f":"IFERROR(VLOOKUP(AJ222,'P2'!$B$4:$J$48,9,FALSE),\"\")","v":""},{"$f":"IFERROR(VLOOKUP(AK222,'P2'!$B$4:$J$48,9,FALSE),\"\")","v":""},{"$f":"IFERROR(VLOOKUP(AL222,'P2'!$B$4:$J$48,9,FALSE),\"\")","v":""},{"$f":"IFERROR(VLOOKUP(AM222,'P2'!$B$4:$J$48,9,FALSE),\"\")","v":""},{"$f":"IFERROR(VLOOKUP(AN222,'P2'!$B$4:$J$48,9,FALSE),\"\")","v":""},{"$f":"IFERROR(VLOOKUP(AO222,'P2'!$B$4:$J$48,9,FALSE),\"\")","v":""},{"$f":"IFERROR(VLOOKUP(AP222,'P2'!$B$4:$J$48,9,FALSE),\"\")","v":""},{"$f":"IFERROR(VLOOKUP(AQ222,'P2'!$B$4:$J$48,9,FALSE),\"\")","v":""},{"$f":"IFERROR(VLOOKUP(AR222,'P2'!$B$4:$J$48,9,FALSE),\"\")","v":""},{"$f":"IFERROR(VLOOKUP(AS222,'P2'!$B$4:$J$48,9,FALSE),\"\")","v":""},{"$f":"IFERROR(VLOOKUP(AT222,'P2'!$B$4:$J$48,9,FALSE),\"\")","v":""},{"$f":"IFERROR(VLOOKUP(AU222,'P2'!$B$4:$J$48,9,FALSE),\"\")","v":""},{"$f":"SUM(Q223:AU223)","v":0}]
[null,95,null,null,null,null,null,null,null,null,null,null,null,null,null,null,null,null,null,null,null,null,null,null,null,null,null,null,null,null,null,null,null,null,null,null,null,null,null,null,null,null,null,null,null,null,null,{"$f":"COUNTA(Q224:AU224)","v":0},{"$f":"AV225","v":0},{"$f":"IFERROR(ROUNDDOWN(AV225/$AT$3,1),\"\")","v":""}]
[null,null,null,null,null,null,null,null,null,null,null,null,null,null,null,null,{"$f":"IFERROR(VLOOKUP(Q224,'P2'!$B$4:$J$48,9,FALSE),\"\")","v":""},{"$f":"IFERROR(VLOOKUP(R224,'P2'!$B$4:$J$48,9,FALSE),\"\")","v":""},{"$f":"IFERROR(VLOOKUP(S224,'P2'!$B$4:$J$48,9,FALSE),\"\")","v":""},{"$f":"IFERROR(VLOOKUP(T224,'P2'!$B$4:$J$48,9,FALSE),\"\")","v":""},{"$f":"IFERROR(VLOOKUP(U224,'P2'!$B$4:$J$48,9,FALSE),\"\")","v":""},{"$f":"IFERROR(VLOOKUP(V224,'P2'!$B$4:$J$48,9,FALSE),\"\")","v":""},{"$f":"IFERROR(VLOOKUP(W224,'P2'!$B$4:$J$48,9,FALSE),\"\")","v":""},{"$f":"IFERROR(VLOOKUP(X224,'P2'!$B$4:$J$48,9,FALSE),\"\")","v":""},{"$f":"IFERROR(VLOOKUP(Y224,'P2'!$B$4:$J$48,9,FALSE),\"\")","v":""},{"$f":"IFERROR(VLOOKUP(Z224,'P2'!$B$4:$J$48,9,FALSE),\"\")","v":""},{"$f":"IFERROR(VLOOKUP(AA224,'P2'!$B$4:$J$48,9,FALSE),\"\")","v":""},{"$f":"IFERROR(VLOOKUP(AB224,'P2'!$B$4:$J$48,9,FALSE),\"\")","v":""},{"$f":"IFERROR(VLOOKUP(AC224,'P2'!$B$4:$J$48,9,FALSE),\"\")","v":""},{"$f":"IFERROR(VLOOKUP(AD224,'P2'!$B$4:$J$48,9,FALSE),\"\")","v":""},{"$f":"IFERROR(VLOOKUP(AE224,'P2'!$B$4:$J$48,9,FALSE),\"\")","v":""},{"$f":"IFERROR(VLOOKUP(AF224,'P2'!$B$4:$J$48,9,FALSE),\"\")","v":""},{"$f":"IFERROR(VLOOKUP(AG224,'P2'!$B$4:$J$48,9,FALSE),\"\")","v":""},{"$f":"IFERROR(VLOOKUP(AH224,'P2'!$B$4:$J$48,9,FALSE),\"\")","v":""},{"$f":"IFERROR(VLOOKUP(AI224,'P2'!$B$4:$J$48,9,FALSE),\"\")","v":""},{"$f":"IFERROR(VLOOKUP(AJ224,'P2'!$B$4:$J$48,9,FALSE),\"\")","v":""},{"$f":"IFERROR(VLOOKUP(AK224,'P2'!$B$4:$J$48,9,FALSE),\"\")","v":""},{"$f":"IFERROR(VLOOKUP(AL224,'P2'!$B$4:$J$48,9,FALSE),\"\")","v":""},{"$f":"IFERROR(VLOOKUP(AM224,'P2'!$B$4:$J$48,9,FALSE),\"\")","v":""},{"$f":"IFERROR(VLOOKUP(AN224,'P2'!$B$4:$J$48,9,FALSE),\"\")","v":""},{"$f":"IFERROR(VLOOKUP(AO224,'P2'!$B$4:$J$48,9,FALSE),\"\")","v":""},{"$f":"IFERROR(VLOOKUP(AP224,'P2'!$B$4:$J$48,9,FALSE),\"\")","v":""},{"$f":"IFERROR(VLOOKUP(AQ224,'P2'!$B$4:$J$48,9,FALSE),\"\")","v":""},{"$f":"IFERROR(VLOOKUP(AR224,'P2'!$B$4:$J$48,9,FALSE),\"\")","v":""},{"$f":"IFERROR(VLOOKUP(AS224,'P2'!$B$4:$J$48,9,FALSE),\"\")","v":""},{"$f":"IFERROR(VLOOKUP(AT224,'P2'!$B$4:$J$48,9,FALSE),\"\")","v":""},{"$f":"IFERROR(VLOOKUP(AU224,'P2'!$B$4:$J$48,9,FALSE),\"\")","v":""},{"$f":"SUM(Q225:AU225)","v":0}]
[null,96,null,null,null,null,null,null,null,null,null,null,null,null,null,null,null,null,null,null,null,null,null,null,null,null,null,null,null,null,null,null,null,null,null,null,null,null,null,null,null,null,null,null,null,null,null,{"$f":"COUNTA(Q226:AU226)","v":0},{"$f":"AV227","v":0},{"$f":"IFERROR(ROUNDDOWN(AV227/$AT$3,1),\"\")","v":""}]
[null,null,null,null,null,null,null,null,null,null,null,null,null,null,null,null,{"$f":"IFERROR(VLOOKUP(Q226,'P2'!$B$4:$J$48,9,FALSE),\"\")","v":""},{"$f":"IFERROR(VLOOKUP(R226,'P2'!$B$4:$J$48,9,FALSE),\"\")","v":""},{"$f":"IFERROR(VLOOKUP(S226,'P2'!$B$4:$J$48,9,FALSE),\"\")","v":""},{"$f":"IFERROR(VLOOKUP(T226,'P2'!$B$4:$J$48,9,FALSE),\"\")","v":""},{"$f":"IFERROR(VLOOKUP(U226,'P2'!$B$4:$J$48,9,FALSE),\"\")","v":""},{"$f":"IFERROR(VLOOKUP(V226,'P2'!$B$4:$J$48,9,FALSE),\"\")","v":""},{"$f":"IFERROR(VLOOKUP(W226,'P2'!$B$4:$J$48,9,FALSE),\"\")","v":""},{"$f":"IFERROR(VLOOKUP(X226,'P2'!$B$4:$J$48,9,FALSE),\"\")","v":""},{"$f":"IFERROR(VLOOKUP(Y226,'P2'!$B$4:$J$48,9,FALSE),\"\")","v":""},{"$f":"IFERROR(VLOOKUP(Z226,'P2'!$B$4:$J$48,9,FALSE),\"\")","v":""},{"$f":"IFERROR(VLOOKUP(AA226,'P2'!$B$4:$J$48,9,FALSE),\"\")","v":""},{"$f":"IFERROR(VLOOKUP(AB226,'P2'!$B$4:$J$48,9,FALSE),\"\")","v":""},{"$f":"IFERROR(VLOOKUP(AC226,'P2'!$B$4:$J$48,9,FALSE),\"\")","v":""},{"$f":"IFERROR(VLOOKUP(AD226,'P2'!$B$4:$J$48,9,FALSE),\"\")","v":""},{"$f":"IFERROR(VLOOKUP(AE226,'P2'!$B$4:$J$48,9,FALSE),\"\")","v":""},{"$f":"IFERROR(VLOOKUP(AF226,'P2'!$B$4:$J$48,9,FALSE),\"\")","v":""},{"$f":"IFERROR(VLOOKUP(AG226,'P2'!$B$4:$J$48,9,FALSE),\"\")","v":""},{"$f":"IFERROR(VLOOKUP(AH226,'P2'!$B$4:$J$48,9,FALSE),\"\")","v":""},{"$f":"IFERROR(VLOOKUP(AI226,'P2'!$B$4:$J$48,9,FALSE),\"\")","v":""},{"$f":"IFERROR(VLOOKUP(AJ226,'P2'!$B$4:$J$48,9,FALSE),\"\")","v":""},{"$f":"IFERROR(VLOOKUP(AK226,'P2'!$B$4:$J$48,9,FALSE),\"\")","v":""},{"$f":"IFERROR(VLOOKUP(AL226,'P2'!$B$4:$J$48,9,FALSE),\"\")","v":""},{"$f":"IFERROR(VLOOKUP(AM226,'P2'!$B$4:$J$48,9,FALSE),\"\")","v":""},{"$f":"IFERROR(VLOOKUP(AN226,'P2'!$B$4:$J$48,9,FALSE),\"\")","v":""},{"$f":"IFERROR(VLOOKUP(AO226,'P2'!$B$4:$J$48,9,FALSE),\"\")","v":""},{"$f":"IFERROR(VLOOKUP(AP226,'P2'!$B$4:$J$48,9,FALSE),\"\")","v":""},{"$f":"IFERROR(VLOOKUP(AQ226,'P2'!$B$4:$J$48,9,FALSE),\"\")","v":""},{"$f":"IFERROR(VLOOKUP(AR226,'P2'!$B$4:$J$48,9,FALSE),\"\")","v":""},{"$f":"IFERROR(VLOOKUP(AS226,'P2'!$B$4:$J$48,9,FALSE),\"\")","v":""},{"$f":"IFERROR(VLOOKUP(AT226,'P2'!$B$4:$J$48,9,FALSE),\"\")","v":""},{"$f":"IFERROR(VLOOKUP(AU226,'P2'!$B$4:$J$48,9,FALSE),\"\")","v":""},{"$f":"SUM(Q227:AU227)","v":0}]
[null,97,null,null,null,null,null,null,null,null,null,null,null,null,null,null,null,null,null,null,null,null,null,null,null,null,null,null,null,null,null,null,null,null,null,null,null,null,null,null,null,null,null,null,null,null,null,{"$f":"COUNTA(Q228:AU228)","v":0},{"$f":"AV229","v":0},{"$f":"IFERROR(ROUNDDOWN(AV229/$AT$3,1),\"\")","v":""}]
[null,null,null,null,null,null,null,null,null,null,null,null,null,null,null,null,{"$f":"IFERROR(VLOOKUP(Q228,'P2'!$B$4:$J$48,9,FALSE),\"\")","v":""},{"$f":"IFERROR(VLOOKUP(R228,'P2'!$B$4:$J$48,9,FALSE),\"\")","v":""},{"$f":"IFERROR(VLOOKUP(S228,'P2'!$B$4:$J$48,9,FALSE),\"\")","v":""},{"$f":"IFERROR(VLOOKUP(T228,'P2'!$B$4:$J$48,9,FALSE),\"\")","v":""},{"$f":"IFERROR(VLOOKUP(U228,'P2'!$B$4:$J$48,9,FALSE),\"\")","v":""},{"$f":"IFERROR(VLOOKUP(V228,'P2'!$B$4:$J$48,9,FALSE),\"\")","v":""},{"$f":"IFERROR(VLOOKUP(W228,'P2'!$B$4:$J$48,9,FALSE),\"\")","v":""},{"$f":"IFERROR(VLOOKUP(X228,'P2'!$B$4:$J$48,9,FALSE),\"\")","v":""},{"$f":"IFERROR(VLOOKUP(Y228,'P2'!$B$4:$J$48,9,FALSE),\"\")","v":""},{"$f":"IFERROR(VLOOKUP(Z228,'P2'!$B$4:$J$48,9,FALSE),\"\")","v":""},{"$f":"IFERROR(VLOOKUP(AA228,'P2'!$B$4:$J$48,9,FALSE),\"\")","v":""},{"$f":"IFERROR(VLOOKUP(AB228,'P2'!$B$4:$J$48,9,FALSE),\"\")","v":""},{"$f":"IFERROR(VLOOKUP(AC228,'P2'!$B$4:$J$48,9,FALSE),\"\")","v":""},{"$f":"IFERROR(VLOOKUP(AD228,'P2'!$B$4:$J$48,9,FALSE),\"\")","v":""},{"$f":"IFERROR(VLOOKUP(AE228,'P2'!$B$4:$J$48,9,FALSE),\"\")","v":""},{"$f":"IFERROR(VLOOKUP(AF228,'P2'!$B$4:$J$48,9,FALSE),\"\")","v":""},{"$f":"IFERROR(VLOOKUP(AG228,'P2'!$B$4:$J$48,9,FALSE),\"\")","v":""},{"$f":"IFERROR(VLOOKUP(AH228,'P2'!$B$4:$J$48,9,FALSE),\"\")","v":""},{"$f":"IFERROR(VLOOKUP(AI228,'P2'!$B$4:$J$48,9,FALSE),\"\")","v":""},{"$f":"IFERROR(VLOOKUP(AJ228,'P2'!$B$4:$J$48,9,FALSE),\"\")","v":""},{"$f":"IFERROR(VLOOKUP(AK228,'P2'!$B$4:$J$48,9,FALSE),\"\")","v":""},{"$f":"IFERROR(VLOOKUP(AL228,'P2'!$B$4:$J$48,9,FALSE),\"\")","v":""},{"$f":"IFERROR(VLOOKUP(AM228,'P2'!$B$4:$J$48,9,FALSE),\"\")","v":""},{"$f":"IFERROR(VLOOKUP(AN228,'P2'!$B$4:$J$48,9,FALSE),\"\")","v":""},{"$f":"IFERROR(VLOOKUP(AO228,'P2'!$B$4:$J$48,9,FALSE),\"\")","v":""},{"$f":"IFERROR(VLOOKUP(AP228,'P2'!$B$4:$J$48,9,FALSE),\"\")","v":""},{"$f":"IFERROR(VLOOKUP(AQ228,'P2'!$B$4:$J$48,9,FALSE),\"\")","v":""},{"$f":"IFERROR(VLOOKUP(AR228,'P2'!$B$4:$J$48,9,FALSE),\"\")","v":""},{"$f":"IFERROR(VLOOKUP(AS228,'P2'!$B$4:$J$48,9,FALSE),\"\")","v":""},{"$f":"IFERROR(VLOOKUP(AT228,'P2'!$B$4:$J$48,9,FALSE),\"\")","v":""},{"$f":"IFERROR(VLOOKUP(AU228,'P2'!$B$4:$J$48,9,FALSE),\"\")","v":""},{"$f":"SUM(Q229:AU229)","v":0}]
[null,98,null,null,null,null,null,null,null,null,null,null,null,null,null,null,null,null,null,null,null,null,null,null,null,null,null,null,null,null,null,null,null,null,null,null,null,null,null,null,null,null,null,null,null,null,null,{"$f":"COUNTA(Q230:AU230)","v":0},{"$f":"AV231","v":0},{"$f":"IFERROR(ROUNDDOWN(AV231/$AT$3,1),\"\")","v":""}]
[null,null,null,null,null,null,null,null,null,null,null,null,null,null,null,null,{"$f":"IFERROR(VLOOKUP(Q230,'P2'!$B$4:$J$48,9,FALSE),\"\")","v":""},{"$f":"IFERROR(VLOOKUP(R230,'P2'!$B$4:$J$48,9,FALSE),\"\")","v":""},{"$f":"IFERROR(VLOOKUP(S230,'P2'!$B$4:$J$48,9,FALSE),\"\")","v":""},{"$f":"IFERROR(VLOOKUP(T230,'P2'!$B$4:$J$48,9,FALSE),\"\")","v":""},{"$f":"IFERROR(VLOOKUP(U230,'P2'!$B$4:$J$48,9,FALSE),\"\")","v":""},{"$f":"IFERROR(VLOOKUP(V230,'P2'!$B$4:$J$48,9,FALSE),\"\")","v":""},{"$f":"IFERROR(VLOOKUP(W230,'P2'!$B$4:$J$48,9,FALSE),\"\")","v":""},{"$f":"IFERROR(VLOOKUP(X230,'P2'!$B$4:$J$48,9,FALSE),\"\")","v":""},{"$f":"IFERROR(VLOOKUP(Y230,'P2'!$B$4:$J$48,9,FALSE),\"\")","v":""},{"$f":"IFERROR(VLOOKUP(Z230,'P2'!$B$4:$J$48,9,FALSE),\"\")","v":""},{"$f":"IFERROR(VLOOKUP(AA230,'P2'!$B$4:$J$48,9,FALSE),\"\")","v":""},{"$f":"IFERROR(VLOOKUP(AB230,'P2'!$B$4:$J$48,9,FALSE),\"\")","v":""},{"$f":"IFERROR(VLOOKUP(AC230,'P2'!$B$4:$J$48,9,FALSE),\"\")","v":""},{"$f":"IFERROR(VLOOKUP(AD230,'P2'!$B$4:$J$48,9,FALSE),\"\")","v":""},{"$f":"IFERROR(VLOOKUP(AE230,'P2'!$B$4:$J$48,9,FALSE),\"\")","v":""},{"$f":"IFERROR(VLOOKUP(AF230,'P2'!$B$4:$J$48,9,FALSE),\"\")","v":""},{"$f":"IFERROR(VLOOKUP(AG230,'P2'!$B$4:$J$48,9,FALSE),\"\")","v":""},{"$f":"IFERROR(VLOOKUP(AH230,'P2'!$B$4:$J$48,9,FALSE),\"\")","v":""},{"$f":"IFERROR(VLOOKUP(AI230,'P2'!$B$4:$J$48,9,FALSE),\"\")","v":""},{"$f":"IFERROR(VLOOKUP(AJ230,'P2'!$B$4:$J$48,9,FALSE),\"\")","v":""},{"$f":"IFERROR(VLOOKUP(AK230,'P2'!$B$4:$J$48,9,FALSE),\"\")","v":""},{"$f":"IFERROR(VLOOKUP(AL230,'P2'!$B$4:$J$48,9,FALSE),\"\")","v":""},{"$f":"IFERROR(VLOOKUP(AM230,'P2'!$B$4:$J$48,9,FALSE),\"\")","v":""},{"$f":"IFERROR(VLOOKUP(AN230,'P2'!$B$4:$J$48,9,FALSE),\"\")","v":""},{"$f":"IFERROR(VLOOKUP(AO230,'P2'!$B$4:$J$48,9,FALSE),\"\")","v":""},{"$f":"IFERROR(VLOOKUP(AP230,'P2'!$B$4:$J$48,9,FALSE),\"\")","v":""},{"$f":"IFERROR(VLOOKUP(AQ230,'P2'!$B$4:$J$48,9,FALSE),\"\")","v":""},{"$f":"IFERROR(VLOOKUP(AR230,'P2'!$B$4:$J$48,9,FALSE),\"\")","v":""},{"$f":"IFERROR(VLOOKUP(AS230,'P2'!$B$4:$J$48,9,FALSE),\"\")","v":""},{"$f":"IFERROR(VLOOKUP(AT230,'P2'!$B$4:$J$48,9,FALSE),\"\")","v":""},{"$f":"IFERROR(VLOOKUP(AU230,'P2'!$B$4:$J$48,9,FALSE),\"\")","v":""},{"$f":"SUM(Q231:AU231)","v":0}]
[null,99,null,null,null,null,null,null,null,null,null,null,null,null,null,null,null,null,null,null,null,null,null,null,null,null,null,null,null,null,null,null,null,null,null,null,null,null,null,null,null,null,null,null,null,null,null,{"$f":"COUNTA(Q232:AU232)","v":0},{"$f":"AV233","v":0},{"$f":"IFERROR(ROUNDDOWN(AV233/$AT$3,1),\"\")","v":""}]
[null,null,null,null,null,null,null,null,null,null,null,null,null,null,null,null,{"$f":"IFERROR(VLOOKUP(Q232,'P2'!$B$4:$J$48,9,FALSE),\"\")","v":""},{"$f":"IFERROR(VLOOKUP(R232,'P2'!$B$4:$J$48,9,FALSE),\"\")","v":""},{"$f":"IFERROR(VLOOKUP(S232,'P2'!$B$4:$J$48,9,FALSE),\"\")","v":""},{"$f":"IFERROR(VLOOKUP(T232,'P2'!$B$4:$J$48,9,FALSE),\"\")","v":""},{"$f":"IFERROR(VLOOKUP(U232,'P2'!$B$4:$J$48,9,FALSE),\"\")","v":""},{"$f":"IFERROR(VLOOKUP(V232,'P2'!$B$4:$J$48,9,FALSE),\"\")","v":""},{"$f":"IFERROR(VLOOKUP(W232,'P2'!$B$4:$J$48,9,FALSE),\"\")","v":""},{"$f":"IFERROR(VLOOKUP(X232,'P2'!$B$4:$J$48,9,FALSE),\"\")","v":""},{"$f":"IFERROR(VLOOKUP(Y232,'P2'!$B$4:$J$48,9,FALSE),\"\")","v":""},{"$f":"IFERROR(VLOOKUP(Z232,'P2'!$B$4:$J$48,9,FALSE),\"\")","v":""},{"$f":"IFERROR(VLOOKUP(AA232,'P2'!$B$4:$J$48,9,FALSE),\"\")","v":""},{"$f":"IFERROR(VLOOKUP(AB232,'P2'!$B$4:$J$48,9,FALSE),\"\")","v":""},{"$f":"IFERROR(VLOOKUP(AC232,'P2'!$B$4:$J$48,9,FALSE),\"\")","v":""},{"$f":"IFERROR(VLOOKUP(AD232,'P2'!$B$4:$J$48,9,FALSE),\"\")","v":""},{"$f":"IFERROR(VLOOKUP(AE232,'P2'!$B$4:$J$48,9,FALSE),\"\")","v":""},{"$f":"IFERROR(VLOOKUP(AF232,'P2'!$B$4:$J$48,9,FALSE),\"\")","v":""},{"$f":"IFERROR(VLOOKUP(AG232,'P2'!$B$4:$J$48,9,FALSE),\"\")","v":""},{"$f":"IFERROR(VLOOKUP(AH232,'P2'!$B$4:$J$48,9,FALSE),\"\")","v":""},{"$f":"IFERROR(VLOOKUP(AI232,'P2'!$B$4:$J$48,9,FALSE),\"\")","v":""},{"$f":"IFERROR(VLOOKUP(AJ232,'P2'!$B$4:$J$48,9,FALSE),\"\")","v":""},{"$f":"IFERROR(VLOOKUP(AK232,'P2'!$B$4:$J$48,9,FALSE),\"\")","v":""},{"$f":"IFERROR(VLOOKUP(AL232,'P2'!$B$4:$J$48,9,FALSE),\"\")","v":""},{"$f":"IFERROR(VLOOKUP(AM232,'P2'!$B$4:$J$48,9,FALSE),\"\")","v":""},{"$f":"IFERROR(VLOOKUP(AN232,'P2'!$B$4:$J$48,9,FALSE),\"\")","v":""},{"$f":"IFERROR(VLOOKUP(AO232,'P2'!$B$4:$J$48,9,FALSE),\"\")","v":""},{"$f":"IFERROR(VLOOKUP(AP232,'P2'!$B$4:$J$48,9,FALSE),\"\")","v":""},{"$f":"IFERROR(VLOOKUP(AQ232,'P2'!$B$4:$J$48,9,FALSE),\"\")","v":""},{"$f":"IFERROR(VLOOKUP(AR232,'P2'!$B$4:$J$48,9,FALSE),\"\")","v":""},{"$f":"IFERROR(VLOOKUP(AS232,'P2'!$B$4:$J$48,9,FALSE),\"\")","v":""},{"$f":"IFERROR(VLOOKUP(AT232,'P2'!$B$4:$J$48,9,FALSE),\"\")","v":""},{"$f":"IFERROR(VLOOKUP(AU232,'P2'!$B$4:$J$48,9,FALSE),\"\")","v":""},{"$f":"SUM(Q233:AU233)","v":0}]
[null,100,null,null,null,null,null,null,null,null,null,null,null,null,null,null,null,null,null,null,null,null,null,null,null,null,null,null,null,null,null,null,null,null,null,null,null,null,null,null,null,null,null,null,null,null,null,{"$f":"COUNTA(Q234:AU234)","v":0},{"$f":"AV235","v":0},{"$f":"IFERROR(ROUNDDOWN(AV235/$AT$3,1),\"\")","v":""}]
[null,null,null,null,null,null,null,null,null,null,null,null,null,null,null,null,{"$f":"IFERROR(VLOOKUP(Q234,'P2'!$B$4:$J$48,9,FALSE),\"\")","v":""},{"$f":"IFERROR(VLOOKUP(R234,'P2'!$B$4:$J$48,9,FALSE),\"\")","v":""},{"$f":"IFERROR(VLOOKUP(S234,'P2'!$B$4:$J$48,9,FALSE),\"\")","v":""},{"$f":"IFERROR(VLOOKUP(T234,'P2'!$B$4:$J$48,9,FALSE),\"\")","v":""},{"$f":"IFERROR(VLOOKUP(U234,'P2'!$B$4:$J$48,9,FALSE),\"\")","v":""},{"$f":"IFERROR(VLOOKUP(V234,'P2'!$B$4:$J$48,9,FALSE),\"\")","v":""},{"$f":"IFERROR(VLOOKUP(W234,'P2'!$B$4:$J$48,9,FALSE),\"\")","v":""},{"$f":"IFERROR(VLOOKUP(X234,'P2'!$B$4:$J$48,9,FALSE),\"\")","v":""},{"$f":"IFERROR(VLOOKUP(Y234,'P2'!$B$4:$J$48,9,FALSE),\"\")","v":""},{"$f":"IFERROR(VLOOKUP(Z234,'P2'!$B$4:$J$48,9,FALSE),\"\")","v":""},{"$f":"IFERROR(VLOOKUP(AA234,'P2'!$B$4:$J$48,9,FALSE),\"\")","v":""},{"$f":"IFERROR(VLOOKUP(AB234,'P2'!$B$4:$J$48,9,FALSE),\"\")","v":""},{"$f":"IFERROR(VLOOKUP(AC234,'P2'!$B$4:$J$48,9,FALSE),\"\")","v":""},{"$f":"IFERROR(VLOOKUP(AD234,'P2'!$B$4:$J$48,9,FALSE),\"\")","v":""},{"$f":"IFERROR(VLOOKUP(AE234,'P2'!$B$4:$J$48,9,FALSE),\"\")","v":""},{"$f":"IFERROR(VLOOKUP(AF234,'P2'!$B$4:$J$48,9,FALSE),\"\")","v":""},{"$f":"IFERROR(VLOOKUP(AG234,'P2'!$B$4:$J$48,9,FALSE),\"\")","v":""},{"$f":"IFERROR(VLOOKUP(AH234,'P2'!$B$4:$J$48,9,FALSE),\"\")","v":""},{"$f":"IFERROR(VLOOKUP(AI234,'P2'!$B$4:$J$48,9,FALSE),\"\")","v":""},{"$f":"IFERROR(VLOOKUP(AJ234,'P2'!$B$4:$J$48,9,FALSE),\"\")","v":""},{"$f":"IFERROR(VLOOKUP(AK234,'P2'!$B$4:$J$48,9,FALSE),\"\")","v":""},{"$f":"IFERROR(VLOOKUP(AL234,'P2'!$B$4:$J$48,9,FALSE),\"\")","v":""},{"$f":"IFERROR(VLOOKUP(AM234,'P2'!$B$4:$J$48,9,FALSE),\"\")","v":""},{"$f":"IFERROR(VLOOKUP(AN234,'P2'!$B$4:$J$48,9,FALSE),\"\")","v":""},{"$f":"IFERROR(VLOOKUP(AO234,'P2'!$B$4:$J$48,9,FALSE),\"\")","v":""},{"$f":"IFERROR(VLOOKUP(AP234,'P2'!$B$4:$J$48,9,FALSE),\"\")","v":""},{"$f":"IFERROR(VLOOKUP(AQ234,'P2'!$B$4:$J$48,9,FALSE),\"\")","v":""},{"$f":"IFERROR(VLOOKUP(AR234,'P2'!$B$4:$J$48,9,FALSE),\"\")","v":""},{"$f":"IFERROR(VLOOKUP(AS234,'P2'!$B$4:$J$48,9,FALSE),\"\")","v":""},{"$f":"IFERROR(VLOOKUP(AT234,'P2'!$B$4:$J$48,9,FALSE),\"\")","v":""},{"$f":"IFERROR(VLOOKUP(AU234,'P2'!$B$4:$J$48,9,FALSE),\"\")","v":""},{"$f":"SUM(Q235:AU235)","v":0}]
[null,101,null,null,null,null,null,null,null,null,null,null,null,null,null,null,null,null,null,null,null,null,null,null,null,null,null,null,null,null,null,null,null,null,null,null,null,null,null,null,null,null,null,null,null,null,null,{"$f":"COUNTA(Q236:AU236)","v":0},{"$f":"AV237","v":0},{"$f":"IFERROR(ROUNDDOWN(AV237/$AT$3,1),\"\")","v":""}]
[null,null,null,null,null,null,null,null,null,null,null,null,null,null,null,null,{"$f":"IFERROR(VLOOKUP(Q236,'P2'!$B$4:$J$48,9,FALSE),\"\")","v":""},{"$f":"IFERROR(VLOOKUP(R236,'P2'!$B$4:$J$48,9,FALSE),\"\")","v":""},{"$f":"IFERROR(VLOOKUP(S236,'P2'!$B$4:$J$48,9,FALSE),\"\")","v":""},{"$f":"IFERROR(VLOOKUP(T236,'P2'!$B$4:$J$48,9,FALSE),\"\")","v":""},{"$f":"IFERROR(VLOOKUP(U236,'P2'!$B$4:$J$48,9,FALSE),\"\")","v":""},{"$f":"IFERROR(VLOOKUP(V236,'P2'!$B$4:$J$48,9,FALSE),\"\")","v":""},{"$f":"IFERROR(VLOOKUP(W236,'P2'!$B$4:$J$48,9,FALSE),\"\")","v":""},{"$f":"IFERROR(VLOOKUP(X236,'P2'!$B$4:$J$48,9,FALSE),\"\")","v":""},{"$f":"IFERROR(VLOOKUP(Y236,'P2'!$B$4:$J$48,9,FALSE),\"\")","v":""},{"$f":"IFERROR(VLOOKUP(Z236,'P2'!$B$4:$J$48,9,FALSE),\"\")","v":""},{"$f":"IFERROR(VLOOKUP(AA236,'P2'!$B$4:$J$48,9,FALSE),\"\")","v":""},{"$f":"IFERROR(VLOOKUP(AB236,'P2'!$B$4:$J$48,9,FALSE),\"\")","v":""},{"$f":"IFERROR(VLOOKUP(AC236,'P2'!$B$4:$J$48,9,FALSE),\"\")","v":""},{"$f":"IFERROR(VLOOKUP(AD236,'P2'!$B$4:$J$48,9,FALSE),\"\")","v":""},{"$f":"IFERROR(VLOOKUP(AE236,'P2'!$B$4:$J$48,9,FALSE),\"\")","v":""},{"$f":"IFERROR(VLOOKUP(AF236,'P2'!$B$4:$J$48,9,FALSE),\"\")","v":""},{"$f":"IFERROR(VLOOKUP(AG236,'P2'!$B$4:$J$48,9,FALSE),\"\")","v":""},{"$f":"IFERROR(VLOOKUP(AH236,'P2'!$B$4:$J$48,9,FALSE),\"\")","v":""},{"$f":"IFERROR(VLOOKUP(AI236,'P2'!$B$4:$J$48,9,FALSE),\"\")","v":""},{"$f":"IFERROR(VLOOKUP(AJ236,'P2'!$B$4:$J$48,9,FALSE),\"\")","v":""},{"$f":"IFERROR(VLOOKUP(AK236,'P2'!$B$4:$J$48,9,FALSE),\"\")","v":""},{"$f":"IFERROR(VLOOKUP(AL236,'P2'!$B$4:$J$48,9,FALSE),\"\")","v":""},{"$f":"IFERROR(VLOOKUP(AM236,'P2'!$B$4:$J$48,9,FALSE),\"\")","v":""},{"$f":"IFERROR(VLOOKUP(AN236,'P2'!$B$4:$J$48,9,FALSE),\"\")","v":""},{"$f":"IFERROR(VLOOKUP(AO236,'P2'!$B$4:$J$48,9,FALSE),\"\")","v":""},{"$f":"IFERROR(VLOOKUP(AP236,'P2'!$B$4:$J$48,9,FALSE),\"\")","v":""},{"$f":"IFERROR(VLOOKUP(AQ236,'P2'!$B$4:$J$48,9,FALSE),\"\")","v":""},{"$f":"IFERROR(VLOOKUP(AR236,'P2'!$B$4:$J$48,9,FALSE),\"\")","v":""},{"$f":"IFERROR(VLOOKUP(AS236,'P2'!$B$4:$J$48,9,FALSE),\"\")","v":""},{"$f":"IFERROR(VLOOKUP(AT236,'P2'!$B$4:$J$48,9,FALSE),\"\")","v":""},{"$f":"IFERROR(VLOOKUP(AU236,'P2'!$B$4:$J$48,9,FALSE),\"\")","v":""},{"$f":"SUM(Q237:AU237)","v":0}]
[null,102,null,null,null,null,null,null,null,null,null,null,null,null,null,null,null,null,null,null,null,null,null,null,null,null,null,null,null,null,null,null,null,null,null,null,null,null,null,null,null,null,null,null,null,null,null,{"$f":"COUNTA(Q238:AU238)","v":0},{"$f":"AV239","v":0},{"$f":"IFERROR(ROUNDDOWN(AV239/$AT$3,1),\"\")","v":""}]
[null,null,null,null,null,null,null,null,null,null,null,null,null,null,null,null,{"$f":"IFERROR(VLOOKUP(Q238,'P2'!$B$4:$J$48,9,FALSE),\"\")","v":""},{"$f":"IFERROR(VLOOKUP(R238,'P2'!$B$4:$J$48,9,FALSE),\"\")","v":""},{"$f":"IFERROR(VLOOKUP(S238,'P2'!$B$4:$J$48,9,FALSE),\"\")","v":""},{"$f":"IFERROR(VLOOKUP(T238,'P2'!$B$4:$J$48,9,FALSE),\"\")","v":""},{"$f":"IFERROR(VLOOKUP(U238,'P2'!$B$4:$J$48,9,FALSE),\"\")","v":""},{"$f":"IFERROR(VLOOKUP(V238,'P2'!$B$4:$J$48,9,FALSE),\"\")","v":""},{"$f":"IFERROR(VLOOKUP(W238,'P2'!$B$4:$J$48,9,FALSE),\"\")","v":""},{"$f":"IFERROR(VLOOKUP(X238,'P2'!$B$4:$J$48,9,FALSE),\"\")","v":""},{"$f":"IFERROR(VLOOKUP(Y238,'P2'!$B$4:$J$48,9,FALSE),\"\")","v":""},{"$f":"IFERROR(VLOOKUP(Z238,'P2'!$B$4:$J$48,9,FALSE),\"\")","v":""},{"$f":"IFERROR(VLOOKUP(AA238,'P2'!$B$4:$J$48,9,FALSE),\"\")","v":""},{"$f":"IFERROR(VLOOKUP(AB238,'P2'!$B$4:$J$48,9,FALSE),\"\")","v":""},{"$f":"IFERROR(VLOOKUP(AC238,'P2'!$B$4:$J$48,9,FALSE),\"\")","v":""},{"$f":"IFERROR(VLOOKUP(AD238,'P2'!$B$4:$J$48,9,FALSE),\"\")","v":""},{"$f":"IFERROR(VLOOKUP(AE238,'P2'!$B$4:$J$48,9,FALSE),\"\")","v":""},{"$f":"IFERROR(VLOOKUP(AF238,'P2'!$B$4:$J$48,9,FALSE),\"\")","v":""},{"$f":"IFERROR(VLOOKUP(AG238,'P2'!$B$4:$J$48,9,FALSE),\"\")","v":""},{"$f":"IFERROR(VLOOKUP(AH238,'P2'!$B$4:$J$48,9,FALSE),\"\")","v":""},{"$f":"IFERROR(VLOOKUP(AI238,'P2'!$B$4:$J$48,9,FALSE),\"\")","v":""},{"$f":"IFERROR(VLOOKUP(AJ238,'P2'!$B$4:$J$48,9,FALSE),\"\")","v":""},{"$f":"IFERROR(VLOOKUP(AK238,'P2'!$B$4:$J$48,9,FALSE),\"\")","v":""},{"$f":"IFERROR(VLOOKUP(AL238,'P2'!$B$4:$J$48,9,FALSE),\"\")","v":""},{"$f":"IFERROR(VLOOKUP(AM238,'P2'!$B$4:$J$48,9,FALSE),\"\")","v":""},{"$f":"IFERROR(VLOOKUP(AN238,'P2'!$B$4:$J$48,9,FALSE),\"\")","v":""},{"$f":"IFERROR(VLOOKUP(AO238,'P2'!$B$4:$J$48,9,FALSE),\"\")","v":""},{"$f":"IFERROR(VLOOKUP(AP238,'P2'!$B$4:$J$48,9,FALSE),\"\")","v":""},{"$f":"IFERROR(VLOOKUP(AQ238,'P2'!$B$4:$J$48,9,FALSE),\"\")","v":""},{"$f":"IFERROR(VLOOKUP(AR238,'P2'!$B$4:$J$48,9,FALSE),\"\")","v":""},{"$f":"IFERROR(VLOOKUP(AS238,'P2'!$B$4:$J$48,9,FALSE),\"\")","v":""},{"$f":"IFERROR(VLOOKUP(AT238,'P2'!$B$4:$J$48,9,FALSE),\"\")","v":""},{"$f":"IFERROR(VLOOKUP(AU238,'P2'!$B$4:$J$48,9,FALSE),\"\")","v":""},{"$f":"SUM(Q239:AU239)","v":0}]
[null,103,null,null,null,null,null,null,null,null,null,null,null,null,null,null,null,null,null,null,null,null,null,null,null,null,null,null,null,null,null,null,null,null,null,null,null,null,null,null,null,null,null,null,null,null,null,{"$f":"COUNTA(Q240:AU240)","v":0},{"$f":"AV241","v":0},{"$f":"IFERROR(ROUNDDOWN(AV241/$AT$3,1),\"\")","v":""}]
[null,null,null,null,null,null,null,null,null,null,null,null,null,null,null,null,{"$f":"IFERROR(VLOOKUP(Q240,'P2'!$B$4:$J$48,9,FALSE),\"\")","v":""},{"$f":"IFERROR(VLOOKUP(R240,'P2'!$B$4:$J$48,9,FALSE),\"\")","v":""},{"$f":"IFERROR(VLOOKUP(S240,'P2'!$B$4:$J$48,9,FALSE),\"\")","v":""},{"$f":"IFERROR(VLOOKUP(T240,'P2'!$B$4:$J$48,9,FALSE),\"\")","v":""},{"$f":"IFERROR(VLOOKUP(U240,'P2'!$B$4:$J$48,9,FALSE),\"\")","v":""},{"$f":"IFERROR(VLOOKUP(V240,'P2'!$B$4:$J$48,9,FALSE),\"\")","v":""},{"$f":"IFERROR(VLOOKUP(W240,'P2'!$B$4:$J$48,9,FALSE),\"\")","v":""},{"$f":"IFERROR(VLOOKUP(X240,'P2'!$B$4:$J$48,9,FALSE),\"\")","v":""},{"$f":"IFERROR(VLOOKUP(Y240,'P2'!$B$4:$J$48,9,FALSE),\"\")","v":""},{"$f":"IFERROR(VLOOKUP(Z240,'P2'!$B$4:$J$48,9,FALSE),\"\")","v":""},{"$f":"IFERROR(VLOOKUP(AA240,'P2'!$B$4:$J$48,9,FALSE),\"\")","v":""},{"$f":"IFERROR(VLOOKUP(AB240,'P2'!$B$4:$J$48,9,FALSE),\"\")","v":""},{"$f":"IFERROR(VLOOKUP(AC240,'P2'!$B$4:$J$48,9,FALSE),\"\")","v":""},{"$f":"IFERROR(VLOOKUP(AD240,'P2'!$B$4:$J$48,9,FALSE),\"\")","v":""},{"$f":"IFERROR(VLOOKUP(AE240,'P2'!$B$4:$J$48,9,FALSE),\"\")","v":""},{"$f":"IFERROR(VLOOKUP(AF240,'P2'!$B$4:$J$48,9,FALSE),\"\")","v":""},{"$f":"IFERROR(VLOOKUP(AG240,'P2'!$B$4:$J$48,9,FALSE),\"\")","v":""},{"$f":"IFERROR(VLOOKUP(AH240,'P2'!$B$4:$J$48,9,FALSE),\"\")","v":""},{"$f":"IFERROR(VLOOKUP(AI240,'P2'!$B$4:$J$48,9,FALSE),\"\")","v":""},{"$f":"IFERROR(VLOOKUP(AJ240,'P2'!$B$4:$J$48,9,FALSE),\"\")","v":""},{"$f":"IFERROR(VLOOKUP(AK240,'P2'!$B$4:$J$48,9,FALSE),\"\")","v":""},{"$f":"IFERROR(VLOOKUP(AL240,'P2'!$B$4:$J$48,9,FALSE),\"\")","v":""},{"$f":"IFERROR(VLOOKUP(AM240,'P2'!$B$4:$J$48,9,FALSE),\"\")","v":""},{"$f":"IFERROR(VLOOKUP(AN240,'P2'!$B$4:$J$48,9,FALSE),\"\")","v":""},{"$f":"IFERROR(VLOOKUP(AO240,'P2'!$B$4:$J$48,9,FALSE),\"\")","v":""},{"$f":"IFERROR(VLOOKUP(AP240,'P2'!$B$4:$J$48,9,FALSE),\"\")","v":""},{"$f":"IFERROR(VLOOKUP(AQ240,'P2'!$B$4:$J$48,9,FALSE),\"\")","v":""},{"$f":"IFERROR(VLOOKUP(AR240,'P2'!$B$4:$J$48,9,FALSE),\"\")","v":""},{"$f":"IFERROR(VLOOKUP(AS240,'P2'!$B$4:$J$48,9,FALSE),\"\")","v":""},{"$f":"IFERROR(VLOOKUP(AT240,'P2'!$B$4:$J$48,9,FALSE),\"\")","v":""},{"$f":"IFERROR(VLOOKUP(AU240,'P2'!$B$4:$J$48,9,FALSE),\"\")","v":""},{"$f":"SUM(Q241:AU241)","v":0}]
[null,104,null,null,null,null,null,null,null,null,null,null,null,null,null,null,null,null,null,null,null,null,null,null,null,null,null,null,null,null,null,null,null,null,null,null,null,null,null,null,null,null,null,null,null,null,null,{"$f":"COUNTA(Q242:AU242)","v":0},{"$f":"AV243","v":0},{"$f":"IFERROR(ROUNDDOWN(AV243/$AT$3,1),\"\")","v":""}]
[null,null,null,null,null,null,null,null,null,null,null,null,null,null,null,null,{"$f":"IFERROR(VLOOKUP(Q242,'P2'!$B$4:$J$48,9,FALSE),\"\")","v":""},{"$f":"IFERROR(VLOOKUP(R242,'P2'!$B$4:$J$48,9,FALSE),\"\")","v":""},{"$f":"IFERROR(VLOOKUP(S242,'P2'!$B$4:$J$48,9,FALSE),\"\")","v":""},{"$f":"IFERROR(VLOOKUP(T242,'P2'!$B$4:$J$48,9,FALSE),\"\")","v":""},{"$f":"IFERROR(VLOOKUP(U242,'P2'!$B$4:$J$48,9,FALSE),\"\")","v":""},{"$f":"IFERROR(VLOOKUP(V242,'P2'!$B$4:$J$48,9,FALSE),\"\")","v":""},{"$f":"IFERROR(VLOOKUP(W242,'P2'!$B$4:$J$48,9,FALSE),\"\")","v":""},{"$f":"IFERROR(VLOOKUP(X242,'P2'!$B$4:$J$48,9,FALSE),\"\")","v":""},{"$f":"IFERROR(VLOOKUP(Y242,'P2'!$B$4:$J$48,9,FALSE),\"\")","v":""},{"$f":"IFERROR(VLOOKUP(Z242,'P2'!$B$4:$J$48,9,FALSE),\"\")","v":""},{"$f":"IFERROR(VLOOKUP(AA242,'P2'!$B$4:$J$48,9,FALSE),\"\")","v":""},{"$f":"IFERROR(VLOOKUP(AB242,'P2'!$B$4:$J$48,9,FALSE),\"\")","v":""},{"$f":"IFERROR(VLOOKUP(AC242,'P2'!$B$4:$J$48,9,FALSE),\"\")","v":""},{"$f":"IFERROR(VLOOKUP(AD242,'P2'!$B$4:$J$48,9,FALSE),\"\")","v":""},{"$f":"IFERROR(VLOOKUP(AE242,'P2'!$B$4:$J$48,9,FALSE),\"\")","v":""},{"$f":"IFERROR(VLOOKUP(AF242,'P2'!$B$4:$J$48,9,FALSE),\"\")","v":""},{"$f":"IFERROR(VLOOKUP(AG242,'P2'!$B$4:$J$48,9,FALSE),\"\")","v":""},{"$f":"IFERROR(VLOOKUP(AH242,'P2'!$B$4:$J$48,9,FALSE),\"\")","v":""},{"$f":"IFERROR(VLOOKUP(AI242,'P2'!$B$4:$J$48,9,FALSE),\"\")","v":""},{"$f":"IFERROR(VLOOKUP(AJ242,'P2'!$B$4:$J$48,9,FALSE),\"\")","v":""},{"$f":"IFERROR(VLOOKUP(AK242,'P2'!$B$4:$J$48,9,FALSE),\"\")","v":""},{"$f":"IFERROR(VLOOKUP(AL242,'P2'!$B$4:$J$48,9,FALSE),\"\")","v":""},{"$f":"IFERROR(VLOOKUP(AM242,'P2'!$B$4:$J$48,9,FALSE),\"\")","v":""},{"$f":"IFERROR(VLOOKUP(AN242,'P2'!$B$4:$J$48,9,FALSE),\"\")","v":""},{"$f":"IFERROR(VLOOKUP(AO242,'P2'!$B$4:$J$48,9,FALSE),\"\")","v":""},{"$f":"IFERROR(VLOOKUP(AP242,'P2'!$B$4:$J$48,9,FALSE),\"\")","v":""},{"$f":"IFERROR(VLOOKUP(AQ242,'P2'!$B$4:$J$48,9,FALSE),\"\")","v":""},{"$f":"IFERROR(VLOOKUP(AR242,'P2'!$B$4:$J$48,9,FALSE),\"\")","v":""},{"$f":"IFERROR(VLOOKUP(AS242,'P2'!$B$4:$J$48,9,FALSE),\"\")","v":""},{"$f":"IFERROR(VLOOKUP(AT242,'P2'!$B$4:$J$48,9,FALSE),\"\")","v":""},{"$f":"IFERROR(VLOOKUP(AU242,'P2'!$B$4:$J$48,9,FALSE),\"\")","v":""},{"$f":"SUM(Q243:AU243)","v":0}]
[null,105,null,null,null,null,null,null,null,null,null,null,null,null,null,null,null,null,null,null,null,null,null,null,null,null,null,null,null,null,null,null,null,null,null,null,null,null,null,null,null,null,null,null,null,null,null,{"$f":"COUNTA(Q244:AU244)","v":0},{"$f":"AV245","v":0},{"$f":"IFERROR(ROUNDDOWN(AV245/$AT$3,1),\"\")","v":""}]
[null,null,null,null,null,null,null,null,null,null,null,null,null,null,null,null,{"$f":"IFERROR(VLOOKUP(Q244,'P2'!$B$4:$J$48,9,FALSE),\"\")","v":""},{"$f":"IFERROR(VLOOKUP(R244,'P2'!$B$4:$J$48,9,FALSE),\"\")","v":""},{"$f":"IFERROR(VLOOKUP(S244,'P2'!$B$4:$J$48,9,FALSE),\"\")","v":""},{"$f":"IFERROR(VLOOKUP(T244,'P2'!$B$4:$J$48,9,FALSE),\"\")","v":""},{"$f":"IFERROR(VLOOKUP(U244,'P2'!$B$4:$J$48,9,FALSE),\"\")","v":""},{"$f":"IFERROR(VLOOKUP(V244,'P2'!$B$4:$J$48,9,FALSE),\"\")","v":""},{"$f":"IFERROR(VLOOKUP(W244,'P2'!$B$4:$J$48,9,FALSE),\"\")","v":""},{"$f":"IFERROR(VLOOKUP(X244,'P2'!$B$4:$J$48,9,FALSE),\"\")","v":""},{"$f":"IFERROR(VLOOKUP(Y244,'P2'!$B$4:$J$48,9,FALSE),\"\")","v":""},{"$f":"IFERROR(VLOOKUP(Z244,'P2'!$B$4:$J$48,9,FALSE),\"\")","v":""},{"$f":"IFERROR(VLOOKUP(AA244,'P2'!$B$4:$J$48,9,FALSE),\"\")","v":""},{"$f":"IFERROR(VLOOKUP(AB244,'P2'!$B$4:$J$48,9,FALSE),\"\")","v":""},{"$f":"IFERROR(VLOOKUP(AC244,'P2'!$B$4:$J$48,9,FALSE),\"\")","v":""},{"$f":"IFERROR(VLOOKUP(AD244,'P2'!$B$4:$J$48,9,FALSE),\"\")","v":""},{"$f":"IFERROR(VLOOKUP(AE244,'P2'!$B$4:$J$48,9,FALSE),\"\")","v":""},{"$f":"IFERROR(VLOOKUP(AF244,'P2'!$B$4:$J$48,9,FALSE),\"\")","v":""},{"$f":"IFERROR(VLOOKUP(AG244,'P2'!$B$4:$J$48,9,FALSE),\"\")","v":""},{"$f":"IFERROR(VLOOKUP(AH244,'P2'!$B$4:$J$48,9,FALSE),\"\")","v":""},{"$f":"IFERROR(VLOOKUP(AI244,'P2'!$B$4:$J$48,9,FALSE),\"\")","v":""},{"$f":"IFERROR(VLOOKUP(AJ244,'P2'!$B$4:$J$48,9,FALSE),\"\")","v":""},{"$f":"IFERROR(VLOOKUP(AK244,'P2'!$B$4:$J$48,9,FALSE),\"\")","v":""},{"$f":"IFERROR(VLOOKUP(AL244,'P2'!$B$4:$J$48,9,FALSE),\"\")","v":""},{"$f":"IFERROR(VLOOKUP(AM244,'P2'!$B$4:$J$48,9,FALSE),\"\")","v":""},{"$f":"IFERROR(VLOOKUP(AN244,'P2'!$B$4:$J$48,9,FALSE),\"\")","v":""},{"$f":"IFERROR(VLOOKUP(AO244,'P2'!$B$4:$J$48,9,FALSE),\"\")","v":""},{"$f":"IFERROR(VLOOKUP(AP244,'P2'!$B$4:$J$48,9,FALSE),\"\")","v":""},{"$f":"IFERROR(VLOOKUP(AQ244,'P2'!$B$4:$J$48,9,FALSE),\"\")","v":""},{"$f":"IFERROR(VLOOKUP(AR244,'P2'!$B$4:$J$48,9,FALSE),\"\")","v":""},{"$f":"IFERROR(VLOOKUP(AS244,'P2'!$B$4:$J$48,9,FALSE),\"\")","v":""},{"$f":"IFERROR(VLOOKUP(AT244,'P2'!$B$4:$J$48,9,FALSE),\"\")","v":""},{"$f":"IFERROR(VLOOKUP(AU244,'P2'!$B$4:$J$48,9,FALSE),\"\")","v":""},{"$f":"SUM(Q245:AU245)","v":0}]
[null,106,null,null,null,null,null,null,null,null,null,null,null,null,null,null,null,null,null,null,null,null,null,null,null,null,null,null,null,null,null,null,null,null,null,null,null,null,null,null,null,null,null,null,null,null,null,{"$f":"COUNTA(Q246:AU246)","v":0},{"$f":"AV247","v":0},{"$f":"IFERROR(ROUNDDOWN(AV247/$AT$3,1),\"\")","v":""}]
[null,null,null,null,null,null,null,null,null,null,null,null,null,null,null,null,{"$f":"IFERROR(VLOOKUP(Q246,'P2'!$B$4:$J$48,9,FALSE),\"\")","v":""},{"$f":"IFERROR(VLOOKUP(R246,'P2'!$B$4:$J$48,9,FALSE),\"\")","v":""},{"$f":"IFERROR(VLOOKUP(S246,'P2'!$B$4:$J$48,9,FALSE),\"\")","v":""},{"$f":"IFERROR(VLOOKUP(T246,'P2'!$B$4:$J$48,9,FALSE),\"\")","v":""},{"$f":"IFERROR(VLOOKUP(U246,'P2'!$B$4:$J$48,9,FALSE),\"\")","v":""},{"$f":"IFERROR(VLOOKUP(V246,'P2'!$B$4:$J$48,9,FALSE),\"\")","v":""},{"$f":"IFERROR(VLOOKUP(W246,'P2'!$B$4:$J$48,9,FALSE),\"\")","v":""},{"$f":"IFERROR(VLOOKUP(X246,'P2'!$B$4:$J$48,9,FALSE),\"\")","v":""},{"$f":"IFERROR(VLOOKUP(Y246,'P2'!$B$4:$J$48,9,FALSE),\"\")","v":""},{"$f":"IFERROR(VLOOKUP(Z246,'P2'!$B$4:$J$48,9,FALSE),\"\")","v":""},{"$f":"IFERROR(VLOOKUP(AA246,'P2'!$B$4:$J$48,9,FALSE),\"\")","v":""},{"$f":"IFERROR(VLOOKUP(AB246,'P2'!$B$4:$J$48,9,FALSE),\"\")","v":""},{"$f":"IFERROR(VLOOKUP(AC246,'P2'!$B$4:$J$48,9,FALSE),\"\")","v":""},{"$f":"IFERROR(VLOOKUP(AD246,'P2'!$B$4:$J$48,9,FALSE),\"\")","v":""},{"$f":"IFERROR(VLOOKUP(AE246,'P2'!$B$4:$J$48,9,FALSE),\"\")","v":""},{"$f":"IFERROR(VLOOKUP(AF246,'P2'!$B$4:$J$48,9,FALSE),\"\")","v":""},{"$f":"IFERROR(VLOOKUP(AG246,'P2'!$B$4:$J$48,9,FALSE),\"\")","v":""},{"$f":"IFERROR(VLOOKUP(AH246,'P2'!$B$4:$J$48,9,FALSE),\"\")","v":""},{"$f":"IFERROR(VLOOKUP(AI246,'P2'!$B$4:$J$48,9,FALSE),\"\")","v":""},{"$f":"IFERROR(VLOOKUP(AJ246,'P2'!$B$4:$J$48,9,FALSE),\"\")","v":""},{"$f":"IFERROR(VLOOKUP(AK246,'P2'!$B$4:$J$48,9,FALSE),\"\")","v":""},{"$f":"IFERROR(VLOOKUP(AL246,'P2'!$B$4:$J$48,9,FALSE),\"\")","v":""},{"$f":"IFERROR(VLOOKUP(AM246,'P2'!$B$4:$J$48,9,FALSE),\"\")","v":""},{"$f":"IFERROR(VLOOKUP(AN246,'P2'!$B$4:$J$48,9,FALSE),\"\")","v":""},{"$f":"IFERROR(VLOOKUP(AO246,'P2'!$B$4:$J$48,9,FALSE),\"\")","v":""},{"$f":"IFERROR(VLOOKUP(AP246,'P2'!$B$4:$J$48,9,FALSE),\"\")","v":""},{"$f":"IFERROR(VLOOKUP(AQ246,'P2'!$B$4:$J$48,9,FALSE),\"\")","v":""},{"$f":"IFERROR(VLOOKUP(AR246,'P2'!$B$4:$J$48,9,FALSE),\"\")","v":""},{"$f":"IFERROR(VLOOKUP(AS246,'P2'!$B$4:$J$48,9,FALSE),\"\")","v":""},{"$f":"IFERROR(VLOOKUP(AT246,'P2'!$B$4:$J$48,9,FALSE),\"\")","v":""},{"$f":"IFERROR(VLOOKUP(AU246,'P2'!$B$4:$J$48,9,FALSE),\"\")","v":""},{"$f":"SUM(Q247:AU247)","v":0}]

{"sheet":"P3-2","index":5,"n_rows":247,"n_cols":65,"rows_kept":247,"cut":false,"hidden":false,"merged":[[2,26,2,36],[2,37,2,38],[4,48,5,48],[4,49,5,49],[6,1,7,1],[6,2,7,7],[6,8,7,12],[6,13,7,15],[6,48,7,48],[6,49,7,49],[2,39,2,40],[2,41,2,42],[2,43,2,44],[2,45,2,46],[4,1,5,1],[4,2,5,7],[4,8,5,12],[4,13,5,15],[2,13,2,14],[2,19,2,20],[10,1,11,1],[10,2,11,7],[10,8,11,12],[10,13,11,15],[10,48,11,48],[10,49,11,49],[8,1,9,1],[8,2,9,7],[8,8,9,12],[8,13,9,15],[8,48,9,48],[8,49,9,49],[14,1,15,1],[14,2,15,7],[14,8,15,12],[14,13,15,15],[14,48,15,48],[14,49,15,49],[12,1,13,1],[12,2,13,7],[12,8,13,12],[12,13,13,15],[12,48,13,48],[12,49,13,49],[18,1,19,1],[18,2,19,7],[18,8,19,12],[18,13,19,15],[18,48,19,48],[18,49,19,49],[16,1,17,1],[16,2,17,7],[16,8,17,12],[16,13,17,15],[16,48,17,48],[16,49,17,49],[22,1,23,1],[22,2,23,7],[22,8,23,12],[22,13,23,15],[22,48,23,48],[22,49,23,49],[20,1,21,1],[20,2,21,7],[20,8,21,12],[20,13,21,15],[20,48,21,48],[20,49,21,49],[26,1,27,1],[26,2,27,7],[26,8,27,12],[26,13,27,15],[26,48,27,48],[26,49,27,49],[24,1,25,1],[24,2,25,7],[24,8,25,12],[24,13,25,15],[24,48,25,48],[24,49,25,49],[30,1,31,1],[30,2,31,7],[30,8,31,12],[30,13,31,15],[30,48,31,48],[30,49,31,49],[28,1,29,1],[28,2,29,7],[28,8,29,12],[28,13,29,15],[28,48,29,48],[28,49,29,49],[34,1,35,1],[34,2,35,7],[34,8,35,12],[34,13,35,15],[34,48,35,48],[34,49,35,49],[32,1,33,1],[32,2,33,7],[32,8,33,12],[32,13,33,15],[32,48,33,48],[32,49,33,49],[38,1,39,1],[38,2,39,7],[38,8,39,12],[38,13,39,15],[38,48,39,48],[38,49,39,49],[36,1,37,1],[36,2,37,7],[36,8,37,12],[36,13,37,15],[36,48,37,48],[36,49,37,49],[42,1,43,1],[42,2,43,7],[42,8,43,12],[42,13,43,15],[42,48,43,48],[42,49,43,49],[40,1,41,1],[40,2,41,7],[40,8,41,12],[40,13,41,15],[40,48,41,48],[40,49,41,49],[46,1,47,1],[46,2,47,7],[46,8,47,12],[46,13,47,15],[46,48,47,48],[46,49,47,49],[44,1,45,1],[44,2,45,7],[44,8,45,12],[44,13,45,15],[44,48,45,48],[44,49,45,49],[54,49,55,49],[56,1,57,1],[56,2,57,7],[56,8,57,12],[56,13,57,15],[56,48,57,48],[56,49,57,49],[53,19,53,20],[54,1,55,1],[54,2,55,7],[54,8,55,12],[54,13,55,15],[54,48,55,48],[60,1,61,1],[60,2,61,7],[60,8,61,12],[60,13,61,15],[60,48,61,48],[60,49,61,49],[58,1,59,1],[58,2,59,7],[58,8,59,12],[58,13,59,15],[58,48,59,48],[58,49,59,49],[64,1,65,1],[64,2,65,7],[64,8,65,12],[64,13,65,15],[64,48,65,48],[64,49,65,49],[62,1,63,1],[62,2,63,7],[62,8,63,12],[62,13,63,15],[62,48,63,48],[62,49,63,49],[68,1,69,1],[68,2,69,7],[68,8,69,12],[68,13,69,15],[68,48,69,48],[68,49,69,49],[66,1,67,1],[66,2,67,7],[66,8,67,12],[66,13,67,15],[66,48,67,48],[66,49,67,49],[72,1,73,1],[72,2,73,7],[72,8,73,12],[72,13,73,15],[72,48,73,48],[72,49,73,49],[70,1,71,1],[70,2,71,7],[70,8,71,12],[70,13,71,15],[70,48,71,48],[70,49,71,49],[76,1,77,1],[76,2,77,7],[76,8,77,12],[76,13,77,15],[76,48,77,48],[76,49,77,49],[74,1,75,1],[74,2,75,7],[74,8,75,12],[74,13,75,15],[74,48,75,48],[74,49,75,49],[80,1,81,1],[80,2,81,7],[80,8,81,12],[80,13,81,15],[80,48,81,48],[80,49,81,49],[78,1,79,1],[78,2,79,7],[78,8,79,12],[78,13,79,15],[78,48,79,48],[78,49,79,49],[84,1,85,1],[84,2,85,7],[84,8,85,12],[84,13,85,15],[84,48,85,48],[84,49,85,49],[82,1,83,1],[82,2,83,7],[82,8,83,12],[82,13,83,15],[82,48,83,48],[82,49,83,49],[88,1,89,1],[88,2,89,7],[88,8,89,12],[88,13,89,15],[88,48,89,48],[88,49,89,49],[86,1,87,1],[86,2,87,7],[86,8,87,12],[86,13,87,15],[86,48,87,48],[86,49,87,49],[92,1,93,1],[92,2,93,7],[92,8,93,12],[92,13,93,15],[92,48,93,48],[92,49,93,49],[90,1,91,1],[90,2,91,7],[90,8,91,12],[90,13,91,15],[90,48,91,48],[90,49,91,49],[98,49,99,49],[96,1,97,1],[96,2,97,7],[96,8,97,12],[96,13,97,15],[96,48,97,48],[96,49,97,49],[94,1,95,1],[94,2,95,7],[94,8,95,12],[94,13,95,15],[94,48,95,48],[94,49,95,49],[102,19,102,20],[103,1,104,1],[103,2,104,7],[103,8,104,12],[103,13,104,15],[103,48,104,48],[98,1,99,1],[98,2,99,7],[98,8,99,12],[98,13,99,15],[98,48,99,48],[107,1,108,1],[107,2,108,7],[107,8,108,12],[107,13,108,15],[107,48,108,48],[107,49,108,49],[103,49,104,49],[105,1,106,1],[105,2,106,7],[105,8,106,12],[105,13,106,15],[105,48,106,48],[105,49,106,49],[111,1,112,1],[111,2,112,7],[111,8,112,12],[111,13,112,15],[111,48,112,48],[111,49,112,49],[109,1,110,1],[109,2,110,7],[109,8,110,12],[109,13,110,15],[109,48,110,48],[109,49,110,49],[115,1,116,1],[115,2,116,7],[115,8,116,12],[115,13,116,15],[115,48,116,48],[115,49,116,49],[113,1,114,1],[113,2,114,7],[113,8,114,12],[113,13,114,15],[113,48,114,48],[113,49,114,49],[119,1,120,1],[119,2,120,7],[119,8,120,12],[119,13,120,15],[119,48,120,48],[119,49,120,49],[117,1,118,1],[117,2,118,7],[117,8,118,12],[117,13,118,15],[117,48,118,48],[117,49,118,49],[123,1,124,1],[123,2,124,7],[123,8,124,12],[123,13,124,15],[123,48,124,48],[123,49,124,49],[121,1,122,1],[121,2,122,7],[121,8,122,12],[121,13,122,15],[121,48,122,48],[121,49,122,49],[127,1,128,1],[127,2,128,7],[127,8,128,12],[127,13,128,15],[127,48,128,48],[127,49,128,49],[125,1,126,1],[125,2,126,7],[125,8,126,12],[125,13,126,15],[125,48,126,48],[125,49,126,49],[131,1,132,1],[131,2,132,7],[131,8,132,12],[131,13,132,15],[131,48,132,48],[131,49,132,49],[129,1,130,1],[129,2,130,7],[129,8,130,12],[129,13,130,15],[129,48,130,48],[129,49,130,49],[135,1,136,1],[135,2,136,7],[135,8,136,12],[135,13,136,15],[135,48,136,48],[135,49,136,49],[133,1,134,1],[133,2,134,7],[133,8,134,12],[133,13,134,15],[133,48,134,48],[133,49,134,49],[139,1,140,1],[139,2,140,7],[139,8,140,12],[139,13,140,15],[139,48,140,48],[139,49,140,49],[137,1,138,1],[137,2,138,7],[137,8,138,12],[137,13,138,15],[137,48,138,48],[137,49,138,49],[143,1,144,1],[143,2,144,7],[143,8,144,12],[143,13,144,15],[143,48,144,48],[143,49,144,49],[141,1,142,1],[141,2,142,7],[141,8,142,12],[141,13,142,15],[141,48,142,48],[141,49,142,49],[147,1,148,1],[147,2,148,7],[147,8,148,12],[147,13,148,15],[147,48,148,48],[147,49,148,49],[145,1,146,1],[145,2,146,7],[145,8,146,12],[145,13,146,15],[145,48,146,48],[145,49,146,49],[152,49,153,49],[154,1,155,1],[154,2,155,7],[154,8,155,12],[154,13,155,15],[154,48,155,48],[154,49,155,49],[151,19,151,20],[152,1,153,1],[152,2,153,7],[152,8,153,12],[152,13,153,15],[152,48,153,48],[158,1,159,1],[158,2,159,7],[158,8,159,12],[158,13,159,15],[158,48,159,48],[158,49,159,49],[156,1,157,1],[156,2,157,7],[156,8,157,12],[156,13,157,15],[156,48,157,48],[156,49,157,49],[162,1,163,1],[162,2,163,7],[162,8,163,12],[162,13,163,15],[162,48,163,48],[162,49,163,49],[160,1,161,1],[160,2,161,7],[160,8,161,12],[160,13,161,15],[160,48,161,48],[160,49,161,49],[166,1,167,1],[166,2,167,7],[166,8,167,12],[166,13,167,15],[166,48,167,48],[166,49,167,49],[164,1,165,1],[164,2,165,7],[164,8,165,12],[164,13,165,15],[164,48,165,48],[164,49,165,49],[170,1,171,1],[170,2,171,7],[170,8,171,12],[170,13,171,15],[170,48,171,48],[170,49,171,49],[168,1,169,1],[168,2,169,7],[168,8,169,12],[168,13,169,15],[168,48,169,48],[168,49,169,49],[174,1,175,1],[174,2,175,7],[174,8,175,12],[174,13,175,15],[174,48,175,48],[174,49,175,49],[172,1,173,1],[172,2,173,7],[172,8,173,12],[172,13,173,15],[172,48,173,48],[172,49,173,49],[178,1,179,1],[178,2,179,7],[178,8,179,12],[178,13,179,15],[178,48,179,48],[178,49,179,49],[176,1,177,1],[176,2,177,7],[176,8,177,12],[176,13,177,15],[176,48,177,48],[176,49,177,49],[182,1,183,1],[182,2,183,7],[182,8,183,12],[182,13,183,15],[182,48,183,48],[182,49,183,49],[180,1,181,1],[180,2,181,7],[180,8,181,12],[180,13,181,15],[180,48,181,48],[180,49,181,49],[186,1,187,1],[186,2,187,7],[186,8,187,12],[186,13,187,15],[186,48,187,48],[186,49,187,49],[184,1,185,1],[184,2,185,7],[184,8,185,12],[184,13,185,15],[184,48,185,48],[184,49,185,49],[190,1,191,1],[190,2,191,7],[190,8,191,12],[190,13,191,15],[190,48,191,48],[190,49,191,49],[188,1,189,1],[188,2,189,7],[188,8,189,12],[188,13,189,15],[188,48,189,48],[188,49,189,49],[196,49,197,49],[194,1,195,1],[194,2,195,7],[194,8,195,12],[194,13,195,15],[194,48,195,48],[194,49,195,49],[192,1,193,1],[192,2,193,7],[192,8,193,12],[192,13,193,15],[192,48,193,48],[192,49,193,49],[200,19,200,20],[201,1,202,1],[201,2,202,7],[201,8,202,12],[201,13,202,15],[201,48,202,48],[196,1,197,1],[196,2,197,7],[196,8,197,12],[196,13,197,15],[196,48,197,48],[205,1,206,1],[205,2,206,7],[205,8,206,12],[205,13,206,15],[205,48,206,48],[205,49,206,49],[201,49,202,49],[203,1,204,1],[203,2,204,7],[203,8,204,12],[203,13,204,15],[203,48,204,48],[203,49,204,49],[209,1,210,1],[209,2,210,7],[209,8,210,12],[209,13,210,15],[209,48,210,48],[209,49,210,49],[207,1,208,1],[207,2,208,7],[207,8,208,12],[207,13,208,15],[207,48,208,48],[207,49,208,49],[213,1,214,1],[213,2,214,7],[213,8,214,12],[213,13,214,15],[213,48,214,48],[213,49,214,49],[211,1,212,1],[211,2,212,7],[211,8,212,12],[211,13,212,15],[211,48,212,48],[211,49,212,49],[217,1,218,1],[217,2,218,7],[217,8,218,12],[217,13,218,15],[217,48,218,48],[217,49,218,49],[215,1,216,1],[215,2,216,7],[215,8,216,12],[215,13,216,15],[215,48,216,48],[215,49,216,49],[221,1,222,1],[221,2,222,7],[221,8,222,12],[221,13,222,15],[221,48,222,48],[221,49,222,49],[219,1,220,1],[219,2,220,7],[219,8,220,12],[219,13,220,15],[219,48,220,48],[219,49,220,49],[225,1,226,1],[225,2,226,7],[225,8,226,12],[225,13,226,15],[225,48,226,48],[225,49,226,49],[223,1,224,1],[223,2,224,7],[223,8,224,12],[223,13,224,15],[223,48,224,48],[223,49,224,49],[229,1,230,1],[229,2,230,7],[229,8,230,12],[229,13,230,15],[229,48,230,48],[229,49,230,49],[227,1,228,1],[227,2,228,7],[227,8,228,12],[227,13,228,15],[227,48,228,48],[227,49,228,49],[233,1,234,1],[233,2,234,7],[233,8,234,12],[233,13,234,15],[233,48,234,48],[233,49,234,49],[231,1,232,1],[231,2,232,7],[231,8,232,12],[231,13,232,15],[231,48,232,48],[231,49,232,49],[237,1,238,1],[237,2,238,7],[237,8,238,12],[237,13,238,15],[237,48,238,48],[237,49,238,49],[235,1,236,1],[235,2,236,7],[235,8,236,12],[235,13,236,15],[235,48,236,48],[235,49,236,49],[241,1,242,1],[241,2,242,7],[241,8,242,12],[241,13,242,15],[241,48,242,48],[241,49,242,49],[239,1,240,1],[239,2,240,7],[239,8,240,12],[239,13,240,15],[239,48,240,48],[239,49,240,49],[245,1,246,1],[245,2,246,7],[245,8,246,12],[245,13,246,15],[245,48,246,48],[245,49,246,49],[243,1,244,1],[243,2,244,7],[243,8,244,12],[243,13,244,15],[243,48,244,48],[243,49,244,49]]}
[]
[]
[null,"(2)　勤務実績　（直近3か月分の実績）",null,null,null,null,null,null,null,null,null,null,null,{"$f":"YEAR(EOMONTH(DATE(SUM(2018+【共通】!L9),【共通】!N9,【共通】!P9),-2))","v":2025},null,null,null,null,"（",{"$f":"IFERROR(\"令和　\"&VLOOKUP(N3,BL5:BM12,2,FALSE),\"\")","v":"令和　7"},null,"年",{"$f":"MONTH(EOMONTH(DATE(2023,【共通】!N9,【共通】!P9),-3))","v":4},"月分実績",null,"）","当該事業所の常勤の職員が当該月に勤務すべき時間数",null,null,null,null,null,null,null,null,null,null,null,null," 時間／日",null,null,null," 時間／週",null,null,null," 時間／月",null,{"$f":"\"1 / \"&COUNTA(C$7,C$57,C$106,C$155,C$204)","v":"1 / 1"}]
[]
[null,null,"職　　種",null,null,null,null,null,"氏　　名",null,null,null,null,"勤務\n形態",null,null,{"$f":"DATE($N$3,$W$3,1)","v":"2025-04-01"},{"$f":"Q5+1","v":"2025-04-02"},{"$f":"R5+1","v":"2025-04-03"},{"$f":"S5+1","v":"2025-04-04"},"2025-04-05","2025-04-06","2025-04-07","2025-04-08","2025-04-09","2025-04-10","2025-04-11","2025-04-12","2025-04-13","2025-04-14","2025-04-15","2025-04-16","2025-04-17","2025-04-18","2025-04-19","2025-04-20","2025-04-21","2025-04-22","2025-04-23","2025-04-24","2025-04-25","2025-04-26","2025-04-27",{"$f":"AQ5+1","v":"2025-04-28"},{"$f":"IF(DAY(DATE($N$3,$W$3,29))=29,AR5+1,\"\")","v":"2025-04-29"},{"$f":"IF(DAY(DATE($N$3,$W$3,30))=30,AS5+1,\"\")","v":"2025-04-30"},{"$f":"IF(DAY(DATE($N$3,$W$3,31))=31,AT5+1,\"\")","v":""},"勤務日数",null,"常勤換算",null,null,null,null,null,null,null,null,null,null,null,null,null,2023,5]
[null,null,null,null,null,null,null,null,null,null,null,null,null,null,null,null,{"$f":"VLOOKUP(WEEKDAY(Q5,2),$BA$7:$BB$14,2,FALSE)","v":"火"},"水","木","金","土","日","月","火","水","木","金","土","日","月","火","水","木","金","土","日","月","火","水","木","金","土","日","月",{"$f":"IF(AS5=\"\",\"\",VLOOKUP(WEEKDAY(AS5,2),$BA$7:$BB$14,2,FALSE))","v":"火"},{"$f":"IF(AT5=\"\",\"\",VLOOKUP(WEEKDAY(AT5,2),$BA$7:$BB$14,2,FALSE))","v":"水"},{"$f":"IF(AU5=\"\",\"\",VLOOKUP(WEEKDAY(AU5,2),$BA$7:$BB$14,2,FALSE))","v":""},"勤務時間",null,null,null,null,null,null,null,null,null,null,null,null,null,null,null,{"$f":"BL5+1","v":2024},{"$f":"BM5+1","v":6}]
[null,"例","管理者",null,null,null,null,null,"○○　○○",null,null,null,null,"常勤\n兼務",null,null,"A","A",null,null,"A","A","A","A","A",null,null,"A","A","A","A","A",null,null,"A","A","A","A","A",null,null,"A","A","A","A","A",null,{"$f":"COUNTA(Q7:AU7)","v":22},{"$f":"AV8","v":170.49999999999997},{"$f":"IFERROR(ROUNDDOWN(AV8/$AT$3,1),\"\")","v":""},null,null,1,"月","管理者",null,null,null,"常勤\n専従","常勤\n兼務","非常勤\n専従","非常勤\n兼務",null,{"$f":"BL6+1","v":2025},7]
[null,null,null,null,null,null,null,null,null,null,null,null,null,null,null,null,{"$f":"IFERROR(VLOOKUP(Q7,'P2'!$B$59:$J$64,9,FALSE),\"\")","v":7.7499999999999991},{"$f":"IFERROR(VLOOKUP(R7,'P2'!$B$59:$J$64,9,FALSE),\"\")","v":7.7499999999999991},{"$f":"IFERROR(VLOOKUP(S7,'P2'!$B$59:$J$64,9,FALSE),\"\")","v":""},{"$f":"IFERROR(VLOOKUP(T7,'P2'!$B$59:$J$64,9,FALSE),\"\")","v":""},{"$f":"IFERROR(VLOOKUP(U7,'P2'!$B$59:$J$64,9,FALSE),\"\")","v":7.7499999999999991},{"$f":"IFERROR(VLOOKUP(V7,'P2'!$B$59:$J$64,9,FALSE),\"\")","v":7.7499999999999991},{"$f":"IFERROR(VLOOKUP(W7,'P2'!$B$59:$J$64,9,FALSE),\"\")","v":7.7499999999999991},{"$f":"IFERROR(VLOOKUP(X7,'P2'!$B$59:$J$64,9,FALSE),\"\")","v":7.7499999999999991},{"$f":"IFERROR(VLOOKUP(Y7,'P2'!$B$59:$J$64,9,FALSE),\"\")","v":7.7499999999999991},{"$f":"IFERROR(VLOOKUP(Z7,'P2'!$B$59:$J$64,9,FALSE),\"\")","v":""},{"$f":"IFERROR(VLOOKUP(AA7,'P2'!$B$59:$J$64,9,FALSE),\"\")","v":""},{"$f":"IFERROR(VLOOKUP(AB7,'P2'!$B$59:$J$64,9,FALSE),\"\")","v":7.7499999999999991},{"$f":"IFERROR(VLOOKUP(AC7,'P2'!$B$59:$J$64,9,FALSE),\"\")","v":7.7499999999999991},{"$f":"IFERROR(VLOOKUP(AD7,'P2'!$B$59:$J$64,9,FALSE),\"\")","v":7.7499999999999991},{"$f":"IFERROR(VLOOKUP(AE7,'P2'!$B$59:$J$64,9,FALSE),\"\")","v":7.7499999999999991},{"$f":"IFERROR(VLOOKUP(AF7,'P2'!$B$59:$J$64,9,FALSE),\"\")","v":7.7499999999999991},{"$f":"IFERROR(VLOOKUP(AG7,'P2'!$B$59:$J$64,9,FALSE),\"\")","v":""},{"$f":"IFERROR(VLOOKUP(AH7,'P2'!$B$59:$J$64,9,FALSE),\"\")","v":""},{"$f":"IFERROR(VLOOKUP(AI7,'P2'!$B$59:$J$64,9,FALSE),\"\")","v":7.7499999999999991},{"$f":"IFERROR(VLOOKUP(AJ7,'P2'!$B$59:$J$64,9,FALSE),\"\")","v":7.7499999999999991},{"$f":"IFERROR(VLOOKUP(AK7,'P2'!$B$59:$J$64,9,FALSE),\"\")","v":7.7499999999999991},{"$f":"IFERROR(VLOOKUP(AL7,'P2'!$B$59:$J$64,9,FALSE),\"\")","v":7.7499999999999991},{"$f":"IFERROR(VLOOKUP(AM7,'P2'!$B$59:$J$64,9,FALSE),\"\")","v":7.7499999999999991},{"$f":"IFERROR(VLOOKUP(AN7,'P2'!$B$59:$J$64,9,FALSE),\"\")","v":""},{"$f":"IFERROR(VLOOKUP(AO7,'P2'!$B$59:$J$64,9,FALSE),\"\")","v":""},{"$f":"IFERROR(VLOOKUP(AP7,'P2'!$B$59:$J$64,9,FALSE),\"\")","v":7.7499999999999991},{"$f":"IFERROR(VLOOKUP(AQ7,'P2'!$B$59:$J$64,9,FALSE),\"\")","v":7.7499999999999991},{"$f":"IFERROR(VLOOKUP(AR7,'P2'!$B$59:$J$64,9,FALSE),\"\")","v":7.7499999999999991},{"$f":"IFERROR(VLOOKUP(AS7,'P2'!$B$59:$J$64,9,FALSE),\"\")","v":7.7499999999999991},{"$f":"IFERROR(VLOOKUP(AT7,'P2'!$B$59:$J$64,9,FALSE),\"\")","v":7.7499999999999991},{"$f":"IFERROR(VLOOKUP(AU7,'P2'!$B$59:$J$64,9,FALSE),\"\")","v":""},{"$f":"SUM(Q8:AU8)","v":170.49999999999997},null,null,null,null,2,"火","サービス提供責任者",null,null,null,null,null,null,null,null,2026,8]
[null,"例","サービス提供責任者",null,null,null,null,null,"××　××",null,null,null,null,"常勤\n専従",null,null,"B","B",null,null,"B","B","B","B","B",null,null,"B","B","B","B","B",null,null,"B","B","B","B","B",null,null,"B","B","B","B","B","B",{"$f":"COUNTA(Q9:AU9)","v":23},{"$f":"AV10","v":155.25},{"$f":"IFERROR(ROUNDDOWN(AV10/$AT$3,1),\"\")","v":""},null,null,3,"水","ヘルパー",null,null,null,null,null,null,null,null,2027,9]
[null,null,null,null,null,null,null,null,null,null,null,null,null,null,null,null,{"$f":"IFERROR(VLOOKUP(Q9,'P2'!$B$59:$J$64,9,FALSE),\"\")","v":6.75},{"$f":"IFERROR(VLOOKUP(R9,'P2'!$B$59:$J$64,9,FALSE),\"\")","v":6.75},{"$f":"IFERROR(VLOOKUP(S9,'P2'!$B$59:$J$64,9,FALSE),\"\")","v":""},{"$f":"IFERROR(VLOOKUP(T9,'P2'!$B$59:$J$64,9,FALSE),\"\")","v":""},{"$f":"IFERROR(VLOOKUP(U9,'P2'!$B$59:$J$64,9,FALSE),\"\")","v":6.75},{"$f":"IFERROR(VLOOKUP(V9,'P2'!$B$59:$J$64,9,FALSE),\"\")","v":6.75},{"$f":"IFERROR(VLOOKUP(W9,'P2'!$B$59:$J$64,9,FALSE),\"\")","v":6.75},{"$f":"IFERROR(VLOOKUP(X9,'P2'!$B$59:$J$64,9,FALSE),\"\")","v":6.75},{"$f":"IFERROR(VLOOKUP(Y9,'P2'!$B$59:$J$64,9,FALSE),\"\")","v":6.75},{"$f":"IFERROR(VLOOKUP(Z9,'P2'!$B$59:$J$64,9,FALSE),\"\")","v":""},{"$f":"IFERROR(VLOOKUP(AA9,'P2'!$B$59:$J$64,9,FALSE),\"\")","v":""},{"$f":"IFERROR(VLOOKUP(AB9,'P2'!$B$59:$J$64,9,FALSE),\"\")","v":6.75},{"$f":"IFERROR(VLOOKUP(AC9,'P2'!$B$59:$J$64,9,FALSE),\"\")","v":6.75},{"$f":"IFERROR(VLOOKUP(AD9,'P2'!$B$59:$J$64,9,FALSE),\"\")","v":6.75},{"$f":"IFERROR(VLOOKUP(AE9,'P2'!$B$59:$J$64,9,FALSE),\"\")","v":6.75},{"$f":"IFERROR(VLOOKUP(AF9,'P2'!$B$59:$J$64,9,FALSE),\"\")","v":6.75},{"$f":"IFERROR(VLOOKUP(AG9,'P2'!$B$59:$J$64,9,FALSE),\"\")","v":""},{"$f":"IFERROR(VLOOKUP(AH9,'P2'!$B$59:$J$64,9,FALSE),\"\")","v":""},{"$f":"IFERROR(VLOOKUP(AI9,'P2'!$B$59:$J$64,9,FALSE),\"\")","v":6.75},{"$f":"IFERROR(VLOOKUP(AJ9,'P2'!$B$59:$J$64,9,FALSE),\"\")","v":6.75},{"$f":"IFERROR(VLOOKUP(AK9,'P2'!$B$59:$J$64,9,FALSE),\"\")","v":6.75},{"$f":"IFERROR(VLOOKUP(AL9,'P2'!$B$59:$J$64,9,FALSE),\"\")","v":6.75},{"$f":"IFERROR(VLOOKUP(AM9,'P2'!$B$59:$J$64,9,FALSE),\"\")","v":6.75},{"$f":"IFERROR(VLOOKUP(AN9,'P2'!$B$59:$J$64,9,FALSE),\"\")","v":""},{"$f":"IFERROR(VLOOKUP(AO9,'P2'!$B$59:$J$64,9,FALSE),\"\")","v":""},{"$f":"IFERROR(VLOOKUP(AP9,'P2'!$B$59:$J$64,9,FALSE),\"\")","v":6.75},{"$f":"IFERROR(VLOOKUP(AQ9,'P2'!$B$59:$J$64,9,FALSE),\"\")","v":6.75},{"$f":"IFERROR(VLOOKUP(AR9,'P2'!$B$59:$J$64,9,FALSE),\"\")","v":6.75},{"$f":"IFERROR(VLOOKUP(AS9,'P2'!$B$59:$J$64,9,FALSE),\"\")","v":6.75},{"$f":"IFERROR(VLOOKUP(AT9,'P2'!$B$59:$J$64,9,FALSE),\"\")","v":6.75},{"$f":"IFERROR(VLOOKUP(AU9,'P2'!$B$59:$J$64,9,FALSE),\"\")","v":6.75},{"$f":"SUM(Q10:AU10)","v":155.25},null,null,null,null,4,"木","登録ヘルパー",null,null,null,null,null,null,null,null,2028,10]
[null,"例","ヘルパー",null,null,null,null,null,"△△　△△",null,null,null,null,"非常勤\n兼務",null,null,"登②","登②",null,null,"登①","登①",null,"登②","登②",null,null,"登①","登①",null,"登②","登②",null,null,"登①","登①",null,"登②","登②",null,null,"登①","登①",null,"登②","登②",null,{"$f":"COUNTA(Q11:AU11)","v":18},{"$f":"AV12","v":39.5},{"$f":"IFERROR(ROUNDDOWN(AV12/$AT$3,1),\"\")","v":""},null,null,5,"金",null,null,null,null,null,null,null,null,null,2029,11]
[null,null,null,null,null,null,null,null,null,null,null,null,null,null,null,null,{"$f":"IFERROR(VLOOKUP(Q11,'P2'!$B$59:$J$64,9,FALSE),\"\")","v":2.75},{"$f":"IFERROR(VLOOKUP(R11,'P2'!$B$59:$J$64,9,FALSE),\"\")","v":2.75},{"$f":"IFERROR(VLOOKUP(S11,'P2'!$B$59:$J$64,9,FALSE),\"\")","v":""},{"$f":"IFERROR(VLOOKUP(T11,'P2'!$B$59:$J$64,9,FALSE),\"\")","v":""},{"$f":"IFERROR(VLOOKUP(U11,'P2'!$B$59:$J$64,9,FALSE),\"\")","v":1.5},{"$f":"IFERROR(VLOOKUP(V11,'P2'!$B$59:$J$64,9,FALSE),\"\")","v":1.5},{"$f":"IFERROR(VLOOKUP(W11,'P2'!$B$59:$J$64,9,FALSE),\"\")","v":""},{"$f":"IFERROR(VLOOKUP(X11,'P2'!$B$59:$J$64,9,FALSE),\"\")","v":2.75},{"$f":"IFERROR(VLOOKUP(Y11,'P2'!$B$59:$J$64,9,FALSE),\"\")","v":2.75},{"$f":"IFERROR(VLOOKUP(Z11,'P2'!$B$59:$J$64,9,FALSE),\"\")","v":""},{"$f":"IFERROR(VLOOKUP(AA11,'P2'!$B$59:$J$64,9,FALSE),\"\")","v":""},{"$f":"IFERROR(VLOOKUP(AB11,'P2'!$B$59:$J$64,9,FALSE),\"\")","v":1.5},{"$f":"IFERROR(VLOOKUP(AC11,'P2'!$B$59:$J$64,9,FALSE),\"\")","v":1.5},{"$f":"IFERROR(VLOOKUP(AD11,'P2'!$B$59:$J$64,9,FALSE),\"\")","v":""},{"$f":"IFERROR(VLOOKUP(AE11,'P2'!$B$59:$J$64,9,FALSE),\"\")","v":2.75},{"$f":"IFERROR(VLOOKUP(AF11,'P2'!$B$59:$J$64,9,FALSE),\"\")","v":2.75},{"$f":"IFERROR(VLOOKUP(AG11,'P2'!$B$59:$J$64,9,FALSE),\"\")","v":""},{"$f":"IFERROR(VLOOKUP(AH11,'P2'!$B$59:$J$64,9,FALSE),\"\")","v":""},{"$f":"IFERROR(VLOOKUP(AI11,'P2'!$B$59:$J$64,9,FALSE),\"\")","v":1.5},{"$f":"IFERROR(VLOOKUP(AJ11,'P2'!$B$59:$J$64,9,FALSE),\"\")","v":1.5},{"$f":"IFERROR(VLOOKUP(AK11,'P2'!$B$59:$J$64,9,FALSE),\"\")","v":""},{"$f":"IFERROR(VLOOKUP(AL11,'P2'!$B$59:$J$64,9,FALSE),\"\")","v":2.75},{"$f":"IFERROR(VLOOKUP(AM11,'P2'!$B$59:$J$64,9,FALSE),\"\")","v":2.75},{"$f":"IFERROR(VLOOKUP(AN11,'P2'!$B$59:$J$64,9,FALSE),\"\")","v":""},{"$f":"IFERROR(VLOOKUP(AO11,'P2'!$B$59:$J$64,9,FALSE),\"\")","v":""},{"$f":"IFERROR(VLOOKUP(AP11,'P2'!$B$59:$J$64,9,FALSE),\"\")","v":1.5},{"$f":"IFERROR(VLOOKUP(AQ11,'P2'!$B$59:$J$64,9,FALSE),\"\")","v":1.5},{"$f":"IFERROR(VLOOKUP(AR11,'P2'!$B$59:$J$64,9,FALSE),\"\")","v":""},{"$f":"IFERROR(VLOOKUP(AS11,'P2'!$B$59:$J$64,9,FALSE),\"\")","v":2.75},{"$f":"IFERROR(VLOOKUP(AT11,'P2'!$B$59:$J$64,9,FALSE),\"\")","v":2.75},{"$f":"IFERROR(VLOOKUP(AU11,'P2'!$B$59:$J$64,9,FALSE),\"\")","v":""},{"$f":"SUM(Q12:AU12)","v":39.5},null,null,null,null,6,"土",null,null,null,null,null,null,null,null,null,2030,12]
[null,{"$f":"ROW(B1)","v":1},null,null,null,null,null,null,null,null,null,null,null,null,null,null,null,null,null,null,null,null,null,null,null,null,null,null,null,null,null,null,null,null,null,null,null,null,null,null,null,null,null,null,null,null,null,{"$f":"COUNTA(Q13:AU13)","v":0},{"$f":"AV14","v":0},{"$f":"IFERROR(ROUNDDOWN(AV14/$AT$3,1),\"\")","v":""},null,null,7,"日"]
[null,null,null,null,null,null,null,null,null,null,null,null,null,null,null,null,{"$f":"IFERROR(VLOOKUP(Q13,'P2'!$B$4:$J$48,9,FALSE),\"\")","v":""},{"$f":"IFERROR(VLOOKUP(R13,'P2'!$B$4:$J$48,9,FALSE),\"\")","v":""},{"$f":"IFERROR(VLOOKUP(S13,'P2'!$B$4:$J$48,9,FALSE),\"\")","v":""},{"$f":"IFERROR(VLOOKUP(T13,'P2'!$B$4:$J$48,9,FALSE),\"\")","v":""},{"$f":"IFERROR(VLOOKUP(U13,'P2'!$B$4:$J$48,9,FALSE),\"\")","v":""},{"$f":"IFERROR(VLOOKUP(V13,'P2'!$B$4:$J$48,9,FALSE),\"\")","v":""},{"$f":"IFERROR(VLOOKUP(W13,'P2'!$B$4:$J$48,9,FALSE),\"\")","v":""},{"$f":"IFERROR(VLOOKUP(X13,'P2'!$B$4:$J$48,9,FALSE),\"\")","v":""},{"$f":"IFERROR(VLOOKUP(Y13,'P2'!$B$4:$J$48,9,FALSE),\"\")","v":""},{"$f":"IFERROR(VLOOKUP(Z13,'P2'!$B$4:$J$48,9,FALSE),\"\")","v":""},{"$f":"IFERROR(VLOOKUP(AA13,'P2'!$B$4:$J$48,9,FALSE),\"\")","v":""},{"$f":"IFERROR(VLOOKUP(AB13,'P2'!$B$4:$J$48,9,FALSE),\"\")","v":""},{"$f":"IFERROR(VLOOKUP(AC13,'P2'!$B$4:$J$48,9,FALSE),\"\")","v":""},{"$f":"IFERROR(VLOOKUP(AD13,'P2'!$B$4:$J$48,9,FALSE),\"\")","v":""},{"$f":"IFERROR(VLOOKUP(AE13,'P2'!$B$4:$J$48,9,FALSE),\"\")","v":""},{"$f":"IFERROR(VLOOKUP(AF13,'P2'!$B$4:$J$48,9,FALSE),\"\")","v":""},{"$f":"IFERROR(VLOOKUP(AG13,'P2'!$B$4:$J$48,9,FALSE),\"\")","v":""},{"$f":"IFERROR(VLOOKUP(AH13,'P2'!$B$4:$J$48,9,FALSE),\"\")","v":""},{"$f":"IFERROR(VLOOKUP(AI13,'P2'!$B$4:$J$48,9,FALSE),\"\")","v":""},{"$f":"IFERROR(VLOOKUP(AJ13,'P2'!$B$4:$J$48,9,FALSE),\"\")","v":""},{"$f":"IFERROR(VLOOKUP(AK13,'P2'!$B$4:$J$48,9,FALSE),\"\")","v":""},{"$f":"IFERROR(VLOOKUP(AL13,'P2'!$B$4:$J$48,9,FALSE),\"\")","v":""},{"$f":"IFERROR(VLOOKUP(AM13,'P2'!$B$4:$J$48,9,FALSE),\"\")","v":""},{"$f":"IFERROR(VLOOKUP(AN13,'P2'!$B$4:$J$48,9,FALSE),\"\")","v":""},{"$f":"IFERROR(VLOOKUP(AO13,'P2'!$B$4:$J$48,9,FALSE),\"\")","v":""},{"$f":"IFERROR(VLOOKUP(AP13,'P2'!$B$4:$J$48,9,FALSE),\"\")","v":""},{"$f":"IFERROR(VLOOKUP(AQ13,'P2'!$B$4:$J$48,9,FALSE),\"\")","v":""},{"$f":"IFERROR(VLOOKUP(AR13,'P2'!$B$4:$J$48,9,FALSE),\"\")","v":""},{"$f":"IFERROR(VLOOKUP(AS13,'P2'!$B$4:$J$48,9,FALSE),\"\")","v":""},{"$f":"IFERROR(VLOOKUP(AT13,'P2'!$B$4:$J$48,9,FALSE),\"\")","v":""},{"$f":"IFERROR(VLOOKUP(AU13,'P2'!$B$4:$J$48,9,FALSE),\"\")","v":""},{"$f":"SUM(Q14:AU14)","v":0}]
[null,{"$f":"B13+1","v":2},null,null,null,null,null,null,null,null,null,null,null,null,null,null,null,null,null,null,null,null,null,null,null,null,null,null,null,null,null,null,null,null,null,null,null,null,null,null,null,null,null,null,null,null,null,{"$f":"COUNTA(Q15:AU15)","v":0},{"$f":"AV16","v":0},{"$f":"IFERROR(ROUNDDOWN(AV16/$AT$3,1),\"\")","v":""}]
[null,null,null,null,null,null,null,null,null,null,null,null,null,null,null,null,{"$f":"IFERROR(VLOOKUP(Q15,'P2'!$B$4:$J$48,9,FALSE),\"\")","v":""},{"$f":"IFERROR(VLOOKUP(R15,'P2'!$B$4:$J$48,9,FALSE),\"\")","v":""},{"$f":"IFERROR(VLOOKUP(S15,'P2'!$B$4:$J$48,9,FALSE),\"\")","v":""},{"$f":"IFERROR(VLOOKUP(T15,'P2'!$B$4:$J$48,9,FALSE),\"\")","v":""},{"$f":"IFERROR(VLOOKUP(U15,'P2'!$B$4:$J$48,9,FALSE),\"\")","v":""},{"$f":"IFERROR(VLOOKUP(V15,'P2'!$B$4:$J$48,9,FALSE),\"\")","v":""},{"$f":"IFERROR(VLOOKUP(W15,'P2'!$B$4:$J$48,9,FALSE),\"\")","v":""},{"$f":"IFERROR(VLOOKUP(X15,'P2'!$B$4:$J$48,9,FALSE),\"\")","v":""},{"$f":"IFERROR(VLOOKUP(Y15,'P2'!$B$4:$J$48,9,FALSE),\"\")","v":""},{"$f":"IFERROR(VLOOKUP(Z15,'P2'!$B$4:$J$48,9,FALSE),\"\")","v":""},{"$f":"IFERROR(VLOOKUP(AA15,'P2'!$B$4:$J$48,9,FALSE),\"\")","v":""},{"$f":"IFERROR(VLOOKUP(AB15,'P2'!$B$4:$J$48,9,FALSE),\"\")","v":""},{"$f":"IFERROR(VLOOKUP(AC15,'P2'!$B$4:$J$48,9,FALSE),\"\")","v":""},{"$f":"IFERROR(VLOOKUP(AD15,'P2'!$B$4:$J$48,9,FALSE),\"\")","v":""},{"$f":"IFERROR(VLOOKUP(AE15,'P2'!$B$4:$J$48,9,FALSE),\"\")","v":""},{"$f":"IFERROR(VLOOKUP(AF15,'P2'!$B$4:$J$48,9,FALSE),\"\")","v":""},{"$f":"IFERROR(VLOOKUP(AG15,'P2'!$B$4:$J$48,9,FALSE),\"\")","v":""},{"$f":"IFERROR(VLOOKUP(AH15,'P2'!$B$4:$J$48,9,FALSE),\"\")","v":""},{"$f":"IFERROR(VLOOKUP(AI15,'P2'!$B$4:$J$48,9,FALSE),\"\")","v":""},{"$f":"IFERROR(VLOOKUP(AJ15,'P2'!$B$4:$J$48,9,FALSE),\"\")","v":""},{"$f":"IFERROR(VLOOKUP(AK15,'P2'!$B$4:$J$48,9,FALSE),\"\")","v":""},{"$f":"IFERROR(VLOOKUP(AL15,'P2'!$B$4:$J$48,9,FALSE),\"\")","v":""},{"$f":"IFERROR(VLOOKUP(AM15,'P2'!$B$4:$J$48,9,FALSE),\"\")","v":""},{"$f":"IFERROR(VLOOKUP(AN15,'P2'!$B$4:$J$48,9,FALSE),\"\")","v":""},{"$f":"IFERROR(VLOOKUP(AO15,'P2'!$B$4:$J$48,9,FALSE),\"\")","v":""},{"$f":"IFERROR(VLOOKUP(AP15,'P2'!$B$4:$J$48,9,FALSE),\"\")","v":""},{"$f":"IFERROR(VLOOKUP(AQ15,'P2'!$B$4:$J$48,9,FALSE),\"\")","v":""},{"$f":"IFERROR(VLOOKUP(AR15,'P2'!$B$4:$J$48,9,FALSE),\"\")","v":""},{"$f":"IFERROR(VLOOKUP(AS15,'P2'!$B$4:$J$48,9,FALSE),\"\")","v":""},{"$f":"IFERROR(VLOOKUP(AT15,'P2'!$B$4:$J$48,9,FALSE),\"\")","v":""},{"$f":"IFERROR(VLOOKUP(AU15,'P2'!$B$4:$J$48,9,FALSE),\"\")","v":""},{"$f":"SUM(Q16:AU16)","v":0}]
[null,{"$f":"B15+1","v":3},null,null,null,null,null,null,null,null,null,null,null,null,null,null,null,null,null,null,null,null,null,null,null,null,null,null,null,null,null,null,null,null,null,null,null,null,null,null,null,null,null,null,null,null,null,{"$f":"COUNTA(Q17:AU17)","v":0},{"$f":"AV18","v":0},{"$f":"IFERROR(ROUNDDOWN(AV18/$AT$3,1),\"\")","v":""}]
[null,null,null,null,null,null,null,null,null,null,null,null,null,null,null,null,{"$f":"IFERROR(VLOOKUP(Q17,'P2'!$B$4:$J$48,9,FALSE),\"\")","v":""},{"$f":"IFERROR(VLOOKUP(R17,'P2'!$B$4:$J$48,9,FALSE),\"\")","v":""},{"$f":"IFERROR(VLOOKUP(S17,'P2'!$B$4:$J$48,9,FALSE),\"\")","v":""},{"$f":"IFERROR(VLOOKUP(T17,'P2'!$B$4:$J$48,9,FALSE),\"\")","v":""},{"$f":"IFERROR(VLOOKUP(U17,'P2'!$B$4:$J$48,9,FALSE),\"\")","v":""},{"$f":"IFERROR(VLOOKUP(V17,'P2'!$B$4:$J$48,9,FALSE),\"\")","v":""},{"$f":"IFERROR(VLOOKUP(W17,'P2'!$B$4:$J$48,9,FALSE),\"\")","v":""},{"$f":"IFERROR(VLOOKUP(X17,'P2'!$B$4:$J$48,9,FALSE),\"\")","v":""},{"$f":"IFERROR(VLOOKUP(Y17,'P2'!$B$4:$J$48,9,FALSE),\"\")","v":""},{"$f":"IFERROR(VLOOKUP(Z17,'P2'!$B$4:$J$48,9,FALSE),\"\")","v":""},{"$f":"IFERROR(VLOOKUP(AA17,'P2'!$B$4:$J$48,9,FALSE),\"\")","v":""},{"$f":"IFERROR(VLOOKUP(AB17,'P2'!$B$4:$J$48,9,FALSE),\"\")","v":""},{"$f":"IFERROR(VLOOKUP(AC17,'P2'!$B$4:$J$48,9,FALSE),\"\")","v":""},{"$f":"IFERROR(VLOOKUP(AD17,'P2'!$B$4:$J$48,9,FALSE),\"\")","v":""},{"$f":"IFERROR(VLOOKUP(AE17,'P2'!$B$4:$J$48,9,FALSE),\"\")","v":""},{"$f":"IFERROR(VLOOKUP(AF17,'P2'!$B$4:$J$48,9,FALSE),\"\")","v":""},{"$f":"IFERROR(VLOOKUP(AG17,'P2'!$B$4:$J$48,9,FALSE),\"\")","v":""},{"$f":"IFERROR(VLOOKUP(AH17,'P2'!$B$4:$J$48,9,FALSE),\"\")","v":""},{"$f":"IFERROR(VLOOKUP(AI17,'P2'!$B$4:$J$48,9,FALSE),\"\")","v":""},{"$f":"IFERROR(VLOOKUP(AJ17,'P2'!$B$4:$J$48,9,FALSE),\"\")","v":""},{"$f":"IFERROR(VLOOKUP(AK17,'P2'!$B$4:$J$48,9,FALSE),\"\")","v":""},{"$f":"IFERROR(VLOOKUP(AL17,'P2'!$B$4:$J$48,9,FALSE),\"\")","v":""},{"$f":"IFERROR(VLOOKUP(AM17,'P2'!$B$4:$J$48,9,FALSE),\"\")","v":""},{"$f":"IFERROR(VLOOKUP(AN17,'P2'!$B$4:$J$48,9,FALSE),\"\")","v":""},{"$f":"IFERROR(VLOOKUP(AO17,'P2'!$B$4:$J$48,9,FALSE),\"\")","v":""},{"$f":"IFERROR(VLOOKUP(AP17,'P2'!$B$4:$J$48,9,FALSE),\"\")","v":""},{"$f":"IFERROR(VLOOKUP(AQ17,'P2'!$B$4:$J$48,9,FALSE),\"\")","v":""},{"$f":"IFERROR(VLOOKUP(AR17,'P2'!$B$4:$J$48,9,FALSE),\"\")","v":""},{"$f":"IFERROR(VLOOKUP(AS17,'P2'!$B$4:$J$48,9,FALSE),\"\")","v":""},{"$f":"IFERROR(VLOOKUP(AT17,'P2'!$B$4:$J$48,9,FALSE),\"\")","v":""},{"$f":"IFERROR(VLOOKUP(AU17,'P2'!$B$4:$J$48,9,FALSE),\"\")","v":""},{"$f":"SUM(Q18:AU18)","v":0}]
[null,{"$f":"B17+1","v":4},null,null,null,null,null,null,null,null,null,null,null,null,null,null,null,null,null,null,null,null,null,null,null,null,null,null,null,null,null,null,null,null,null,null,null,null,null,null,null,null,null,null,null,null,null,{"$f":"COUNTA(Q19:AU19)","v":0},{"$f":"AV20","v":0},{"$f":"IFERROR(ROUNDDOWN(AV20/$AT$3,1),\"\")","v":""}]
[null,null,null,null,null,null,null,null,null,null,null,null,null,null,null,null,{"$f":"IFERROR(VLOOKUP(Q19,'P2'!$B$4:$J$48,9,FALSE),\"\")","v":""},{"$f":"IFERROR(VLOOKUP(R19,'P2'!$B$4:$J$48,9,FALSE),\"\")","v":""},{"$f":"IFERROR(VLOOKUP(S19,'P2'!$B$4:$J$48,9,FALSE),\"\")","v":""},{"$f":"IFERROR(VLOOKUP(T19,'P2'!$B$4:$J$48,9,FALSE),\"\")","v":""},{"$f":"IFERROR(VLOOKUP(U19,'P2'!$B$4:$J$48,9,FALSE),\"\")","v":""},{"$f":"IFERROR(VLOOKUP(V19,'P2'!$B$4:$J$48,9,FALSE),\"\")","v":""},{"$f":"IFERROR(VLOOKUP(W19,'P2'!$B$4:$J$48,9,FALSE),\"\")","v":""},{"$f":"IFERROR(VLOOKUP(X19,'P2'!$B$4:$J$48,9,FALSE),\"\")","v":""},{"$f":"IFERROR(VLOOKUP(Y19,'P2'!$B$4:$J$48,9,FALSE),\"\")","v":""},{"$f":"IFERROR(VLOOKUP(Z19,'P2'!$B$4:$J$48,9,FALSE),\"\")","v":""},{"$f":"IFERROR(VLOOKUP(AA19,'P2'!$B$4:$J$48,9,FALSE),\"\")","v":""},{"$f":"IFERROR(VLOOKUP(AB19,'P2'!$B$4:$J$48,9,FALSE),\"\")","v":""},{"$f":"IFERROR(VLOOKUP(AC19,'P2'!$B$4:$J$48,9,FALSE),\"\")","v":""},{"$f":"IFERROR(VLOOKUP(AD19,'P2'!$B$4:$J$48,9,FALSE),\"\")","v":""},{"$f":"IFERROR(VLOOKUP(AE19,'P2'!$B$4:$J$48,9,FALSE),\"\")","v":""},{"$f":"IFERROR(VLOOKUP(AF19,'P2'!$B$4:$J$48,9,FALSE),\"\")","v":""},{"$f":"IFERROR(VLOOKUP(AG19,'P2'!$B$4:$J$48,9,FALSE),\"\")","v":""},{"$f":"IFERROR(VLOOKUP(AH19,'P2'!$B$4:$J$48,9,FALSE),\"\")","v":""},{"$f":"IFERROR(VLOOKUP(AI19,'P2'!$B$4:$J$48,9,FALSE),\"\")","v":""},{"$f":"IFERROR(VLOOKUP(AJ19,'P2'!$B$4:$J$48,9,FALSE),\"\")","v":""},{"$f":"IFERROR(VLOOKUP(AK19,'P2'!$B$4:$J$48,9,FALSE),\"\")","v":""},{"$f":"IFERROR(VLOOKUP(AL19,'P2'!$B$4:$J$48,9,FALSE),\"\")","v":""},{"$f":"IFERROR(VLOOKUP(AM19,'P2'!$B$4:$J$48,9,FALSE),\"\")","v":""},{"$f":"IFERROR(VLOOKUP(AN19,'P2'!$B$4:$J$48,9,FALSE),\"\")","v":""},{"$f":"IFERROR(VLOOKUP(AO19,'P2'!$B$4:$J$48,9,FALSE),\"\")","v":""},{"$f":"IFERROR(VLOOKUP(AP19,'P2'!$B$4:$J$48,9,FALSE),\"\")","v":""},{"$f":"IFERROR(VLOOKUP(AQ19,'P2'!$B$4:$J$48,9,FALSE),\"\")","v":""},{"$f":"IFERROR(VLOOKUP(AR19,'P2'!$B$4:$J$48,9,FALSE),\"\")","v":""},{"$f":"IFERROR(VLOOKUP(AS19,'P2'!$B$4:$J$48,9,FALSE),\"\")","v":""},{"$f":"IFERROR(VLOOKUP(AT19,'P2'!$B$4:$J$48,9,FALSE),\"\")","v":""},{"$f":"IFERROR(VLOOKUP(AU19,'P2'!$B$4:$J$48,9,FALSE),\"\")","v":""},{"$f":"SUM(Q20:AU20)","v":0}]
[null,{"$f":"B19+1","v":5},null,null,null,null,null,null,null,null,null,null,null,null,null,null,null,null,null,null,null,null,null,null,null,null,null,null,null,null,null,null,null,null,null,null,null,null,null,null,null,null,null,null,null,null,null,{"$f":"COUNTA(Q21:AU21)","v":0},{"$f":"AV22","v":0},{"$f":"IFERROR(ROUNDDOWN(AV22/$AT$3,1),\"\")","v":""}]
[null,null,null,null,null,null,null,null,null,null,null,null,null,null,null,null,{"$f":"IFERROR(VLOOKUP(Q21,'P2'!$B$4:$J$48,9,FALSE),\"\")","v":""},{"$f":"IFERROR(VLOOKUP(R21,'P2'!$B$4:$J$48,9,FALSE),\"\")","v":""},{"$f":"IFERROR(VLOOKUP(S21,'P2'!$B$4:$J$48,9,FALSE),\"\")","v":""},{"$f":"IFERROR(VLOOKUP(T21,'P2'!$B$4:$J$48,9,FALSE),\"\")","v":""},{"$f":"IFERROR(VLOOKUP(U21,'P2'!$B$4:$J$48,9,FALSE),\"\")","v":""},{"$f":"IFERROR(VLOOKUP(V21,'P2'!$B$4:$J$48,9,FALSE),\"\")","v":""},{"$f":"IFERROR(VLOOKUP(W21,'P2'!$B$4:$J$48,9,FALSE),\"\")","v":""},{"$f":"IFERROR(VLOOKUP(X21,'P2'!$B$4:$J$48,9,FALSE),\"\")","v":""},{"$f":"IFERROR(VLOOKUP(Y21,'P2'!$B$4:$J$48,9,FALSE),\"\")","v":""},{"$f":"IFERROR(VLOOKUP(Z21,'P2'!$B$4:$J$48,9,FALSE),\"\")","v":""},{"$f":"IFERROR(VLOOKUP(AA21,'P2'!$B$4:$J$48,9,FALSE),\"\")","v":""},{"$f":"IFERROR(VLOOKUP(AB21,'P2'!$B$4:$J$48,9,FALSE),\"\")","v":""},{"$f":"IFERROR(VLOOKUP(AC21,'P2'!$B$4:$J$48,9,FALSE),\"\")","v":""},{"$f":"IFERROR(VLOOKUP(AD21,'P2'!$B$4:$J$48,9,FALSE),\"\")","v":""},{"$f":"IFERROR(VLOOKUP(AE21,'P2'!$B$4:$J$48,9,FALSE),\"\")","v":""},{"$f":"IFERROR(VLOOKUP(AF21,'P2'!$B$4:$J$48,9,FALSE),\"\")","v":""},{"$f":"IFERROR(VLOOKUP(AG21,'P2'!$B$4:$J$48,9,FALSE),\"\")","v":""},{"$f":"IFERROR(VLOOKUP(AH21,'P2'!$B$4:$J$48,9,FALSE),\"\")","v":""},{"$f":"IFERROR(VLOOKUP(AI21,'P2'!$B$4:$J$48,9,FALSE),\"\")","v":""},{"$f":"IFERROR(VLOOKUP(AJ21,'P2'!$B$4:$J$48,9,FALSE),\"\")","v":""},{"$f":"IFERROR(VLOOKUP(AK21,'P2'!$B$4:$J$48,9,FALSE),\"\")","v":""},{"$f":"IFERROR(VLOOKUP(AL21,'P2'!$B$4:$J$48,9,FALSE),\"\")","v":""},{"$f":"IFERROR(VLOOKUP(AM21,'P2'!$B$4:$J$48,9,FALSE),\"\")","v":""},{"$f":"IFERROR(VLOOKUP(AN21,'P2'!$B$4:$J$48,9,FALSE),\"\")","v":""},{"$f":"IFERROR(VLOOKUP(AO21,'P2'!$B$4:$J$48,9,FALSE),\"\")","v":""},{"$f":"IFERROR(VLOOKUP(AP21,'P2'!$B$4:$J$48,9,FALSE),\"\")","v":""},{"$f":"IFERROR(VLOOKUP(AQ21,'P2'!$B$4:$J$48,9,FALSE),\"\")","v":""},{"$f":"IFERROR(VLOOKUP(AR21,'P2'!$B$4:$J$48,9,FALSE),\"\")","v":""},{"$f":"IFERROR(VLOOKUP(AS21,'P2'!$B$4:$J$48,9,FALSE),\"\")","v":""},{"$f":"IFERROR(VLOOKUP(AT21,'P2'!$B$4:$J$48,9,FALSE),\"\")","v":""},{"$f":"IFERROR(VLOOKUP(AU21,'P2'!$B$4:$J$48,9,FALSE),\"\")","v":""},{"$f":"SUM(Q22:AU22)","v":0}]
[null,{"$f":"B21+1","v":6},null,null,null,null,null,null,null,null,null,null,null,null,null,null,null,null,null,null,null,null,null,null,null,null,null,null,null,null,null,null,null,null,null,null,null,null,null,null,null,null,null,null,null,null,null,{"$f":"COUNTA(Q23:AU23)","v":0},{"$f":"AV24","v":0},{"$f":"IFERROR(ROUNDDOWN(AV24/$AT$3,1),\"\")","v":""}]
[null,null,null,null,null,null,null,null,null,null,null,null,null,null,null,null,{"$f":"IFERROR(VLOOKUP(Q23,'P2'!$B$4:$J$48,9,FALSE),\"\")","v":""},{"$f":"IFERROR(VLOOKUP(R23,'P2'!$B$4:$J$48,9,FALSE),\"\")","v":""},{"$f":"IFERROR(VLOOKUP(S23,'P2'!$B$4:$J$48,9,FALSE),\"\")","v":""},{"$f":"IFERROR(VLOOKUP(T23,'P2'!$B$4:$J$48,9,FALSE),\"\")","v":""},{"$f":"IFERROR(VLOOKUP(U23,'P2'!$B$4:$J$48,9,FALSE),\"\")","v":""},{"$f":"IFERROR(VLOOKUP(V23,'P2'!$B$4:$J$48,9,FALSE),\"\")","v":""},{"$f":"IFERROR(VLOOKUP(W23,'P2'!$B$4:$J$48,9,FALSE),\"\")","v":""},{"$f":"IFERROR(VLOOKUP(X23,'P2'!$B$4:$J$48,9,FALSE),\"\")","v":""},{"$f":"IFERROR(VLOOKUP(Y23,'P2'!$B$4:$J$48,9,FALSE),\"\")","v":""},{"$f":"IFERROR(VLOOKUP(Z23,'P2'!$B$4:$J$48,9,FALSE),\"\")","v":""},{"$f":"IFERROR(VLOOKUP(AA23,'P2'!$B$4:$J$48,9,FALSE),\"\")","v":""},{"$f":"IFERROR(VLOOKUP(AB23,'P2'!$B$4:$J$48,9,FALSE),\"\")","v":""},{"$f":"IFERROR(VLOOKUP(AC23,'P2'!$B$4:$J$48,9,FALSE),\"\")","v":""},{"$f":"IFERROR(VLOOKUP(AD23,'P2'!$B$4:$J$48,9,FALSE),\"\")","v":""},{"$f":"IFERROR(VLOOKUP(AE23,'P2'!$B$4:$J$48,9,FALSE),\"\")","v":""},{"$f":"IFERROR(VLOOKUP(AF23,'P2'!$B$4:$J$48,9,FALSE),\"\")","v":""},{"$f":"IFERROR(VLOOKUP(AG23,'P2'!$B$4:$J$48,9,FALSE),\"\")","v":""},{"$f":"IFERROR(VLOOKUP(AH23,'P2'!$B$4:$J$48,9,FALSE),\"\")","v":""},{"$f":"IFERROR(VLOOKUP(AI23,'P2'!$B$4:$J$48,9,FALSE),\"\")","v":""},{"$f":"IFERROR(VLOOKUP(AJ23,'P2'!$B$4:$J$48,9,FALSE),\"\")","v":""},{"$f":"IFERROR(VLOOKUP(AK23,'P2'!$B$4:$J$48,9,FALSE),\"\")","v":""},{"$f":"IFERROR(VLOOKUP(AL23,'P2'!$B$4:$J$48,9,FALSE),\"\")","v":""},{"$f":"IFERROR(VLOOKUP(AM23,'P2'!$B$4:$J$48,9,FALSE),\"\")","v":""},{"$f":"IFERROR(VLOOKUP(AN23,'P2'!$B$4:$J$48,9,FALSE),\"\")","v":""},{"$f":"IFERROR(VLOOKUP(AO23,'P2'!$B$4:$J$48,9,FALSE),\"\")","v":""},{"$f":"IFERROR(VLOOKUP(AP23,'P2'!$B$4:$J$48,9,FALSE),\"\")","v":""},{"$f":"IFERROR(VLOOKUP(AQ23,'P2'!$B$4:$J$48,9,FALSE),\"\")","v":""},{"$f":"IFERROR(VLOOKUP(AR23,'P2'!$B$4:$J$48,9,FALSE),\"\")","v":""},{"$f":"IFERROR(VLOOKUP(AS23,'P2'!$B$4:$J$48,9,FALSE),\"\")","v":""},{"$f":"IFERROR(VLOOKUP(AT23,'P2'!$B$4:$J$48,9,FALSE),\"\")","v":""},{"$f":"IFERROR(VLOOKUP(AU23,'P2'!$B$4:$J$48,9,FALSE),\"\")","v":""},{"$f":"SUM(Q24:AU24)","v":0}]
[null,{"$f":"B23+1","v":7},null,null,null,null,null,null,null,null,null,null,null,null,null,null,null,null,null,null,null,null,null,null,null,null,null,null,null,null,null,null,null,null,null,null,null,null,null,null,null,null,null,null,null,null,null,{"$f":"COUNTA(Q25:AU25)","v":0},{"$f":"AV26","v":0},{"$f":"IFERROR(ROUNDDOWN(AV26/$AT$3,1),\"\")","v":""}]
[null,null,null,null,null,null,null,null,null,null,null,null,null,null,null,null,{"$f":"IFERROR(VLOOKUP(Q25,'P2'!$B$4:$J$48,9,FALSE),\"\")","v":""},{"$f":"IFERROR(VLOOKUP(R25,'P2'!$B$4:$J$48,9,FALSE),\"\")","v":""},{"$f":"IFERROR(VLOOKUP(S25,'P2'!$B$4:$J$48,9,FALSE),\"\")","v":""},{"$f":"IFERROR(VLOOKUP(T25,'P2'!$B$4:$J$48,9,FALSE),\"\")","v":""},{"$f":"IFERROR(VLOOKUP(U25,'P2'!$B$4:$J$48,9,FALSE),\"\")","v":""},{"$f":"IFERROR(VLOOKUP(V25,'P2'!$B$4:$J$48,9,FALSE),\"\")","v":""},{"$f":"IFERROR(VLOOKUP(W25,'P2'!$B$4:$J$48,9,FALSE),\"\")","v":""},{"$f":"IFERROR(VLOOKUP(X25,'P2'!$B$4:$J$48,9,FALSE),\"\")","v":""},{"$f":"IFERROR(VLOOKUP(Y25,'P2'!$B$4:$J$48,9,FALSE),\"\")","v":""},{"$f":"IFERROR(VLOOKUP(Z25,'P2'!$B$4:$J$48,9,FALSE),\"\")","v":""},{"$f":"IFERROR(VLOOKUP(AA25,'P2'!$B$4:$J$48,9,FALSE),\"\")","v":""},{"$f":"IFERROR(VLOOKUP(AB25,'P2'!$B$4:$J$48,9,FALSE),\"\")","v":""},{"$f":"IFERROR(VLOOKUP(AC25,'P2'!$B$4:$J$48,9,FALSE),\"\")","v":""},{"$f":"IFERROR(VLOOKUP(AD25,'P2'!$B$4:$J$48,9,FALSE),\"\")","v":""},{"$f":"IFERROR(VLOOKUP(AE25,'P2'!$B$4:$J$48,9,FALSE),\"\")","v":""},{"$f":"IFERROR(VLOOKUP(AF25,'P2'!$B$4:$J$48,9,FALSE),\"\")","v":""},{"$f":"IFERROR(VLOOKUP(AG25,'P2'!$B$4:$J$48,9,FALSE),\"\")","v":""},{"$f":"IFERROR(VLOOKUP(AH25,'P2'!$B$4:$J$48,9,FALSE),\"\")","v":""},{"$f":"IFERROR(VLOOKUP(AI25,'P2'!$B$4:$J$48,9,FALSE),\"\")","v":""},{"$f":"IFERROR(VLOOKUP(AJ25,'P2'!$B$4:$J$48,9,FALSE),\"\")","v":""},{"$f":"IFERROR(VLOOKUP(AK25,'P2'!$B$4:$J$48,9,FALSE),\"\")","v":""},{"$f":"IFERROR(VLOOKUP(AL25,'P2'!$B$4:$J$48,9,FALSE),\"\")","v":""},{"$f":"IFERROR(VLOOKUP(AM25,'P2'!$B$4:$J$48,9,FALSE),\"\")","v":""},{"$f":"IFERROR(VLOOKUP(AN25,'P2'!$B$4:$J$48,9,FALSE),\"\")","v":""},{"$f":"IFERROR(VLOOKUP(AO25,'P2'!$B$4:$J$48,9,FALSE),\"\")","v":""},{"$f":"IFERROR(VLOOKUP(AP25,'P2'!$B$4:$J$48,9,FALSE),\"\")","v":""},{"$f":"IFERROR(VLOOKUP(AQ25,'P2'!$B$4:$J$48,9,FALSE),\"\")","v":""},{"$f":"IFERROR(VLOOKUP(AR25,'P2'!$B$4:$J$48,9,FALSE),\"\")","v":""},{"$f":"IFERROR(VLOOKUP(AS25,'P2'!$B$4:$J$48,9,FALSE),\"\")","v":""},{"$f":"IFERROR(VLOOKUP(AT25,'P2'!$B$4:$J$48,9,FALSE),\"\")","v":""},{"$f":"IFERROR(VLOOKUP(AU25,'P2'!$B$4:$J$48,9,FALSE),\"\")","v":""},{"$f":"SUM(Q26:AU26)","v":0}]
[null,{"$f":"B25+1","v":8},null,null,null,null,null,null,null,null,null,null,null,null,null,null,null,null,null,null,null,null,null,null,null,null,null,null,null,null,null,null,null,null,null,null,null,null,null,null,null,null,null,null,null,null,null,{"$f":"COUNTA(Q27:AU27)","v":0},{"$f":"AV28","v":0},{"$f":"IFERROR(ROUNDDOWN(AV28/$AT$3,1),\"\")","v":""}]
[null,null,null,null,null,null,null,null,null,null,null,null,null,null,null,null,{"$f":"IFERROR(VLOOKUP(Q27,'P2'!$B$4:$J$48,9,FALSE),\"\")","v":""},{"$f":"IFERROR(VLOOKUP(R27,'P2'!$B$4:$J$48,9,FALSE),\"\")","v":""},{"$f":"IFERROR(VLOOKUP(S27,'P2'!$B$4:$J$48,9,FALSE),\"\")","v":""},{"$f":"IFERROR(VLOOKUP(T27,'P2'!$B$4:$J$48,9,FALSE),\"\")","v":""},{"$f":"IFERROR(VLOOKUP(U27,'P2'!$B$4:$J$48,9,FALSE),\"\")","v":""},{"$f":"IFERROR(VLOOKUP(V27,'P2'!$B$4:$J$48,9,FALSE),\"\")","v":""},{"$f":"IFERROR(VLOOKUP(W27,'P2'!$B$4:$J$48,9,FALSE),\"\")","v":""},{"$f":"IFERROR(VLOOKUP(X27,'P2'!$B$4:$J$48,9,FALSE),\"\")","v":""},{"$f":"IFERROR(VLOOKUP(Y27,'P2'!$B$4:$J$48,9,FALSE),\"\")","v":""},{"$f":"IFERROR(VLOOKUP(Z27,'P2'!$B$4:$J$48,9,FALSE),\"\")","v":""},{"$f":"IFERROR(VLOOKUP(AA27,'P2'!$B$4:$J$48,9,FALSE),\"\")","v":""},{"$f":"IFERROR(VLOOKUP(AB27,'P2'!$B$4:$J$48,9,FALSE),\"\")","v":""},{"$f":"IFERROR(VLOOKUP(AC27,'P2'!$B$4:$J$48,9,FALSE),\"\")","v":""},{"$f":"IFERROR(VLOOKUP(AD27,'P2'!$B$4:$J$48,9,FALSE),\"\")","v":""},{"$f":"IFERROR(VLOOKUP(AE27,'P2'!$B$4:$J$48,9,FALSE),\"\")","v":""},{"$f":"IFERROR(VLOOKUP(AF27,'P2'!$B$4:$J$48,9,FALSE),\"\")","v":""},{"$f":"IFERROR(VLOOKUP(AG27,'P2'!$B$4:$J$48,9,FALSE),\"\")","v":""},{"$f":"IFERROR(VLOOKUP(AH27,'P2'!$B$4:$J$48,9,FALSE),\"\")","v":""},{"$f":"IFERROR(VLOOKUP(AI27,'P2'!$B$4:$J$48,9,FALSE),\"\")","v":""},{"$f":"IFERROR(VLOOKUP(AJ27,'P2'!$B$4:$J$48,9,FALSE),\"\")","v":""},{"$f":"IFERROR(VLOOKUP(AK27,'P2'!$B$4:$J$48,9,FALSE),\"\")","v":""},{"$f":"IFERROR(VLOOKUP(AL27,'P2'!$B$4:$J$48,9,FALSE),\"\")","v":""},{"$f":"IFERROR(VLOOKUP(AM27,'P2'!$B$4:$J$48,9,FALSE),\"\")","v":""},{"$f":"IFERROR(VLOOKUP(AN27,'P2'!$B$4:$J$48,9,FALSE),\"\")","v":""},{"$f":"IFERROR(VLOOKUP(AO27,'P2'!$B$4:$J$48,9,FALSE),\"\")","v":""},{"$f":"IFERROR(VLOOKUP(AP27,'P2'!$B$4:$J$48,9,FALSE),\"\")","v":""},{"$f":"IFERROR(VLOOKUP(AQ27,'P2'!$B$4:$J$48,9,FALSE),\"\")","v":""},{"$f":"IFERROR(VLOOKUP(AR27,'P2'!$B$4:$J$48,9,FALSE),\"\")","v":""},{"$f":"IFERROR(VLOOKUP(AS27,'P2'!$B$4:$J$48,9,FALSE),\"\")","v":""},{"$f":"IFERROR(VLOOKUP(AT27,'P2'!$B$4:$J$48,9,FALSE),\"\")","v":""},{"$f":"IFERROR(VLOOKUP(AU27,'P2'!$B$4:$J$48,9,FALSE),\"\")","v":""},{"$f":"SUM(Q28:AU28)","v":0}]
[null,{"$f":"B27+1","v":9},null,null,null,null,null,null,null,null,null,null,null,null,null,null,null,null,null,null,null,null,null,null,null,null,null,null,null,null,null,null,null,null,null,null,null,null,null,null,null,null,null,null,null,null,null,{"$f":"COUNTA(Q29:AU29)","v":0},{"$f":"AV30","v":0},{"$f":"IFERROR(ROUNDDOWN(AV30/$AT$3,1),\"\")","v":""}]
[null,null,null,null,null,null,null,null,null,null,null,null,null,null,null,null,{"$f":"IFERROR(VLOOKUP(Q29,'P2'!$B$4:$J$48,9,FALSE),\"\")","v":""},{"$f":"IFERROR(VLOOKUP(R29,'P2'!$B$4:$J$48,9,FALSE),\"\")","v":""},{"$f":"IFERROR(VLOOKUP(S29,'P2'!$B$4:$J$48,9,FALSE),\"\")","v":""},{"$f":"IFERROR(VLOOKUP(T29,'P2'!$B$4:$J$48,9,FALSE),\"\")","v":""},{"$f":"IFERROR(VLOOKUP(U29,'P2'!$B$4:$J$48,9,FALSE),\"\")","v":""},{"$f":"IFERROR(VLOOKUP(V29,'P2'!$B$4:$J$48,9,FALSE),\"\")","v":""},{"$f":"IFERROR(VLOOKUP(W29,'P2'!$B$4:$J$48,9,FALSE),\"\")","v":""},{"$f":"IFERROR(VLOOKUP(X29,'P2'!$B$4:$J$48,9,FALSE),\"\")","v":""},{"$f":"IFERROR(VLOOKUP(Y29,'P2'!$B$4:$J$48,9,FALSE),\"\")","v":""},{"$f":"IFERROR(VLOOKUP(Z29,'P2'!$B$4:$J$48,9,FALSE),\"\")","v":""},{"$f":"IFERROR(VLOOKUP(AA29,'P2'!$B$4:$J$48,9,FALSE),\"\")","v":""},{"$f":"IFERROR(VLOOKUP(AB29,'P2'!$B$4:$J$48,9,FALSE),\"\")","v":""},{"$f":"IFERROR(VLOOKUP(AC29,'P2'!$B$4:$J$48,9,FALSE),\"\")","v":""},{"$f":"IFERROR(VLOOKUP(AD29,'P2'!$B$4:$J$48,9,FALSE),\"\")","v":""},{"$f":"IFERROR(VLOOKUP(AE29,'P2'!$B$4:$J$48,9,FALSE),\"\")","v":""},{"$f":"IFERROR(VLOOKUP(AF29,'P2'!$B$4:$J$48,9,FALSE),\"\")","v":""},{"$f":"IFERROR(VLOOKUP(AG29,'P2'!$B$4:$J$48,9,FALSE),\"\")","v":""},{"$f":"IFERROR(VLOOKUP(AH29,'P2'!$B$4:$J$48,9,FALSE),\"\")","v":""},{"$f":"IFERROR(VLOOKUP(AI29,'P2'!$B$4:$J$48,9,FALSE),\"\")","v":""},{"$f":"IFERROR(VLOOKUP(AJ29,'P2'!$B$4:$J$48,9,FALSE),\"\")","v":""},{"$f":"IFERROR(VLOOKUP(AK29,'P2'!$B$4:$J$48,9,FALSE),\"\")","v":""},{"$f":"IFERROR(VLOOKUP(AL29,'P2'!$B$4:$J$48,9,FALSE),\"\")","v":""},{"$f":"IFERROR(VLOOKUP(AM29,'P2'!$B$4:$J$48,9,FALSE),\"\")","v":""},{"$f":"IFERROR(VLOOKUP(AN29,'P2'!$B$4:$J$48,9,FALSE),\"\")","v":""},{"$f":"IFERROR(VLOOKUP(AO29,'P2'!$B$4:$J$48,9,FALSE),\"\")","v":""},{"$f":"IFERROR(VLOOKUP(AP29,'P2'!$B$4:$J$48,9,FALSE),\"\")","v":""},{"$f":"IFERROR(VLOOKUP(AQ29,'P2'!$B$4:$J$48,9,FALSE),\"\")","v":""},{"$f":"IFERROR(VLOOKUP(AR29,'P2'!$B$4:$J$48,9,FALSE),\"\")","v":""},{"$f":"IFERROR(VLOOKUP(AS29,'P2'!$B$4:$J$48,9,FALSE),\"\")","v":""},{"$f":"IFERROR(VLOOKUP(AT29,'P2'!$B$4:$J$48,9,FALSE),\"\")","v":""},{"$f":"IFERROR(VLOOKUP(AU29,'P2'!$B$4:$J$48,9,FALSE),\"\")","v":""},{"$f":"SUM(Q30:AU30)","v":0}]
[null,{"$f":"B29+1","v":10},null,null,null,null,null,null,null,null,null,null,null,null,null,null,null,null,null,null,null,null,null,null,null,null,null,null,null,null,null,null,null,null,null,null,null,null,null,null,null,null,null,null,null,null,null,{"$f":"COUNTA(Q31:AU31)","v":0},{"$f":"AV32","v":0},{"$f":"IFERROR(ROUNDDOWN(AV32/$AT$3,1),\"\")","v":""}]
[null,null,null,null,null,null,null,null,null,null,null,null,null,null,null,null,{"$f":"IFERROR(VLOOKUP(Q31,'P2'!$B$4:$J$48,9,FALSE),\"\")","v":""},{"$f":"IFERROR(VLOOKUP(R31,'P2'!$B$4:$J$48,9,FALSE),\"\")","v":""},{"$f":"IFERROR(VLOOKUP(S31,'P2'!$B$4:$J$48,9,FALSE),\"\")","v":""},{"$f":"IFERROR(VLOOKUP(T31,'P2'!$B$4:$J$48,9,FALSE),\"\")","v":""},{"$f":"IFERROR(VLOOKUP(U31,'P2'!$B$4:$J$48,9,FALSE),\"\")","v":""},{"$f":"IFERROR(VLOOKUP(V31,'P2'!$B$4:$J$48,9,FALSE),\"\")","v":""},{"$f":"IFERROR(VLOOKUP(W31,'P2'!$B$4:$J$48,9,FALSE),\"\")","v":""},{"$f":"IFERROR(VLOOKUP(X31,'P2'!$B$4:$J$48,9,FALSE),\"\")","v":""},{"$f":"IFERROR(VLOOKUP(Y31,'P2'!$B$4:$J$48,9,FALSE),\"\")","v":""},{"$f":"IFERROR(VLOOKUP(Z31,'P2'!$B$4:$J$48,9,FALSE),\"\")","v":""},{"$f":"IFERROR(VLOOKUP(AA31,'P2'!$B$4:$J$48,9,FALSE),\"\")","v":""},{"$f":"IFERROR(VLOOKUP(AB31,'P2'!$B$4:$J$48,9,FALSE),\"\")","v":""},{"$f":"IFERROR(VLOOKUP(AC31,'P2'!$B$4:$J$48,9,FALSE),\"\")","v":""},{"$f":"IFERROR(VLOOKUP(AD31,'P2'!$B$4:$J$48,9,FALSE),\"\")","v":""},{"$f":"IFERROR(VLOOKUP(AE31,'P2'!$B$4:$J$48,9,FALSE),\"\")","v":""},{"$f":"IFERROR(VLOOKUP(AF31,'P2'!$B$4:$J$48,9,FALSE),\"\")","v":""},{"$f":"IFERROR(VLOOKUP(AG31,'P2'!$B$4:$J$48,9,FALSE),\"\")","v":""},{"$f":"IFERROR(VLOOKUP(AH31,'P2'!$B$4:$J$48,9,FALSE),\"\")","v":""},{"$f":"IFERROR(VLOOKUP(AI31,'P2'!$B$4:$J$48,9,FALSE),\"\")","v":""},{"$f":"IFERROR(VLOOKUP(AJ31,'P2'!$B$4:$J$48,9,FALSE),\"\")","v":""},{"$f":"IFERROR(VLOOKUP(AK31,'P2'!$B$4:$J$48,9,FALSE),\"\")","v":""},{"$f":"IFERROR(VLOOKUP(AL31,'P2'!$B$4:$J$48,9,FALSE),\"\")","v":""},{"$f":"IFERROR(VLOOKUP(AM31,'P2'!$B$4:$J$48,9,FALSE),\"\")","v":""},{"$f":"IFERROR(VLOOKUP(AN31,'P2'!$B$4:$J$48,9,FALSE),\"\")","v":""},{"$f":"IFERROR(VLOOKUP(AO31,'P2'!$B$4:$J$48,9,FALSE),\"\")","v":""},{"$f":"IFERROR(VLOOKUP(AP31,'P2'!$B$4:$J$48,9,FALSE),\"\")","v":""},{"$f":"IFERROR(VLOOKUP(AQ31,'P2'!$B$4:$J$48,9,FALSE),\"\")","v":""},{"$f":"IFERROR(VLOOKUP(AR31,'P2'!$B$4:$J$48,9,FALSE),\"\")","v":""},{"$f":"IFERROR(VLOOKUP(AS31,'P2'!$B$4:$J$48,9,FALSE),\"\")","v":""},{"$f":"IFERROR(VLOOKUP(AT31,'P2'!$B$4:$J$48,9,FALSE),\"\")","v":""},{"$f":"IFERROR(VLOOKUP(AU31,'P2'!$B$4:$J$48,9,FALSE),\"\")","v":""},{"$f":"SUM(Q32:AU32)","v":0}]
[null,{"$f":"B31+1","v":11},null,null,null,null,null,null,null,null,null,null,null,null,null,null,null,null,null,null,null,null,null,null,null,null,null,null,null,null,null,null,null,null,null,null,null,null,null,null,null,null,null,null,null,null,null,{"$f":"COUNTA(Q33:AU33)","v":0},{"$f":"AV34","v":0},{"$f":"IFERROR(ROUNDDOWN(AV34/$AT$3,1),\"\")","v":""}]
[null,null,null,null,null,null,null,null,null,null,null,null,null,null,null,null,{"$f":"IFERROR(VLOOKUP(Q33,'P2'!$B$4:$J$48,9,FALSE),\"\")","v":""},{"$f":"IFERROR(VLOOKUP(R33,'P2'!$B$4:$J$48,9,FALSE),\"\")","v":""},{"$f":"IFERROR(VLOOKUP(S33,'P2'!$B$4:$J$48,9,FALSE),\"\")","v":""},{"$f":"IFERROR(VLOOKUP(T33,'P2'!$B$4:$J$48,9,FALSE),\"\")","v":""},{"$f":"IFERROR(VLOOKUP(U33,'P2'!$B$4:$J$48,9,FALSE),\"\")","v":""},{"$f":"IFERROR(VLOOKUP(V33,'P2'!$B$4:$J$48,9,FALSE),\"\")","v":""},{"$f":"IFERROR(VLOOKUP(W33,'P2'!$B$4:$J$48,9,FALSE),\"\")","v":""},{"$f":"IFERROR(VLOOKUP(X33,'P2'!$B$4:$J$48,9,FALSE),\"\")","v":""},{"$f":"IFERROR(VLOOKUP(Y33,'P2'!$B$4:$J$48,9,FALSE),\"\")","v":""},{"$f":"IFERROR(VLOOKUP(Z33,'P2'!$B$4:$J$48,9,FALSE),\"\")","v":""},{"$f":"IFERROR(VLOOKUP(AA33,'P2'!$B$4:$J$48,9,FALSE),\"\")","v":""},{"$f":"IFERROR(VLOOKUP(AB33,'P2'!$B$4:$J$48,9,FALSE),\"\")","v":""},{"$f":"IFERROR(VLOOKUP(AC33,'P2'!$B$4:$J$48,9,FALSE),\"\")","v":""},{"$f":"IFERROR(VLOOKUP(AD33,'P2'!$B$4:$J$48,9,FALSE),\"\")","v":""},{"$f":"IFERROR(VLOOKUP(AE33,'P2'!$B$4:$J$48,9,FALSE),\"\")","v":""},{"$f":"IFERROR(VLOOKUP(AF33,'P2'!$B$4:$J$48,9,FALSE),\"\")","v":""},{"$f":"IFERROR(VLOOKUP(AG33,'P2'!$B$4:$J$48,9,FALSE),\"\")","v":""},{"$f":"IFERROR(VLOOKUP(AH33,'P2'!$B$4:$J$48,9,FALSE),\"\")","v":""},{"$f":"IFERROR(VLOOKUP(AI33,'P2'!$B$4:$J$48,9,FALSE),\"\")","v":""},{"$f":"IFERROR(VLOOKUP(AJ33,'P2'!$B$4:$J$48,9,FALSE),\"\")","v":""},{"$f":"IFERROR(VLOOKUP(AK33,'P2'!$B$4:$J$48,9,FALSE),\"\")","v":""},{"$f":"IFERROR(VLOOKUP(AL33,'P2'!$B$4:$J$48,9,FALSE),\"\")","v":""},{"$f":"IFERROR(VLOOKUP(AM33,'P2'!$B$4:$J$48,9,FALSE),\"\")","v":""},{"$f":"IFERROR(VLOOKUP(AN33,'P2'!$B$4:$J$48,9,FALSE),\"\")","v":""},{"$f":"IFERROR(VLOOKUP(AO33,'P2'!$B$4:$J$48,9,FALSE),\"\")","v":""},{"$f":"IFERROR(VLOOKUP(AP33,'P2'!$B$4:$J$48,9,FALSE),\"\")","v":""},{"$f":"IFERROR(VLOOKUP(AQ33,'P2'!$B$4:$J$48,9,FALSE),\"\")","v":""},{"$f":"IFERROR(VLOOKUP(AR33,'P2'!$B$4:$J$48,9,FALSE),\"\")","v":""},{"$f":"IFERROR(VLOOKUP(AS33,'P2'!$B$4:$J$48,9,FALSE),\"\")","v":""},{"$f":"IFERROR(VLOOKUP(AT33,'P2'!$B$4:$J$48,9,FALSE),\"\")","v":""},{"$f":"IFERROR(VLOOKUP(AU33,'P2'!$B$4:$J$48,9,FALSE),\"\")","v":""},{"$f":"SUM(Q34:AU34)","v":0}]
[null,{"$f":"B33+1","v":12},null,null,null,null,null,null,null,null,null,null,null,null,null,null,null,null,null,null,null,null,null,null,null,null,null,null,null,null,null,null,null,null,null,null,null,null,null,null,null,null,null,null,null,null,null,{"$f":"COUNTA(Q35:AU35)","v":0},{"$f":"AV36","v":0},{"$f":"IFERROR(ROUNDDOWN(AV36/$AT$3,1),\"\")","v":""}]
[null,null,null,null,null,null,null,null,null,null,null,null,null,null,null,null,{"$f":"IFERROR(VLOOKUP(Q35,'P2'!$B$4:$J$48,9,FALSE),\"\")","v":""},{"$f":"IFERROR(VLOOKUP(R35,'P2'!$B$4:$J$48,9,FALSE),\"\")","v":""},{"$f":"IFERROR(VLOOKUP(S35,'P2'!$B$4:$J$48,9,FALSE),\"\")","v":""},{"$f":"IFERROR(VLOOKUP(T35,'P2'!$B$4:$J$48,9,FALSE),\"\")","v":""},{"$f":"IFERROR(VLOOKUP(U35,'P2'!$B$4:$J$48,9,FALSE),\"\")","v":""},{"$f":"IFERROR(VLOOKUP(V35,'P2'!$B$4:$J$48,9,FALSE),\"\")","v":""},{"$f":"IFERROR(VLOOKUP(W35,'P2'!$B$4:$J$48,9,FALSE),\"\")","v":""},{"$f":"IFERROR(VLOOKUP(X35,'P2'!$B$4:$J$48,9,FALSE),\"\")","v":""},{"$f":"IFERROR(VLOOKUP(Y35,'P2'!$B$4:$J$48,9,FALSE),\"\")","v":""},{"$f":"IFERROR(VLOOKUP(Z35,'P2'!$B$4:$J$48,9,FALSE),\"\")","v":""},{"$f":"IFERROR(VLOOKUP(AA35,'P2'!$B$4:$J$48,9,FALSE),\"\")","v":""},{"$f":"IFERROR(VLOOKUP(AB35,'P2'!$B$4:$J$48,9,FALSE),\"\")","v":""},{"$f":"IFERROR(VLOOKUP(AC35,'P2'!$B$4:$J$48,9,FALSE),\"\")","v":""},{"$f":"IFERROR(VLOOKUP(AD35,'P2'!$B$4:$J$48,9,FALSE),\"\")","v":""},{"$f":"IFERROR(VLOOKUP(AE35,'P2'!$B$4:$J$48,9,FALSE),\"\")","v":""},{"$f":"IFERROR(VLOOKUP(AF35,'P2'!$B$4:$J$48,9,FALSE),\"\")","v":""},{"$f":"IFERROR(VLOOKUP(AG35,'P2'!$B$4:$J$48,9,FALSE),\"\")","v":""},{"$f":"IFERROR(VLOOKUP(AH35,'P2'!$B$4:$J$48,9,FALSE),\"\")","v":""},{"$f":"IFERROR(VLOOKUP(AI35,'P2'!$B$4:$J$48,9,FALSE),\"\")","v":""},{"$f":"IFERROR(VLOOKUP(AJ35,'P2'!$B$4:$J$48,9,FALSE),\"\")","v":""},{"$f":"IFERROR(VLOOKUP(AK35,'P2'!$B$4:$J$48,9,FALSE),\"\")","v":""},{"$f":"IFERROR(VLOOKUP(AL35,'P2'!$B$4:$J$48,9,FALSE),\"\")","v":""},{"$f":"IFERROR(VLOOKUP(AM35,'P2'!$B$4:$J$48,9,FALSE),\"\")","v":""},{"$f":"IFERROR(VLOOKUP(AN35,'P2'!$B$4:$J$48,9,FALSE),\"\")","v":""},{"$f":"IFERROR(VLOOKUP(AO35,'P2'!$B$4:$J$48,9,FALSE),\"\")","v":""},{"$f":"IFERROR(VLOOKUP(AP35,'P2'!$B$4:$J$48,9,FALSE),\"\")","v":""},{"$f":"IFERROR(VLOOKUP(AQ35,'P2'!$B$4:$J$48,9,FALSE),\"\")","v":""},{"$f":"IFERROR(VLOOKUP(AR35,'P2'!$B$4:$J$48,9,FALSE),\"\")","v":""},{"$f":"IFERROR(VLOOKUP(AS35,'P2'!$B$4:$J$48,9,FALSE),\"\")","v":""},{"$f":"IFERROR(VLOOKUP(AT35,'P2'!$B$4:$J$48,9,FALSE),\"\")","v":""},{"$f":"IFERROR(VLOOKUP(AU35,'P2'!$B$4:$J$48,9,FALSE),\"\")","v":""},{"$f":"SUM(Q36:AU36)","v":0}]
[null,{"$f":"B35+1","v":13},null,null,null,null,null,null,null,null,null,null,null,null,null,null,null,null,null,null,null,null,null,null,null,null,null,null,null,null,null,null,null,null,null,null,null,null,null,null,null,null,null,null,null,null,null,{"$f":"COUNTA(Q37:AU37)","v":0},{"$f":"AV38","v":0},{"$f":"IFERROR(ROUNDDOWN(AV38/$AT$3,1),\"\")","v":""}]
[null,null,null,null,null,null,null,null,null,null,null,null,null,null,null,null,{"$f":"IFERROR(VLOOKUP(Q37,'P2'!$B$4:$J$48,9,FALSE),\"\")","v":""},{"$f":"IFERROR(VLOOKUP(R37,'P2'!$B$4:$J$48,9,FALSE),\"\")","v":""},{"$f":"IFERROR(VLOOKUP(S37,'P2'!$B$4:$J$48,9,FALSE),\"\")","v":""},{"$f":"IFERROR(VLOOKUP(T37,'P2'!$B$4:$J$48,9,FALSE),\"\")","v":""},{"$f":"IFERROR(VLOOKUP(U37,'P2'!$B$4:$J$48,9,FALSE),\"\")","v":""},{"$f":"IFERROR(VLOOKUP(V37,'P2'!$B$4:$J$48,9,FALSE),\"\")","v":""},{"$f":"IFERROR(VLOOKUP(W37,'P2'!$B$4:$J$48,9,FALSE),\"\")","v":""},{"$f":"IFERROR(VLOOKUP(X37,'P2'!$B$4:$J$48,9,FALSE),\"\")","v":""},{"$f":"IFERROR(VLOOKUP(Y37,'P2'!$B$4:$J$48,9,FALSE),\"\")","v":""},{"$f":"IFERROR(VLOOKUP(Z37,'P2'!$B$4:$J$48,9,FALSE),\"\")","v":""},{"$f":"IFERROR(VLOOKUP(AA37,'P2'!$B$4:$J$48,9,FALSE),\"\")","v":""},{"$f":"IFERROR(VLOOKUP(AB37,'P2'!$B$4:$J$48,9,FALSE),\"\")","v":""},{"$f":"IFERROR(VLOOKUP(AC37,'P2'!$B$4:$J$48,9,FALSE),\"\")","v":""},{"$f":"IFERROR(VLOOKUP(AD37,'P2'!$B$4:$J$48,9,FALSE),\"\")","v":""},{"$f":"IFERROR(VLOOKUP(AE37,'P2'!$B$4:$J$48,9,FALSE),\"\")","v":""},{"$f":"IFERROR(VLOOKUP(AF37,'P2'!$B$4:$J$48,9,FALSE),\"\")","v":""},{"$f":"IFERROR(VLOOKUP(AG37,'P2'!$B$4:$J$48,9,FALSE),\"\")","v":""},{"$f":"IFERROR(VLOOKUP(AH37,'P2'!$B$4:$J$48,9,FALSE),\"\")","v":""},{"$f":"IFERROR(VLOOKUP(AI37,'P2'!$B$4:$J$48,9,FALSE),\"\")","v":""},{"$f":"IFERROR(VLOOKUP(AJ37,'P2'!$B$4:$J$48,9,FALSE),\"\")","v":""},{"$f":"IFERROR(VLOOKUP(AK37,'P2'!$B$4:$J$48,9,FALSE),\"\")","v":""},{"$f":"IFERROR(VLOOKUP(AL37,'P2'!$B$4:$J$48,9,FALSE),\"\")","v":""},{"$f":"IFERROR(VLOOKUP(AM37,'P2'!$B$4:$J$48,9,FALSE),\"\")","v":""},{"$f":"IFERROR(VLOOKUP(AN37,'P2'!$B$4:$J$48,9,FALSE),\"\")","v":""},{"$f":"IFERROR(VLOOKUP(AO37,'P2'!$B$4:$J$48,9,FALSE),\"\")","v":""},{"$f":"IFERROR(VLOOKUP(AP37,'P2'!$B$4:$J$48,9,FALSE),\"\")","v":""},{"$f":"IFERROR(VLOOKUP(AQ37,'P2'!$B$4:$J$48,9,FALSE),\"\")","v":""},{"$f":"IFERROR(VLOOKUP(AR37,'P2'!$B$4:$J$48,9,FALSE),\"\")","v":""},{"$f":"IFERROR(VLOOKUP(AS37,'P2'!$B$4:$J$48,9,FALSE),\"\")","v":""},{"$f":"IFERROR(VLOOKUP(AT37,'P2'!$B$4:$J$48,9,FALSE),\"\")","v":""},{"$f":"IFERROR(VLOOKUP(AU37,'P2'!$B$4:$J$48,9,FALSE),\"\")","v":""},{"$f":"SUM(Q38:AU38)","v":0}]
[null,{"$f":"B37+1","v":14},null,null,null,null,null,null,null,null,null,null,null,null,null,null,null,null,null,null,null,null,null,null,null,null,null,null,null,null,null,null,null,null,null,null,null,null,null,null,null,null,null,null,null,null,null,{"$f":"COUNTA(Q39:AU39)","v":0},{"$f":"AV40","v":0},{"$f":"IFERROR(ROUNDDOWN(AV40/$AT$3,1),\"\")","v":""}]
[null,null,null,null,null,null,null,null,null,null,null,null,null,null,null,null,{"$f":"IFERROR(VLOOKUP(Q39,'P2'!$B$4:$J$48,9,FALSE),\"\")","v":""},{"$f":"IFERROR(VLOOKUP(R39,'P2'!$B$4:$J$48,9,FALSE),\"\")","v":""},{"$f":"IFERROR(VLOOKUP(S39,'P2'!$B$4:$J$48,9,FALSE),\"\")","v":""},{"$f":"IFERROR(VLOOKUP(T39,'P2'!$B$4:$J$48,9,FALSE),\"\")","v":""},{"$f":"IFERROR(VLOOKUP(U39,'P2'!$B$4:$J$48,9,FALSE),\"\")","v":""},{"$f":"IFERROR(VLOOKUP(V39,'P2'!$B$4:$J$48,9,FALSE),\"\")","v":""},{"$f":"IFERROR(VLOOKUP(W39,'P2'!$B$4:$J$48,9,FALSE),\"\")","v":""},{"$f":"IFERROR(VLOOKUP(X39,'P2'!$B$4:$J$48,9,FALSE),\"\")","v":""},{"$f":"IFERROR(VLOOKUP(Y39,'P2'!$B$4:$J$48,9,FALSE),\"\")","v":""},{"$f":"IFERROR(VLOOKUP(Z39,'P2'!$B$4:$J$48,9,FALSE),\"\")","v":""},{"$f":"IFERROR(VLOOKUP(AA39,'P2'!$B$4:$J$48,9,FALSE),\"\")","v":""},{"$f":"IFERROR(VLOOKUP(AB39,'P2'!$B$4:$J$48,9,FALSE),\"\")","v":""},{"$f":"IFERROR(VLOOKUP(AC39,'P2'!$B$4:$J$48,9,FALSE),\"\")","v":""},{"$f":"IFERROR(VLOOKUP(AD39,'P2'!$B$4:$J$48,9,FALSE),\"\")","v":""},{"$f":"IFERROR(VLOOKUP(AE39,'P2'!$B$4:$J$48,9,FALSE),\"\")","v":""},{"$f":"IFERROR(VLOOKUP(AF39,'P2'!$B$4:$J$48,9,FALSE),\"\")","v":""},{"$f":"IFERROR(VLOOKUP(AG39,'P2'!$B$4:$J$48,9,FALSE),\"\")","v":""},{"$f":"IFERROR(VLOOKUP(AH39,'P2'!$B$4:$J$48,9,FALSE),\"\")","v":""},{"$f":"IFERROR(VLOOKUP(AI39,'P2'!$B$4:$J$48,9,FALSE),\"\")","v":""},{"$f":"IFERROR(VLOOKUP(AJ39,'P2'!$B$4:$J$48,9,FALSE),\"\")","v":""},{"$f":"IFERROR(VLOOKUP(AK39,'P2'!$B$4:$J$48,9,FALSE),\"\")","v":""},{"$f":"IFERROR(VLOOKUP(AL39,'P2'!$B$4:$J$48,9,FALSE),\"\")","v":""},{"$f":"IFERROR(VLOOKUP(AM39,'P2'!$B$4:$J$48,9,FALSE),\"\")","v":""},{"$f":"IFERROR(VLOOKUP(AN39,'P2'!$B$4:$J$48,9,FALSE),\"\")","v":""},{"$f":"IFERROR(VLOOKUP(AO39,'P2'!$B$4:$J$48,9,FALSE),\"\")","v":""},{"$f":"IFERROR(VLOOKUP(AP39,'P2'!$B$4:$J$48,9,FALSE),\"\")","v":""},{"$f":"IFERROR(VLOOKUP(AQ39,'P2'!$B$4:$J$48,9,FALSE),\"\")","v":""},{"$f":"IFERROR(VLOOKUP(AR39,'P2'!$B$4:$J$48,9,FALSE),\"\")","v":""},{"$f":"IFERROR(VLOOKUP(AS39,'P2'!$B$4:$J$48,9,FALSE),\"\")","v":""},{"$f":"IFERROR(VLOOKUP(AT39,'P2'!$B$4:$J$48,9,FALSE),\"\")","v":""},{"$f":"IFERROR(VLOOKUP(AU39,'P2'!$B$4:$J$48,9,FALSE),\"\")","v":""},{"$f":"SUM(Q40:AU40)","v":0}]
[null,{"$f":"B39+1","v":15},null,null,null,null,null,null,null,null,null,null,null,null,null,null,null,null,null,null,null,null,null,null,null,null,null,null,null,null,null,null,null,null,null,null,null,null,null,null,null,null,null,null,null,null,null,{"$f":"COUNTA(Q41:AU41)","v":0},{"$f":"AV42","v":0},{"$f":"IFERROR(ROUNDDOWN(AV42/$AT$3,1),\"\")","v":""}]
[null,null,null,null,null,null,null,null,null,null,null,null,null,null,null,null,{"$f":"IFERROR(VLOOKUP(Q41,'P2'!$B$4:$J$48,9,FALSE),\"\")","v":""},{"$f":"IFERROR(VLOOKUP(R41,'P2'!$B$4:$J$48,9,FALSE),\"\")","v":""},{"$f":"IFERROR(VLOOKUP(S41,'P2'!$B$4:$J$48,9,FALSE),\"\")","v":""},{"$f":"IFERROR(VLOOKUP(T41,'P2'!$B$4:$J$48,9,FALSE),\"\")","v":""},{"$f":"IFERROR(VLOOKUP(U41,'P2'!$B$4:$J$48,9,FALSE),\"\")","v":""},{"$f":"IFERROR(VLOOKUP(V41,'P2'!$B$4:$J$48,9,FALSE),\"\")","v":""},{"$f":"IFERROR(VLOOKUP(W41,'P2'!$B$4:$J$48,9,FALSE),\"\")","v":""},{"$f":"IFERROR(VLOOKUP(X41,'P2'!$B$4:$J$48,9,FALSE),\"\")","v":""},{"$f":"IFERROR(VLOOKUP(Y41,'P2'!$B$4:$J$48,9,FALSE),\"\")","v":""},{"$f":"IFERROR(VLOOKUP(Z41,'P2'!$B$4:$J$48,9,FALSE),\"\")","v":""},{"$f":"IFERROR(VLOOKUP(AA41,'P2'!$B$4:$J$48,9,FALSE),\"\")","v":""},{"$f":"IFERROR(VLOOKUP(AB41,'P2'!$B$4:$J$48,9,FALSE),\"\")","v":""},{"$f":"IFERROR(VLOOKUP(AC41,'P2'!$B$4:$J$48,9,FALSE),\"\")","v":""},{"$f":"IFERROR(VLOOKUP(AD41,'P2'!$B$4:$J$48,9,FALSE),\"\")","v":""},{"$f":"IFERROR(VLOOKUP(AE41,'P2'!$B$4:$J$48,9,FALSE),\"\")","v":""},{"$f":"IFERROR(VLOOKUP(AF41,'P2'!$B$4:$J$48,9,FALSE),\"\")","v":""},{"$f":"IFERROR(VLOOKUP(AG41,'P2'!$B$4:$J$48,9,FALSE),\"\")","v":""},{"$f":"IFERROR(VLOOKUP(AH41,'P2'!$B$4:$J$48,9,FALSE),\"\")","v":""},{"$f":"IFERROR(VLOOKUP(AI41,'P2'!$B$4:$J$48,9,FALSE),\"\")","v":""},{"$f":"IFERROR(VLOOKUP(AJ41,'P2'!$B$4:$J$48,9,FALSE),\"\")","v":""},{"$f":"IFERROR(VLOOKUP(AK41,'P2'!$B$4:$J$48,9,FALSE),\"\")","v":""},{"$f":"IFERROR(VLOOKUP(AL41,'P2'!$B$4:$J$48,9,FALSE),\"\")","v":""},{"$f":"IFERROR(VLOOKUP(AM41,'P2'!$B$4:$J$48,9,FALSE),\"\")","v":""},{"$f":"IFERROR(VLOOKUP(AN41,'P2'!$B$4:$J$48,9,FALSE),\"\")","v":""},{"$f":"IFERROR(VLOOKUP(AO41,'P2'!$B$4:$J$48,9,FALSE),\"\")","v":""},{"$f":"IFERROR(VLOOKUP(AP41,'P2'!$B$4:$J$48,9,FALSE),\"\")","v":""},{"$f":"IFERROR(VLOOKUP(AQ41,'P2'!$B$4:$J$48,9,FALSE),\"\")","v":""},{"$f":"IFERROR(VLOOKUP(AR41,'P2'!$B$4:$J$48,9,FALSE),\"\")","v":""},{"$f":"IFERROR(VLOOKUP(AS41,'P2'!$B$4:$J$48,9,FALSE),\"\")","v":""},{"$f":"IFERROR(VLOOKUP(AT41,'P2'!$B$4:$J$48,9,FALSE),\"\")","v":""},{"$f":"IFERROR(VLOOKUP(AU41,'P2'!$B$4:$J$48,9,FALSE),\"\")","v":""},{"$f":"SUM(Q42:AU42)","v":0}]
[null,{"$f":"B41+1","v":16},null,null,null,null,null,null,null,null,null,null,null,null,null,null,null,null,null,null,null,null,null,null,null,null,null,null,null,null,null,null,null,null,null,null,null,null,null,null,null,null,null,null,null,null,null,{"$f":"COUNTA(Q43:AU43)","v":0},{"$f":"AV44","v":0},{"$f":"IFERROR(ROUNDDOWN(AV44/$AT$3,1),\"\")","v":""}]
[null,null,null,null,null,null,null,null,null,null,null,null,null,null,null,null,{"$f":"IFERROR(VLOOKUP(Q43,'P2'!$B$4:$J$48,9,FALSE),\"\")","v":""},{"$f":"IFERROR(VLOOKUP(R43,'P2'!$B$4:$J$48,9,FALSE),\"\")","v":""},{"$f":"IFERROR(VLOOKUP(S43,'P2'!$B$4:$J$48,9,FALSE),\"\")","v":""},{"$f":"IFERROR(VLOOKUP(T43,'P2'!$B$4:$J$48,9,FALSE),\"\")","v":""},{"$f":"IFERROR(VLOOKUP(U43,'P2'!$B$4:$J$48,9,FALSE),\"\")","v":""},{"$f":"IFERROR(VLOOKUP(V43,'P2'!$B$4:$J$48,9,FALSE),\"\")","v":""},{"$f":"IFERROR(VLOOKUP(W43,'P2'!$B$4:$J$48,9,FALSE),\"\")","v":""},{"$f":"IFERROR(VLOOKUP(X43,'P2'!$B$4:$J$48,9,FALSE),\"\")","v":""},{"$f":"IFERROR(VLOOKUP(Y43,'P2'!$B$4:$J$48,9,FALSE),\"\")","v":""},{"$f":"IFERROR(VLOOKUP(Z43,'P2'!$B$4:$J$48,9,FALSE),\"\")","v":""},{"$f":"IFERROR(VLOOKUP(AA43,'P2'!$B$4:$J$48,9,FALSE),\"\")","v":""},{"$f":"IFERROR(VLOOKUP(AB43,'P2'!$B$4:$J$48,9,FALSE),\"\")","v":""},{"$f":"IFERROR(VLOOKUP(AC43,'P2'!$B$4:$J$48,9,FALSE),\"\")","v":""},{"$f":"IFERROR(VLOOKUP(AD43,'P2'!$B$4:$J$48,9,FALSE),\"\")","v":""},{"$f":"IFERROR(VLOOKUP(AE43,'P2'!$B$4:$J$48,9,FALSE),\"\")","v":""},{"$f":"IFERROR(VLOOKUP(AF43,'P2'!$B$4:$J$48,9,FALSE),\"\")","v":""},{"$f":"IFERROR(VLOOKUP(AG43,'P2'!$B$4:$J$48,9,FALSE),\"\")","v":""},{"$f":"IFERROR(VLOOKUP(AH43,'P2'!$B$4:$J$48,9,FALSE),\"\")","v":""},{"$f":"IFERROR(VLOOKUP(AI43,'P2'!$B$4:$J$48,9,FALSE),\"\")","v":""},{"$f":"IFERROR(VLOOKUP(AJ43,'P2'!$B$4:$J$48,9,FALSE),\"\")","v":""},{"$f":"IFERROR(VLOOKUP(AK43,'P2'!$B$4:$J$48,9,FALSE),\"\")","v":""},{"$f":"IFERROR(VLOOKUP(AL43,'P2'!$B$4:$J$48,9,FALSE),\"\")","v":""},{"$f":"IFERROR(VLOOKUP(AM43,'P2'!$B$4:$J$48,9,FALSE),\"\")","v":""},{"$f":"IFERROR(VLOOKUP(AN43,'P2'!$B$4:$J$48,9,FALSE),\"\")","v":""},{"$f":"IFERROR(VLOOKUP(AO43,'P2'!$B$4:$J$48,9,FALSE),\"\")","v":""},{"$f":"IFERROR(VLOOKUP(AP43,'P2'!$B$4:$J$48,9,FALSE),\"\")","v":""},{"$f":"IFERROR(VLOOKUP(AQ43,'P2'!$B$4:$J$48,9,FALSE),\"\")","v":""},{"$f":"IFERROR(VLOOKUP(AR43,'P2'!$B$4:$J$48,9,FALSE),\"\")","v":""},{"$f":"IFERROR(VLOOKUP(AS43,'P2'!$B$4:$J$48,9,FALSE),\"\")","v":""},{"$f":"IFERROR(VLOOKUP(AT43,'P2'!$B$4:$J$48,9,FALSE),\"\")","v":""},{"$f":"IFERROR(VLOOKUP(AU43,'P2'!$B$4:$J$48,9,FALSE),\"\")","v":""},{"$f":"SUM(Q44:AU44)","v":0}]
[null,{"$f":"B43+1","v":17},null,null,null,null,null,null,null,null,null,null,null,null,null,null,null,null,null,null,null,null,null,null,null,null,null,null,null,null,null,null,null,null,null,null,null,null,null,null,null,null,null,null,null,null,null,{"$f":"COUNTA(Q45:AU45)","v":0},{"$f":"AV46","v":0},{"$f":"IFERROR(ROUNDDOWN(AV46/$AT$3,1),\"\")","v":""}]
[null,null,null,null,null,null,null,null,null,null,null,null,null,null,null,null,{"$f":"IFERROR(VLOOKUP(Q45,'P2'!$B$4:$J$48,9,FALSE),\"\")","v":""},{"$f":"IFERROR(VLOOKUP(R45,'P2'!$B$4:$J$48,9,FALSE),\"\")","v":""},{"$f":"IFERROR(VLOOKUP(S45,'P2'!$B$4:$J$48,9,FALSE),\"\")","v":""},{"$f":"IFERROR(VLOOKUP(T45,'P2'!$B$4:$J$48,9,FALSE),\"\")","v":""},{"$f":"IFERROR(VLOOKUP(U45,'P2'!$B$4:$J$48,9,FALSE),\"\")","v":""},{"$f":"IFERROR(VLOOKUP(V45,'P2'!$B$4:$J$48,9,FALSE),\"\")","v":""},{"$f":"IFERROR(VLOOKUP(W45,'P2'!$B$4:$J$48,9,FALSE),\"\")","v":""},{"$f":"IFERROR(VLOOKUP(X45,'P2'!$B$4:$J$48,9,FALSE),\"\")","v":""},{"$f":"IFERROR(VLOOKUP(Y45,'P2'!$B$4:$J$48,9,FALSE),\"\")","v":""},{"$f":"IFERROR(VLOOKUP(Z45,'P2'!$B$4:$J$48,9,FALSE),\"\")","v":""},{"$f":"IFERROR(VLOOKUP(AA45,'P2'!$B$4:$J$48,9,FALSE),\"\")","v":""},{"$f":"IFERROR(VLOOKUP(AB45,'P2'!$B$4:$J$48,9,FALSE),\"\")","v":""},{"$f":"IFERROR(VLOOKUP(AC45,'P2'!$B$4:$J$48,9,FALSE),\"\")","v":""},{"$f":"IFERROR(VLOOKUP(AD45,'P2'!$B$4:$J$48,9,FALSE),\"\")","v":""},{"$f":"IFERROR(VLOOKUP(AE45,'P2'!$B$4:$J$48,9,FALSE),\"\")","v":""},{"$f":"IFERROR(VLOOKUP(AF45,'P2'!$B$4:$J$48,9,FALSE),\"\")","v":""},{"$f":"IFERROR(VLOOKUP(AG45,'P2'!$B$4:$J$48,9,FALSE),\"\")","v":""},{"$f":"IFERROR(VLOOKUP(AH45,'P2'!$B$4:$J$48,9,FALSE),\"\")","v":""},{"$f":"IFERROR(VLOOKUP(AI45,'P2'!$B$4:$J$48,9,FALSE),\"\")","v":""},{"$f":"IFERROR(VLOOKUP(AJ45,'P2'!$B$4:$J$48,9,FALSE),\"\")","v":""},{"$f":"IFERROR(VLOOKUP(AK45,'P2'!$B$4:$J$48,9,FALSE),\"\")","v":""},{"$f":"IFERROR(VLOOKUP(AL45,'P2'!$B$4:$J$48,9,FALSE),\"\")","v":""},{"$f":"IFERROR(VLOOKUP(AM45,'P2'!$B$4:$J$48,9,FALSE),\"\")","v":""},{"$f":"IFERROR(VLOOKUP(AN45,'P2'!$B$4:$J$48,9,FALSE),\"\")","v":""},{"$f":"IFERROR(VLOOKUP(AO45,'P2'!$B$4:$J$48,9,FALSE),\"\")","v":""},{"$f":"IFERROR(VLOOKUP(AP45,'P2'!$B$4:$J$48,9,FALSE),\"\")","v":""},{"$f":"IFERROR(VLOOKUP(AQ45,'P2'!$B$4:$J$48,9,FALSE),\"\")","v":""},{"$f":"IFERROR(VLOOKUP(AR45,'P2'!$B$4:$J$48,9,FALSE),\"\")","v":""},{"$f":"IFERROR(VLOOKUP(AS45,'P2'!$B$4:$J$48,9,FALSE),\"\")","v":""},{"$f":"IFERROR(VLOOKUP(AT45,'P2'!$B$4:$J$48,9,FALSE),\"\")","v":""},{"$f":"IFERROR(VLOOKUP(AU45,'P2'!$B$4:$J$48,9,FALSE),\"\")","v":""},{"$f":"SUM(Q46:AU46)","v":0}]
[null,{"$f":"B45+1","v":18},null,null,null,null,null,null,null,null,null,null,null,null,null,null,null,null,null,null,null,null,null,null,null,null,null,null,null,null,null,null,null,null,null,null,null,null,null,null,null,null,null,null,null,null,null,{"$f":"COUNTA(Q47:AU47)","v":0},{"$f":"AV48","v":0},{"$f":"IFERROR(ROUNDDOWN(AV48/$AT$3,1),\"\")","v":""}]
[null,null,null,null,null,null,null,null,null,null,null,null,null,null,null,null,{"$f":"IFERROR(VLOOKUP(Q47,'P2'!$B$4:$J$48,9,FALSE),\"\")","v":""},{"$f":"IFERROR(VLOOKUP(R47,'P2'!$B$4:$J$48,9,FALSE),\"\")","v":""},{"$f":"IFERROR(VLOOKUP(S47,'P2'!$B$4:$J$48,9,FALSE),\"\")","v":""},{"$f":"IFERROR(VLOOKUP(T47,'P2'!$B$4:$J$48,9,FALSE),\"\")","v":""},{"$f":"IFERROR(VLOOKUP(U47,'P2'!$B$4:$J$48,9,FALSE),\"\")","v":""},{"$f":"IFERROR(VLOOKUP(V47,'P2'!$B$4:$J$48,9,FALSE),\"\")","v":""},{"$f":"IFERROR(VLOOKUP(W47,'P2'!$B$4:$J$48,9,FALSE),\"\")","v":""},{"$f":"IFERROR(VLOOKUP(X47,'P2'!$B$4:$J$48,9,FALSE),\"\")","v":""},{"$f":"IFERROR(VLOOKUP(Y47,'P2'!$B$4:$J$48,9,FALSE),\"\")","v":""},{"$f":"IFERROR(VLOOKUP(Z47,'P2'!$B$4:$J$48,9,FALSE),\"\")","v":""},{"$f":"IFERROR(VLOOKUP(AA47,'P2'!$B$4:$J$48,9,FALSE),\"\")","v":""},{"$f":"IFERROR(VLOOKUP(AB47,'P2'!$B$4:$J$48,9,FALSE),\"\")","v":""},{"$f":"IFERROR(VLOOKUP(AC47,'P2'!$B$4:$J$48,9,FALSE),\"\")","v":""},{"$f":"IFERROR(VLOOKUP(AD47,'P2'!$B$4:$J$48,9,FALSE),\"\")","v":""},{"$f":"IFERROR(VLOOKUP(AE47,'P2'!$B$4:$J$48,9,FALSE),\"\")","v":""},{"$f":"IFERROR(VLOOKUP(AF47,'P2'!$B$4:$J$48,9,FALSE),\"\")","v":""},{"$f":"IFERROR(VLOOKUP(AG47,'P2'!$B$4:$J$48,9,FALSE),\"\")","v":""},{"$f":"IFERROR(VLOOKUP(AH47,'P2'!$B$4:$J$48,9,FALSE),\"\")","v":""},{"$f":"IFERROR(VLOOKUP(AI47,'P2'!$B$4:$J$48,9,FALSE),\"\")","v":""},{"$f":"IFERROR(VLOOKUP(AJ47,'P2'!$B$4:$J$48,9,FALSE),\"\")","v":""},{"$f":"IFERROR(VLOOKUP(AK47,'P2'!$B$4:$J$48,9,FALSE),\"\")","v":""},{"$f":"IFERROR(VLOOKUP(AL47,'P2'!$B$4:$J$48,9,FALSE),\"\")","v":""},{"$f":"IFERROR(VLOOKUP(AM47,'P2'!$B$4:$J$48,9,FALSE),\"\")","v":""},{"$f":"IFERROR(VLOOKUP(AN47,'P2'!$B$4:$J$48,9,FALSE),\"\")","v":""},{"$f":"IFERROR(VLOOKUP(AO47,'P2'!$B$4:$J$48,9,FALSE),\"\")","v":""},{"$f":"IFERROR(VLOOKUP(AP47,'P2'!$B$4:$J$48,9,FALSE),\"\")","v":""},{"$f":"IFERROR(VLOOKUP(AQ47,'P2'!$B$4:$J$48,9,FALSE),\"\")","v":""},{"$f":"IFERROR(VLOOKUP(AR47,'P2'!$B$4:$J$48,9,FALSE),\"\")","v":""},{"$f":"IFERROR(VLOOKUP(AS47,'P2'!$B$4:$J$48,9,FALSE),\"\")","v":""},{"$f":"IFERROR(VLOOKUP(AT47,'P2'!$B$4:$J$48,9,FALSE),\"\")","v":""},{"$f":"IFERROR(VLOOKUP(AU47,'P2'!$B$4:$J$48,9,FALSE),\"\")","v":""},{"$f":"SUM(Q48:AU48)","v":0}]
[]
[]
[null,"※P2で作成したシフト記号を記載すること。なお、公休の場合は空欄とすること。"]
[null,"※管理者が他の職種と兼務する場合は、職種ごとに分けて記載すること。"]
[]
[null,"(2)　勤務実績　（直近3か月分の実績）",null,null,null,null,null,null,null,null,null,null,null,null,null,null,null,null,"（",{"$f":"$T$3","v":"令和　7"},null,"年",{"$f":"$W$3","v":4},"月分実績",null,"）",null,null,null,null,null,null,null,null,null,null,null,null,null,null,null,null,null,null,null,null,null,null,null,{"$f":"\"2 / \"&COUNTA(C$7,C$57,C$106,C$155,C$204)","v":"2 / 1"}]
[null,null,"職　　種",null,null,null,null,null,"氏　　名",null,null,null,null,"勤務\n形態",null,null,{"$f":"Q$5","v":"2025-04-01"},{"$f":"R$5","v":"2025-04-02"},"2025-04-03","2025-04-04","2025-04-05","2025-04-06","2025-04-07","2025-04-08","2025-04-09","2025-04-10","2025-04-11","2025-04-12","2025-04-13","2025-04-14","2025-04-15","2025-04-16","2025-04-17","2025-04-18","2025-04-19","2025-04-20","2025-04-21","2025-04-22","2025-04-23","2025-04-24","2025-04-25","2025-04-26","2025-04-27","2025-04-28","2025-04-29","2025-04-30","","勤務日数",null,"常勤換算"]
[null,null,null,null,null,null,null,null,null,null,null,null,null,null,null,null,{"$f":"Q$6","v":"火"},{"$f":"R$6","v":"水"},"木","金","土","日","月","火","水","木","金","土","日","月","火","水","木","金","土","日","月","火","水","木","金","土","日","月","火","水","","勤務時間"]
[null,{"$f":"B47+1","v":19},null,null,null,null,null,null,null,null,null,null,null,null,null,null,null,null,null,null,null,null,null,null,null,null,null,null,null,null,null,null,null,null,null,null,null,null,null,null,null,null,null,null,null,null,null,{"$f":"COUNTA(Q57:AU57)","v":0},{"$f":"AV58","v":0},{"$f":"IFERROR(ROUNDDOWN(AV58/$AT$3,1),\"\")","v":""}]
[null,null,null,null,null,null,null,null,null,null,null,null,null,null,null,null,{"$f":"IFERROR(VLOOKUP(Q57,'P2'!$B$4:$J$48,9,FALSE),\"\")","v":""},{"$f":"IFERROR(VLOOKUP(R57,'P2'!$B$4:$J$48,9,FALSE),\"\")","v":""},{"$f":"IFERROR(VLOOKUP(S57,'P2'!$B$4:$J$48,9,FALSE),\"\")","v":""},{"$f":"IFERROR(VLOOKUP(T57,'P2'!$B$4:$J$48,9,FALSE),\"\")","v":""},{"$f":"IFERROR(VLOOKUP(U57,'P2'!$B$4:$J$48,9,FALSE),\"\")","v":""},{"$f":"IFERROR(VLOOKUP(V57,'P2'!$B$4:$J$48,9,FALSE),\"\")","v":""},{"$f":"IFERROR(VLOOKUP(W57,'P2'!$B$4:$J$48,9,FALSE),\"\")","v":""},{"$f":"IFERROR(VLOOKUP(X57,'P2'!$B$4:$J$48,9,FALSE),\"\")","v":""},{"$f":"IFERROR(VLOOKUP(Y57,'P2'!$B$4:$J$48,9,FALSE),\"\")","v":""},{"$f":"IFERROR(VLOOKUP(Z57,'P2'!$B$4:$J$48,9,FALSE),\"\")","v":""},{"$f":"IFERROR(VLOOKUP(AA57,'P2'!$B$4:$J$48,9,FALSE),\"\")","v":""},{"$f":"IFERROR(VLOOKUP(AB57,'P2'!$B$4:$J$48,9,FALSE),\"\")","v":""},{"$f":"IFERROR(VLOOKUP(AC57,'P2'!$B$4:$J$48,9,FALSE),\"\")","v":""},{"$f":"IFERROR(VLOOKUP(AD57,'P2'!$B$4:$J$48,9,FALSE),\"\")","v":""},{"$f":"IFERROR(VLOOKUP(AE57,'P2'!$B$4:$J$48,9,FALSE),\"\")","v":""},{"$f":"IFERROR(VLOOKUP(AF57,'P2'!$B$4:$J$48,9,FALSE),\"\")","v":""},{"$f":"IFERROR(VLOOKUP(AG57,'P2'!$B$4:$J$48,9,FALSE),\"\")","v":""},{"$f":"IFERROR(VLOOKUP(AH57,'P2'!$B$4:$J$48,9,FALSE),\"\")","v":""},{"$f":"IFERROR(VLOOKUP(AI57,'P2'!$B$4:$J$48,9,FALSE),\"\")","v":""},{"$f":"IFERROR(VLOOKUP(AJ57,'P2'!$B$4:$J$48,9,FALSE),\"\")","v":""},{"$f":"IFERROR(VLOOKUP(AK57,'P2'!$B$4:$J$48,9,FALSE),\"\")","v":""},{"$f":"IFERROR(VLOOKUP(AL57,'P2'!$B$4:$J$48,9,FALSE),\"\")","v":""},{"$f":"IFERROR(VLOOKUP(AM57,'P2'!$B$4:$J$48,9,FALSE),\"\")","v":""},{"$f":"IFERROR(VLOOKUP(AN57,'P2'!$B$4:$J$48,9,FALSE),\"\")","v":""},{"$f":"IFERROR(VLOOKUP(AO57,'P2'!$B$4:$J$48,9,FALSE),\"\")","v":""},{"$f":"IFERROR(VLOOKUP(AP57,'P2'!$B$4:$J$48,9,FALSE),\"\")","v":""},{"$f":"IFERROR(VLOOKUP(AQ57,'P2'!$B$4:$J$48,9,FALSE),\"\")","v":""},{"$f":"IFERROR(VLOOKUP(AR57,'P2'!$B$4:$J$48,9,FALSE),\"\")","v":""},{"$f":"IFERROR(VLOOKUP(AS57,'P2'!$B$4:$J$48,9,FALSE),\"\")","v":""},{"$f":"IFERROR(VLOOKUP(AT57,'P2'!$B$4:$J$48,9,FALSE),\"\")","v":""},{"$f":"IFERROR(VLOOKUP(AU57,'P2'!$B$4:$J$48,9,FALSE),\"\")","v":""},{"$f":"SUM(Q58:AU58)","v":0}]
[null,{"$f":"B57+1","v":20},null,null,null,null,null,null,null,null,null,null,null,null,null,null,null,null,null,null,null,null,null,null,null,null,null,null,null,null,null,null,null,null,null,null,null,null,null,null,null,null,null,null,null,null,null,{"$f":"COUNTA(Q59:AU59)","v":0},{"$f":"AV60","v":0},{"$f":"IFERROR(ROUNDDOWN(AV60/$AT$3,1),\"\")","v":""}]
[null,null,null,null,null,null,null,null,null,null,null,null,null,null,null,null,{"$f":"IFERROR(VLOOKUP(Q59,'P2'!$B$4:$J$48,9,FALSE),\"\")","v":""},{"$f":"IFERROR(VLOOKUP(R59,'P2'!$B$4:$J$48,9,FALSE),\"\")","v":""},{"$f":"IFERROR(VLOOKUP(S59,'P2'!$B$4:$J$48,9,FALSE),\"\")","v":""},{"$f":"IFERROR(VLOOKUP(T59,'P2'!$B$4:$J$48,9,FALSE),\"\")","v":""},{"$f":"IFERROR(VLOOKUP(U59,'P2'!$B$4:$J$48,9,FALSE),\"\")","v":""},{"$f":"IFERROR(VLOOKUP(V59,'P2'!$B$4:$J$48,9,FALSE),\"\")","v":""},{"$f":"IFERROR(VLOOKUP(W59,'P2'!$B$4:$J$48,9,FALSE),\"\")","v":""},{"$f":"IFERROR(VLOOKUP(X59,'P2'!$B$4:$J$48,9,FALSE),\"\")","v":""},{"$f":"IFERROR(VLOOKUP(Y59,'P2'!$B$4:$J$48,9,FALSE),\"\")","v":""},{"$f":"IFERROR(VLOOKUP(Z59,'P2'!$B$4:$J$48,9,FALSE),\"\")","v":""},{"$f":"IFERROR(VLOOKUP(AA59,'P2'!$B$4:$J$48,9,FALSE),\"\")","v":""},{"$f":"IFERROR(VLOOKUP(AB59,'P2'!$B$4:$J$48,9,FALSE),\"\")","v":""},{"$f":"IFERROR(VLOOKUP(AC59,'P2'!$B$4:$J$48,9,FALSE),\"\")","v":""},{"$f":"IFERROR(VLOOKUP(AD59,'P2'!$B$4:$J$48,9,FALSE),\"\")","v":""},{"$f":"IFERROR(VLOOKUP(AE59,'P2'!$B$4:$J$48,9,FALSE),\"\")","v":""},{"$f":"IFERROR(VLOOKUP(AF59,'P2'!$B$4:$J$48,9,FALSE),\"\")","v":""},{"$f":"IFERROR(VLOOKUP(AG59,'P2'!$B$4:$J$48,9,FALSE),\"\")","v":""},{"$f":"IFERROR(VLOOKUP(AH59,'P2'!$B$4:$J$48,9,FALSE),\"\")","v":""},{"$f":"IFERROR(VLOOKUP(AI59,'P2'!$B$4:$J$48,9,FALSE),\"\")","v":""},{"$f":"IFERROR(VLOOKUP(AJ59,'P2'!$B$4:$J$48,9,FALSE),\"\")","v":""},{"$f":"IFERROR(VLOOKUP(AK59,'P2'!$B$4:$J$48,9,FALSE),\"\")","v":""},{"$f":"IFERROR(VLOOKUP(AL59,'P2'!$B$4:$J$48,9,FALSE),\"\")","v":""},{"$f":"IFERROR(VLOOKUP(AM59,'P2'!$B$4:$J$48,9,FALSE),\"\")","v":""},{"$f":"IFERROR(VLOOKUP(AN59,'P2'!$B$4:$J$48,9,FALSE),\"\")","v":""},{"$f":"IFERROR(VLOOKUP(AO59,'P2'!$B$4:$J$48,9,FALSE),\"\")","v":""},{"$f":"IFERROR(VLOOKUP(AP59,'P2'!$B$4:$J$48,9,FALSE),\"\")","v":""},{"$f":"IFERROR(VLOOKUP(AQ59,'P2'!$B$4:$J$48,9,FALSE),\"\")","v":""},{"$f":"IFERROR(VLOOKUP(AR59,'P2'!$B$4:$J$48,9,FALSE),\"\")","v":""},{"$f":"IFERROR(VLOOKUP(AS59,'P2'!$B$4:$J$48,9,FALSE),\"\")","v":""},{"$f":"IFERROR(VLOOKUP(AT59,'P2'!$B$4:$J$48,9,FALSE),\"\")","v":""},{"$f":"IFERROR(VLOOKUP(AU59,'P2'!$B$4:$J$48,9,FALSE),\"\")","v":""},{"$f":"SUM(Q60:AU60)","v":0}]
[null,21,null,null,null,null,null,null,null,null,null,null,null,null,null,null,null,null,null,null,null,null,null,null,null,null,null,null,null,null,null,null,null,null,null,null,null,null,null,null,null,null,null,null,null,null,null,{"$f":"COUNTA(Q61:AU61)","v":0},{"$f":"AV62","v":0},{"$f":"IFERROR(ROUNDDOWN(AV62/$AT$3,1),\"\")","v":""}]
[null,null,null,null,null,null,null,null,null,null,null,null,null,null,null,null,{"$f":"IFERROR(VLOOKUP(Q61,'P2'!$B$4:$J$48,9,FALSE),\"\")","v":""},{"$f":"IFERROR(VLOOKUP(R61,'P2'!$B$4:$J$48,9,FALSE),\"\")","v":""},{"$f":"IFERROR(VLOOKUP(S61,'P2'!$B$4:$J$48,9,FALSE),\"\")","v":""},{"$f":"IFERROR(VLOOKUP(T61,'P2'!$B$4:$J$48,9,FALSE),\"\")","v":""},{"$f":"IFERROR(VLOOKUP(U61,'P2'!$B$4:$J$48,9,FALSE),\"\")","v":""},{"$f":"IFERROR(VLOOKUP(V61,'P2'!$B$4:$J$48,9,FALSE),\"\")","v":""},{"$f":"IFERROR(VLOOKUP(W61,'P2'!$B$4:$J$48,9,FALSE),\"\")","v":""},{"$f":"IFERROR(VLOOKUP(X61,'P2'!$B$4:$J$48,9,FALSE),\"\")","v":""},{"$f":"IFERROR(VLOOKUP(Y61,'P2'!$B$4:$J$48,9,FALSE),\"\")","v":""},{"$f":"IFERROR(VLOOKUP(Z61,'P2'!$B$4:$J$48,9,FALSE),\"\")","v":""},{"$f":"IFERROR(VLOOKUP(AA61,'P2'!$B$4:$J$48,9,FALSE),\"\")","v":""},{"$f":"IFERROR(VLOOKUP(AB61,'P2'!$B$4:$J$48,9,FALSE),\"\")","v":""},{"$f":"IFERROR(VLOOKUP(AC61,'P2'!$B$4:$J$48,9,FALSE),\"\")","v":""},{"$f":"IFERROR(VLOOKUP(AD61,'P2'!$B$4:$J$48,9,FALSE),\"\")","v":""},{"$f":"IFERROR(VLOOKUP(AE61,'P2'!$B$4:$J$48,9,FALSE),\"\")","v":""},{"$f":"IFERROR(VLOOKUP(AF61,'P2'!$B$4:$J$48,9,FALSE),\"\")","v":""},{"$f":"IFERROR(VLOOKUP(AG61,'P2'!$B$4:$J$48,9,FALSE),\"\")","v":""},{"$f":"IFERROR(VLOOKUP(AH61,'P2'!$B$4:$J$48,9,FALSE),\"\")","v":""},{"$f":"IFERROR(VLOOKUP(AI61,'P2'!$B$4:$J$48,9,FALSE),\"\")","v":""},{"$f":"IFERROR(VLOOKUP(AJ61,'P2'!$B$4:$J$48,9,FALSE),\"\")","v":""},{"$f":"IFERROR(VLOOKUP(AK61,'P2'!$B$4:$J$48,9,FALSE),\"\")","v":""},{"$f":"IFERROR(VLOOKUP(AL61,'P2'!$B$4:$J$48,9,FALSE),\"\")","v":""},{"$f":"IFERROR(VLOOKUP(AM61,'P2'!$B$4:$J$48,9,FALSE),\"\")","v":""},{"$f":"IFERROR(VLOOKUP(AN61,'P2'!$B$4:$J$48,9,FALSE),\"\")","v":""},{"$f":"IFERROR(VLOOKUP(AO61,'P2'!$B$4:$J$48,9,FALSE),\"\")","v":""},{"$f":"IFERROR(VLOOKUP(AP61,'P2'!$B$4:$J$48,9,FALSE),\"\")","v":""},{"$f":"IFERROR(VLOOKUP(AQ61,'P2'!$B$4:$J$48,9,FALSE),\"\")","v":""},{"$f":"IFERROR(VLOOKUP(AR61,'P2'!$B$4:$J$48,9,FALSE),\"\")","v":""},{"$f":"IFERROR(VLOOKUP(AS61,'P2'!$B$4:$J$48,9,FALSE),\"\")","v":""},{"$f":"IFERROR(VLOOKUP(AT61,'P2'!$B$4:$J$48,9,FALSE),\"\")","v":""},{"$f":"IFERROR(VLOOKUP(AU61,'P2'!$B$4:$J$48,9,FALSE),\"\")","v":""},{"$f":"SUM(Q62:AU62)","v":0}]
[null,22,null,null,null,null,null,null,null,null,null,null,null,null,null,null,null,null,null,null,null,null,null,null,null,null,null,null,null,null,null,null,null,null,null,null,null,null,null,null,null,null,null,null,null,null,null,{"$f":"COUNTA(Q63:AU63)","v":0},{"$f":"AV64","v":0},{"$f":"IFERROR(ROUNDDOWN(AV64/$AT$3,1),\"\")","v":""}]
[null,null,null,null,null,null,null,null,null,null,null,null,null,null,null,null,{"$f":"IFERROR(VLOOKUP(Q63,'P2'!$B$4:$J$48,9,FALSE),\"\")","v":""},{"$f":"IFERROR(VLOOKUP(R63,'P2'!$B$4:$J$48,9,FALSE),\"\")","v":""},{"$f":"IFERROR(VLOOKUP(S63,'P2'!$B$4:$J$48,9,FALSE),\"\")","v":""},{"$f":"IFERROR(VLOOKUP(T63,'P2'!$B$4:$J$48,9,FALSE),\"\")","v":""},{"$f":"IFERROR(VLOOKUP(U63,'P2'!$B$4:$J$48,9,FALSE),\"\")","v":""},{"$f":"IFERROR(VLOOKUP(V63,'P2'!$B$4:$J$48,9,FALSE),\"\")","v":""},{"$f":"IFERROR(VLOOKUP(W63,'P2'!$B$4:$J$48,9,FALSE),\"\")","v":""},{"$f":"IFERROR(VLOOKUP(X63,'P2'!$B$4:$J$48,9,FALSE),\"\")","v":""},{"$f":"IFERROR(VLOOKUP(Y63,'P2'!$B$4:$J$48,9,FALSE),\"\")","v":""},{"$f":"IFERROR(VLOOKUP(Z63,'P2'!$B$4:$J$48,9,FALSE),\"\")","v":""},{"$f":"IFERROR(VLOOKUP(AA63,'P2'!$B$4:$J$48,9,FALSE),\"\")","v":""},{"$f":"IFERROR(VLOOKUP(AB63,'P2'!$B$4:$J$48,9,FALSE),\"\")","v":""},{"$f":"IFERROR(VLOOKUP(AC63,'P2'!$B$4:$J$48,9,FALSE),\"\")","v":""},{"$f":"IFERROR(VLOOKUP(AD63,'P2'!$B$4:$J$48,9,FALSE),\"\")","v":""},{"$f":"IFERROR(VLOOKUP(AE63,'P2'!$B$4:$J$48,9,FALSE),\"\")","v":""},{"$f":"IFERROR(VLOOKUP(AF63,'P2'!$B$4:$J$48,9,FALSE),\"\")","v":""},{"$f":"IFERROR(VLOOKUP(AG63,'P2'!$B$4:$J$48,9,FALSE),\"\")","v":""},{"$f":"IFERROR(VLOOKUP(AH63,'P2'!$B$4:$J$48,9,FALSE),\"\")","v":""},{"$f":"IFERROR(VLOOKUP(AI63,'P2'!$B$4:$J$48,9,FALSE),\"\")","v":""},{"$f":"IFERROR(VLOOKUP(AJ63,'P2'!$B$4:$J$48,9,FALSE),\"\")","v":""},{"$f":"IFERROR(VLOOKUP(AK63,'P2'!$B$4:$J$48,9,FALSE),\"\")","v":""},{"$f":"IFERROR(VLOOKUP(AL63,'P2'!$B$4:$J$48,9,FALSE),\"\")","v":""},{"$f":"IFERROR(VLOOKUP(AM63,'P2'!$B$4:$J$48,9,FALSE),\"\")","v":""},{"$f":"IFERROR(VLOOKUP(AN63,'P2'!$B$4:$J$48,9,FALSE),\"\")","v":""},{"$f":"IFERROR(VLOOKUP(AO63,'P2'!$B$4:$J$48,9,FALSE),\"\")","v":""},{"$f":"IFERROR(VLOOKUP(AP63,'P2'!$B$4:$J$48,9,FALSE),\"\")","v":""},{"$f":"IFERROR(VLOOKUP(AQ63,'P2'!$B$4:$J$48,9,FALSE),\"\")","v":""},{"$f":"IFERROR(VLOOKUP(AR63,'P2'!$B$4:$J$48,9,FALSE),\"\")","v":""},{"$f":"IFERROR(VLOOKUP(AS63,'P2'!$B$4:$J$48,9,FALSE),\"\")","v":""},{"$f":"IFERROR(VLOOKUP(AT63,'P2'!$B$4:$J$48,9,FALSE),\"\")","v":""},{"$f":"IFERROR(VLOOKUP(AU63,'P2'!$B$4:$J$48,9,FALSE),\"\")","v":""},{"$f":"SUM(Q64:AU64)","v":0}]
[null,23,null,null,null,null,null,null,null,null,null,null,null,null,null,null,null,null,null,null,null,null,null,null,null,null,null,null,null,null,null,null,null,null,null,null,null,null,null,null,null,null,null,null,null,null,null,{"$f":"COUNTA(Q65:AU65)","v":0},{"$f":"AV66","v":0},{"$f":"IFERROR(ROUNDDOWN(AV66/$AT$3,1),\"\")","v":""}]
[null,null,null,null,null,null,null,null,null,null,null,null,null,null,null,null,{"$f":"IFERROR(VLOOKUP(Q65,'P2'!$B$4:$J$48,9,FALSE),\"\")","v":""},{"$f":"IFERROR(VLOOKUP(R65,'P2'!$B$4:$J$48,9,FALSE),\"\")","v":""},{"$f":"IFERROR(VLOOKUP(S65,'P2'!$B$4:$J$48,9,FALSE),\"\")","v":""},{"$f":"IFERROR(VLOOKUP(T65,'P2'!$B$4:$J$48,9,FALSE),\"\")","v":""},{"$f":"IFERROR(VLOOKUP(U65,'P2'!$B$4:$J$48,9,FALSE),\"\")","v":""},{"$f":"IFERROR(VLOOKUP(V65,'P2'!$B$4:$J$48,9,FALSE),\"\")","v":""},{"$f":"IFERROR(VLOOKUP(W65,'P2'!$B$4:$J$48,9,FALSE),\"\")","v":""},{"$f":"IFERROR(VLOOKUP(X65,'P2'!$B$4:$J$48,9,FALSE),\"\")","v":""},{"$f":"IFERROR(VLOOKUP(Y65,'P2'!$B$4:$J$48,9,FALSE),\"\")","v":""},{"$f":"IFERROR(VLOOKUP(Z65,'P2'!$B$4:$J$48,9,FALSE),\"\")","v":""},{"$f":"IFERROR(VLOOKUP(AA65,'P2'!$B$4:$J$48,9,FALSE),\"\")","v":""},{"$f":"IFERROR(VLOOKUP(AB65,'P2'!$B$4:$J$48,9,FALSE),\"\")","v":""},{"$f":"IFERROR(VLOOKUP(AC65,'P2'!$B$4:$J$48,9,FALSE),\"\")","v":""},{"$f":"IFERROR(VLOOKUP(AD65,'P2'!$B$4:$J$48,9,FALSE),\"\")","v":""},{"$f":"IFERROR(VLOOKUP(AE65,'P2'!$B$4:$J$48,9,FALSE),\"\")","v":""},{"$f":"IFERROR(VLOOKUP(AF65,'P2'!$B$4:$J$48,9,FALSE),\"\")","v":""},{"$f":"IFERROR(VLOOKUP(AG65,'P2'!$B$4:$J$48,9,FALSE),\"\")","v":""},{"$f":"IFERROR(VLOOKUP(AH65,'P2'!$B$4:$J$48,9,FALSE),\"\")","v":""},{"$f":"IFERROR(VLOOKUP(AI65,'P2'!$B$4:$J$48,9,FALSE),\"\")","v":""},{"$f":"IFERROR(VLOOKUP(AJ65,'P2'!$B$4:$J$48,9,FALSE),\"\")","v":""},{"$f":"IFERROR(VLOOKUP(AK65,'P2'!$B$4:$J$48,9,FALSE),\"\")","v":""},{"$f":"IFERROR(VLOOKUP(AL65,'P2'!$B$4:$J$48,9,FALSE),\"\")","v":""},{"$f":"IFERROR(VLOOKUP(AM65,'P2'!$B$4:$J$48,9,FALSE),\"\")","v":""},{"$f":"IFERROR(VLOOKUP(AN65,'P2'!$B$4:$J$48,9,FALSE),\"\")","v":""},{"$f":"IFERROR(VLOOKUP(AO65,'P2'!$B$4:$J$48,9,FALSE),\"\")","v":""},{"$f":"IFERROR(VLOOKUP(AP65,'P2'!$B$4:$J$48,9,FALSE),\"\")","v":""},{"$f":"IFERROR(VLOOKUP(AQ65,'P2'!$B$4:$J$48,9,FALSE),\"\")","v":""},{"$f":"IFERROR(VLOOKUP(AR65,'P2'!$B$4:$J$48,9,FALSE),\"\")","v":""},{"$f":"IFERROR(VLOOKUP(AS65,'P2'!$B$4:$J$48,9,FALSE),\"\")","v":""},{"$f":"IFERROR(VLOOKUP(AT65,'P2'!$B$4:$J$48,9,FALSE),\"\")","v":""},{"$f":"IFERROR(VLOOKUP(AU65,'P2'!$B$4:$J$48,9,FALSE),\"\")","v":""},{"$f":"SUM(Q66:AU66)","v":0}]
[null,24,null,null,null,null,null,null,null,null,null,null,null,null,null,null,null,null,null,null,null,null,null,null,null,null,null,null,null,null,null,null,null,null,null,null,null,null,null,null,null,null,null,null,null,null,null,{"$f":"COUNTA(Q67:AU67)","v":0},{"$f":"AV68","v":0},{"$f":"IFERROR(ROUNDDOWN(AV68/$AT$3,1),\"\")","v":""}]
[null,null,null,null,null,null,null,null,null,null,null,null,null,null,null,null,{"$f":"IFERROR(VLOOKUP(Q67,'P2'!$B$4:$J$48,9,FALSE),\"\")","v":""},{"$f":"IFERROR(VLOOKUP(R67,'P2'!$B$4:$J$48,9,FALSE),\"\")","v":""},{"$f":"IFERROR(VLOOKUP(S67,'P2'!$B$4:$J$48,9,FALSE),\"\")","v":""},{"$f":"IFERROR(VLOOKUP(T67,'P2'!$B$4:$J$48,9,FALSE),\"\")","v":""},{"$f":"IFERROR(VLOOKUP(U67,'P2'!$B$4:$J$48,9,FALSE),\"\")","v":""},{"$f":"IFERROR(VLOOKUP(V67,'P2'!$B$4:$J$48,9,FALSE),\"\")","v":""},{"$f":"IFERROR(VLOOKUP(W67,'P2'!$B$4:$J$48,9,FALSE),\"\")","v":""},{"$f":"IFERROR(VLOOKUP(X67,'P2'!$B$4:$J$48,9,FALSE),\"\")","v":""},{"$f":"IFERROR(VLOOKUP(Y67,'P2'!$B$4:$J$48,9,FALSE),\"\")","v":""},{"$f":"IFERROR(VLOOKUP(Z67,'P2'!$B$4:$J$48,9,FALSE),\"\")","v":""},{"$f":"IFERROR(VLOOKUP(AA67,'P2'!$B$4:$J$48,9,FALSE),\"\")","v":""},{"$f":"IFERROR(VLOOKUP(AB67,'P2'!$B$4:$J$48,9,FALSE),\"\")","v":""},{"$f":"IFERROR(VLOOKUP(AC67,'P2'!$B$4:$J$48,9,FALSE),\"\")","v":""},{"$f":"IFERROR(VLOOKUP(AD67,'P2'!$B$4:$J$48,9,FALSE),\"\")","v":""},{"$f":"IFERROR(VLOOKUP(AE67,'P2'!$B$4:$J$48,9,FALSE),\"\")","v":""},{"$f":"IFERROR(VLOOKUP(AF67,'P2'!$B$4:$J$48,9,FALSE),\"\")","v":""},{"$f":"IFERROR(VLOOKUP(AG67,'P2'!$B$4:$J$48,9,FALSE),\"\")","v":""},{"$f":"IFERROR(VLOOKUP(AH67,'P2'!$B$4:$J$48,9,FALSE),\"\")","v":""},{"$f":"IFERROR(VLOOKUP(AI67,'P2'!$B$4:$J$48,9,FALSE),\"\")","v":""},{"$f":"IFERROR(VLOOKUP(AJ67,'P2'!$B$4:$J$48,9,FALSE),\"\")","v":""},{"$f":"IFERROR(VLOOKUP(AK67,'P2'!$B$4:$J$48,9,FALSE),\"\")","v":""},{"$f":"IFERROR(VLOOKUP(AL67,'P2'!$B$4:$J$48,9,FALSE),\"\")","v":""},{"$f":"IFERROR(VLOOKUP(AM67,'P2'!$B$4:$J$48,9,FALSE),\"\")","v":""},{"$f":"IFERROR(VLOOKUP(AN67,'P2'!$B$4:$J$48,9,FALSE),\"\")","v":""},{"$f":"IFERROR(VLOOKUP(AO67,'P2'!$B$4:$J$48,9,FALSE),\"\")","v":""},{"$f":"IFERROR(VLOOKUP(AP67,'P2'!$B$4:$J$48,9,FALSE),\"\")","v":""},{"$f":"IFERROR(VLOOKUP(AQ67,'P2'!$B$4:$J$48,9,FALSE),\"\")","v":""},{"$f":"IFERROR(VLOOKUP(AR67,'P2'!$B$4:$J$48,9,FALSE),\"\")","v":""},{"$f":"IFERROR(VLOOKUP(AS67,'P2'!$B$4:$J$48,9,FALSE),\"\")","v":""},{"$f":"IFERROR(VLOOKUP(AT67,'P2'!$B$4:$J$48,9,FALSE),\"\")","v":""},{"$f":"IFERROR(VLOOKUP(AU67,'P2'!$B$4:$J$48,9,FALSE),\"\")","v":""},{"$f":"SUM(Q68:AU68)","v":0}]
[null,25,null,null,null,null,null,null,null,null,null,null,null,null,null,null,null,null,null,null,null,null,null,null,null,null,null,null,null,null,null,null,null,null,null,null,null,null,null,null,null,null,null,null,null,null,null,{"$f":"COUNTA(Q69:AU69)","v":0},{"$f":"AV70","v":0},{"$f":"IFERROR(ROUNDDOWN(AV70/$AT$3,1),\"\")","v":""}]
[null,null,null,null,null,null,null,null,null,null,null,null,null,null,null,null,{"$f":"IFERROR(VLOOKUP(Q69,'P2'!$B$4:$J$48,9,FALSE),\"\")","v":""},{"$f":"IFERROR(VLOOKUP(R69,'P2'!$B$4:$J$48,9,FALSE),\"\")","v":""},{"$f":"IFERROR(VLOOKUP(S69,'P2'!$B$4:$J$48,9,FALSE),\"\")","v":""},{"$f":"IFERROR(VLOOKUP(T69,'P2'!$B$4:$J$48,9,FALSE),\"\")","v":""},{"$f":"IFERROR(VLOOKUP(U69,'P2'!$B$4:$J$48,9,FALSE),\"\")","v":""},{"$f":"IFERROR(VLOOKUP(V69,'P2'!$B$4:$J$48,9,FALSE),\"\")","v":""},{"$f":"IFERROR(VLOOKUP(W69,'P2'!$B$4:$J$48,9,FALSE),\"\")","v":""},{"$f":"IFERROR(VLOOKUP(X69,'P2'!$B$4:$J$48,9,FALSE),\"\")","v":""},{"$f":"IFERROR(VLOOKUP(Y69,'P2'!$B$4:$J$48,9,FALSE),\"\")","v":""},{"$f":"IFERROR(VLOOKUP(Z69,'P2'!$B$4:$J$48,9,FALSE),\"\")","v":""},{"$f":"IFERROR(VLOOKUP(AA69,'P2'!$B$4:$J$48,9,FALSE),\"\")","v":""},{"$f":"IFERROR(VLOOKUP(AB69,'P2'!$B$4:$J$48,9,FALSE),\"\")","v":""},{"$f":"IFERROR(VLOOKUP(AC69,'P2'!$B$4:$J$48,9,FALSE),\"\")","v":""},{"$f":"IFERROR(VLOOKUP(AD69,'P2'!$B$4:$J$48,9,FALSE),\"\")","v":""},{"$f":"IFERROR(VLOOKUP(AE69,'P2'!$B$4:$J$48,9,FALSE),\"\")","v":""},{"$f":"IFERROR(VLOOKUP(AF69,'P2'!$B$4:$J$48,9,FALSE),\"\")","v":""},{"$f":"IFERROR(VLOOKUP(AG69,'P2'!$B$4:$J$48,9,FALSE),\"\")","v":""},{"$f":"IFERROR(VLOOKUP(AH69,'P2'!$B$4:$J$48,9,FALSE),\"\")","v":""},{"$f":"IFERROR(VLOOKUP(AI69,'P2'!$B$4:$J$48,9,FALSE),\"\")","v":""},{"$f":"IFERROR(VLOOKUP(AJ69,'P2'!$B$4:$J$48,9,FALSE),\"\")","v":""},{"$f":"IFERROR(VLOOKUP(AK69,'P2'!$B$4:$J$48,9,FALSE),\"\")","v":""},{"$f":"IFERROR(VLOOKUP(AL69,'P2'!$B$4:$J$48,9,FALSE),\"\")","v":""},{"$f":"IFERROR(VLOOKUP(AM69,'P2'!$B$4:$J$48,9,FALSE),\"\")","v":""},{"$f":"IFERROR(VLOOKUP(AN69,'P2'!$B$4:$J$48,9,FALSE),\"\")","v":""},{"$f":"IFERROR(VLOOKUP(AO69,'P2'!$B$4:$J$48,9,FALSE),\"\")","v":""},{"$f":"IFERROR(VLOOKUP(AP69,'P2'!$B$4:$J$48,9,FALSE),\"\")","v":""},{"$f":"IFERROR(VLOOKUP(AQ69,'P2'!$B$4:$J$48,9,FALSE),\"\")","v":""},{"$f":"IFERROR(VLOOKUP(AR69,'P2'!$B$4:$J$48,9,FALSE),\"\")","v":""},{"$f":"IFERROR(VLOOKUP(AS69,'P2'!$B$4:$J$48,9,FALSE),\"\")","v":""},{"$f":"IFERROR(VLOOKUP(AT69,'P2'!$B$4:$J$48,9,FALSE),\"\")","v":""},{"$f":"IFERROR(VLOOKUP(AU69,'P2'!$B$4:$J$48,9,FALSE),\"\")","v":""},{"$f":"SUM(Q70:AU70)","v":0}]
[null,26,null,null,null,null,null,null,null,null,null,null,null,null,null,null,null,null,null,null,null,null,null,null,null,null,null,null,null,null,null,null,null,null,null,null,null,null,null,null,null,null,null,null,null,null,null,{"$f":"COUNTA(Q71:AU71)","v":0},{"$f":"AV72","v":0},{"$f":"IFERROR(ROUNDDOWN(AV72/$AT$3,1),\"\")","v":""}]
[null,null,null,null,null,null,null,null,null,null,null,null,null,null,null,null,{"$f":"IFERROR(VLOOKUP(Q71,'P2'!$B$4:$J$48,9,FALSE),\"\")","v":""},{"$f":"IFERROR(VLOOKUP(R71,'P2'!$B$4:$J$48,9,FALSE),\"\")","v":""},{"$f":"IFERROR(VLOOKUP(S71,'P2'!$B$4:$J$48,9,FALSE),\"\")","v":""},{"$f":"IFERROR(VLOOKUP(T71,'P2'!$B$4:$J$48,9,FALSE),\"\")","v":""},{"$f":"IFERROR(VLOOKUP(U71,'P2'!$B$4:$J$48,9,FALSE),\"\")","v":""},{"$f":"IFERROR(VLOOKUP(V71,'P2'!$B$4:$J$48,9,FALSE),\"\")","v":""},{"$f":"IFERROR(VLOOKUP(W71,'P2'!$B$4:$J$48,9,FALSE),\"\")","v":""},{"$f":"IFERROR(VLOOKUP(X71,'P2'!$B$4:$J$48,9,FALSE),\"\")","v":""},{"$f":"IFERROR(VLOOKUP(Y71,'P2'!$B$4:$J$48,9,FALSE),\"\")","v":""},{"$f":"IFERROR(VLOOKUP(Z71,'P2'!$B$4:$J$48,9,FALSE),\"\")","v":""},{"$f":"IFERROR(VLOOKUP(AA71,'P2'!$B$4:$J$48,9,FALSE),\"\")","v":""},{"$f":"IFERROR(VLOOKUP(AB71,'P2'!$B$4:$J$48,9,FALSE),\"\")","v":""},{"$f":"IFERROR(VLOOKUP(AC71,'P2'!$B$4:$J$48,9,FALSE),\"\")","v":""},{"$f":"IFERROR(VLOOKUP(AD71,'P2'!$B$4:$J$48,9,FALSE),\"\")","v":""},{"$f":"IFERROR(VLOOKUP(AE71,'P2'!$B$4:$J$48,9,FALSE),\"\")","v":""},{"$f":"IFERROR(VLOOKUP(AF71,'P2'!$B$4:$J$48,9,FALSE),\"\")","v":""},{"$f":"IFERROR(VLOOKUP(AG71,'P2'!$B$4:$J$48,9,FALSE),\"\")","v":""},{"$f":"IFERROR(VLOOKUP(AH71,'P2'!$B$4:$J$48,9,FALSE),\"\")","v":""},{"$f":"IFERROR(VLOOKUP(AI71,'P2'!$B$4:$J$48,9,FALSE),\"\")","v":""},{"$f":"IFERROR(VLOOKUP(AJ71,'P2'!$B$4:$J$48,9,FALSE),\"\")","v":""},{"$f":"IFERROR(VLOOKUP(AK71,'P2'!$B$4:$J$48,9,FALSE),\"\")","v":""},{"$f":"IFERROR(VLOOKUP(AL71,'P2'!$B$4:$J$48,9,FALSE),\"\")","v":""},{"$f":"IFERROR(VLOOKUP(AM71,'P2'!$B$4:$J$48,9,FALSE),\"\")","v":""},{"$f":"IFERROR(VLOOKUP(AN71,'P2'!$B$4:$J$48,9,FALSE),\"\")","v":""},{"$f":"IFERROR(VLOOKUP(AO71,'P2'!$B$4:$J$48,9,FALSE),\"\")","v":""},{"$f":"IFERROR(VLOOKUP(AP71,'P2'!$B$4:$J$48,9,FALSE),\"\")","v":""},{"$f":"IFERROR(VLOOKUP(AQ71,'P2'!$B$4:$J$48,9,FALSE),\"\")","v":""},{"$f":"IFERROR(VLOOKUP(AR71,'P2'!$B$4:$J$48,9,FALSE),\"\")","v":""},{"$f":"IFERROR(VLOOKUP(AS71,'P2'!$B$4:$J$48,9,FALSE),\"\")","v":""},{"$f":"IFERROR(VLOOKUP(AT71,'P2'!$B$4:$J$48,9,FALSE),\"\")","v":""},{"$f":"IFERROR(VLOOKUP(AU71,'P2'!$B$4:$J$48,9,FALSE),\"\")","v":""},{"$f":"SUM(Q72:AU72)","v":0}]
[null,27,null,null,null,null,null,null,null,null,null,null,null,null,null,null,null,null,null,null,null,null,null,null,null,null,null,null,null,null,null,null,null,null,null,null,null,null,null,null,null,null,null,null,null,null,null,{"$f":"COUNTA(Q73:AU73)","v":0},{"$f":"AV74","v":0},{"$f":"IFERROR(ROUNDDOWN(AV74/$AT$3,1),\"\")","v":""}]
[null,null,null,null,null,null,null,null,null,null,null,null,null,null,null,null,{"$f":"IFERROR(VLOOKUP(Q73,'P2'!$B$4:$J$48,9,FALSE),\"\")","v":""},{"$f":"IFERROR(VLOOKUP(R73,'P2'!$B$4:$J$48,9,FALSE),\"\")","v":""},{"$f":"IFERROR(VLOOKUP(S73,'P2'!$B$4:$J$48,9,FALSE),\"\")","v":""},{"$f":"IFERROR(VLOOKUP(T73,'P2'!$B$4:$J$48,9,FALSE),\"\")","v":""},{"$f":"IFERROR(VLOOKUP(U73,'P2'!$B$4:$J$48,9,FALSE),\"\")","v":""},{"$f":"IFERROR(VLOOKUP(V73,'P2'!$B$4:$J$48,9,FALSE),\"\")","v":""},{"$f":"IFERROR(VLOOKUP(W73,'P2'!$B$4:$J$48,9,FALSE),\"\")","v":""},{"$f":"IFERROR(VLOOKUP(X73,'P2'!$B$4:$J$48,9,FALSE),\"\")","v":""},{"$f":"IFERROR(VLOOKUP(Y73,'P2'!$B$4:$J$48,9,FALSE),\"\")","v":""},{"$f":"IFERROR(VLOOKUP(Z73,'P2'!$B$4:$J$48,9,FALSE),\"\")","v":""},{"$f":"IFERROR(VLOOKUP(AA73,'P2'!$B$4:$J$48,9,FALSE),\"\")","v":""},{"$f":"IFERROR(VLOOKUP(AB73,'P2'!$B$4:$J$48,9,FALSE),\"\")","v":""},{"$f":"IFERROR(VLOOKUP(AC73,'P2'!$B$4:$J$48,9,FALSE),\"\")","v":""},{"$f":"IFERROR(VLOOKUP(AD73,'P2'!$B$4:$J$48,9,FALSE),\"\")","v":""},{"$f":"IFERROR(VLOOKUP(AE73,'P2'!$B$4:$J$48,9,FALSE),\"\")","v":""},{"$f":"IFERROR(VLOOKUP(AF73,'P2'!$B$4:$J$48,9,FALSE),\"\")","v":""},{"$f":"IFERROR(VLOOKUP(AG73,'P2'!$B$4:$J$48,9,FALSE),\"\")","v":""},{"$f":"IFERROR(VLOOKUP(AH73,'P2'!$B$4:$J$48,9,FALSE),\"\")","v":""},{"$f":"IFERROR(VLOOKUP(AI73,'P2'!$B$4:$J$48,9,FALSE),\"\")","v":""},{"$f":"IFERROR(VLOOKUP(AJ73,'P2'!$B$4:$J$48,9,FALSE),\"\")","v":""},{"$f":"IFERROR(VLOOKUP(AK73,'P2'!$B$4:$J$48,9,FALSE),\"\")","v":""},{"$f":"IFERROR(VLOOKUP(AL73,'P2'!$B$4:$J$48,9,FALSE),\"\")","v":""},{"$f":"IFERROR(VLOOKUP(AM73,'P2'!$B$4:$J$48,9,FALSE),\"\")","v":""},{"$f":"IFERROR(VLOOKUP(AN73,'P2'!$B$4:$J$48,9,FALSE),\"\")","v":""},{"$f":"IFERROR(VLOOKUP(AO73,'P2'!$B$4:$J$48,9,FALSE),\"\")","v":""},{"$f":"IFERROR(VLOOKUP(AP73,'P2'!$B$4:$J$48,9,FALSE),\"\")","v":""},{"$f":"IFERROR(VLOOKUP(AQ73,'P2'!$B$4:$J$48,9,FALSE),\"\")","v":""},{"$f":"IFERROR(VLOOKUP(AR73,'P2'!$B$4:$J$48,9,FALSE),\"\")","v":""},{"$f":"IFERROR(VLOOKUP(AS73,'P2'!$B$4:$J$48,9,FALSE),\"\")","v":""},{"$f":"IFERROR(VLOOKUP(AT73,'P2'!$B$4:$J$48,9,FALSE),\"\")","v":""},{"$f":"IFERROR(VLOOKUP(AU73,'P2'!$B$4:$J$48,9,FALSE),\"\")","v":""},{"$f":"SUM(Q74:AU74)","v":0}]
[null,28,null,null,null,null,null,null,null,null,null,null,null,null,null,null,null,null,null,null,null,null,null,null,null,null,null,null,null,null,null,null,null,null,null,null,null,null,null,null,null,null,null,null,null,null,null,{"$f":"COUNTA(Q75:AU75)","v":0},{"$f":"AV76","v":0},{"$f":"IFERROR(ROUNDDOWN(AV76/$AT$3,1),\"\")","v":""}]
[null,null,null,null,null,null,null,null,null,null,null,null,null,null,null,null,{"$f":"IFERROR(VLOOKUP(Q75,'P2'!$B$4:$J$48,9,FALSE),\"\")","v":""},{"$f":"IFERROR(VLOOKUP(R75,'P2'!$B$4:$J$48,9,FALSE),\"\")","v":""},{"$f":"IFERROR(VLOOKUP(S75,'P2'!$B$4:$J$48,9,FALSE),\"\")","v":""},{"$f":"IFERROR(VLOOKUP(T75,'P2'!$B$4:$J$48,9,FALSE),\"\")","v":""},{"$f":"IFERROR(VLOOKUP(U75,'P2'!$B$4:$J$48,9,FALSE),\"\")","v":""},{"$f":"IFERROR(VLOOKUP(V75,'P2'!$B$4:$J$48,9,FALSE),\"\")","v":""},{"$f":"IFERROR(VLOOKUP(W75,'P2'!$B$4:$J$48,9,FALSE),\"\")","v":""},{"$f":"IFERROR(VLOOKUP(X75,'P2'!$B$4:$J$48,9,FALSE),\"\")","v":""},{"$f":"IFERROR(VLOOKUP(Y75,'P2'!$B$4:$J$48,9,FALSE),\"\")","v":""},{"$f":"IFERROR(VLOOKUP(Z75,'P2'!$B$4:$J$48,9,FALSE),\"\")","v":""},{"$f":"IFERROR(VLOOKUP(AA75,'P2'!$B$4:$J$48,9,FALSE),\"\")","v":""},{"$f":"IFERROR(VLOOKUP(AB75,'P2'!$B$4:$J$48,9,FALSE),\"\")","v":""},{"$f":"IFERROR(VLOOKUP(AC75,'P2'!$B$4:$J$48,9,FALSE),\"\")","v":""},{"$f":"IFERROR(VLOOKUP(AD75,'P2'!$B$4:$J$48,9,FALSE),\"\")","v":""},{"$f":"IFERROR(VLOOKUP(AE75,'P2'!$B$4:$J$48,9,FALSE),\"\")","v":""},{"$f":"IFERROR(VLOOKUP(AF75,'P2'!$B$4:$J$48,9,FALSE),\"\")","v":""},{"$f":"IFERROR(VLOOKUP(AG75,'P2'!$B$4:$J$48,9,FALSE),\"\")","v":""},{"$f":"IFERROR(VLOOKUP(AH75,'P2'!$B$4:$J$48,9,FALSE),\"\")","v":""},{"$f":"IFERROR(VLOOKUP(AI75,'P2'!$B$4:$J$48,9,FALSE),\"\")","v":""},{"$f":"IFERROR(VLOOKUP(AJ75,'P2'!$B$4:$J$48,9,FALSE),\"\")","v":""},{"$f":"IFERROR(VLOOKUP(AK75,'P2'!$B$4:$J$48,9,FALSE),\"\")","v":""},{"$f":"IFERROR(VLOOKUP(AL75,'P2'!$B$4:$J$48,9,FALSE),\"\")","v":""},{"$f":"IFERROR(VLOOKUP(AM75,'P2'!$B$4:$J$48,9,FALSE),\"\")","v":""},{"$f":"IFERROR(VLOOKUP(AN75,'P2'!$B$4:$J$48,9,FALSE),\"\")","v":""},{"$f":"IFERROR(VLOOKUP(AO75,'P2'!$B$4:$J$48,9,FALSE),\"\")","v":""},{"$f":"IFERROR(VLOOKUP(AP75,'P2'!$B$4:$J$48,9,FALSE),\"\")","v":""},{"$f":"IFERROR(VLOOKUP(AQ75,'P2'!$B$4:$J$48,9,FALSE),\"\")","v":""},{"$f":"IFERROR(VLOOKUP(AR75,'P2'!$B$4:$J$48,9,FALSE),\"\")","v":""},{"$f":"IFERROR(VLOOKUP(AS75,'P2'!$B$4:$J$48,9,FALSE),\"\")","v":""},{"$f":"IFERROR(VLOOKUP(AT75,'P2'!$B$4:$J$48,9,FALSE),\"\")","v":""},{"$f":"IFERROR(VLOOKUP(AU75,'P2'!$B$4:$J$48,9,FALSE),\"\")","v":""},{"$f":"SUM(Q76:AU76)","v":0}]
[null,29,null,null,null,null,null,null,null,null,null,null,null,null,null,null,null,null,null,null,null,null,null,null,null,null,null,null,null,null,null,null,null,null,null,null,null,null,null,null,null,null,null,null,null,null,null,{"$f":"COUNTA(Q77:AU77)","v":0},{"$f":"AV78","v":0},{"$f":"IFERROR(ROUNDDOWN(AV78/$AT$3,1),\"\")","v":""}]
[null,null,null,null,null,null,null,null,null,null,null,null,null,null,null,null,{"$f":"IFERROR(VLOOKUP(Q77,'P2'!$B$4:$J$48,9,FALSE),\"\")","v":""},{"$f":"IFERROR(VLOOKUP(R77,'P2'!$B$4:$J$48,9,FALSE),\"\")","v":""},{"$f":"IFERROR(VLOOKUP(S77,'P2'!$B$4:$J$48,9,FALSE),\"\")","v":""},{"$f":"IFERROR(VLOOKUP(T77,'P2'!$B$4:$J$48,9,FALSE),\"\")","v":""},{"$f":"IFERROR(VLOOKUP(U77,'P2'!$B$4:$J$48,9,FALSE),\"\")","v":""},{"$f":"IFERROR(VLOOKUP(V77,'P2'!$B$4:$J$48,9,FALSE),\"\")","v":""},{"$f":"IFERROR(VLOOKUP(W77,'P2'!$B$4:$J$48,9,FALSE),\"\")","v":""},{"$f":"IFERROR(VLOOKUP(X77,'P2'!$B$4:$J$48,9,FALSE),\"\")","v":""},{"$f":"IFERROR(VLOOKUP(Y77,'P2'!$B$4:$J$48,9,FALSE),\"\")","v":""},{"$f":"IFERROR(VLOOKUP(Z77,'P2'!$B$4:$J$48,9,FALSE),\"\")","v":""},{"$f":"IFERROR(VLOOKUP(AA77,'P2'!$B$4:$J$48,9,FALSE),\"\")","v":""},{"$f":"IFERROR(VLOOKUP(AB77,'P2'!$B$4:$J$48,9,FALSE),\"\")","v":""},{"$f":"IFERROR(VLOOKUP(AC77,'P2'!$B$4:$J$48,9,FALSE),\"\")","v":""},{"$f":"IFERROR(VLOOKUP(AD77,'P2'!$B$4:$J$48,9,FALSE),\"\")","v":""},{"$f":"IFERROR(VLOOKUP(AE77,'P2'!$B$4:$J$48,9,FALSE),\"\")","v":""},{"$f":"IFERROR(VLOOKUP(AF77,'P2'!$B$4:$J$48,9,FALSE),\"\")","v":""},{"$f":"IFERROR(VLOOKUP(AG77,'P2'!$B$4:$J$48,9,FALSE),\"\")","v":""},{"$f":"IFERROR(VLOOKUP(AH77,'P2'!$B$4:$J$48,9,FALSE),\"\")","v":""},{"$f":"IFERROR(VLOOKUP(AI77,'P2'!$B$4:$J$48,9,FALSE),\"\")","v":""},{"$f":"IFERROR(VLOOKUP(AJ77,'P2'!$B$4:$J$48,9,FALSE),\"\")","v":""},{"$f":"IFERROR(VLOOKUP(AK77,'P2'!$B$4:$J$48,9,FALSE),\"\")","v":""},{"$f":"IFERROR(VLOOKUP(AL77,'P2'!$B$4:$J$48,9,FALSE),\"\")","v":""},{"$f":"IFERROR(VLOOKUP(AM77,'P2'!$B$4:$J$48,9,FALSE),\"\")","v":""},{"$f":"IFERROR(VLOOKUP(AN77,'P2'!$B$4:$J$48,9,FALSE),\"\")","v":""},{"$f":"IFERROR(VLOOKUP(AO77,'P2'!$B$4:$J$48,9,FALSE),\"\")","v":""},{"$f":"IFERROR(VLOOKUP(AP77,'P2'!$B$4:$J$48,9,FALSE),\"\")","v":""},{"$f":"IFERROR(VLOOKUP(AQ77,'P2'!$B$4:$J$48,9,FALSE),\"\")","v":""},{"$f":"IFERROR(VLOOKUP(AR77,'P2'!$B$4:$J$48,9,FALSE),\"\")","v":""},{"$f":"IFERROR(VLOOKUP(AS77,'P2'!$B$4:$J$48,9,FALSE),\"\")","v":""},{"$f":"IFERROR(VLOOKUP(AT77,'P2'!$B$4:$J$48,9,FALSE),\"\")","v":""},{"$f":"IFERROR(VLOOKUP(AU77,'P2'!$B$4:$J$48,9,FALSE),\"\")","v":""},{"$f":"SUM(Q78:AU78)","v":0}]
[null,30,null,null,null,null,null,null,null,null,null,null,null,null,null,null,null,null,null,null,null,null,null,null,null,null,null,null,null,null,null,null,null,null,null,null,null,null,null,null,null,null,null,null,null,null,null,{"$f":"COUNTA(Q79:AU79)","v":0},{"$f":"AV80","v":0},{"$f":"IFERROR(ROUNDDOWN(AV80/$AT$3,1),\"\")","v":""}]
[null,null,null,null,null,null,null,null,null,null,null,null,null,null,null,null,{"$f":"IFERROR(VLOOKUP(Q79,'P2'!$B$4:$J$48,9,FALSE),\"\")","v":""},{"$f":"IFERROR(VLOOKUP(R79,'P2'!$B$4:$J$48,9,FALSE),\"\")","v":""},{"$f":"IFERROR(VLOOKUP(S79,'P2'!$B$4:$J$48,9,FALSE),\"\")","v":""},{"$f":"IFERROR(VLOOKUP(T79,'P2'!$B$4:$J$48,9,FALSE),\"\")","v":""},{"$f":"IFERROR(VLOOKUP(U79,'P2'!$B$4:$J$48,9,FALSE),\"\")","v":""},{"$f":"IFERROR(VLOOKUP(V79,'P2'!$B$4:$J$48,9,FALSE),\"\")","v":""},{"$f":"IFERROR(VLOOKUP(W79,'P2'!$B$4:$J$48,9,FALSE),\"\")","v":""},{"$f":"IFERROR(VLOOKUP(X79,'P2'!$B$4:$J$48,9,FALSE),\"\")","v":""},{"$f":"IFERROR(VLOOKUP(Y79,'P2'!$B$4:$J$48,9,FALSE),\"\")","v":""},{"$f":"IFERROR(VLOOKUP(Z79,'P2'!$B$4:$J$48,9,FALSE),\"\")","v":""},{"$f":"IFERROR(VLOOKUP(AA79,'P2'!$B$4:$J$48,9,FALSE),\"\")","v":""},{"$f":"IFERROR(VLOOKUP(AB79,'P2'!$B$4:$J$48,9,FALSE),\"\")","v":""},{"$f":"IFERROR(VLOOKUP(AC79,'P2'!$B$4:$J$48,9,FALSE),\"\")","v":""},{"$f":"IFERROR(VLOOKUP(AD79,'P2'!$B$4:$J$48,9,FALSE),\"\")","v":""},{"$f":"IFERROR(VLOOKUP(AE79,'P2'!$B$4:$J$48,9,FALSE),\"\")","v":""},{"$f":"IFERROR(VLOOKUP(AF79,'P2'!$B$4:$J$48,9,FALSE),\"\")","v":""},{"$f":"IFERROR(VLOOKUP(AG79,'P2'!$B$4:$J$48,9,FALSE),\"\")","v":""},{"$f":"IFERROR(VLOOKUP(AH79,'P2'!$B$4:$J$48,9,FALSE),\"\")","v":""},{"$f":"IFERROR(VLOOKUP(AI79,'P2'!$B$4:$J$48,9,FALSE),\"\")","v":""},{"$f":"IFERROR(VLOOKUP(AJ79,'P2'!$B$4:$J$48,9,FALSE),\"\")","v":""},{"$f":"IFERROR(VLOOKUP(AK79,'P2'!$B$4:$J$48,9,FALSE),\"\")","v":""},{"$f":"IFERROR(VLOOKUP(AL79,'P2'!$B$4:$J$48,9,FALSE),\"\")","v":""},{"$f":"IFERROR(VLOOKUP(AM79,'P2'!$B$4:$J$48,9,FALSE),\"\")","v":""},{"$f":"IFERROR(VLOOKUP(AN79,'P2'!$B$4:$J$48,9,FALSE),\"\")","v":""},{"$f":"IFERROR(VLOOKUP(AO79,'P2'!$B$4:$J$48,9,FALSE),\"\")","v":""},{"$f":"IFERROR(VLOOKUP(AP79,'P2'!$B$4:$J$48,9,FALSE),\"\")","v":""},{"$f":"IFERROR(VLOOKUP(AQ79,'P2'!$B$4:$J$48,9,FALSE),\"\")","v":""},{"$f":"IFERROR(VLOOKUP(AR79,'P2'!$B$4:$J$48,9,FALSE),\"\")","v":""},{"$f":"IFERROR(VLOOKUP(AS79,'P2'!$B$4:$J$48,9,FALSE),\"\")","v":""},{"$f":"IFERROR(VLOOKUP(AT79,'P2'!$B$4:$J$48,9,FALSE),\"\")","v":""},{"$f":"IFERROR(VLOOKUP(AU79,'P2'!$B$4:$J$48,9,FALSE),\"\")","v":""},{"$f":"SUM(Q80:AU80)","v":0}]
[null,31,null,null,null,null,null,null,null,null,null,null,null,null,null,null,null,null,null,null,null,null,null,null,null,null,null,null,null,null,null,null,null,null,null,null,null,null,null,null,null,null,null,null,null,null,null,{"$f":"COUNTA(Q81:AU81)","v":0},{"$f":"AV82","v":0},{"$f":"IFERROR(ROUNDDOWN(AV82/$AT$3,1),\"\")","v":""}]
[null,null,null,null,null,null,null,null,null,null,null,null,null,null,null,null,{"$f":"IFERROR(VLOOKUP(Q81,'P2'!$B$4:$J$48,9,FALSE),\"\")","v":""},{"$f":"IFERROR(VLOOKUP(R81,'P2'!$B$4:$J$48,9,FALSE),\"\")","v":""},{"$f":"IFERROR(VLOOKUP(S81,'P2'!$B$4:$J$48,9,FALSE),\"\")","v":""},{"$f":"IFERROR(VLOOKUP(T81,'P2'!$B$4:$J$48,9,FALSE),\"\")","v":""},{"$f":"IFERROR(VLOOKUP(U81,'P2'!$B$4:$J$48,9,FALSE),\"\")","v":""},{"$f":"IFERROR(VLOOKUP(V81,'P2'!$B$4:$J$48,9,FALSE),\"\")","v":""},{"$f":"IFERROR(VLOOKUP(W81,'P2'!$B$4:$J$48,9,FALSE),\"\")","v":""},{"$f":"IFERROR(VLOOKUP(X81,'P2'!$B$4:$J$48,9,FALSE),\"\")","v":""},{"$f":"IFERROR(VLOOKUP(Y81,'P2'!$B$4:$J$48,9,FALSE),\"\")","v":""},{"$f":"IFERROR(VLOOKUP(Z81,'P2'!$B$4:$J$48,9,FALSE),\"\")","v":""},{"$f":"IFERROR(VLOOKUP(AA81,'P2'!$B$4:$J$48,9,FALSE),\"\")","v":""},{"$f":"IFERROR(VLOOKUP(AB81,'P2'!$B$4:$J$48,9,FALSE),\"\")","v":""},{"$f":"IFERROR(VLOOKUP(AC81,'P2'!$B$4:$J$48,9,FALSE),\"\")","v":""},{"$f":"IFERROR(VLOOKUP(AD81,'P2'!$B$4:$J$48,9,FALSE),\"\")","v":""},{"$f":"IFERROR(VLOOKUP(AE81,'P2'!$B$4:$J$48,9,FALSE),\"\")","v":""},{"$f":"IFERROR(VLOOKUP(AF81,'P2'!$B$4:$J$48,9,FALSE),\"\")","v":""},{"$f":"IFERROR(VLOOKUP(AG81,'P2'!$B$4:$J$48,9,FALSE),\"\")","v":""},{"$f":"IFERROR(VLOOKUP(AH81,'P2'!$B$4:$J$48,9,FALSE),\"\")","v":""},{"$f":"IFERROR(VLOOKUP(AI81,'P2'!$B$4:$J$48,9,FALSE),\"\")","v":""},{"$f":"IFERROR(VLOOKUP(AJ81,'P2'!$B$4:$J$48,9,FALSE),\"\")","v":""},{"$f":"IFERROR(VLOOKUP(AK81,'P2'!$B$4:$J$48,9,FALSE),\"\")","v":""},{"$f":"IFERROR(VLOOKUP(AL81,'P2'!$B$4:$J$48,9,FALSE),\"\")","v":""},{"$f":"IFERROR(VLOOKUP(AM81,'P2'!$B$4:$J$48,9,FALSE),\"\")","v":""},{"$f":"IFERROR(VLOOKUP(AN81,'P2'!$B$4:$J$48,9,FALSE),\"\")","v":""},{"$f":"IFERROR(VLOOKUP(AO81,'P2'!$B$4:$J$48,9,FALSE),\"\")","v":""},{"$f":"IFERROR(VLOOKUP(AP81,'P2'!$B$4:$J$48,9,FALSE),\"\")","v":""},{"$f":"IFERROR(VLOOKUP(AQ81,'P2'!$B$4:$J$48,9,FALSE),\"\")","v":""},{"$f":"IFERROR(VLOOKUP(AR81,'P2'!$B$4:$J$48,9,FALSE),\"\")","v":""},{"$f":"IFERROR(VLOOKUP(AS81,'P2'!$B$4:$J$48,9,FALSE),\"\")","v":""},{"$f":"IFERROR(VLOOKUP(AT81,'P2'!$B$4:$J$48,9,FALSE),\"\")","v":""},{"$f":"IFERROR(VLOOKUP(AU81,'P2'!$B$4:$J$48,9,FALSE),\"\")","v":""},{"$f":"SUM(Q82:AU82)","v":0}]
[null,32,null,null,null,null,null,null,null,null,null,null,null,null,null,null,null,null,null,null,null,null,null,null,null,null,null,null,null,null,null,null,null,null,null,null,null,null,null,null,null,null,null,null,null,null,null,{"$f":"COUNTA(Q83:AU83)","v":0},{"$f":"AV84","v":0},{"$f":"IFERROR(ROUNDDOWN(AV84/$AT$3,1),\"\")","v":""}]
[null,null,null,null,null,null,null,null,null,null,null,null,null,null,null,null,{"$f":"IFERROR(VLOOKUP(Q83,'P2'!$B$4:$J$48,9,FALSE),\"\")","v":""},{"$f":"IFERROR(VLOOKUP(R83,'P2'!$B$4:$J$48,9,FALSE),\"\")","v":""},{"$f":"IFERROR(VLOOKUP(S83,'P2'!$B$4:$J$48,9,FALSE),\"\")","v":""},{"$f":"IFERROR(VLOOKUP(T83,'P2'!$B$4:$J$48,9,FALSE),\"\")","v":""},{"$f":"IFERROR(VLOOKUP(U83,'P2'!$B$4:$J$48,9,FALSE),\"\")","v":""},{"$f":"IFERROR(VLOOKUP(V83,'P2'!$B$4:$J$48,9,FALSE),\"\")","v":""},{"$f":"IFERROR(VLOOKUP(W83,'P2'!$B$4:$J$48,9,FALSE),\"\")","v":""},{"$f":"IFERROR(VLOOKUP(X83,'P2'!$B$4:$J$48,9,FALSE),\"\")","v":""},{"$f":"IFERROR(VLOOKUP(Y83,'P2'!$B$4:$J$48,9,FALSE),\"\")","v":""},{"$f":"IFERROR(VLOOKUP(Z83,'P2'!$B$4:$J$48,9,FALSE),\"\")","v":""},{"$f":"IFERROR(VLOOKUP(AA83,'P2'!$B$4:$J$48,9,FALSE),\"\")","v":""},{"$f":"IFERROR(VLOOKUP(AB83,'P2'!$B$4:$J$48,9,FALSE),\"\")","v":""},{"$f":"IFERROR(VLOOKUP(AC83,'P2'!$B$4:$J$48,9,FALSE),\"\")","v":""},{"$f":"IFERROR(VLOOKUP(AD83,'P2'!$B$4:$J$48,9,FALSE),\"\")","v":""},{"$f":"IFERROR(VLOOKUP(AE83,'P2'!$B$4:$J$48,9,FALSE),\"\")","v":""},{"$f":"IFERROR(VLOOKUP(AF83,'P2'!$B$4:$J$48,9,FALSE),\"\")","v":""},{"$f":"IFERROR(VLOOKUP(AG83,'P2'!$B$4:$J$48,9,FALSE),\"\")","v":""},{"$f":"IFERROR(VLOOKUP(AH83,'P2'!$B$4:$J$48,9,FALSE),\"\")","v":""},{"$f":"IFERROR(VLOOKUP(AI83,'P2'!$B$4:$J$48,9,FALSE),\"\")","v":""},{"$f":"IFERROR(VLOOKUP(AJ83,'P2'!$B$4:$J$48,9,FALSE),\"\")","v":""},{"$f":"IFERROR(VLOOKUP(AK83,'P2'!$B$4:$J$48,9,FALSE),\"\")","v":""},{"$f":"IFERROR(VLOOKUP(AL83,'P2'!$B$4:$J$48,9,FALSE),\"\")","v":""},{"$f":"IFERROR(VLOOKUP(AM83,'P2'!$B$4:$J$48,9,FALSE),\"\")","v":""},{"$f":"IFERROR(VLOOKUP(AN83,'P2'!$B$4:$J$48,9,FALSE),\"\")","v":""},{"$f":"IFERROR(VLOOKUP(AO83,'P2'!$B$4:$J$48,9,FALSE),\"\")","v":""},{"$f":"IFERROR(VLOOKUP(AP83,'P2'!$B$4:$J$48,9,FALSE),\"\")","v":""},{"$f":"IFERROR(VLOOKUP(AQ83,'P2'!$B$4:$J$48,9,FALSE),\"\")","v":""},{"$f":"IFERROR(VLOOKUP(AR83,'P2'!$B$4:$J$48,9,FALSE),\"\")","v":""},{"$f":"IFERROR(VLOOKUP(AS83,'P2'!$B$4:$J$48,9,FALSE),\"\")","v":""},{"$f":"IFERROR(VLOOKUP(AT83,'P2'!$B$4:$J$48,9,FALSE),\"\")","v":""},{"$f":"IFERROR(VLOOKUP(AU83,'P2'!$B$4:$J$48,9,FALSE),\"\")","v":""},{"$f":"SUM(Q84:AU84)","v":0}]
[null,33,null,null,null,null,null,null,null,null,null,null,null,null,null,null,null,null,null,null,null,null,null,null,null,null,null,null,null,null,null,null,null,null,null,null,null,null,null,null,null,null,null,null,null,null,null,{"$f":"COUNTA(Q85:AU85)","v":0},{"$f":"AV86","v":0},{"$f":"IFERROR(ROUNDDOWN(AV86/$AT$3,1),\"\")","v":""}]
[null,null,null,null,null,null,null,null,null,null,null,null,null,null,null,null,{"$f":"IFERROR(VLOOKUP(Q85,'P2'!$B$4:$J$48,9,FALSE),\"\")","v":""},{"$f":"IFERROR(VLOOKUP(R85,'P2'!$B$4:$J$48,9,FALSE),\"\")","v":""},{"$f":"IFERROR(VLOOKUP(S85,'P2'!$B$4:$J$48,9,FALSE),\"\")","v":""},{"$f":"IFERROR(VLOOKUP(T85,'P2'!$B$4:$J$48,9,FALSE),\"\")","v":""},{"$f":"IFERROR(VLOOKUP(U85,'P2'!$B$4:$J$48,9,FALSE),\"\")","v":""},{"$f":"IFERROR(VLOOKUP(V85,'P2'!$B$4:$J$48,9,FALSE),\"\")","v":""},{"$f":"IFERROR(VLOOKUP(W85,'P2'!$B$4:$J$48,9,FALSE),\"\")","v":""},{"$f":"IFERROR(VLOOKUP(X85,'P2'!$B$4:$J$48,9,FALSE),\"\")","v":""},{"$f":"IFERROR(VLOOKUP(Y85,'P2'!$B$4:$J$48,9,FALSE),\"\")","v":""},{"$f":"IFERROR(VLOOKUP(Z85,'P2'!$B$4:$J$48,9,FALSE),\"\")","v":""},{"$f":"IFERROR(VLOOKUP(AA85,'P2'!$B$4:$J$48,9,FALSE),\"\")","v":""},{"$f":"IFERROR(VLOOKUP(AB85,'P2'!$B$4:$J$48,9,FALSE),\"\")","v":""},{"$f":"IFERROR(VLOOKUP(AC85,'P2'!$B$4:$J$48,9,FALSE),\"\")","v":""},{"$f":"IFERROR(VLOOKUP(AD85,'P2'!$B$4:$J$48,9,FALSE),\"\")","v":""},{"$f":"IFERROR(VLOOKUP(AE85,'P2'!$B$4:$J$48,9,FALSE),\"\")","v":""},{"$f":"IFERROR(VLOOKUP(AF85,'P2'!$B$4:$J$48,9,FALSE),\"\")","v":""},{"$f":"IFERROR(VLOOKUP(AG85,'P2'!$B$4:$J$48,9,FALSE),\"\")","v":""},{"$f":"IFERROR(VLOOKUP(AH85,'P2'!$B$4:$J$48,9,FALSE),\"\")","v":""},{"$f":"IFERROR(VLOOKUP(AI85,'P2'!$B$4:$J$48,9,FALSE),\"\")","v":""},{"$f":"IFERROR(VLOOKUP(AJ85,'P2'!$B$4:$J$48,9,FALSE),\"\")","v":""},{"$f":"IFERROR(VLOOKUP(AK85,'P2'!$B$4:$J$48,9,FALSE),\"\")","v":""},{"$f":"IFERROR(VLOOKUP(AL85,'P2'!$B$4:$J$48,9,FALSE),\"\")","v":""},{"$f":"IFERROR(VLOOKUP(AM85,'P2'!$B$4:$J$48,9,FALSE),\"\")","v":""},{"$f":"IFERROR(VLOOKUP(AN85,'P2'!$B$4:$J$48,9,FALSE),\"\")","v":""},{"$f":"IFERROR(VLOOKUP(AO85,'P2'!$B$4:$J$48,9,FALSE),\"\")","v":""},{"$f":"IFERROR(VLOOKUP(AP85,'P2'!$B$4:$J$48,9,FALSE),\"\")","v":""},{"$f":"IFERROR(VLOOKUP(AQ85,'P2'!$B$4:$J$48,9,FALSE),\"\")","v":""},{"$f":"IFERROR(VLOOKUP(AR85,'P2'!$B$4:$J$48,9,FALSE),\"\")","v":""},{"$f":"IFERROR(VLOOKUP(AS85,'P2'!$B$4:$J$48,9,FALSE),\"\")","v":""},{"$f":"IFERROR(VLOOKUP(AT85,'P2'!$B$4:$J$48,9,FALSE),\"\")","v":""},{"$f":"IFERROR(VLOOKUP(AU85,'P2'!$B$4:$J$48,9,FALSE),\"\")","v":""},{"$f":"SUM(Q86:AU86)","v":0}]
[null,34,null,null,null,null,null,null,null,null,null,null,null,null,null,null,null,null,null,null,null,null,null,null,null,null,null,null,null,null,null,null,null,null,null,null,null,null,null,null,null,null,null,null,null,null,null,{"$f":"COUNTA(Q87:AU87)","v":0},{"$f":"AV88","v":0},{"$f":"IFERROR(ROUNDDOWN(AV88/$AT$3,1),\"\")","v":""}]
[null,null,null,null,null,null,null,null,null,null,null,null,null,null,null,null,{"$f":"IFERROR(VLOOKUP(Q87,'P2'!$B$4:$J$48,9,FALSE),\"\")","v":""},{"$f":"IFERROR(VLOOKUP(R87,'P2'!$B$4:$J$48,9,FALSE),\"\")","v":""},{"$f":"IFERROR(VLOOKUP(S87,'P2'!$B$4:$J$48,9,FALSE),\"\")","v":""},{"$f":"IFERROR(VLOOKUP(T87,'P2'!$B$4:$J$48,9,FALSE),\"\")","v":""},{"$f":"IFERROR(VLOOKUP(U87,'P2'!$B$4:$J$48,9,FALSE),\"\")","v":""},{"$f":"IFERROR(VLOOKUP(V87,'P2'!$B$4:$J$48,9,FALSE),\"\")","v":""},{"$f":"IFERROR(VLOOKUP(W87,'P2'!$B$4:$J$48,9,FALSE),\"\")","v":""},{"$f":"IFERROR(VLOOKUP(X87,'P2'!$B$4:$J$48,9,FALSE),\"\")","v":""},{"$f":"IFERROR(VLOOKUP(Y87,'P2'!$B$4:$J$48,9,FALSE),\"\")","v":""},{"$f":"IFERROR(VLOOKUP(Z87,'P2'!$B$4:$J$48,9,FALSE),\"\")","v":""},{"$f":"IFERROR(VLOOKUP(AA87,'P2'!$B$4:$J$48,9,FALSE),\"\")","v":""},{"$f":"IFERROR(VLOOKUP(AB87,'P2'!$B$4:$J$48,9,FALSE),\"\")","v":""},{"$f":"IFERROR(VLOOKUP(AC87,'P2'!$B$4:$J$48,9,FALSE),\"\")","v":""},{"$f":"IFERROR(VLOOKUP(AD87,'P2'!$B$4:$J$48,9,FALSE),\"\")","v":""},{"$f":"IFERROR(VLOOKUP(AE87,'P2'!$B$4:$J$48,9,FALSE),\"\")","v":""},{"$f":"IFERROR(VLOOKUP(AF87,'P2'!$B$4:$J$48,9,FALSE),\"\")","v":""},{"$f":"IFERROR(VLOOKUP(AG87,'P2'!$B$4:$J$48,9,FALSE),\"\")","v":""},{"$f":"IFERROR(VLOOKUP(AH87,'P2'!$B$4:$J$48,9,FALSE),\"\")","v":""},{"$f":"IFERROR(VLOOKUP(AI87,'P2'!$B$4:$J$48,9,FALSE),\"\")","v":""},{"$f":"IFERROR(VLOOKUP(AJ87,'P2'!$B$4:$J$48,9,FALSE),\"\")","v":""},{"$f":"IFERROR(VLOOKUP(AK87,'P2'!$B$4:$J$48,9,FALSE),\"\")","v":""},{"$f":"IFERROR(VLOOKUP(AL87,'P2'!$B$4:$J$48,9,FALSE),\"\")","v":""},{"$f":"IFERROR(VLOOKUP(AM87,'P2'!$B$4:$J$48,9,FALSE),\"\")","v":""},{"$f":"IFERROR(VLOOKUP(AN87,'P2'!$B$4:$J$48,9,FALSE),\"\")","v":""},{"$f":"IFERROR(VLOOKUP(AO87,'P2'!$B$4:$J$48,9,FALSE),\"\")","v":""},{"$f":"IFERROR(VLOOKUP(AP87,'P2'!$B$4:$J$48,9,FALSE),\"\")","v":""},{"$f":"IFERROR(VLOOKUP(AQ87,'P2'!$B$4:$J$48,9,FALSE),\"\")","v":""},{"$f":"IFERROR(VLOOKUP(AR87,'P2'!$B$4:$J$48,9,FALSE),\"\")","v":""},{"$f":"IFERROR(VLOOKUP(AS87,'P2'!$B$4:$J$48,9,FALSE),\"\")","v":""},{"$f":"IFERROR(VLOOKUP(AT87,'P2'!$B$4:$J$48,9,FALSE),\"\")","v":""},{"$f":"IFERROR(VLOOKUP(AU87,'P2'!$B$4:$J$48,9,FALSE),\"\")","v":""},{"$f":"SUM(Q88:AU88)","v":0}]
[null,35,null,null,null,null,null,null,null,null,null,null,null,null,null,null,null,null,null,null,null,null,null,null,null,null,null,null,null,null,null,null,null,null,null,null,null,null,null,null,null,null,null,null,null,null,null,{"$f":"COUNTA(Q89:AU89)","v":0},{"$f":"AV90","v":0},{"$f":"IFERROR(ROUNDDOWN(AV90/$AT$3,1),\"\")","v":""}]
[null,null,null,null,null,null,null,null,null,null,null,null,null,null,null,null,{"$f":"IFERROR(VLOOKUP(Q89,'P2'!$B$4:$J$48,9,FALSE),\"\")","v":""},{"$f":"IFERROR(VLOOKUP(R89,'P2'!$B$4:$J$48,9,FALSE),\"\")","v":""},{"$f":"IFERROR(VLOOKUP(S89,'P2'!$B$4:$J$48,9,FALSE),\"\")","v":""},{"$f":"IFERROR(VLOOKUP(T89,'P2'!$B$4:$J$48,9,FALSE),\"\")","v":""},{"$f":"IFERROR(VLOOKUP(U89,'P2'!$B$4:$J$48,9,FALSE),\"\")","v":""},{"$f":"IFERROR(VLOOKUP(V89,'P2'!$B$4:$J$48,9,FALSE),\"\")","v":""},{"$f":"IFERROR(VLOOKUP(W89,'P2'!$B$4:$J$48,9,FALSE),\"\")","v":""},{"$f":"IFERROR(VLOOKUP(X89,'P2'!$B$4:$J$48,9,FALSE),\"\")","v":""},{"$f":"IFERROR(VLOOKUP(Y89,'P2'!$B$4:$J$48,9,FALSE),\"\")","v":""},{"$f":"IFERROR(VLOOKUP(Z89,'P2'!$B$4:$J$48,9,FALSE),\"\")","v":""},{"$f":"IFERROR(VLOOKUP(AA89,'P2'!$B$4:$J$48,9,FALSE),\"\")","v":""},{"$f":"IFERROR(VLOOKUP(AB89,'P2'!$B$4:$J$48,9,FALSE),\"\")","v":""},{"$f":"IFERROR(VLOOKUP(AC89,'P2'!$B$4:$J$48,9,FALSE),\"\")","v":""},{"$f":"IFERROR(VLOOKUP(AD89,'P2'!$B$4:$J$48,9,FALSE),\"\")","v":""},{"$f":"IFERROR(VLOOKUP(AE89,'P2'!$B$4:$J$48,9,FALSE),\"\")","v":""},{"$f":"IFERROR(VLOOKUP(AF89,'P2'!$B$4:$J$48,9,FALSE),\"\")","v":""},{"$f":"IFERROR(VLOOKUP(AG89,'P2'!$B$4:$J$48,9,FALSE),\"\")","v":""},{"$f":"IFERROR(VLOOKUP(AH89,'P2'!$B$4:$J$48,9,FALSE),\"\")","v":""},{"$f":"IFERROR(VLOOKUP(AI89,'P2'!$B$4:$J$48,9,FALSE),\"\")","v":""},{"$f":"IFERROR(VLOOKUP(AJ89,'P2'!$B$4:$J$48,9,FALSE),\"\")","v":""},{"$f":"IFERROR(VLOOKUP(AK89,'P2'!$B$4:$J$48,9,FALSE),\"\")","v":""},{"$f":"IFERROR(VLOOKUP(AL89,'P2'!$B$4:$J$48,9,FALSE),\"\")","v":""},{"$f":"IFERROR(VLOOKUP(AM89,'P2'!$B$4:$J$48,9,FALSE),\"\")","v":""},{"$f":"IFERROR(VLOOKUP(AN89,'P2'!$B$4:$J$48,9,FALSE),\"\")","v":""},{"$f":"IFERROR(VLOOKUP(AO89,'P2'!$B$4:$J$48,9,FALSE),\"\")","v":""},{"$f":"IFERROR(VLOOKUP(AP89,'P2'!$B$4:$J$48,9,FALSE),\"\")","v":""},{"$f":"IFERROR(VLOOKUP(AQ89,'P2'!$B$4:$J$48,9,FALSE),\"\")","v":""},{"$f":"IFERROR(VLOOKUP(AR89,'P2'!$B$4:$J$48,9,FALSE),\"\")","v":""},{"$f":"IFERROR(VLOOKUP(AS89,'P2'!$B$4:$J$48,9,FALSE),\"\")","v":""},{"$f":"IFERROR(VLOOKUP(AT89,'P2'!$B$4:$J$48,9,FALSE),\"\")","v":""},{"$f":"IFERROR(VLOOKUP(AU89,'P2'!$B$4:$J$48,9,FALSE),\"\")","v":""},{"$f":"SUM(Q90:AU90)","v":0}]
[null,36,null,null,null,null,null,null,null,null,null,null,null,null,null,null,null,null,null,null,null,null,null,null,null,null,null,null,null,null,null,null,null,null,null,null,null,null,null,null,null,null,null,null,null,null,null,{"$f":"COUNTA(Q91:AU91)","v":0},{"$f":"AV92","v":0},{"$f":"IFERROR(ROUNDDOWN(AV92/$AT$3,1),\"\")","v":""}]
[null,null,null,null,null,null,null,null,null,null,null,null,null,null,null,null,{"$f":"IFERROR(VLOOKUP(Q91,'P2'!$B$4:$J$48,9,FALSE),\"\")","v":""},{"$f":"IFERROR(VLOOKUP(R91,'P2'!$B$4:$J$48,9,FALSE),\"\")","v":""},{"$f":"IFERROR(VLOOKUP(S91,'P2'!$B$4:$J$48,9,FALSE),\"\")","v":""},{"$f":"IFERROR(VLOOKUP(T91,'P2'!$B$4:$J$48,9,FALSE),\"\")","v":""},{"$f":"IFERROR(VLOOKUP(U91,'P2'!$B$4:$J$48,9,FALSE),\"\")","v":""},{"$f":"IFERROR(VLOOKUP(V91,'P2'!$B$4:$J$48,9,FALSE),\"\")","v":""},{"$f":"IFERROR(VLOOKUP(W91,'P2'!$B$4:$J$48,9,FALSE),\"\")","v":""},{"$f":"IFERROR(VLOOKUP(X91,'P2'!$B$4:$J$48,9,FALSE),\"\")","v":""},{"$f":"IFERROR(VLOOKUP(Y91,'P2'!$B$4:$J$48,9,FALSE),\"\")","v":""},{"$f":"IFERROR(VLOOKUP(Z91,'P2'!$B$4:$J$48,9,FALSE),\"\")","v":""},{"$f":"IFERROR(VLOOKUP(AA91,'P2'!$B$4:$J$48,9,FALSE),\"\")","v":""},{"$f":"IFERROR(VLOOKUP(AB91,'P2'!$B$4:$J$48,9,FALSE),\"\")","v":""},{"$f":"IFERROR(VLOOKUP(AC91,'P2'!$B$4:$J$48,9,FALSE),\"\")","v":""},{"$f":"IFERROR(VLOOKUP(AD91,'P2'!$B$4:$J$48,9,FALSE),\"\")","v":""},{"$f":"IFERROR(VLOOKUP(AE91,'P2'!$B$4:$J$48,9,FALSE),\"\")","v":""},{"$f":"IFERROR(VLOOKUP(AF91,'P2'!$B$4:$J$48,9,FALSE),\"\")","v":""},{"$f":"IFERROR(VLOOKUP(AG91,'P2'!$B$4:$J$48,9,FALSE),\"\")","v":""},{"$f":"IFERROR(VLOOKUP(AH91,'P2'!$B$4:$J$48,9,FALSE),\"\")","v":""},{"$f":"IFERROR(VLOOKUP(AI91,'P2'!$B$4:$J$48,9,FALSE),\"\")","v":""},{"$f":"IFERROR(VLOOKUP(AJ91,'P2'!$B$4:$J$48,9,FALSE),\"\")","v":""},{"$f":"IFERROR(VLOOKUP(AK91,'P2'!$B$4:$J$48,9,FALSE),\"\")","v":""},{"$f":"IFERROR(VLOOKUP(AL91,'P2'!$B$4:$J$48,9,FALSE),\"\")","v":""},{"$f":"IFERROR(VLOOKUP(AM91,'P2'!$B$4:$J$48,9,FALSE),\"\")","v":""},{"$f":"IFERROR(VLOOKUP(AN91,'P2'!$B$4:$J$48,9,FALSE),\"\")","v":""},{"$f":"IFERROR(VLOOKUP(AO91,'P2'!$B$4:$J$48,9,FALSE),\"\")","v":""},{"$f":"IFERROR(VLOOKUP(AP91,'P2'!$B$4:$J$48,9,FALSE),\"\")","v":""},{"$f":"IFERROR(VLOOKUP(AQ91,'P2'!$B$4:$J$48,9,FALSE),\"\")","v":""},{"$f":"IFERROR(VLOOKUP(AR91,'P2'!$B$4:$J$48,9,FALSE),\"\")","v":""},{"$f":"IFERROR(VLOOKUP(AS91,'P2'!$B$4:$J$48,9,FALSE),\"\")","v":""},{"$f":"IFERROR(VLOOKUP(AT91,'P2'!$B$4:$J$48,9,FALSE),\"\")","v":""},{"$f":"IFERROR(VLOOKUP(AU91,'P2'!$B$4:$J$48,9,FALSE),\"\")","v":""},{"$f":"SUM(Q92:AU92)","v":0}]
[null,37,null,null,null,null,null,null,null,null,null,null,null,null,null,null,null,null,null,null,null,null,null,null,null,null,null,null,null,null,null,null,null,null,null,null,null,null,null,null,null,null,null,null,null,null,null,{"$f":"COUNTA(Q93:AU93)","v":0},{"$f":"AV94","v":0},{"$f":"IFERROR(ROUNDDOWN(AV94/$AT$3,1),\"\")","v":""}]
[null,null,null,null,null,null,null,null,null,null,null,null,null,null,null,null,{"$f":"IFERROR(VLOOKUP(Q93,'P2'!$B$4:$J$48,9,FALSE),\"\")","v":""},{"$f":"IFERROR(VLOOKUP(R93,'P2'!$B$4:$J$48,9,FALSE),\"\")","v":""},{"$f":"IFERROR(VLOOKUP(S93,'P2'!$B$4:$J$48,9,FALSE),\"\")","v":""},{"$f":"IFERROR(VLOOKUP(T93,'P2'!$B$4:$J$48,9,FALSE),\"\")","v":""},{"$f":"IFERROR(VLOOKUP(U93,'P2'!$B$4:$J$48,9,FALSE),\"\")","v":""},{"$f":"IFERROR(VLOOKUP(V93,'P2'!$B$4:$J$48,9,FALSE),\"\")","v":""},{"$f":"IFERROR(VLOOKUP(W93,'P2'!$B$4:$J$48,9,FALSE),\"\")","v":""},{"$f":"IFERROR(VLOOKUP(X93,'P2'!$B$4:$J$48,9,FALSE),\"\")","v":""},{"$f":"IFERROR(VLOOKUP(Y93,'P2'!$B$4:$J$48,9,FALSE),\"\")","v":""},{"$f":"IFERROR(VLOOKUP(Z93,'P2'!$B$4:$J$48,9,FALSE),\"\")","v":""},{"$f":"IFERROR(VLOOKUP(AA93,'P2'!$B$4:$J$48,9,FALSE),\"\")","v":""},{"$f":"IFERROR(VLOOKUP(AB93,'P2'!$B$4:$J$48,9,FALSE),\"\")","v":""},{"$f":"IFERROR(VLOOKUP(AC93,'P2'!$B$4:$J$48,9,FALSE),\"\")","v":""},{"$f":"IFERROR(VLOOKUP(AD93,'P2'!$B$4:$J$48,9,FALSE),\"\")","v":""},{"$f":"IFERROR(VLOOKUP(AE93,'P2'!$B$4:$J$48,9,FALSE),\"\")","v":""},{"$f":"IFERROR(VLOOKUP(AF93,'P2'!$B$4:$J$48,9,FALSE),\"\")","v":""},{"$f":"IFERROR(VLOOKUP(AG93,'P2'!$B$4:$J$48,9,FALSE),\"\")","v":""},{"$f":"IFERROR(VLOOKUP(AH93,'P2'!$B$4:$J$48,9,FALSE),\"\")","v":""},{"$f":"IFERROR(VLOOKUP(AI93,'P2'!$B$4:$J$48,9,FALSE),\"\")","v":""},{"$f":"IFERROR(VLOOKUP(AJ93,'P2'!$B$4:$J$48,9,FALSE),\"\")","v":""},{"$f":"IFERROR(VLOOKUP(AK93,'P2'!$B$4:$J$48,9,FALSE),\"\")","v":""},{"$f":"IFERROR(VLOOKUP(AL93,'P2'!$B$4:$J$48,9,FALSE),\"\")","v":""},{"$f":"IFERROR(VLOOKUP(AM93,'P2'!$B$4:$J$48,9,FALSE),\"\")","v":""},{"$f":"IFERROR(VLOOKUP(AN93,'P2'!$B$4:$J$48,9,FALSE),\"\")","v":""},{"$f":"IFERROR(VLOOKUP(AO93,'P2'!$B$4:$J$48,9,FALSE),\"\")","v":""},{"$f":"IFERROR(VLOOKUP(AP93,'P2'!$B$4:$J$48,9,FALSE),\"\")","v":""},{"$f":"IFERROR(VLOOKUP(AQ93,'P2'!$B$4:$J$48,9,FALSE),\"\")","v":""},{"$f":"IFERROR(VLOOKUP(AR93,'P2'!$B$4:$J$48,9,FALSE),\"\")","v":""},{"$f":"IFERROR(VLOOKUP(AS93,'P2'!$B$4:$J$48,9,FALSE),\"\")","v":""},{"$f":"IFERROR(VLOOKUP(AT93,'P2'!$B$4:$J$48,9,FALSE),\"\")","v":""},{"$f":"IFERROR(VLOOKUP(AU93,'P2'!$B$4:$J$48,9,FALSE),\"\")","v":""},{"$f":"SUM(Q94:AU94)","v":0}]
[null,{"$f":"B93+1","v":38},null,null,null,null,null,null,null,null,null,null,null,null,null,null,null,null,null,null,null,null,null,null,null,null,null,null,null,null,null,null,null,null,null,null,null,null,null,null,null,null,null,null,null,null,null,{"$f":"COUNTA(Q95:AU95)","v":0},{"$f":"AV96","v":0},{"$f":"IFERROR(ROUNDDOWN(AV96/$AT$3,1),\"\")","v":""}]
[null,null,null,null,null,null,null,null,null,null,null,null,null,null,null,null,{"$f":"IFERROR(VLOOKUP(Q95,'P2'!$B$4:$J$48,9,FALSE),\"\")","v":""},{"$f":"IFERROR(VLOOKUP(R95,'P2'!$B$4:$J$48,9,FALSE),\"\")","v":""},{"$f":"IFERROR(VLOOKUP(S95,'P2'!$B$4:$J$48,9,FALSE),\"\")","v":""},{"$f":"IFERROR(VLOOKUP(T95,'P2'!$B$4:$J$48,9,FALSE),\"\")","v":""},{"$f":"IFERROR(VLOOKUP(U95,'P2'!$B$4:$J$48,9,FALSE),\"\")","v":""},{"$f":"IFERROR(VLOOKUP(V95,'P2'!$B$4:$J$48,9,FALSE),\"\")","v":""},{"$f":"IFERROR(VLOOKUP(W95,'P2'!$B$4:$J$48,9,FALSE),\"\")","v":""},{"$f":"IFERROR(VLOOKUP(X95,'P2'!$B$4:$J$48,9,FALSE),\"\")","v":""},{"$f":"IFERROR(VLOOKUP(Y95,'P2'!$B$4:$J$48,9,FALSE),\"\")","v":""},{"$f":"IFERROR(VLOOKUP(Z95,'P2'!$B$4:$J$48,9,FALSE),\"\")","v":""},{"$f":"IFERROR(VLOOKUP(AA95,'P2'!$B$4:$J$48,9,FALSE),\"\")","v":""},{"$f":"IFERROR(VLOOKUP(AB95,'P2'!$B$4:$J$48,9,FALSE),\"\")","v":""},{"$f":"IFERROR(VLOOKUP(AC95,'P2'!$B$4:$J$48,9,FALSE),\"\")","v":""},{"$f":"IFERROR(VLOOKUP(AD95,'P2'!$B$4:$J$48,9,FALSE),\"\")","v":""},{"$f":"IFERROR(VLOOKUP(AE95,'P2'!$B$4:$J$48,9,FALSE),\"\")","v":""},{"$f":"IFERROR(VLOOKUP(AF95,'P2'!$B$4:$J$48,9,FALSE),\"\")","v":""},{"$f":"IFERROR(VLOOKUP(AG95,'P2'!$B$4:$J$48,9,FALSE),\"\")","v":""},{"$f":"IFERROR(VLOOKUP(AH95,'P2'!$B$4:$J$48,9,FALSE),\"\")","v":""},{"$f":"IFERROR(VLOOKUP(AI95,'P2'!$B$4:$J$48,9,FALSE),\"\")","v":""},{"$f":"IFERROR(VLOOKUP(AJ95,'P2'!$B$4:$J$48,9,FALSE),\"\")","v":""},{"$f":"IFERROR(VLOOKUP(AK95,'P2'!$B$4:$J$48,9,FALSE),\"\")","v":""},{"$f":"IFERROR(VLOOKUP(AL95,'P2'!$B$4:$J$48,9,FALSE),\"\")","v":""},{"$f":"IFERROR(VLOOKUP(AM95,'P2'!$B$4:$J$48,9,FALSE),\"\")","v":""},{"$f":"IFERROR(VLOOKUP(AN95,'P2'!$B$4:$J$48,9,FALSE),\"\")","v":""},{"$f":"IFERROR(VLOOKUP(AO95,'P2'!$B$4:$J$48,9,FALSE),\"\")","v":""},{"$f":"IFERROR(VLOOKUP(AP95,'P2'!$B$4:$J$48,9,FALSE),\"\")","v":""},{"$f":"IFERROR(VLOOKUP(AQ95,'P2'!$B$4:$J$48,9,FALSE),\"\")","v":""},{"$f":"IFERROR(VLOOKUP(AR95,'P2'!$B$4:$J$48,9,FALSE),\"\")","v":""},{"$f":"IFERROR(VLOOKUP(AS95,'P2'!$B$4:$J$48,9,FALSE),\"\")","v":""},{"$f":"IFERROR(VLOOKUP(AT95,'P2'!$B$4:$J$48,9,FALSE),\"\")","v":""},{"$f":"IFERROR(VLOOKUP(AU95,'P2'!$B$4:$J$48,9,FALSE),\"\")","v":""},{"$f":"SUM(Q96:AU96)","v":0}]
[null,39,null,null,null,null,null,null,null,null,null,null,null,null,null,null,null,null,null,null,null,null,null,null,null,null,null,null,null,null,null,null,null,null,null,null,null,null,null,null,null,null,null,null,null,null,null,{"$f":"COUNTA(Q97:AU97)","v":0},{"$f":"AV98","v":0},{"$f":"IFERROR(ROUNDDOWN(AV98/$AT$3,1),\"\")","v":""}]
[null,null,null,null,null,null,null,null,null,null,null,null,null,null,null,null,{"$f":"IFERROR(VLOOKUP(Q97,'P2'!$B$4:$J$48,9,FALSE),\"\")","v":""},{"$f":"IFERROR(VLOOKUP(R97,'P2'!$B$4:$J$48,9,FALSE),\"\")","v":""},{"$f":"IFERROR(VLOOKUP(S97,'P2'!$B$4:$J$48,9,FALSE),\"\")","v":""},{"$f":"IFERROR(VLOOKUP(T97,'P2'!$B$4:$J$48,9,FALSE),\"\")","v":""},{"$f":"IFERROR(VLOOKUP(U97,'P2'!$B$4:$J$48,9,FALSE),\"\")","v":""},{"$f":"IFERROR(VLOOKUP(V97,'P2'!$B$4:$J$48,9,FALSE),\"\")","v":""},{"$f":"IFERROR(VLOOKUP(W97,'P2'!$B$4:$J$48,9,FALSE),\"\")","v":""},{"$f":"IFERROR(VLOOKUP(X97,'P2'!$B$4:$J$48,9,FALSE),\"\")","v":""},{"$f":"IFERROR(VLOOKUP(Y97,'P2'!$B$4:$J$48,9,FALSE),\"\")","v":""},{"$f":"IFERROR(VLOOKUP(Z97,'P2'!$B$4:$J$48,9,FALSE),\"\")","v":""},{"$f":"IFERROR(VLOOKUP(AA97,'P2'!$B$4:$J$48,9,FALSE),\"\")","v":""},{"$f":"IFERROR(VLOOKUP(AB97,'P2'!$B$4:$J$48,9,FALSE),\"\")","v":""},{"$f":"IFERROR(VLOOKUP(AC97,'P2'!$B$4:$J$48,9,FALSE),\"\")","v":""},{"$f":"IFERROR(VLOOKUP(AD97,'P2'!$B$4:$J$48,9,FALSE),\"\")","v":""},{"$f":"IFERROR(VLOOKUP(AE97,'P2'!$B$4:$J$48,9,FALSE),\"\")","v":""},{"$f":"IFERROR(VLOOKUP(AF97,'P2'!$B$4:$J$48,9,FALSE),\"\")","v":""},{"$f":"IFERROR(VLOOKUP(AG97,'P2'!$B$4:$J$48,9,FALSE),\"\")","v":""},{"$f":"IFERROR(VLOOKUP(AH97,'P2'!$B$4:$J$48,9,FALSE),\"\")","v":""},{"$f":"IFERROR(VLOOKUP(AI97,'P2'!$B$4:$J$48,9,FALSE),\"\")","v":""},{"$f":"IFERROR(VLOOKUP(AJ97,'P2'!$B$4:$J$48,9,FALSE),\"\")","v":""},{"$f":"IFERROR(VLOOKUP(AK97,'P2'!$B$4:$J$48,9,FALSE),\"\")","v":""},{"$f":"IFERROR(VLOOKUP(AL97,'P2'!$B$4:$J$48,9,FALSE),\"\")","v":""},{"$f":"IFERROR(VLOOKUP(AM97,'P2'!$B$4:$J$48,9,FALSE),\"\")","v":""},{"$f":"IFERROR(VLOOKUP(AN97,'P2'!$B$4:$J$48,9,FALSE),\"\")","v":""},{"$f":"IFERROR(VLOOKUP(AO97,'P2'!$B$4:$J$48,9,FALSE),\"\")","v":""},{"$f":"IFERROR(VLOOKUP(AP97,'P2'!$B$4:$J$48,9,FALSE),\"\")","v":""},{"$f":"IFERROR(VLOOKUP(AQ97,'P2'!$B$4:$J$48,9,FALSE),\"\")","v":""},{"$f":"IFERROR(VLOOKUP(AR97,'P2'!$B$4:$J$48,9,FALSE),\"\")","v":""},{"$f":"IFERROR(VLOOKUP(AS97,'P2'!$B$4:$J$48,9,FALSE),\"\")","v":""},{"$f":"IFERROR(VLOOKUP(AT97,'P2'!$B$4:$J$48,9,FALSE),\"\")","v":""},{"$f":"IFERROR(VLOOKUP(AU97,'P2'!$B$4:$J$48,9,FALSE),\"\")","v":""},{"$f":"SUM(Q98:AU98)","v":0}]
[null,40,null,null,null,null,null,null,null,null,null,null,null,null,null,null,null,null,null,null,null,null,null,null,null,null,null,null,null,null,null,null,null,null,null,null,null,null,null,null,null,null,null,null,null,null,null,{"$f":"COUNTA(Q99:AU99)","v":0},{"$f":"AV100","v":0},{"$f":"IFERROR(ROUNDDOWN(AV100/$AT$3,1),\"\")","v":""}]
[null,null,null,null,null,null,null,null,null,null,null,null,null,null,null,null,{"$f":"IFERROR(VLOOKUP(Q99,'P2'!$B$4:$J$48,9,FALSE),\"\")","v":""},{"$f":"IFERROR(VLOOKUP(R99,'P2'!$B$4:$J$48,9,FALSE),\"\")","v":""},{"$f":"IFERROR(VLOOKUP(S99,'P2'!$B$4:$J$48,9,FALSE),\"\")","v":""},{"$f":"IFERROR(VLOOKUP(T99,'P2'!$B$4:$J$48,9,FALSE),\"\")","v":""},{"$f":"IFERROR(VLOOKUP(U99,'P2'!$B$4:$J$48,9,FALSE),\"\")","v":""},{"$f":"IFERROR(VLOOKUP(V99,'P2'!$B$4:$J$48,9,FALSE),\"\")","v":""},{"$f":"IFERROR(VLOOKUP(W99,'P2'!$B$4:$J$48,9,FALSE),\"\")","v":""},{"$f":"IFERROR(VLOOKUP(X99,'P2'!$B$4:$J$48,9,FALSE),\"\")","v":""},{"$f":"IFERROR(VLOOKUP(Y99,'P2'!$B$4:$J$48,9,FALSE),\"\")","v":""},{"$f":"IFERROR(VLOOKUP(Z99,'P2'!$B$4:$J$48,9,FALSE),\"\")","v":""},{"$f":"IFERROR(VLOOKUP(AA99,'P2'!$B$4:$J$48,9,FALSE),\"\")","v":""},{"$f":"IFERROR(VLOOKUP(AB99,'P2'!$B$4:$J$48,9,FALSE),\"\")","v":""},{"$f":"IFERROR(VLOOKUP(AC99,'P2'!$B$4:$J$48,9,FALSE),\"\")","v":""},{"$f":"IFERROR(VLOOKUP(AD99,'P2'!$B$4:$J$48,9,FALSE),\"\")","v":""},{"$f":"IFERROR(VLOOKUP(AE99,'P2'!$B$4:$J$48,9,FALSE),\"\")","v":""},{"$f":"IFERROR(VLOOKUP(AF99,'P2'!$B$4:$J$48,9,FALSE),\"\")","v":""},{"$f":"IFERROR(VLOOKUP(AG99,'P2'!$B$4:$J$48,9,FALSE),\"\")","v":""},{"$f":"IFERROR(VLOOKUP(AH99,'P2'!$B$4:$J$48,9,FALSE),\"\")","v":""},{"$f":"IFERROR(VLOOKUP(AI99,'P2'!$B$4:$J$48,9,FALSE),\"\")","v":""},{"$f":"IFERROR(VLOOKUP(AJ99,'P2'!$B$4:$J$48,9,FALSE),\"\")","v":""},{"$f":"IFERROR(VLOOKUP(AK99,'P2'!$B$4:$J$48,9,FALSE),\"\")","v":""},{"$f":"IFERROR(VLOOKUP(AL99,'P2'!$B$4:$J$48,9,FALSE),\"\")","v":""},{"$f":"IFERROR(VLOOKUP(AM99,'P2'!$B$4:$J$48,9,FALSE),\"\")","v":""},{"$f":"IFERROR(VLOOKUP(AN99,'P2'!$B$4:$J$48,9,FALSE),\"\")","v":""},{"$f":"IFERROR(VLOOKUP(AO99,'P2'!$B$4:$J$48,9,FALSE),\"\")","v":""},{"$f":"IFERROR(VLOOKUP(AP99,'P2'!$B$4:$J$48,9,FALSE),\"\")","v":""},{"$f":"IFERROR(VLOOKUP(AQ99,'P2'!$B$4:$J$48,9,FALSE),\"\")","v":""},{"$f":"IFERROR(VLOOKUP(AR99,'P2'!$B$4:$J$48,9,FALSE),\"\")","v":""},{"$f":"IFERROR(VLOOKUP(AS99,'P2'!$B$4:$J$48,9,FALSE),\"\")","v":""},{"$f":"IFERROR(VLOOKUP(AT99,'P2'!$B$4:$J$48,9,FALSE),\"\")","v":""},{"$f":"IFERROR(VLOOKUP(AU99,'P2'!$B$4:$J$48,9,FALSE),\"\")","v":""},{"$f":"SUM(Q100:AU100)","v":0}]
[]
[]
[null,"(2)　勤務実績　（直近3か月分の実績）",null,null,null,null,null,null,null,null,null,null,null,null,null,null,null,null,"（",{"$f":"$T$3","v":"令和　7"},null,"年",{"$f":"$W$3","v":4},"月分実績",null,"）",null,null,null,null,null,null,null,null,null,null,null,null,null,null,null,null,null,null,null,null,null,null,null,{"$f":"\"3 / \"&COUNTA(C$7,C$57,C$106,C$155,C$204)","v":"3 / 1"}]
[null,null,"職　　種",null,null,null,null,null,"氏　　名",null,null,null,null,"勤務\n形態",null,null,{"$f":"Q$5","v":"2025-04-01"},{"$f":"R$5","v":"2025-04-02"},"2025-04-03","2025-04-04","2025-04-05","2025-04-06","2025-04-07","2025-04-08","2025-04-09","2025-04-10","2025-04-11","2025-04-12","2025-04-13","2025-04-14","2025-04-15","2025-04-16","2025-04-17","2025-04-18","2025-04-19","2025-04-20","2025-04-21","2025-04-22","2025-04-23","2025-04-24","2025-04-25","2025-04-26","2025-04-27","2025-04-28","2025-04-29","2025-04-30","","勤務日数",null,"常勤換算"]
[null,null,null,null,null,null,null,null,null,null,null,null,null,null,null,null,{"$f":"Q$6","v":"火"},{"$f":"R$6","v":"水"},"木","金","土","日","月","火","水","木","金","土","日","月","火","水","木","金","土","日","月","火","水","木","金","土","日","月","火","水","","勤務時間"]
[null,{"$f":"B99+1","v":41},null,null,null,null,null,null,null,null,null,null,null,null,null,null,null,null,null,null,null,null,null,null,null,null,null,null,null,null,null,null,null,null,null,null,null,null,null,null,null,null,null,null,null,null,null,{"$f":"COUNTA(Q106:AU106)","v":0},{"$f":"AV107","v":0},{"$f":"IFERROR(ROUNDDOWN(AV107/$AT$3,1),\"\")","v":""}]
[null,null,null,null,null,null,null,null,null,null,null,null,null,null,null,null,{"$f":"IFERROR(VLOOKUP(Q106,'P2'!$B$4:$J$48,9,FALSE),\"\")","v":""},{"$f":"IFERROR(VLOOKUP(R106,'P2'!$B$4:$J$48,9,FALSE),\"\")","v":""},{"$f":"IFERROR(VLOOKUP(S106,'P2'!$B$4:$J$48,9,FALSE),\"\")","v":""},{"$f":"IFERROR(VLOOKUP(T106,'P2'!$B$4:$J$48,9,FALSE),\"\")","v":""},{"$f":"IFERROR(VLOOKUP(U106,'P2'!$B$4:$J$48,9,FALSE),\"\")","v":""},{"$f":"IFERROR(VLOOKUP(V106,'P2'!$B$4:$J$48,9,FALSE),\"\")","v":""},{"$f":"IFERROR(VLOOKUP(W106,'P2'!$B$4:$J$48,9,FALSE),\"\")","v":""},{"$f":"IFERROR(VLOOKUP(X106,'P2'!$B$4:$J$48,9,FALSE),\"\")","v":""},{"$f":"IFERROR(VLOOKUP(Y106,'P2'!$B$4:$J$48,9,FALSE),\"\")","v":""},{"$f":"IFERROR(VLOOKUP(Z106,'P2'!$B$4:$J$48,9,FALSE),\"\")","v":""},{"$f":"IFERROR(VLOOKUP(AA106,'P2'!$B$4:$J$48,9,FALSE),\"\")","v":""},{"$f":"IFERROR(VLOOKUP(AB106,'P2'!$B$4:$J$48,9,FALSE),\"\")","v":""},{"$f":"IFERROR(VLOOKUP(AC106,'P2'!$B$4:$J$48,9,FALSE),\"\")","v":""},{"$f":"IFERROR(VLOOKUP(AD106,'P2'!$B$4:$J$48,9,FALSE),\"\")","v":""},{"$f":"IFERROR(VLOOKUP(AE106,'P2'!$B$4:$J$48,9,FALSE),\"\")","v":""},{"$f":"IFERROR(VLOOKUP(AF106,'P2'!$B$4:$J$48,9,FALSE),\"\")","v":""},{"$f":"IFERROR(VLOOKUP(AG106,'P2'!$B$4:$J$48,9,FALSE),\"\")","v":""},{"$f":"IFERROR(VLOOKUP(AH106,'P2'!$B$4:$J$48,9,FALSE),\"\")","v":""},{"$f":"IFERROR(VLOOKUP(AI106,'P2'!$B$4:$J$48,9,FALSE),\"\")","v":""},{"$f":"IFERROR(VLOOKUP(AJ106,'P2'!$B$4:$J$48,9,FALSE),\"\")","v":""},{"$f":"IFERROR(VLOOKUP(AK106,'P2'!$B$4:$J$48,9,FALSE),\"\")","v":""},{"$f":"IFERROR(VLOOKUP(AL106,'P2'!$B$4:$J$48,9,FALSE),\"\")","v":""},{"$f":"IFERROR(VLOOKUP(AM106,'P2'!$B$4:$J$48,9,FALSE),\"\")","v":""},{"$f":"IFERROR(VLOOKUP(AN106,'P2'!$B$4:$J$48,9,FALSE),\"\")","v":""},{"$f":"IFERROR(VLOOKUP(AO106,'P2'!$B$4:$J$48,9,FALSE),\"\")","v":""},{"$f":"IFERROR(VLOOKUP(AP106,'P2'!$B$4:$J$48,9,FALSE),\"\")","v":""},{"$f":"IFERROR(VLOOKUP(AQ106,'P2'!$B$4:$J$48,9,FALSE),\"\")","v":""},{"$f":"IFERROR(VLOOKUP(AR106,'P2'!$B$4:$J$48,9,FALSE),\"\")","v":""},{"$f":"IFERROR(VLOOKUP(AS106,'P2'!$B$4:$J$48,9,FALSE),\"\")","v":""},{"$f":"IFERROR(VLOOKUP(AT106,'P2'!$B$4:$J$48,9,FALSE),\"\")","v":""},{"$f":"IFERROR(VLOOKUP(AU106,'P2'!$B$4:$J$48,9,FALSE),\"\")","v":""},{"$f":"SUM(Q107:AU107)","v":0}]
[null,{"$f":"B106+1","v":42},null,null,null,null,null,null,null,null,null,null,null,null,null,null,null,null,null,null,null,null,null,null,null,null,null,null,null,null,null,null,null,null,null,null,null,null,null,null,null,null,null,null,null,null,null,{"$f":"COUNTA(Q108:AU108)","v":0},{"$f":"AV109","v":0},{"$f":"IFERROR(ROUNDDOWN(AV109/$AT$3,1),\"\")","v":""}]
[null,null,null,null,null,null,null,null,null,null,null,null,null,null,null,null,{"$f":"IFERROR(VLOOKUP(Q108,'P2'!$B$4:$J$48,9,FALSE),\"\")","v":""},{"$f":"IFERROR(VLOOKUP(R108,'P2'!$B$4:$J$48,9,FALSE),\"\")","v":""},{"$f":"IFERROR(VLOOKUP(S108,'P2'!$B$4:$J$48,9,FALSE),\"\")","v":""},{"$f":"IFERROR(VLOOKUP(T108,'P2'!$B$4:$J$48,9,FALSE),\"\")","v":""},{"$f":"IFERROR(VLOOKUP(U108,'P2'!$B$4:$J$48,9,FALSE),\"\")","v":""},{"$f":"IFERROR(VLOOKUP(V108,'P2'!$B$4:$J$48,9,FALSE),\"\")","v":""},{"$f":"IFERROR(VLOOKUP(W108,'P2'!$B$4:$J$48,9,FALSE),\"\")","v":""},{"$f":"IFERROR(VLOOKUP(X108,'P2'!$B$4:$J$48,9,FALSE),\"\")","v":""},{"$f":"IFERROR(VLOOKUP(Y108,'P2'!$B$4:$J$48,9,FALSE),\"\")","v":""},{"$f":"IFERROR(VLOOKUP(Z108,'P2'!$B$4:$J$48,9,FALSE),\"\")","v":""},{"$f":"IFERROR(VLOOKUP(AA108,'P2'!$B$4:$J$48,9,FALSE),\"\")","v":""},{"$f":"IFERROR(VLOOKUP(AB108,'P2'!$B$4:$J$48,9,FALSE),\"\")","v":""},{"$f":"IFERROR(VLOOKUP(AC108,'P2'!$B$4:$J$48,9,FALSE),\"\")","v":""},{"$f":"IFERROR(VLOOKUP(AD108,'P2'!$B$4:$J$48,9,FALSE),\"\")","v":""},{"$f":"IFERROR(VLOOKUP(AE108,'P2'!$B$4:$J$48,9,FALSE),\"\")","v":""},{"$f":"IFERROR(VLOOKUP(AF108,'P2'!$B$4:$J$48,9,FALSE),\"\")","v":""},{"$f":"IFERROR(VLOOKUP(AG108,'P2'!$B$4:$J$48,9,FALSE),\"\")","v":""},{"$f":"IFERROR(VLOOKUP(AH108,'P2'!$B$4:$J$48,9,FALSE),\"\")","v":""},{"$f":"IFERROR(VLOOKUP(AI108,'P2'!$B$4:$J$48,9,FALSE),\"\")","v":""},{"$f":"IFERROR(VLOOKUP(AJ108,'P2'!$B$4:$J$48,9,FALSE),\"\")","v":""},{"$f":"IFERROR(VLOOKUP(AK108,'P2'!$B$4:$J$48,9,FALSE),\"\")","v":""},{"$f":"IFERROR(VLOOKUP(AL108,'P2'!$B$4:$J$48,9,FALSE),\"\")","v":""},{"$f":"IFERROR(VLOOKUP(AM108,'P2'!$B$4:$J$48,9,FALSE),\"\")","v":""},{"$f":"IFERROR(VLOOKUP(AN108,'P2'!$B$4:$J$48,9,FALSE),\"\")","v":""},{"$f":"IFERROR(VLOOKUP(AO108,'P2'!$B$4:$J$48,9,FALSE),\"\")","v":""},{"$f":"IFERROR(VLOOKUP(AP108,'P2'!$B$4:$J$48,9,FALSE),\"\")","v":""},{"$f":"IFERROR(VLOOKUP(AQ108,'P2'!$B$4:$J$48,9,FALSE),\"\")","v":""},{"$f":"IFERROR(VLOOKUP(AR108,'P2'!$B$4:$J$48,9,FALSE),\"\")","v":""},{"$f":"IFERROR(VLOOKUP(AS108,'P2'!$B$4:$J$48,9,FALSE),\"\")","v":""},{"$f":"IFERROR(VLOOKUP(AT108,'P2'!$B$4:$J$48,9,FALSE),\"\")","v":""},{"$f":"IFERROR(VLOOKUP(AU108,'P2'!$B$4:$J$48,9,FALSE),\"\")","v":""},{"$f":"SUM(Q109:AU109)","v":0}]
[null,43,null,null,null,null,null,null,null,null,null,null,null,null,null,null,null,null,null,null,null,null,null,null,null,null,null,null,null,null,null,null,null,null,null,null,null,null,null,null,null,null,null,null,null,null,null,{"$f":"COUNTA(Q110:AU110)","v":0},{"$f":"AV111","v":0},{"$f":"IFERROR(ROUNDDOWN(AV111/$AT$3,1),\"\")","v":""}]
[null,null,null,null,null,null,null,null,null,null,null,null,null,null,null,null,{"$f":"IFERROR(VLOOKUP(Q110,'P2'!$B$4:$J$48,9,FALSE),\"\")","v":""},{"$f":"IFERROR(VLOOKUP(R110,'P2'!$B$4:$J$48,9,FALSE),\"\")","v":""},{"$f":"IFERROR(VLOOKUP(S110,'P2'!$B$4:$J$48,9,FALSE),\"\")","v":""},{"$f":"IFERROR(VLOOKUP(T110,'P2'!$B$4:$J$48,9,FALSE),\"\")","v":""},{"$f":"IFERROR(VLOOKUP(U110,'P2'!$B$4:$J$48,9,FALSE),\"\")","v":""},{"$f":"IFERROR(VLOOKUP(V110,'P2'!$B$4:$J$48,9,FALSE),\"\")","v":""},{"$f":"IFERROR(VLOOKUP(W110,'P2'!$B$4:$J$48,9,FALSE),\"\")","v":""},{"$f":"IFERROR(VLOOKUP(X110,'P2'!$B$4:$J$48,9,FALSE),\"\")","v":""},{"$f":"IFERROR(VLOOKUP(Y110,'P2'!$B$4:$J$48,9,FALSE),\"\")","v":""},{"$f":"IFERROR(VLOOKUP(Z110,'P2'!$B$4:$J$48,9,FALSE),\"\")","v":""},{"$f":"IFERROR(VLOOKUP(AA110,'P2'!$B$4:$J$48,9,FALSE),\"\")","v":""},{"$f":"IFERROR(VLOOKUP(AB110,'P2'!$B$4:$J$48,9,FALSE),\"\")","v":""},{"$f":"IFERROR(VLOOKUP(AC110,'P2'!$B$4:$J$48,9,FALSE),\"\")","v":""},{"$f":"IFERROR(VLOOKUP(AD110,'P2'!$B$4:$J$48,9,FALSE),\"\")","v":""},{"$f":"IFERROR(VLOOKUP(AE110,'P2'!$B$4:$J$48,9,FALSE),\"\")","v":""},{"$f":"IFERROR(VLOOKUP(AF110,'P2'!$B$4:$J$48,9,FALSE),\"\")","v":""},{"$f":"IFERROR(VLOOKUP(AG110,'P2'!$B$4:$J$48,9,FALSE),\"\")","v":""},{"$f":"IFERROR(VLOOKUP(AH110,'P2'!$B$4:$J$48,9,FALSE),\"\")","v":""},{"$f":"IFERROR(VLOOKUP(AI110,'P2'!$B$4:$J$48,9,FALSE),\"\")","v":""},{"$f":"IFERROR(VLOOKUP(AJ110,'P2'!$B$4:$J$48,9,FALSE),\"\")","v":""},{"$f":"IFERROR(VLOOKUP(AK110,'P2'!$B$4:$J$48,9,FALSE),\"\")","v":""},{"$f":"IFERROR(VLOOKUP(AL110,'P2'!$B$4:$J$48,9,FALSE),\"\")","v":""},{"$f":"IFERROR(VLOOKUP(AM110,'P2'!$B$4:$J$48,9,FALSE),\"\")","v":""},{"$f":"IFERROR(VLOOKUP(AN110,'P2'!$B$4:$J$48,9,FALSE),\"\")","v":""},{"$f":"IFERROR(VLOOKUP(AO110,'P2'!$B$4:$J$48,9,FALSE),\"\")","v":""},{"$f":"IFERROR(VLOOKUP(AP110,'P2'!$B$4:$J$48,9,FALSE),\"\")","v":""},{"$f":"IFERROR(VLOOKUP(AQ110,'P2'!$B$4:$J$48,9,FALSE),\"\")","v":""},{"$f":"IFERROR(VLOOKUP(AR110,'P2'!$B$4:$J$48,9,FALSE),\"\")","v":""},{"$f":"IFERROR(VLOOKUP(AS110,'P2'!$B$4:$J$48,9,FALSE),\"\")","v":""},{"$f":"IFERROR(VLOOKUP(AT110,'P2'!$B$4:$J$48,9,FALSE),\"\")","v":""},{"$f":"IFERROR(VLOOKUP(AU110,'P2'!$B$4:$J$48,9,FALSE),\"\")","v":""},{"$f":"SUM(Q111:AU111)","v":0}]
[null,44,null,null,null,null,null,null,null,null,null,null,null,null,null,null,null,null,null,null,null,null,null,null,null,null,null,null,null,null,null,null,null,null,null,null,null,null,null,null,null,null,null,null,null,null,null,{"$f":"COUNTA(Q112:AU112)","v":0},{"$f":"AV113","v":0},{"$f":"IFERROR(ROUNDDOWN(AV113/$AT$3,1),\"\")","v":""}]
[null,null,null,null,null,null,null,null,null,null,null,null,null,null,null,null,{"$f":"IFERROR(VLOOKUP(Q112,'P2'!$B$4:$J$48,9,FALSE),\"\")","v":""},{"$f":"IFERROR(VLOOKUP(R112,'P2'!$B$4:$J$48,9,FALSE),\"\")","v":""},{"$f":"IFERROR(VLOOKUP(S112,'P2'!$B$4:$J$48,9,FALSE),\"\")","v":""},{"$f":"IFERROR(VLOOKUP(T112,'P2'!$B$4:$J$48,9,FALSE),\"\")","v":""},{"$f":"IFERROR(VLOOKUP(U112,'P2'!$B$4:$J$48,9,FALSE),\"\")","v":""},{"$f":"IFERROR(VLOOKUP(V112,'P2'!$B$4:$J$48,9,FALSE),\"\")","v":""},{"$f":"IFERROR(VLOOKUP(W112,'P2'!$B$4:$J$48,9,FALSE),\"\")","v":""},{"$f":"IFERROR(VLOOKUP(X112,'P2'!$B$4:$J$48,9,FALSE),\"\")","v":""},{"$f":"IFERROR(VLOOKUP(Y112,'P2'!$B$4:$J$48,9,FALSE),\"\")","v":""},{"$f":"IFERROR(VLOOKUP(Z112,'P2'!$B$4:$J$48,9,FALSE),\"\")","v":""},{"$f":"IFERROR(VLOOKUP(AA112,'P2'!$B$4:$J$48,9,FALSE),\"\")","v":""},{"$f":"IFERROR(VLOOKUP(AB112,'P2'!$B$4:$J$48,9,FALSE),\"\")","v":""},{"$f":"IFERROR(VLOOKUP(AC112,'P2'!$B$4:$J$48,9,FALSE),\"\")","v":""},{"$f":"IFERROR(VLOOKUP(AD112,'P2'!$B$4:$J$48,9,FALSE),\"\")","v":""},{"$f":"IFERROR(VLOOKUP(AE112,'P2'!$B$4:$J$48,9,FALSE),\"\")","v":""},{"$f":"IFERROR(VLOOKUP(AF112,'P2'!$B$4:$J$48,9,FALSE),\"\")","v":""},{"$f":"IFERROR(VLOOKUP(AG112,'P2'!$B$4:$J$48,9,FALSE),\"\")","v":""},{"$f":"IFERROR(VLOOKUP(AH112,'P2'!$B$4:$J$48,9,FALSE),\"\")","v":""},{"$f":"IFERROR(VLOOKUP(AI112,'P2'!$B$4:$J$48,9,FALSE),\"\")","v":""},{"$f":"IFERROR(VLOOKUP(AJ112,'P2'!$B$4:$J$48,9,FALSE),\"\")","v":""},{"$f":"IFERROR(VLOOKUP(AK112,'P2'!$B$4:$J$48,9,FALSE),\"\")","v":""},{"$f":"IFERROR(VLOOKUP(AL112,'P2'!$B$4:$J$48,9,FALSE),\"\")","v":""},{"$f":"IFERROR(VLOOKUP(AM112,'P2'!$B$4:$J$48,9,FALSE),\"\")","v":""},{"$f":"IFERROR(VLOOKUP(AN112,'P2'!$B$4:$J$48,9,FALSE),\"\")","v":""},{"$f":"IFERROR(VLOOKUP(AO112,'P2'!$B$4:$J$48,9,FALSE),\"\")","v":""},{"$f":"IFERROR(VLOOKUP(AP112,'P2'!$B$4:$J$48,9,FALSE),\"\")","v":""},{"$f":"IFERROR(VLOOKUP(AQ112,'P2'!$B$4:$J$48,9,FALSE),\"\")","v":""},{"$f":"IFERROR(VLOOKUP(AR112,'P2'!$B$4:$J$48,9,FALSE),\"\")","v":""},{"$f":"IFERROR(VLOOKUP(AS112,'P2'!$B$4:$J$48,9,FALSE),\"\")","v":""},{"$f":"IFERROR(VLOOKUP(AT112,'P2'!$B$4:$J$48,9,FALSE),\"\")","v":""},{"$f":"IFERROR(VLOOKUP(AU112,'P2'!$B$4:$J$48,9,FALSE),\"\")","v":""},{"$f":"SUM(Q113:AU113)","v":0}]
[null,45,null,null,null,null,null,null,null,null,null,null,null,null,null,null,null,null,null,null,null,null,null,null,null,null,null,null,null,null,null,null,null,null,null,null,null,null,null,null,null,null,null,null,null,null,null,{"$f":"COUNTA(Q114:AU114)","v":0},{"$f":"AV115","v":0},{"$f":"IFERROR(ROUNDDOWN(AV115/$AT$3,1),\"\")","v":""}]
[null,null,null,null,null,null,null,null,null,null,null,null,null,null,null,null,{"$f":"IFERROR(VLOOKUP(Q114,'P2'!$B$4:$J$48,9,FALSE),\"\")","v":""},{"$f":"IFERROR(VLOOKUP(R114,'P2'!$B$4:$J$48,9,FALSE),\"\")","v":""},{"$f":"IFERROR(VLOOKUP(S114,'P2'!$B$4:$J$48,9,FALSE),\"\")","v":""},{"$f":"IFERROR(VLOOKUP(T114,'P2'!$B$4:$J$48,9,FALSE),\"\")","v":""},{"$f":"IFERROR(VLOOKUP(U114,'P2'!$B$4:$J$48,9,FALSE),\"\")","v":""},{"$f":"IFERROR(VLOOKUP(V114,'P2'!$B$4:$J$48,9,FALSE),\"\")","v":""},{"$f":"IFERROR(VLOOKUP(W114,'P2'!$B$4:$J$48,9,FALSE),\"\")","v":""},{"$f":"IFERROR(VLOOKUP(X114,'P2'!$B$4:$J$48,9,FALSE),\"\")","v":""},{"$f":"IFERROR(VLOOKUP(Y114,'P2'!$B$4:$J$48,9,FALSE),\"\")","v":""},{"$f":"IFERROR(VLOOKUP(Z114,'P2'!$B$4:$J$48,9,FALSE),\"\")","v":""},{"$f":"IFERROR(VLOOKUP(AA114,'P2'!$B$4:$J$48,9,FALSE),\"\")","v":""},{"$f":"IFERROR(VLOOKUP(AB114,'P2'!$B$4:$J$48,9,FALSE),\"\")","v":""},{"$f":"IFERROR(VLOOKUP(AC114,'P2'!$B$4:$J$48,9,FALSE),\"\")","v":""},{"$f":"IFERROR(VLOOKUP(AD114,'P2'!$B$4:$J$48,9,FALSE),\"\")","v":""},{"$f":"IFERROR(VLOOKUP(AE114,'P2'!$B$4:$J$48,9,FALSE),\"\")","v":""},{"$f":"IFERROR(VLOOKUP(AF114,'P2'!$B$4:$J$48,9,FALSE),\"\")","v":""},{"$f":"IFERROR(VLOOKUP(AG114,'P2'!$B$4:$J$48,9,FALSE),\"\")","v":""},{"$f":"IFERROR(VLOOKUP(AH114,'P2'!$B$4:$J$48,9,FALSE),\"\")","v":""},{"$f":"IFERROR(VLOOKUP(AI114,'P2'!$B$4:$J$48,9,FALSE),\"\")","v":""},{"$f":"IFERROR(VLOOKUP(AJ114,'P2'!$B$4:$J$48,9,FALSE),\"\")","v":""},{"$f":"IFERROR(VLOOKUP(AK114,'P2'!$B$4:$J$48,9,FALSE),\"\")","v":""},{"$f":"IFERROR(VLOOKUP(AL114,'P2'!$B$4:$J$48,9,FALSE),\"\")","v":""},{"$f":"IFERROR(VLOOKUP(AM114,'P2'!$B$4:$J$48,9,FALSE),\"\")","v":""},{"$f":"IFERROR(VLOOKUP(AN114,'P2'!$B$4:$J$48,9,FALSE),\"\")","v":""},{"$f":"IFERROR(VLOOKUP(AO114,'P2'!$B$4:$J$48,9,FALSE),\"\")","v":""},{"$f":"IFERROR(VLOOKUP(AP114,'P2'!$B$4:$J$48,9,FALSE),\"\")","v":""},{"$f":"IFERROR(VLOOKUP(AQ114,'P2'!$B$4:$J$48,9,FALSE),\"\")","v":""},{"$f":"IFERROR(VLOOKUP(AR114,'P2'!$B$4:$J$48,9,FALSE),\"\")","v":""},{"$f":"IFERROR(VLOOKUP(AS114,'P2'!$B$4:$J$48,9,FALSE),\"\")","v":""},{"$f":"IFERROR(VLOOKUP(AT114,'P2'!$B$4:$J$48,9,FALSE),\"\")","v":""},{"$f":"IFERROR(VLOOKUP(AU114,'P2'!$B$4:$J$48,9,FALSE),\"\")","v":""},{"$f":"SUM(Q115:AU115)","v":0}]
[null,46,null,null,null,null,null,null,null,null,null,null,null,null,null,null,null,null,null,null,null,null,null,null,null,null,null,null,null,null,null,null,null,null,null,null,null,null,null,null,null,null,null,null,null,null,null,{"$f":"COUNTA(Q116:AU116)","v":0},{"$f":"AV117","v":0},{"$f":"IFERROR(ROUNDDOWN(AV117/$AT$3,1),\"\")","v":""}]
[null,null,null,null,null,null,null,null,null,null,null,null,null,null,null,null,{"$f":"IFERROR(VLOOKUP(Q116,'P2'!$B$4:$J$48,9,FALSE),\"\")","v":""},{"$f":"IFERROR(VLOOKUP(R116,'P2'!$B$4:$J$48,9,FALSE),\"\")","v":""},{"$f":"IFERROR(VLOOKUP(S116,'P2'!$B$4:$J$48,9,FALSE),\"\")","v":""},{"$f":"IFERROR(VLOOKUP(T116,'P2'!$B$4:$J$48,9,FALSE),\"\")","v":""},{"$f":"IFERROR(VLOOKUP(U116,'P2'!$B$4:$J$48,9,FALSE),\"\")","v":""},{"$f":"IFERROR(VLOOKUP(V116,'P2'!$B$4:$J$48,9,FALSE),\"\")","v":""},{"$f":"IFERROR(VLOOKUP(W116,'P2'!$B$4:$J$48,9,FALSE),\"\")","v":""},{"$f":"IFERROR(VLOOKUP(X116,'P2'!$B$4:$J$48,9,FALSE),\"\")","v":""},{"$f":"IFERROR(VLOOKUP(Y116,'P2'!$B$4:$J$48,9,FALSE),\"\")","v":""},{"$f":"IFERROR(VLOOKUP(Z116,'P2'!$B$4:$J$48,9,FALSE),\"\")","v":""},{"$f":"IFERROR(VLOOKUP(AA116,'P2'!$B$4:$J$48,9,FALSE),\"\")","v":""},{"$f":"IFERROR(VLOOKUP(AB116,'P2'!$B$4:$J$48,9,FALSE),\"\")","v":""},{"$f":"IFERROR(VLOOKUP(AC116,'P2'!$B$4:$J$48,9,FALSE),\"\")","v":""},{"$f":"IFERROR(VLOOKUP(AD116,'P2'!$B$4:$J$48,9,FALSE),\"\")","v":""},{"$f":"IFERROR(VLOOKUP(AE116,'P2'!$B$4:$J$48,9,FALSE),\"\")","v":""},{"$f":"IFERROR(VLOOKUP(AF116,'P2'!$B$4:$J$48,9,FALSE),\"\")","v":""},{"$f":"IFERROR(VLOOKUP(AG116,'P2'!$B$4:$J$48,9,FALSE),\"\")","v":""},{"$f":"IFERROR(VLOOKUP(AH116,'P2'!$B$4:$J$48,9,FALSE),\"\")","v":""},{"$f":"IFERROR(VLOOKUP(AI116,'P2'!$B$4:$J$48,9,FALSE),\"\")","v":""},{"$f":"IFERROR(VLOOKUP(AJ116,'P2'!$B$4:$J$48,9,FALSE),\"\")","v":""},{"$f":"IFERROR(VLOOKUP(AK116,'P2'!$B$4:$J$48,9,FALSE),\"\")","v":""},{"$f":"IFERROR(VLOOKUP(AL116,'P2'!$B$4:$J$48,9,FALSE),\"\")","v":""},{"$f":"IFERROR(VLOOKUP(AM116,'P2'!$B$4:$J$48,9,FALSE),\"\")","v":""},{"$f":"IFERROR(VLOOKUP(AN116,'P2'!$B$4:$J$48,9,FALSE),\"\")","v":""},{"$f":"IFERROR(VLOOKUP(AO116,'P2'!$B$4:$J$48,9,FALSE),\"\")","v":""},{"$f":"IFERROR(VLOOKUP(AP116,'P2'!$B$4:$J$48,9,FALSE),\"\")","v":""},{"$f":"IFERROR(VLOOKUP(AQ116,'P2'!$B$4:$J$48,9,FALSE),\"\")","v":""},{"$f":"IFERROR(VLOOKUP(AR116,'P2'!$B$4:$J$48,9,FALSE),\"\")","v":""},{"$f":"IFERROR(VLOOKUP(AS116,'P2'!$B$4:$J$48,9,FALSE),\"\")","v":""},{"$f":"IFERROR(VLOOKUP(AT116,'P2'!$B$4:$J$48,9,FALSE),\"\")","v":""},{"$f":"IFERROR(VLOOKUP(AU116,'P2'!$B$4:$J$48,9,FALSE),\"\")","v":""},{"$f":"SUM(Q117:AU117)","v":0}]
[null,47,null,null,null,null,null,null,null,null,null,null,null,null,null,null,null,null,null,null,null,null,null,null,null,null,null,null,null,null,null,null,null,null,null,null,null,null,null,null,null,null,null,null,null,null,null,{"$f":"COUNTA(Q118:AU118)","v":0},{"$f":"AV119","v":0},{"$f":"IFERROR(ROUNDDOWN(AV119/$AT$3,1),\"\")","v":""}]
[null,null,null,null,null,null,null,null,null,null,null,null,null,null,null,null,{"$f":"IFERROR(VLOOKUP(Q118,'P2'!$B$4:$J$48,9,FALSE),\"\")","v":""},{"$f":"IFERROR(VLOOKUP(R118,'P2'!$B$4:$J$48,9,FALSE),\"\")","v":""},{"$f":"IFERROR(VLOOKUP(S118,'P2'!$B$4:$J$48,9,FALSE),\"\")","v":""},{"$f":"IFERROR(VLOOKUP(T118,'P2'!$B$4:$J$48,9,FALSE),\"\")","v":""},{"$f":"IFERROR(VLOOKUP(U118,'P2'!$B$4:$J$48,9,FALSE),\"\")","v":""},{"$f":"IFERROR(VLOOKUP(V118,'P2'!$B$4:$J$48,9,FALSE),\"\")","v":""},{"$f":"IFERROR(VLOOKUP(W118,'P2'!$B$4:$J$48,9,FALSE),\"\")","v":""},{"$f":"IFERROR(VLOOKUP(X118,'P2'!$B$4:$J$48,9,FALSE),\"\")","v":""},{"$f":"IFERROR(VLOOKUP(Y118,'P2'!$B$4:$J$48,9,FALSE),\"\")","v":""},{"$f":"IFERROR(VLOOKUP(Z118,'P2'!$B$4:$J$48,9,FALSE),\"\")","v":""},{"$f":"IFERROR(VLOOKUP(AA118,'P2'!$B$4:$J$48,9,FALSE),\"\")","v":""},{"$f":"IFERROR(VLOOKUP(AB118,'P2'!$B$4:$J$48,9,FALSE),\"\")","v":""},{"$f":"IFERROR(VLOOKUP(AC118,'P2'!$B$4:$J$48,9,FALSE),\"\")","v":""},{"$f":"IFERROR(VLOOKUP(AD118,'P2'!$B$4:$J$48,9,FALSE),\"\")","v":""},{"$f":"IFERROR(VLOOKUP(AE118,'P2'!$B$4:$J$48,9,FALSE),\"\")","v":""},{"$f":"IFERROR(VLOOKUP(AF118,'P2'!$B$4:$J$48,9,FALSE),\"\")","v":""},{"$f":"IFERROR(VLOOKUP(AG118,'P2'!$B$4:$J$48,9,FALSE),\"\")","v":""},{"$f":"IFERROR(VLOOKUP(AH118,'P2'!$B$4:$J$48,9,FALSE),\"\")","v":""},{"$f":"IFERROR(VLOOKUP(AI118,'P2'!$B$4:$J$48,9,FALSE),\"\")","v":""},{"$f":"IFERROR(VLOOKUP(AJ118,'P2'!$B$4:$J$48,9,FALSE),\"\")","v":""},{"$f":"IFERROR(VLOOKUP(AK118,'P2'!$B$4:$J$48,9,FALSE),\"\")","v":""},{"$f":"IFERROR(VLOOKUP(AL118,'P2'!$B$4:$J$48,9,FALSE),\"\")","v":""},{"$f":"IFERROR(VLOOKUP(AM118,'P2'!$B$4:$J$48,9,FALSE),\"\")","v":""},{"$f":"IFERROR(VLOOKUP(AN118,'P2'!$B$4:$J$48,9,FALSE),\"\")","v":""},{"$f":"IFERROR(VLOOKUP(AO118,'P2'!$B$4:$J$48,9,FALSE),\"\")","v":""},{"$f":"IFERROR(VLOOKUP(AP118,'P2'!$B$4:$J$48,9,FALSE),\"\")","v":""},{"$f":"IFERROR(VLOOKUP(AQ118,'P2'!$B$4:$J$48,9,FALSE),\"\")","v":""},{"$f":"IFERROR(VLOOKUP(AR118,'P2'!$B$4:$J$48,9,FALSE),\"\")","v":""},{"$f":"IFERROR(VLOOKUP(AS118,'P2'!$B$4:$J$48,9,FALSE),\"\")","v":""},{"$f":"IFERROR(VLOOKUP(AT118,'P2'!$B$4:$J$48,9,FALSE),\"\")","v":""},{"$f":"IFERROR(VLOOKUP(AU118,'P2'!$B$4:$J$48,9,FALSE),\"\")","v":""},{"$f":"SUM(Q119:AU119)","v":0}]
[null,48,null,null,null,null,null,null,null,null,null,null,null,null,null,null,null,null,null,null,null,null,null,null,null,null,null,null,null,null,null,null,null,null,null,null,null,null,null,null,null,null,null,null,null,null,null,{"$f":"COUNTA(Q120:AU120)","v":0},{"$f":"AV121","v":0},{"$f":"IFERROR(ROUNDDOWN(AV121/$AT$3,1),\"\")","v":""}]
[null,null,null,null,null,null,null,null,null,null,null,null,null,null,null,null,{"$f":"IFERROR(VLOOKUP(Q120,'P2'!$B$4:$J$48,9,FALSE),\"\")","v":""},{"$f":"IFERROR(VLOOKUP(R120,'P2'!$B$4:$J$48,9,FALSE),\"\")","v":""},{"$f":"IFERROR(VLOOKUP(S120,'P2'!$B$4:$J$48,9,FALSE),\"\")","v":""},{"$f":"IFERROR(VLOOKUP(T120,'P2'!$B$4:$J$48,9,FALSE),\"\")","v":""},{"$f":"IFERROR(VLOOKUP(U120,'P2'!$B$4:$J$48,9,FALSE),\"\")","v":""},{"$f":"IFERROR(VLOOKUP(V120,'P2'!$B$4:$J$48,9,FALSE),\"\")","v":""},{"$f":"IFERROR(VLOOKUP(W120,'P2'!$B$4:$J$48,9,FALSE),\"\")","v":""},{"$f":"IFERROR(VLOOKUP(X120,'P2'!$B$4:$J$48,9,FALSE),\"\")","v":""},{"$f":"IFERROR(VLOOKUP(Y120,'P2'!$B$4:$J$48,9,FALSE),\"\")","v":""},{"$f":"IFERROR(VLOOKUP(Z120,'P2'!$B$4:$J$48,9,FALSE),\"\")","v":""},{"$f":"IFERROR(VLOOKUP(AA120,'P2'!$B$4:$J$48,9,FALSE),\"\")","v":""},{"$f":"IFERROR(VLOOKUP(AB120,'P2'!$B$4:$J$48,9,FALSE),\"\")","v":""},{"$f":"IFERROR(VLOOKUP(AC120,'P2'!$B$4:$J$48,9,FALSE),\"\")","v":""},{"$f":"IFERROR(VLOOKUP(AD120,'P2'!$B$4:$J$48,9,FALSE),\"\")","v":""},{"$f":"IFERROR(VLOOKUP(AE120,'P2'!$B$4:$J$48,9,FALSE),\"\")","v":""},{"$f":"IFERROR(VLOOKUP(AF120,'P2'!$B$4:$J$48,9,FALSE),\"\")","v":""},{"$f":"IFERROR(VLOOKUP(AG120,'P2'!$B$4:$J$48,9,FALSE),\"\")","v":""},{"$f":"IFERROR(VLOOKUP(AH120,'P2'!$B$4:$J$48,9,FALSE),\"\")","v":""},{"$f":"IFERROR(VLOOKUP(AI120,'P2'!$B$4:$J$48,9,FALSE),\"\")","v":""},{"$f":"IFERROR(VLOOKUP(AJ120,'P2'!$B$4:$J$48,9,FALSE),\"\")","v":""},{"$f":"IFERROR(VLOOKUP(AK120,'P2'!$B$4:$J$48,9,FALSE),\"\")","v":""},{"$f":"IFERROR(VLOOKUP(AL120,'P2'!$B$4:$J$48,9,FALSE),\"\")","v":""},{"$f":"IFERROR(VLOOKUP(AM120,'P2'!$B$4:$J$48,9,FALSE),\"\")","v":""},{"$f":"IFERROR(VLOOKUP(AN120,'P2'!$B$4:$J$48,9,FALSE),\"\")","v":""},{"$f":"IFERROR(VLOOKUP(AO120,'P2'!$B$4:$J$48,9,FALSE),\"\")","v":""},{"$f":"IFERROR(VLOOKUP(AP120,'P2'!$B$4:$J$48,9,FALSE),\"\")","v":""},{"$f":"IFERROR(VLOOKUP(AQ120,'P2'!$B$4:$J$48,9,FALSE),\"\")","v":""},{"$f":"IFERROR(VLOOKUP(AR120,'P2'!$B$4:$J$48,9,FALSE),\"\")","v":""},{"$f":"IFERROR(VLOOKUP(AS120,'P2'!$B$4:$J$48,9,FALSE),\"\")","v":""},{"$f":"IFERROR(VLOOKUP(AT120,'P2'!$B$4:$J$48,9,FALSE),\"\")","v":""},{"$f":"IFERROR(VLOOKUP(AU120,'P2'!$B$4:$J$48,9,FALSE),\"\")","v":""},{"$f":"SUM(Q121:AU121)","v":0}]
[null,49,null,null,null,null,null,null,null,null,null,null,null,null,null,null,null,null,null,null,null,null,null,null,null,null,null,null,null,null,null,null,null,null,null,null,null,null,null,null,null,null,null,null,null,null,null,{"$f":"COUNTA(Q122:AU122)","v":0},{"$f":"AV123","v":0},{"$f":"IFERROR(ROUNDDOWN(AV123/$AT$3,1),\"\")","v":""}]
[null,null,null,null,null,null,null,null,null,null,null,null,null,null,null,null,{"$f":"IFERROR(VLOOKUP(Q122,'P2'!$B$4:$J$48,9,FALSE),\"\")","v":""},{"$f":"IFERROR(VLOOKUP(R122,'P2'!$B$4:$J$48,9,FALSE),\"\")","v":""},{"$f":"IFERROR(VLOOKUP(S122,'P2'!$B$4:$J$48,9,FALSE),\"\")","v":""},{"$f":"IFERROR(VLOOKUP(T122,'P2'!$B$4:$J$48,9,FALSE),\"\")","v":""},{"$f":"IFERROR(VLOOKUP(U122,'P2'!$B$4:$J$48,9,FALSE),\"\")","v":""},{"$f":"IFERROR(VLOOKUP(V122,'P2'!$B$4:$J$48,9,FALSE),\"\")","v":""},{"$f":"IFERROR(VLOOKUP(W122,'P2'!$B$4:$J$48,9,FALSE),\"\")","v":""},{"$f":"IFERROR(VLOOKUP(X122,'P2'!$B$4:$J$48,9,FALSE),\"\")","v":""},{"$f":"IFERROR(VLOOKUP(Y122,'P2'!$B$4:$J$48,9,FALSE),\"\")","v":""},{"$f":"IFERROR(VLOOKUP(Z122,'P2'!$B$4:$J$48,9,FALSE),\"\")","v":""},{"$f":"IFERROR(VLOOKUP(AA122,'P2'!$B$4:$J$48,9,FALSE),\"\")","v":""},{"$f":"IFERROR(VLOOKUP(AB122,'P2'!$B$4:$J$48,9,FALSE),\"\")","v":""},{"$f":"IFERROR(VLOOKUP(AC122,'P2'!$B$4:$J$48,9,FALSE),\"\")","v":""},{"$f":"IFERROR(VLOOKUP(AD122,'P2'!$B$4:$J$48,9,FALSE),\"\")","v":""},{"$f":"IFERROR(VLOOKUP(AE122,'P2'!$B$4:$J$48,9,FALSE),\"\")","v":""},{"$f":"IFERROR(VLOOKUP(AF122,'P2'!$B$4:$J$48,9,FALSE),\"\")","v":""},{"$f":"IFERROR(VLOOKUP(AG122,'P2'!$B$4:$J$48,9,FALSE),\"\")","v":""},{"$f":"IFERROR(VLOOKUP(AH122,'P2'!$B$4:$J$48,9,FALSE),\"\")","v":""},{"$f":"IFERROR(VLOOKUP(AI122,'P2'!$B$4:$J$48,9,FALSE),\"\")","v":""},{"$f":"IFERROR(VLOOKUP(AJ122,'P2'!$B$4:$J$48,9,FALSE),\"\")","v":""},{"$f":"IFERROR(VLOOKUP(AK122,'P2'!$B$4:$J$48,9,FALSE),\"\")","v":""},{"$f":"IFERROR(VLOOKUP(AL122,'P2'!$B$4:$J$48,9,FALSE),\"\")","v":""},{"$f":"IFERROR(VLOOKUP(AM122,'P2'!$B$4:$J$48,9,FALSE),\"\")","v":""},{"$f":"IFERROR(VLOOKUP(AN122,'P2'!$B$4:$J$48,9,FALSE),\"\")","v":""},{"$f":"IFERROR(VLOOKUP(AO122,'P2'!$B$4:$J$48,9,FALSE),\"\")","v":""},{"$f":"IFERROR(VLOOKUP(AP122,'P2'!$B$4:$J$48,9,FALSE),\"\")","v":""},{"$f":"IFERROR(VLOOKUP(AQ122,'P2'!$B$4:$J$48,9,FALSE),\"\")","v":""},{"$f":"IFERROR(VLOOKUP(AR122,'P2'!$B$4:$J$48,9,FALSE),\"\")","v":""},{"$f":"IFERROR(VLOOKUP(AS122,'P2'!$B$4:$J$48,9,FALSE),\"\")","v":""},{"$f":"IFERROR(VLOOKUP(AT122,'P2'!$B$4:$J$48,9,FALSE),\"\")","v":""},{"$f":"IFERROR(VLOOKUP(AU122,'P2'!$B$4:$J$48,9,FALSE),\"\")","v":""},{"$f":"SUM(Q123:AU123)","v":0}]
[null,50,null,null,null,null,null,null,null,null,null,null,null,null,null,null,null,null,null,null,null,null,null,null,null,null,null,null,null,null,null,null,null,null,null,null,null,null,null,null,null,null,null,null,null,null,null,{"$f":"COUNTA(Q124:AU124)","v":0},{"$f":"AV125","v":0},{"$f":"IFERROR(ROUNDDOWN(AV125/$AT$3,1),\"\")","v":""}]
[null,null,null,null,null,null,null,null,null,null,null,null,null,null,null,null,{"$f":"IFERROR(VLOOKUP(Q124,'P2'!$B$4:$J$48,9,FALSE),\"\")","v":""},{"$f":"IFERROR(VLOOKUP(R124,'P2'!$B$4:$J$48,9,FALSE),\"\")","v":""},{"$f":"IFERROR(VLOOKUP(S124,'P2'!$B$4:$J$48,9,FALSE),\"\")","v":""},{"$f":"IFERROR(VLOOKUP(T124,'P2'!$B$4:$J$48,9,FALSE),\"\")","v":""},{"$f":"IFERROR(VLOOKUP(U124,'P2'!$B$4:$J$48,9,FALSE),\"\")","v":""},{"$f":"IFERROR(VLOOKUP(V124,'P2'!$B$4:$J$48,9,FALSE),\"\")","v":""},{"$f":"IFERROR(VLOOKUP(W124,'P2'!$B$4:$J$48,9,FALSE),\"\")","v":""},{"$f":"IFERROR(VLOOKUP(X124,'P2'!$B$4:$J$48,9,FALSE),\"\")","v":""},{"$f":"IFERROR(VLOOKUP(Y124,'P2'!$B$4:$J$48,9,FALSE),\"\")","v":""},{"$f":"IFERROR(VLOOKUP(Z124,'P2'!$B$4:$J$48,9,FALSE),\"\")","v":""},{"$f":"IFERROR(VLOOKUP(AA124,'P2'!$B$4:$J$48,9,FALSE),\"\")","v":""},{"$f":"IFERROR(VLOOKUP(AB124,'P2'!$B$4:$J$48,9,FALSE),\"\")","v":""},{"$f":"IFERROR(VLOOKUP(AC124,'P2'!$B$4:$J$48,9,FALSE),\"\")","v":""},{"$f":"IFERROR(VLOOKUP(AD124,'P2'!$B$4:$J$48,9,FALSE),\"\")","v":""},{"$f":"IFERROR(VLOOKUP(AE124,'P2'!$B$4:$J$48,9,FALSE),\"\")","v":""},{"$f":"IFERROR(VLOOKUP(AF124,'P2'!$B$4:$J$48,9,FALSE),\"\")","v":""},{"$f":"IFERROR(VLOOKUP(AG124,'P2'!$B$4:$J$48,9,FALSE),\"\")","v":""},{"$f":"IFERROR(VLOOKUP(AH124,'P2'!$B$4:$J$48,9,FALSE),\"\")","v":""},{"$f":"IFERROR(VLOOKUP(AI124,'P2'!$B$4:$J$48,9,FALSE),\"\")","v":""},{"$f":"IFERROR(VLOOKUP(AJ124,'P2'!$B$4:$J$48,9,FALSE),\"\")","v":""},{"$f":"IFERROR(VLOOKUP(AK124,'P2'!$B$4:$J$48,9,FALSE),\"\")","v":""},{"$f":"IFERROR(VLOOKUP(AL124,'P2'!$B$4:$J$48,9,FALSE),\"\")","v":""},{"$f":"IFERROR(VLOOKUP(AM124,'P2'!$B$4:$J$48,9,FALSE),\"\")","v":""},{"$f":"IFERROR(VLOOKUP(AN124,'P2'!$B$4:$J$48,9,FALSE),\"\")","v":""},{"$f":"IFERROR(VLOOKUP(AO124,'P2'!$B$4:$J$48,9,FALSE),\"\")","v":""},{"$f":"IFERROR(VLOOKUP(AP124,'P2'!$B$4:$J$48,9,FALSE),\"\")","v":""},{"$f":"IFERROR(VLOOKUP(AQ124,'P2'!$B$4:$J$48,9,FALSE),\"\")","v":""},{"$f":"IFERROR(VLOOKUP(AR124,'P2'!$B$4:$J$48,9,FALSE),\"\")","v":""},{"$f":"IFERROR(VLOOKUP(AS124,'P2'!$B$4:$J$48,9,FALSE),\"\")","v":""},{"$f":"IFERROR(VLOOKUP(AT124,'P2'!$B$4:$J$48,9,FALSE),\"\")","v":""},{"$f":"IFERROR(VLOOKUP(AU124,'P2'!$B$4:$J$48,9,FALSE),\"\")","v":""},{"$f":"SUM(Q125:AU125)","v":0}]
[null,51,null,null,null,null,null,null,null,null,null,null,null,null,null,null,null,null,null,null,null,null,null,null,null,null,null,null,null,null,null,null,null,null,null,null,null,null,null,null,null,null,null,null,null,null,null,{"$f":"COUNTA(Q126:AU126)","v":0},{"$f":"AV127","v":0},{"$f":"IFERROR(ROUNDDOWN(AV127/$AT$3,1),\"\")","v":""}]
[null,null,null,null,null,null,null,null,null,null,null,null,null,null,null,null,{"$f":"IFERROR(VLOOKUP(Q126,'P2'!$B$4:$J$48,9,FALSE),\"\")","v":""},{"$f":"IFERROR(VLOOKUP(R126,'P2'!$B$4:$J$48,9,FALSE),\"\")","v":""},{"$f":"IFERROR(VLOOKUP(S126,'P2'!$B$4:$J$48,9,FALSE),\"\")","v":""},{"$f":"IFERROR(VLOOKUP(T126,'P2'!$B$4:$J$48,9,FALSE),\"\")","v":""},{"$f":"IFERROR(VLOOKUP(U126,'P2'!$B$4:$J$48,9,FALSE),\"\")","v":""},{"$f":"IFERROR(VLOOKUP(V126,'P2'!$B$4:$J$48,9,FALSE),\"\")","v":""},{"$f":"IFERROR(VLOOKUP(W126,'P2'!$B$4:$J$48,9,FALSE),\"\")","v":""},{"$f":"IFERROR(VLOOKUP(X126,'P2'!$B$4:$J$48,9,FALSE),\"\")","v":""},{"$f":"IFERROR(VLOOKUP(Y126,'P2'!$B$4:$J$48,9,FALSE),\"\")","v":""},{"$f":"IFERROR(VLOOKUP(Z126,'P2'!$B$4:$J$48,9,FALSE),\"\")","v":""},{"$f":"IFERROR(VLOOKUP(AA126,'P2'!$B$4:$J$48,9,FALSE),\"\")","v":""},{"$f":"IFERROR(VLOOKUP(AB126,'P2'!$B$4:$J$48,9,FALSE),\"\")","v":""},{"$f":"IFERROR(VLOOKUP(AC126,'P2'!$B$4:$J$48,9,FALSE),\"\")","v":""},{"$f":"IFERROR(VLOOKUP(AD126,'P2'!$B$4:$J$48,9,FALSE),\"\")","v":""},{"$f":"IFERROR(VLOOKUP(AE126,'P2'!$B$4:$J$48,9,FALSE),\"\")","v":""},{"$f":"IFERROR(VLOOKUP(AF126,'P2'!$B$4:$J$48,9,FALSE),\"\")","v":""},{"$f":"IFERROR(VLOOKUP(AG126,'P2'!$B$4:$J$48,9,FALSE),\"\")","v":""},{"$f":"IFERROR(VLOOKUP(AH126,'P2'!$B$4:$J$48,9,FALSE),\"\")","v":""},{"$f":"IFERROR(VLOOKUP(AI126,'P2'!$B$4:$J$48,9,FALSE),\"\")","v":""},{"$f":"IFERROR(VLOOKUP(AJ126,'P2'!$B$4:$J$48,9,FALSE),\"\")","v":""},{"$f":"IFERROR(VLOOKUP(AK126,'P2'!$B$4:$J$48,9,FALSE),\"\")","v":""},{"$f":"IFERROR(VLOOKUP(AL126,'P2'!$B$4:$J$48,9,FALSE),\"\")","v":""},{"$f":"IFERROR(VLOOKUP(AM126,'P2'!$B$4:$J$48,9,FALSE),\"\")","v":""},{"$f":"IFERROR(VLOOKUP(AN126,'P2'!$B$4:$J$48,9,FALSE),\"\")","v":""},{"$f":"IFERROR(VLOOKUP(AO126,'P2'!$B$4:$J$48,9,FALSE),\"\")","v":""},{"$f":"IFERROR(VLOOKUP(AP126,'P2'!$B$4:$J$48,9,FALSE),\"\")","v":""},{"$f":"IFERROR(VLOOKUP(AQ126,'P2'!$B$4:$J$48,9,FALSE),\"\")","v":""},{"$f":"IFERROR(VLOOKUP(AR126,'P2'!$B$4:$J$48,9,FALSE),\"\")","v":""},{"$f":"IFERROR(VLOOKUP(AS126,'P2'!$B$4:$J$48,9,FALSE),\"\")","v":""},{"$f":"IFERROR(VLOOKUP(AT126,'P2'!$B$4:$J$48,9,FALSE),\"\")","v":""},{"$f":"IFERROR(VLOOKUP(AU126,'P2'!$B$4:$J$48,9,FALSE),\"\")","v":""},{"$f":"SUM(Q127:AU127)","v":0}]
[null,52,null,null,null,null,null,null,null,null,null,null,null,null,null,null,null,null,null,null,null,null,null,null,null,null,null,null,null,null,null,null,null,null,null,null,null,null,null,null,null,null,null,null,null,null,null,{"$f":"COUNTA(Q128:AU128)","v":0},{"$f":"AV129","v":0},{"$f":"IFERROR(ROUNDDOWN(AV129/$AT$3,1),\"\")","v":""}]
[null,null,null,null,null,null,null,null,null,null,null,null,null,null,null,null,{"$f":"IFERROR(VLOOKUP(Q128,'P2'!$B$4:$J$48,9,FALSE),\"\")","v":""},{"$f":"IFERROR(VLOOKUP(R128,'P2'!$B$4:$J$48,9,FALSE),\"\")","v":""},{"$f":"IFERROR(VLOOKUP(S128,'P2'!$B$4:$J$48,9,FALSE),\"\")","v":""},{"$f":"IFERROR(VLOOKUP(T128,'P2'!$B$4:$J$48,9,FALSE),\"\")","v":""},{"$f":"IFERROR(VLOOKUP(U128,'P2'!$B$4:$J$48,9,FALSE),\"\")","v":""},{"$f":"IFERROR(VLOOKUP(V128,'P2'!$B$4:$J$48,9,FALSE),\"\")","v":""},{"$f":"IFERROR(VLOOKUP(W128,'P2'!$B$4:$J$48,9,FALSE),\"\")","v":""},{"$f":"IFERROR(VLOOKUP(X128,'P2'!$B$4:$J$48,9,FALSE),\"\")","v":""},{"$f":"IFERROR(VLOOKUP(Y128,'P2'!$B$4:$J$48,9,FALSE),\"\")","v":""},{"$f":"IFERROR(VLOOKUP(Z128,'P2'!$B$4:$J$48,9,FALSE),\"\")","v":""},{"$f":"IFERROR(VLOOKUP(AA128,'P2'!$B$4:$J$48,9,FALSE),\"\")","v":""},{"$f":"IFERROR(VLOOKUP(AB128,'P2'!$B$4:$J$48,9,FALSE),\"\")","v":""},{"$f":"IFERROR(VLOOKUP(AC128,'P2'!$B$4:$J$48,9,FALSE),\"\")","v":""},{"$f":"IFERROR(VLOOKUP(AD128,'P2'!$B$4:$J$48,9,FALSE),\"\")","v":""},{"$f":"IFERROR(VLOOKUP(AE128,'P2'!$B$4:$J$48,9,FALSE),\"\")","v":""},{"$f":"IFERROR(VLOOKUP(AF128,'P2'!$B$4:$J$48,9,FALSE),\"\")","v":""},{"$f":"IFERROR(VLOOKUP(AG128,'P2'!$B$4:$J$48,9,FALSE),\"\")","v":""},{"$f":"IFERROR(VLOOKUP(AH128,'P2'!$B$4:$J$48,9,FALSE),\"\")","v":""},{"$f":"IFERROR(VLOOKUP(AI128,'P2'!$B$4:$J$48,9,FALSE),\"\")","v":""},{"$f":"IFERROR(VLOOKUP(AJ128,'P2'!$B$4:$J$48,9,FALSE),\"\")","v":""},{"$f":"IFERROR(VLOOKUP(AK128,'P2'!$B$4:$J$48,9,FALSE),\"\")","v":""},{"$f":"IFERROR(VLOOKUP(AL128,'P2'!$B$4:$J$48,9,FALSE),\"\")","v":""},{"$f":"IFERROR(VLOOKUP(AM128,'P2'!$B$4:$J$48,9,FALSE),\"\")","v":""},{"$f":"IFERROR(VLOOKUP(AN128,'P2'!$B$4:$J$48,9,FALSE),\"\")","v":""},{"$f":"IFERROR(VLOOKUP(AO128,'P2'!$B$4:$J$48,9,FALSE),\"\")","v":""},{"$f":"IFERROR(VLOOKUP(AP128,'P2'!$B$4:$J$48,9,FALSE),\"\")","v":""},{"$f":"IFERROR(VLOOKUP(AQ128,'P2'!$B$4:$J$48,9,FALSE),\"\")","v":""},{"$f":"IFERROR(VLOOKUP(AR128,'P2'!$B$4:$J$48,9,FALSE),\"\")","v":""},{"$f":"IFERROR(VLOOKUP(AS128,'P2'!$B$4:$J$48,9,FALSE),\"\")","v":""},{"$f":"IFERROR(VLOOKUP(AT128,'P2'!$B$4:$J$48,9,FALSE),\"\")","v":""},{"$f":"IFERROR(VLOOKUP(AU128,'P2'!$B$4:$J$48,9,FALSE),\"\")","v":""},{"$f":"SUM(Q129:AU129)","v":0}]
[null,53,null,null,null,null,null,null,null,null,null,null,null,null,null,null,null,null,null,null,null,null,null,null,null,null,null,null,null,null,null,null,null,null,null,null,null,null,null,null,null,null,null,null,null,null,null,{"$f":"COUNTA(Q130:AU130)","v":0},{"$f":"AV131","v":0},{"$f":"IFERROR(ROUNDDOWN(AV131/$AT$3,1),\"\")","v":""}]
[null,null,null,null,null,null,null,null,null,null,null,null,null,null,null,null,{"$f":"IFERROR(VLOOKUP(Q130,'P2'!$B$4:$J$48,9,FALSE),\"\")","v":""},{"$f":"IFERROR(VLOOKUP(R130,'P2'!$B$4:$J$48,9,FALSE),\"\")","v":""},{"$f":"IFERROR(VLOOKUP(S130,'P2'!$B$4:$J$48,9,FALSE),\"\")","v":""},{"$f":"IFERROR(VLOOKUP(T130,'P2'!$B$4:$J$48,9,FALSE),\"\")","v":""},{"$f":"IFERROR(VLOOKUP(U130,'P2'!$B$4:$J$48,9,FALSE),\"\")","v":""},{"$f":"IFERROR(VLOOKUP(V130,'P2'!$B$4:$J$48,9,FALSE),\"\")","v":""},{"$f":"IFERROR(VLOOKUP(W130,'P2'!$B$4:$J$48,9,FALSE),\"\")","v":""},{"$f":"IFERROR(VLOOKUP(X130,'P2'!$B$4:$J$48,9,FALSE),\"\")","v":""},{"$f":"IFERROR(VLOOKUP(Y130,'P2'!$B$4:$J$48,9,FALSE),\"\")","v":""},{"$f":"IFERROR(VLOOKUP(Z130,'P2'!$B$4:$J$48,9,FALSE),\"\")","v":""},{"$f":"IFERROR(VLOOKUP(AA130,'P2'!$B$4:$J$48,9,FALSE),\"\")","v":""},{"$f":"IFERROR(VLOOKUP(AB130,'P2'!$B$4:$J$48,9,FALSE),\"\")","v":""},{"$f":"IFERROR(VLOOKUP(AC130,'P2'!$B$4:$J$48,9,FALSE),\"\")","v":""},{"$f":"IFERROR(VLOOKUP(AD130,'P2'!$B$4:$J$48,9,FALSE),\"\")","v":""},{"$f":"IFERROR(VLOOKUP(AE130,'P2'!$B$4:$J$48,9,FALSE),\"\")","v":""},{"$f":"IFERROR(VLOOKUP(AF130,'P2'!$B$4:$J$48,9,FALSE),\"\")","v":""},{"$f":"IFERROR(VLOOKUP(AG130,'P2'!$B$4:$J$48,9,FALSE),\"\")","v":""},{"$f":"IFERROR(VLOOKUP(AH130,'P2'!$B$4:$J$48,9,FALSE),\"\")","v":""},{"$f":"IFERROR(VLOOKUP(AI130,'P2'!$B$4:$J$48,9,FALSE),\"\")","v":""},{"$f":"IFERROR(VLOOKUP(AJ130,'P2'!$B$4:$J$48,9,FALSE),\"\")","v":""},{"$f":"IFERROR(VLOOKUP(AK130,'P2'!$B$4:$J$48,9,FALSE),\"\")","v":""},{"$f":"IFERROR(VLOOKUP(AL130,'P2'!$B$4:$J$48,9,FALSE),\"\")","v":""},{"$f":"IFERROR(VLOOKUP(AM130,'P2'!$B$4:$J$48,9,FALSE),\"\")","v":""},{"$f":"IFERROR(VLOOKUP(AN130,'P2'!$B$4:$J$48,9,FALSE),\"\")","v":""},{"$f":"IFERROR(VLOOKUP(AO130,'P2'!$B$4:$J$48,9,FALSE),\"\")","v":""},{"$f":"IFERROR(VLOOKUP(AP130,'P2'!$B$4:$J$48,9,FALSE),\"\")","v":""},{"$f":"IFERROR(VLOOKUP(AQ130,'P2'!$B$4:$J$48,9,FALSE),\"\")","v":""},{"$f":"IFERROR(VLOOKUP(AR130,'P2'!$B$4:$J$48,9,FALSE),\"\")","v":""},{"$f":"IFERROR(VLOOKUP(AS130,'P2'!$B$4:$J$48,9,FALSE),\"\")","v":""},{"$f":"IFERROR(VLOOKUP(AT130,'P2'!$B$4:$J$48,9,FALSE),\"\")","v":""},{"$f":"IFERROR(VLOOKUP(AU130,'P2'!$B$4:$J$48,9,FALSE),\"\")","v":""},{"$f":"SUM(Q131:AU131)","v":0}]
[null,54,null,null,null,null,null,null,null,null,null,null,null,null,null,null,null,null,null,null,null,null,null,null,null,null,null,null,null,null,null,null,null,null,null,null,null,null,null,null,null,null,null,null,null,null,null,{"$f":"COUNTA(Q132:AU132)","v":0},{"$f":"AV133","v":0},{"$f":"IFERROR(ROUNDDOWN(AV133/$AT$3,1),\"\")","v":""}]
[null,null,null,null,null,null,null,null,null,null,null,null,null,null,null,null,{"$f":"IFERROR(VLOOKUP(Q132,'P2'!$B$4:$J$48,9,FALSE),\"\")","v":""},{"$f":"IFERROR(VLOOKUP(R132,'P2'!$B$4:$J$48,9,FALSE),\"\")","v":""},{"$f":"IFERROR(VLOOKUP(S132,'P2'!$B$4:$J$48,9,FALSE),\"\")","v":""},{"$f":"IFERROR(VLOOKUP(T132,'P2'!$B$4:$J$48,9,FALSE),\"\")","v":""},{"$f":"IFERROR(VLOOKUP(U132,'P2'!$B$4:$J$48,9,FALSE),\"\")","v":""},{"$f":"IFERROR(VLOOKUP(V132,'P2'!$B$4:$J$48,9,FALSE),\"\")","v":""},{"$f":"IFERROR(VLOOKUP(W132,'P2'!$B$4:$J$48,9,FALSE),\"\")","v":""},{"$f":"IFERROR(VLOOKUP(X132,'P2'!$B$4:$J$48,9,FALSE),\"\")","v":""},{"$f":"IFERROR(VLOOKUP(Y132,'P2'!$B$4:$J$48,9,FALSE),\"\")","v":""},{"$f":"IFERROR(VLOOKUP(Z132,'P2'!$B$4:$J$48,9,FALSE),\"\")","v":""},{"$f":"IFERROR(VLOOKUP(AA132,'P2'!$B$4:$J$48,9,FALSE),\"\")","v":""},{"$f":"IFERROR(VLOOKUP(AB132,'P2'!$B$4:$J$48,9,FALSE),\"\")","v":""},{"$f":"IFERROR(VLOOKUP(AC132,'P2'!$B$4:$J$48,9,FALSE),\"\")","v":""},{"$f":"IFERROR(VLOOKUP(AD132,'P2'!$B$4:$J$48,9,FALSE),\"\")","v":""},{"$f":"IFERROR(VLOOKUP(AE132,'P2'!$B$4:$J$48,9,FALSE),\"\")","v":""},{"$f":"IFERROR(VLOOKUP(AF132,'P2'!$B$4:$J$48,9,FALSE),\"\")","v":""},{"$f":"IFERROR(VLOOKUP(AG132,'P2'!$B$4:$J$48,9,FALSE),\"\")","v":""},{"$f":"IFERROR(VLOOKUP(AH132,'P2'!$B$4:$J$48,9,FALSE),\"\")","v":""},{"$f":"IFERROR(VLOOKUP(AI132,'P2'!$B$4:$J$48,9,FALSE),\"\")","v":""},{"$f":"IFERROR(VLOOKUP(AJ132,'P2'!$B$4:$J$48,9,FALSE),\"\")","v":""},{"$f":"IFERROR(VLOOKUP(AK132,'P2'!$B$4:$J$48,9,FALSE),\"\")","v":""},{"$f":"IFERROR(VLOOKUP(AL132,'P2'!$B$4:$J$48,9,FALSE),\"\")","v":""},{"$f":"IFERROR(VLOOKUP(AM132,'P2'!$B$4:$J$48,9,FALSE),\"\")","v":""},{"$f":"IFERROR(VLOOKUP(AN132,'P2'!$B$4:$J$48,9,FALSE),\"\")","v":""},{"$f":"IFERROR(VLOOKUP(AO132,'P2'!$B$4:$J$48,9,FALSE),\"\")","v":""},{"$f":"IFERROR(VLOOKUP(AP132,'P2'!$B$4:$J$48,9,FALSE),\"\")","v":""},{"$f":"IFERROR(VLOOKUP(AQ132,'P2'!$B$4:$J$48,9,FALSE),\"\")","v":""},{"$f":"IFERROR(VLOOKUP(AR132,'P2'!$B$4:$J$48,9,FALSE),\"\")","v":""},{"$f":"IFERROR(VLOOKUP(AS132,'P2'!$B$4:$J$48,9,FALSE),\"\")","v":""},{"$f":"IFERROR(VLOOKUP(AT132,'P2'!$B$4:$J$48,9,FALSE),\"\")","v":""},{"$f":"IFERROR(VLOOKUP(AU132,'P2'!$B$4:$J$48,9,FALSE),\"\")","v":""},{"$f":"SUM(Q133:AU133)","v":0}]
[null,55,null,null,null,null,null,null,null,null,null,null,null,null,null,null,null,null,null,null,null,null,null,null,null,null,null,null,null,null,null,null,null,null,null,null,null,null,null,null,null,null,null,null,null,null,null,{"$f":"COUNTA(Q134:AU134)","v":0},{"$f":"AV135","v":0},{"$f":"IFERROR(ROUNDDOWN(AV135/$AT$3,1),\"\")","v":""}]
[null,null,null,null,null,null,null,null,null,null,null,null,null,null,null,null,{"$f":"IFERROR(VLOOKUP(Q134,'P2'!$B$4:$J$48,9,FALSE),\"\")","v":""},{"$f":"IFERROR(VLOOKUP(R134,'P2'!$B$4:$J$48,9,FALSE),\"\")","v":""},{"$f":"IFERROR(VLOOKUP(S134,'P2'!$B$4:$J$48,9,FALSE),\"\")","v":""},{"$f":"IFERROR(VLOOKUP(T134,'P2'!$B$4:$J$48,9,FALSE),\"\")","v":""},{"$f":"IFERROR(VLOOKUP(U134,'P2'!$B$4:$J$48,9,FALSE),\"\")","v":""},{"$f":"IFERROR(VLOOKUP(V134,'P2'!$B$4:$J$48,9,FALSE),\"\")","v":""},{"$f":"IFERROR(VLOOKUP(W134,'P2'!$B$4:$J$48,9,FALSE),\"\")","v":""},{"$f":"IFERROR(VLOOKUP(X134,'P2'!$B$4:$J$48,9,FALSE),\"\")","v":""},{"$f":"IFERROR(VLOOKUP(Y134,'P2'!$B$4:$J$48,9,FALSE),\"\")","v":""},{"$f":"IFERROR(VLOOKUP(Z134,'P2'!$B$4:$J$48,9,FALSE),\"\")","v":""},{"$f":"IFERROR(VLOOKUP(AA134,'P2'!$B$4:$J$48,9,FALSE),\"\")","v":""},{"$f":"IFERROR(VLOOKUP(AB134,'P2'!$B$4:$J$48,9,FALSE),\"\")","v":""},{"$f":"IFERROR(VLOOKUP(AC134,'P2'!$B$4:$J$48,9,FALSE),\"\")","v":""},{"$f":"IFERROR(VLOOKUP(AD134,'P2'!$B$4:$J$48,9,FALSE),\"\")","v":""},{"$f":"IFERROR(VLOOKUP(AE134,'P2'!$B$4:$J$48,9,FALSE),\"\")","v":""},{"$f":"IFERROR(VLOOKUP(AF134,'P2'!$B$4:$J$48,9,FALSE),\"\")","v":""},{"$f":"IFERROR(VLOOKUP(AG134,'P2'!$B$4:$J$48,9,FALSE),\"\")","v":""},{"$f":"IFERROR(VLOOKUP(AH134,'P2'!$B$4:$J$48,9,FALSE),\"\")","v":""},{"$f":"IFERROR(VLOOKUP(AI134,'P2'!$B$4:$J$48,9,FALSE),\"\")","v":""},{"$f":"IFERROR(VLOOKUP(AJ134,'P2'!$B$4:$J$48,9,FALSE),\"\")","v":""},{"$f":"IFERROR(VLOOKUP(AK134,'P2'!$B$4:$J$48,9,FALSE),\"\")","v":""},{"$f":"IFERROR(VLOOKUP(AL134,'P2'!$B$4:$J$48,9,FALSE),\"\")","v":""},{"$f":"IFERROR(VLOOKUP(AM134,'P2'!$B$4:$J$48,9,FALSE),\"\")","v":""},{"$f":"IFERROR(VLOOKUP(AN134,'P2'!$B$4:$J$48,9,FALSE),\"\")","v":""},{"$f":"IFERROR(VLOOKUP(AO134,'P2'!$B$4:$J$48,9,FALSE),\"\")","v":""},{"$f":"IFERROR(VLOOKUP(AP134,'P2'!$B$4:$J$48,9,FALSE),\"\")","v":""},{"$f":"IFERROR(VLOOKUP(AQ134,'P2'!$B$4:$J$48,9,FALSE),\"\")","v":""},{"$f":"IFERROR(VLOOKUP(AR134,'P2'!$B$4:$J$48,9,FALSE),\"\")","v":""},{"$f":"IFERROR(VLOOKUP(AS134,'P2'!$B$4:$J$48,9,FALSE),\"\")","v":""},{"$f":"IFERROR(VLOOKUP(AT134,'P2'!$B$4:$J$48,9,FALSE),\"\")","v":""},{"$f":"IFERROR(VLOOKUP(AU134,'P2'!$B$4:$J$48,9,FALSE),\"\")","v":""},{"$f":"SUM(Q135:AU135)","v":0}]
[null,56,null,null,null,null,null,null,null,null,null,null,null,null,null,null,null,null,null,null,null,null,null,null,null,null,null,null,null,null,null,null,null,null,null,null,null,null,null,null,null,null,null,null,null,null,null,{"$f":"COUNTA(Q136:AU136)","v":0},{"$f":"AV137","v":0},{"$f":"IFERROR(ROUNDDOWN(AV137/$AT$3,1),\"\")","v":""}]
[null,null,null,null,null,null,null,null,null,null,null,null,null,null,null,null,{"$f":"IFERROR(VLOOKUP(Q136,'P2'!$B$4:$J$48,9,FALSE),\"\")","v":""},{"$f":"IFERROR(VLOOKUP(R136,'P2'!$B$4:$J$48,9,FALSE),\"\")","v":""},{"$f":"IFERROR(VLOOKUP(S136,'P2'!$B$4:$J$48,9,FALSE),\"\")","v":""},{"$f":"IFERROR(VLOOKUP(T136,'P2'!$B$4:$J$48,9,FALSE),\"\")","v":""},{"$f":"IFERROR(VLOOKUP(U136,'P2'!$B$4:$J$48,9,FALSE),\"\")","v":""},{"$f":"IFERROR(VLOOKUP(V136,'P2'!$B$4:$J$48,9,FALSE),\"\")","v":""},{"$f":"IFERROR(VLOOKUP(W136,'P2'!$B$4:$J$48,9,FALSE),\"\")","v":""},{"$f":"IFERROR(VLOOKUP(X136,'P2'!$B$4:$J$48,9,FALSE),\"\")","v":""},{"$f":"IFERROR(VLOOKUP(Y136,'P2'!$B$4:$J$48,9,FALSE),\"\")","v":""},{"$f":"IFERROR(VLOOKUP(Z136,'P2'!$B$4:$J$48,9,FALSE),\"\")","v":""},{"$f":"IFERROR(VLOOKUP(AA136,'P2'!$B$4:$J$48,9,FALSE),\"\")","v":""},{"$f":"IFERROR(VLOOKUP(AB136,'P2'!$B$4:$J$48,9,FALSE),\"\")","v":""},{"$f":"IFERROR(VLOOKUP(AC136,'P2'!$B$4:$J$48,9,FALSE),\"\")","v":""},{"$f":"IFERROR(VLOOKUP(AD136,'P2'!$B$4:$J$48,9,FALSE),\"\")","v":""},{"$f":"IFERROR(VLOOKUP(AE136,'P2'!$B$4:$J$48,9,FALSE),\"\")","v":""},{"$f":"IFERROR(VLOOKUP(AF136,'P2'!$B$4:$J$48,9,FALSE),\"\")","v":""},{"$f":"IFERROR(VLOOKUP(AG136,'P2'!$B$4:$J$48,9,FALSE),\"\")","v":""},{"$f":"IFERROR(VLOOKUP(AH136,'P2'!$B$4:$J$48,9,FALSE),\"\")","v":""},{"$f":"IFERROR(VLOOKUP(AI136,'P2'!$B$4:$J$48,9,FALSE),\"\")","v":""},{"$f":"IFERROR(VLOOKUP(AJ136,'P2'!$B$4:$J$48,9,FALSE),\"\")","v":""},{"$f":"IFERROR(VLOOKUP(AK136,'P2'!$B$4:$J$48,9,FALSE),\"\")","v":""},{"$f":"IFERROR(VLOOKUP(AL136,'P2'!$B$4:$J$48,9,FALSE),\"\")","v":""},{"$f":"IFERROR(VLOOKUP(AM136,'P2'!$B$4:$J$48,9,FALSE),\"\")","v":""},{"$f":"IFERROR(VLOOKUP(AN136,'P2'!$B$4:$J$48,9,FALSE),\"\")","v":""},{"$f":"IFERROR(VLOOKUP(AO136,'P2'!$B$4:$J$48,9,FALSE),\"\")","v":""},{"$f":"IFERROR(VLOOKUP(AP136,'P2'!$B$4:$J$48,9,FALSE),\"\")","v":""},{"$f":"IFERROR(VLOOKUP(AQ136,'P2'!$B$4:$J$48,9,FALSE),\"\")","v":""},{"$f":"IFERROR(VLOOKUP(AR136,'P2'!$B$4:$J$48,9,FALSE),\"\")","v":""},{"$f":"IFERROR(VLOOKUP(AS136,'P2'!$B$4:$J$48,9,FALSE),\"\")","v":""},{"$f":"IFERROR(VLOOKUP(AT136,'P2'!$B$4:$J$48,9,FALSE),\"\")","v":""},{"$f":"IFERROR(VLOOKUP(AU136,'P2'!$B$4:$J$48,9,FALSE),\"\")","v":""},{"$f":"SUM(Q137:AU137)","v":0}]
[null,57,null,null,null,null,null,null,null,null,null,null,null,null,null,null,null,null,null,null,null,null,null,null,null,null,null,null,null,null,null,null,null,null,null,null,null,null,null,null,null,null,null,null,null,null,null,{"$f":"COUNTA(Q138:AU138)","v":0},{"$f":"AV139","v":0},{"$f":"IFERROR(ROUNDDOWN(AV139/$AT$3,1),\"\")","v":""}]
[null,null,null,null,null,null,null,null,null,null,null,null,null,null,null,null,{"$f":"IFERROR(VLOOKUP(Q138,'P2'!$B$4:$J$48,9,FALSE),\"\")","v":""},{"$f":"IFERROR(VLOOKUP(R138,'P2'!$B$4:$J$48,9,FALSE),\"\")","v":""},{"$f":"IFERROR(VLOOKUP(S138,'P2'!$B$4:$J$48,9,FALSE),\"\")","v":""},{"$f":"IFERROR(VLOOKUP(T138,'P2'!$B$4:$J$48,9,FALSE),\"\")","v":""},{"$f":"IFERROR(VLOOKUP(U138,'P2'!$B$4:$J$48,9,FALSE),\"\")","v":""},{"$f":"IFERROR(VLOOKUP(V138,'P2'!$B$4:$J$48,9,FALSE),\"\")","v":""},{"$f":"IFERROR(VLOOKUP(W138,'P2'!$B$4:$J$48,9,FALSE),\"\")","v":""},{"$f":"IFERROR(VLOOKUP(X138,'P2'!$B$4:$J$48,9,FALSE),\"\")","v":""},{"$f":"IFERROR(VLOOKUP(Y138,'P2'!$B$4:$J$48,9,FALSE),\"\")","v":""},{"$f":"IFERROR(VLOOKUP(Z138,'P2'!$B$4:$J$48,9,FALSE),\"\")","v":""},{"$f":"IFERROR(VLOOKUP(AA138,'P2'!$B$4:$J$48,9,FALSE),\"\")","v":""},{"$f":"IFERROR(VLOOKUP(AB138,'P2'!$B$4:$J$48,9,FALSE),\"\")","v":""},{"$f":"IFERROR(VLOOKUP(AC138,'P2'!$B$4:$J$48,9,FALSE),\"\")","v":""},{"$f":"IFERROR(VLOOKUP(AD138,'P2'!$B$4:$J$48,9,FALSE),\"\")","v":""},{"$f":"IFERROR(VLOOKUP(AE138,'P2'!$B$4:$J$48,9,FALSE),\"\")","v":""},{"$f":"IFERROR(VLOOKUP(AF138,'P2'!$B$4:$J$48,9,FALSE),\"\")","v":""},{"$f":"IFERROR(VLOOKUP(AG138,'P2'!$B$4:$J$48,9,FALSE),\"\")","v":""},{"$f":"IFERROR(VLOOKUP(AH138,'P2'!$B$4:$J$48,9,FALSE),\"\")","v":""},{"$f":"IFERROR(VLOOKUP(AI138,'P2'!$B$4:$J$48,9,FALSE),\"\")","v":""},{"$f":"IFERROR(VLOOKUP(AJ138,'P2'!$B$4:$J$48,9,FALSE),\"\")","v":""},{"$f":"IFERROR(VLOOKUP(AK138,'P2'!$B$4:$J$48,9,FALSE),\"\")","v":""},{"$f":"IFERROR(VLOOKUP(AL138,'P2'!$B$4:$J$48,9,FALSE),\"\")","v":""},{"$f":"IFERROR(VLOOKUP(AM138,'P2'!$B$4:$J$48,9,FALSE),\"\")","v":""},{"$f":"IFERROR(VLOOKUP(AN138,'P2'!$B$4:$J$48,9,FALSE),\"\")","v":""},{"$f":"IFERROR(VLOOKUP(AO138,'P2'!$B$4:$J$48,9,FALSE),\"\")","v":""},{"$f":"IFERROR(VLOOKUP(AP138,'P2'!$B$4:$J$48,9,FALSE),\"\")","v":""},{"$f":"IFERROR(VLOOKUP(AQ138,'P2'!$B$4:$J$48,9,FALSE),\"\")","v":""},{"$f":"IFERROR(VLOOKUP(AR138,'P2'!$B$4:$J$48,9,FALSE),\"\")","v":""},{"$f":"IFERROR(VLOOKUP(AS138,'P2'!$B$4:$J$48,9,FALSE),\"\")","v":""},{"$f":"IFERROR(VLOOKUP(AT138,'P2'!$B$4:$J$48,9,FALSE),\"\")","v":""},{"$f":"IFERROR(VLOOKUP(AU138,'P2'!$B$4:$J$48,9,FALSE),\"\")","v":""},{"$f":"SUM(Q139:AU139)","v":0}]
[null,58,null,null,null,null,null,null,null,null,null,null,null,null,null,null,null,null,null,null,null,null,null,null,null,null,null,null,null,null,null,null,null,null,null,null,null,null,null,null,null,null,null,null,null,null,null,{"$f":"COUNTA(Q140:AU140)","v":0},{"$f":"AV141","v":0},{"$f":"IFERROR(ROUNDDOWN(AV141/$AT$3,1),\"\")","v":""}]
[null,null,null,null,null,null,null,null,null,null,null,null,null,null,null,null,{"$f":"IFERROR(VLOOKUP(Q140,'P2'!$B$4:$J$48,9,FALSE),\"\")","v":""},{"$f":"IFERROR(VLOOKUP(R140,'P2'!$B$4:$J$48,9,FALSE),\"\")","v":""},{"$f":"IFERROR(VLOOKUP(S140,'P2'!$B$4:$J$48,9,FALSE),\"\")","v":""},{"$f":"IFERROR(VLOOKUP(T140,'P2'!$B$4:$J$48,9,FALSE),\"\")","v":""},{"$f":"IFERROR(VLOOKUP(U140,'P2'!$B$4:$J$48,9,FALSE),\"\")","v":""},{"$f":"IFERROR(VLOOKUP(V140,'P2'!$B$4:$J$48,9,FALSE),\"\")","v":""},{"$f":"IFERROR(VLOOKUP(W140,'P2'!$B$4:$J$48,9,FALSE),\"\")","v":""},{"$f":"IFERROR(VLOOKUP(X140,'P2'!$B$4:$J$48,9,FALSE),\"\")","v":""},{"$f":"IFERROR(VLOOKUP(Y140,'P2'!$B$4:$J$48,9,FALSE),\"\")","v":""},{"$f":"IFERROR(VLOOKUP(Z140,'P2'!$B$4:$J$48,9,FALSE),\"\")","v":""},{"$f":"IFERROR(VLOOKUP(AA140,'P2'!$B$4:$J$48,9,FALSE),\"\")","v":""},{"$f":"IFERROR(VLOOKUP(AB140,'P2'!$B$4:$J$48,9,FALSE),\"\")","v":""},{"$f":"IFERROR(VLOOKUP(AC140,'P2'!$B$4:$J$48,9,FALSE),\"\")","v":""},{"$f":"IFERROR(VLOOKUP(AD140,'P2'!$B$4:$J$48,9,FALSE),\"\")","v":""},{"$f":"IFERROR(VLOOKUP(AE140,'P2'!$B$4:$J$48,9,FALSE),\"\")","v":""},{"$f":"IFERROR(VLOOKUP(AF140,'P2'!$B$4:$J$48,9,FALSE),\"\")","v":""},{"$f":"IFERROR(VLOOKUP(AG140,'P2'!$B$4:$J$48,9,FALSE),\"\")","v":""},{"$f":"IFERROR(VLOOKUP(AH140,'P2'!$B$4:$J$48,9,FALSE),\"\")","v":""},{"$f":"IFERROR(VLOOKUP(AI140,'P2'!$B$4:$J$48,9,FALSE),\"\")","v":""},{"$f":"IFERROR(VLOOKUP(AJ140,'P2'!$B$4:$J$48,9,FALSE),\"\")","v":""},{"$f":"IFERROR(VLOOKUP(AK140,'P2'!$B$4:$J$48,9,FALSE),\"\")","v":""},{"$f":"IFERROR(VLOOKUP(AL140,'P2'!$B$4:$J$48,9,FALSE),\"\")","v":""},{"$f":"IFERROR(VLOOKUP(AM140,'P2'!$B$4:$J$48,9,FALSE),\"\")","v":""},{"$f":"IFERROR(VLOOKUP(AN140,'P2'!$B$4:$J$48,9,FALSE),\"\")","v":""},{"$f":"IFERROR(VLOOKUP(AO140,'P2'!$B$4:$J$48,9,FALSE),\"\")","v":""},{"$f":"IFERROR(VLOOKUP(AP140,'P2'!$B$4:$J$48,9,FALSE),\"\")","v":""},{"$f":"IFERROR(VLOOKUP(AQ140,'P2'!$B$4:$J$48,9,FALSE),\"\")","v":""},{"$f":"IFERROR(VLOOKUP(AR140,'P2'!$B$4:$J$48,9,FALSE),\"\")","v":""},{"$f":"IFERROR(VLOOKUP(AS140,'P2'!$B$4:$J$48,9,FALSE),\"\")","v":""},{"$f":"IFERROR(VLOOKUP(AT140,'P2'!$B$4:$J$48,9,FALSE),\"\")","v":""},{"$f":"IFERROR(VLOOKUP(AU140,'P2'!$B$4:$J$48,9,FALSE),\"\")","v":""},{"$f":"SUM(Q141:AU141)","v":0}]
[null,59,null,null,null,null,null,null,null,null,null,null,null,null,null,null,null,null,null,null,null,null,null,null,null,null,null,null,null,null,null,null,null,null,null,null,null,null,null,null,null,null,null,null,null,null,null,{"$f":"COUNTA(Q142:AU142)","v":0},{"$f":"AV143","v":0},{"$f":"IFERROR(ROUNDDOWN(AV143/$AT$3,1),\"\")","v":""}]
[null,null,null,null,null,null,null,null,null,null,null,null,null,null,null,null,{"$f":"IFERROR(VLOOKUP(Q142,'P2'!$B$4:$J$48,9,FALSE),\"\")","v":""},{"$f":"IFERROR(VLOOKUP(R142,'P2'!$B$4:$J$48,9,FALSE),\"\")","v":""},{"$f":"IFERROR(VLOOKUP(S142,'P2'!$B$4:$J$48,9,FALSE),\"\")","v":""},{"$f":"IFERROR(VLOOKUP(T142,'P2'!$B$4:$J$48,9,FALSE),\"\")","v":""},{"$f":"IFERROR(VLOOKUP(U142,'P2'!$B$4:$J$48,9,FALSE),\"\")","v":""},{"$f":"IFERROR(VLOOKUP(V142,'P2'!$B$4:$J$48,9,FALSE),\"\")","v":""},{"$f":"IFERROR(VLOOKUP(W142,'P2'!$B$4:$J$48,9,FALSE),\"\")","v":""},{"$f":"IFERROR(VLOOKUP(X142,'P2'!$B$4:$J$48,9,FALSE),\"\")","v":""},{"$f":"IFERROR(VLOOKUP(Y142,'P2'!$B$4:$J$48,9,FALSE),\"\")","v":""},{"$f":"IFERROR(VLOOKUP(Z142,'P2'!$B$4:$J$48,9,FALSE),\"\")","v":""},{"$f":"IFERROR(VLOOKUP(AA142,'P2'!$B$4:$J$48,9,FALSE),\"\")","v":""},{"$f":"IFERROR(VLOOKUP(AB142,'P2'!$B$4:$J$48,9,FALSE),\"\")","v":""},{"$f":"IFERROR(VLOOKUP(AC142,'P2'!$B$4:$J$48,9,FALSE),\"\")","v":""},{"$f":"IFERROR(VLOOKUP(AD142,'P2'!$B$4:$J$48,9,FALSE),\"\")","v":""},{"$f":"IFERROR(VLOOKUP(AE142,'P2'!$B$4:$J$48,9,FALSE),\"\")","v":""},{"$f":"IFERROR(VLOOKUP(AF142,'P2'!$B$4:$J$48,9,FALSE),\"\")","v":""},{"$f":"IFERROR(VLOOKUP(AG142,'P2'!$B$4:$J$48,9,FALSE),\"\")","v":""},{"$f":"IFERROR(VLOOKUP(AH142,'P2'!$B$4:$J$48,9,FALSE),\"\")","v":""},{"$f":"IFERROR(VLOOKUP(AI142,'P2'!$B$4:$J$48,9,FALSE),\"\")","v":""},{"$f":"IFERROR(VLOOKUP(AJ142,'P2'!$B$4:$J$48,9,FALSE),\"\")","v":""},{"$f":"IFERROR(VLOOKUP(AK142,'P2'!$B$4:$J$48,9,FALSE),\"\")","v":""},{"$f":"IFERROR(VLOOKUP(AL142,'P2'!$B$4:$J$48,9,FALSE),\"\")","v":""},{"$f":"IFERROR(VLOOKUP(AM142,'P2'!$B$4:$J$48,9,FALSE),\"\")","v":""},{"$f":"IFERROR(VLOOKUP(AN142,'P2'!$B$4:$J$48,9,FALSE),\"\")","v":""},{"$f":"IFERROR(VLOOKUP(AO142,'P2'!$B$4:$J$48,9,FALSE),\"\")","v":""},{"$f":"IFERROR(VLOOKUP(AP142,'P2'!$B$4:$J$48,9,FALSE),\"\")","v":""},{"$f":"IFERROR(VLOOKUP(AQ142,'P2'!$B$4:$J$48,9,FALSE),\"\")","v":""},{"$f":"IFERROR(VLOOKUP(AR142,'P2'!$B$4:$J$48,9,FALSE),\"\")","v":""},{"$f":"IFERROR(VLOOKUP(AS142,'P2'!$B$4:$J$48,9,FALSE),\"\")","v":""},{"$f":"IFERROR(VLOOKUP(AT142,'P2'!$B$4:$J$48,9,FALSE),\"\")","v":""},{"$f":"IFERROR(VLOOKUP(AU142,'P2'!$B$4:$J$48,9,FALSE),\"\")","v":""},{"$f":"SUM(Q143:AU143)","v":0}]
[null,60,null,null,null,null,null,null,null,null,null,null,null,null,null,null,null,null,null,null,null,null,null,null,null,null,null,null,null,null,null,null,null,null,null,null,null,null,null,null,null,null,null,null,null,null,null,{"$f":"COUNTA(Q144:AU144)","v":0},{"$f":"AV145","v":0},{"$f":"IFERROR(ROUNDDOWN(AV145/$AT$3,1),\"\")","v":""}]
[null,null,null,null,null,null,null,null,null,null,null,null,null,null,null,null,{"$f":"IFERROR(VLOOKUP(Q144,'P2'!$B$4:$J$48,9,FALSE),\"\")","v":""},{"$f":"IFERROR(VLOOKUP(R144,'P2'!$B$4:$J$48,9,FALSE),\"\")","v":""},{"$f":"IFERROR(VLOOKUP(S144,'P2'!$B$4:$J$48,9,FALSE),\"\")","v":""},{"$f":"IFERROR(VLOOKUP(T144,'P2'!$B$4:$J$48,9,FALSE),\"\")","v":""},{"$f":"IFERROR(VLOOKUP(U144,'P2'!$B$4:$J$48,9,FALSE),\"\")","v":""},{"$f":"IFERROR(VLOOKUP(V144,'P2'!$B$4:$J$48,9,FALSE),\"\")","v":""},{"$f":"IFERROR(VLOOKUP(W144,'P2'!$B$4:$J$48,9,FALSE),\"\")","v":""},{"$f":"IFERROR(VLOOKUP(X144,'P2'!$B$4:$J$48,9,FALSE),\"\")","v":""},{"$f":"IFERROR(VLOOKUP(Y144,'P2'!$B$4:$J$48,9,FALSE),\"\")","v":""},{"$f":"IFERROR(VLOOKUP(Z144,'P2'!$B$4:$J$48,9,FALSE),\"\")","v":""},{"$f":"IFERROR(VLOOKUP(AA144,'P2'!$B$4:$J$48,9,FALSE),\"\")","v":""},{"$f":"IFERROR(VLOOKUP(AB144,'P2'!$B$4:$J$48,9,FALSE),\"\")","v":""},{"$f":"IFERROR(VLOOKUP(AC144,'P2'!$B$4:$J$48,9,FALSE),\"\")","v":""},{"$f":"IFERROR(VLOOKUP(AD144,'P2'!$B$4:$J$48,9,FALSE),\"\")","v":""},{"$f":"IFERROR(VLOOKUP(AE144,'P2'!$B$4:$J$48,9,FALSE),\"\")","v":""},{"$f":"IFERROR(VLOOKUP(AF144,'P2'!$B$4:$J$48,9,FALSE),\"\")","v":""},{"$f":"IFERROR(VLOOKUP(AG144,'P2'!$B$4:$J$48,9,FALSE),\"\")","v":""},{"$f":"IFERROR(VLOOKUP(AH144,'P2'!$B$4:$J$48,9,FALSE),\"\")","v":""},{"$f":"IFERROR(VLOOKUP(AI144,'P2'!$B$4:$J$48,9,FALSE),\"\")","v":""},{"$f":"IFERROR(VLOOKUP(AJ144,'P2'!$B$4:$J$48,9,FALSE),\"\")","v":""},{"$f":"IFERROR(VLOOKUP(AK144,'P2'!$B$4:$J$48,9,FALSE),\"\")","v":""},{"$f":"IFERROR(VLOOKUP(AL144,'P2'!$B$4:$J$48,9,FALSE),\"\")","v":""},{"$f":"IFERROR(VLOOKUP(AM144,'P2'!$B$4:$J$48,9,FALSE),\"\")","v":""},{"$f":"IFERROR(VLOOKUP(AN144,'P2'!$B$4:$J$48,9,FALSE),\"\")","v":""},{"$f":"IFERROR(VLOOKUP(AO144,'P2'!$B$4:$J$48,9,FALSE),\"\")","v":""},{"$f":"IFERROR(VLOOKUP(AP144,'P2'!$B$4:$J$48,9,FALSE),\"\")","v":""},{"$f":"IFERROR(VLOOKUP(AQ144,'P2'!$B$4:$J$48,9,FALSE),\"\")","v":""},{"$f":"IFERROR(VLOOKUP(AR144,'P2'!$B$4:$J$48,9,FALSE),\"\")","v":""},{"$f":"IFERROR(VLOOKUP(AS144,'P2'!$B$4:$J$48,9,FALSE),\"\")","v":""},{"$f":"IFERROR(VLOOKUP(AT144,'P2'!$B$4:$J$48,9,FALSE),\"\")","v":""},{"$f":"IFERROR(VLOOKUP(AU144,'P2'!$B$4:$J$48,9,FALSE),\"\")","v":""},{"$f":"SUM(Q145:AU145)","v":0}]
[null,61,null,null,null,null,null,null,null,null,null,null,null,null,null,null,null,null,null,null,null,null,null,null,null,null,null,null,null,null,null,null,null,null,null,null,null,null,null,null,null,null,null,null,null,null,null,{"$f":"COUNTA(Q146:AU146)","v":0},{"$f":"AV147","v":0},{"$f":"IFERROR(ROUNDDOWN(AV147/$AT$3,1),\"\")","v":""}]
[null,null,null,null,null,null,null,null,null,null,null,null,null,null,null,null,{"$f":"IFERROR(VLOOKUP(Q146,'P2'!$B$4:$J$48,9,FALSE),\"\")","v":""},{"$f":"IFERROR(VLOOKUP(R146,'P2'!$B$4:$J$48,9,FALSE),\"\")","v":""},{"$f":"IFERROR(VLOOKUP(S146,'P2'!$B$4:$J$48,9,FALSE),\"\")","v":""},{"$f":"IFERROR(VLOOKUP(T146,'P2'!$B$4:$J$48,9,FALSE),\"\")","v":""},{"$f":"IFERROR(VLOOKUP(U146,'P2'!$B$4:$J$48,9,FALSE),\"\")","v":""},{"$f":"IFERROR(VLOOKUP(V146,'P2'!$B$4:$J$48,9,FALSE),\"\")","v":""},{"$f":"IFERROR(VLOOKUP(W146,'P2'!$B$4:$J$48,9,FALSE),\"\")","v":""},{"$f":"IFERROR(VLOOKUP(X146,'P2'!$B$4:$J$48,9,FALSE),\"\")","v":""},{"$f":"IFERROR(VLOOKUP(Y146,'P2'!$B$4:$J$48,9,FALSE),\"\")","v":""},{"$f":"IFERROR(VLOOKUP(Z146,'P2'!$B$4:$J$48,9,FALSE),\"\")","v":""},{"$f":"IFERROR(VLOOKUP(AA146,'P2'!$B$4:$J$48,9,FALSE),\"\")","v":""},{"$f":"IFERROR(VLOOKUP(AB146,'P2'!$B$4:$J$48,9,FALSE),\"\")","v":""},{"$f":"IFERROR(VLOOKUP(AC146,'P2'!$B$4:$J$48,9,FALSE),\"\")","v":""},{"$f":"IFERROR(VLOOKUP(AD146,'P2'!$B$4:$J$48,9,FALSE),\"\")","v":""},{"$f":"IFERROR(VLOOKUP(AE146,'P2'!$B$4:$J$48,9,FALSE),\"\")","v":""},{"$f":"IFERROR(VLOOKUP(AF146,'P2'!$B$4:$J$48,9,FALSE),\"\")","v":""},{"$f":"IFERROR(VLOOKUP(AG146,'P2'!$B$4:$J$48,9,FALSE),\"\")","v":""},{"$f":"IFERROR(VLOOKUP(AH146,'P2'!$B$4:$J$48,9,FALSE),\"\")","v":""},{"$f":"IFERROR(VLOOKUP(AI146,'P2'!$B$4:$J$48,9,FALSE),\"\")","v":""},{"$f":"IFERROR(VLOOKUP(AJ146,'P2'!$B$4:$J$48,9,FALSE),\"\")","v":""},{"$f":"IFERROR(VLOOKUP(AK146,'P2'!$B$4:$J$48,9,FALSE),\"\")","v":""},{"$f":"IFERROR(VLOOKUP(AL146,'P2'!$B$4:$J$48,9,FALSE),\"\")","v":""},{"$f":"IFERROR(VLOOKUP(AM146,'P2'!$B$4:$J$48,9,FALSE),\"\")","v":""},{"$f":"IFERROR(VLOOKUP(AN146,'P2'!$B$4:$J$48,9,FALSE),\"\")","v":""},{"$f":"IFERROR(VLOOKUP(AO146,'P2'!$B$4:$J$48,9,FALSE),\"\")","v":""},{"$f":"IFERROR(VLOOKUP(AP146,'P2'!$B$4:$J$48,9,FALSE),\"\")","v":""},{"$f":"IFERROR(VLOOKUP(AQ146,'P2'!$B$4:$J$48,9,FALSE),\"\")","v":""},{"$f":"IFERROR(VLOOKUP(AR146,'P2'!$B$4:$J$48,9,FALSE),\"\")","v":""},{"$f":"IFERROR(VLOOKUP(AS146,'P2'!$B$4:$J$48,9,FALSE),\"\")","v":""},{"$f":"IFERROR(VLOOKUP(AT146,'P2'!$B$4:$J$48,9,FALSE),\"\")","v":""},{"$f":"IFERROR(VLOOKUP(AU146,'P2'!$B$4:$J$48,9,FALSE),\"\")","v":""},{"$f":"SUM(Q147:AU147)","v":0}]
[null,62,null,null,null,null,null,null,null,null,null,null,null,null,null,null,null,null,null,null,null,null,null,null,null,null,null,null,null,null,null,null,null,null,null,null,null,null,null,null,null,null,null,null,null,null,null,{"$f":"COUNTA(Q148:AU148)","v":0},{"$f":"AV149","v":0},{"$f":"IFERROR(ROUNDDOWN(AV149/$AT$3,1),\"\")","v":""}]
[null,null,null,null,null,null,null,null,null,null,null,null,null,null,null,null,{"$f":"IFERROR(VLOOKUP(Q148,'P2'!$B$4:$J$48,9,FALSE),\"\")","v":""},{"$f":"IFERROR(VLOOKUP(R148,'P2'!$B$4:$J$48,9,FALSE),\"\")","v":""},{"$f":"IFERROR(VLOOKUP(S148,'P2'!$B$4:$J$48,9,FALSE),\"\")","v":""},{"$f":"IFERROR(VLOOKUP(T148,'P2'!$B$4:$J$48,9,FALSE),\"\")","v":""},{"$f":"IFERROR(VLOOKUP(U148,'P2'!$B$4:$J$48,9,FALSE),\"\")","v":""},{"$f":"IFERROR(VLOOKUP(V148,'P2'!$B$4:$J$48,9,FALSE),\"\")","v":""},{"$f":"IFERROR(VLOOKUP(W148,'P2'!$B$4:$J$48,9,FALSE),\"\")","v":""},{"$f":"IFERROR(VLOOKUP(X148,'P2'!$B$4:$J$48,9,FALSE),\"\")","v":""},{"$f":"IFERROR(VLOOKUP(Y148,'P2'!$B$4:$J$48,9,FALSE),\"\")","v":""},{"$f":"IFERROR(VLOOKUP(Z148,'P2'!$B$4:$J$48,9,FALSE),\"\")","v":""},{"$f":"IFERROR(VLOOKUP(AA148,'P2'!$B$4:$J$48,9,FALSE),\"\")","v":""},{"$f":"IFERROR(VLOOKUP(AB148,'P2'!$B$4:$J$48,9,FALSE),\"\")","v":""},{"$f":"IFERROR(VLOOKUP(AC148,'P2'!$B$4:$J$48,9,FALSE),\"\")","v":""},{"$f":"IFERROR(VLOOKUP(AD148,'P2'!$B$4:$J$48,9,FALSE),\"\")","v":""},{"$f":"IFERROR(VLOOKUP(AE148,'P2'!$B$4:$J$48,9,FALSE),\"\")","v":""},{"$f":"IFERROR(VLOOKUP(AF148,'P2'!$B$4:$J$48,9,FALSE),\"\")","v":""},{"$f":"IFERROR(VLOOKUP(AG148,'P2'!$B$4:$J$48,9,FALSE),\"\")","v":""},{"$f":"IFERROR(VLOOKUP(AH148,'P2'!$B$4:$J$48,9,FALSE),\"\")","v":""},{"$f":"IFERROR(VLOOKUP(AI148,'P2'!$B$4:$J$48,9,FALSE),\"\")","v":""},{"$f":"IFERROR(VLOOKUP(AJ148,'P2'!$B$4:$J$48,9,FALSE),\"\")","v":""},{"$f":"IFERROR(VLOOKUP(AK148,'P2'!$B$4:$J$48,9,FALSE),\"\")","v":""},{"$f":"IFERROR(VLOOKUP(AL148,'P2'!$B$4:$J$48,9,FALSE),\"\")","v":""},{"$f":"IFERROR(VLOOKUP(AM148,'P2'!$B$4:$J$48,9,FALSE),\"\")","v":""},{"$f":"IFERROR(VLOOKUP(AN148,'P2'!$B$4:$J$48,9,FALSE),\"\")","v":""},{"$f":"IFERROR(VLOOKUP(AO148,'P2'!$B$4:$J$48,9,FALSE),\"\")","v":""},{"$f":"IFERROR(VLOOKUP(AP148,'P2'!$B$4:$J$48,9,FALSE),\"\")","v":""},{"$f":"IFERROR(VLOOKUP(AQ148,'P2'!$B$4:$J$48,9,FALSE),\"\")","v":""},{"$f":"IFERROR(VLOOKUP(AR148,'P2'!$B$4:$J$48,9,FALSE),\"\")","v":""},{"$f":"IFERROR(VLOOKUP(AS148,'P2'!$B$4:$J$48,9,FALSE),\"\")","v":""},{"$f":"IFERROR(VLOOKUP(AT148,'P2'!$B$4:$J$48,9,FALSE),\"\")","v":""},{"$f":"IFERROR(VLOOKUP(AU148,'P2'!$B$4:$J$48,9,FALSE),\"\")","v":""},{"$f":"SUM(Q149:AU149)","v":0}]
[]
[]
[null,"(2)　勤務実績　（直近3か月分の実績）",null,null,null,null,null,null,null,null,null,null,null,null,null,null,null,null,"（",{"$f":"$T$3","v":"令和　7"},null,"年",{"$f":"$W$3","v":4},"月分実績",null,"）",null,null,null,null,null,null,null,null,null,null,null,null,null,null,null,null,null,null,null,null,null,null,null,{"$f":"\"4 / \"&COUNTA(C$7,C$57,C$106,C$155,C$204)","v":"4 / 1"}]
[null,null,"職　　種",null,null,null,null,null,"氏　　名",null,null,null,null,"勤務\n形態",null,null,{"$f":"Q$5","v":"2025-04-01"},{"$f":"R$5","v":"2025-04-02"},"2025-04-03","2025-04-04","2025-04-05","2025-04-06","2025-04-07","2025-04-08","2025-04-09","2025-04-10","2025-04-11","2025-04-12","2025-04-13","2025-04-14","2025-04-15","2025-04-16","2025-04-17","2025-04-18","2025-04-19","2025-04-20","2025-04-21","2025-04-22","2025-04-23","2025-04-24","2025-04-25","2025-04-26","2025-04-27","2025-04-28","2025-04-29","2025-04-30","","勤務日数",null,"常勤換算"]
[null,null,null,null,null,null,null,null,null,null,null,null,null,null,null,null,{"$f":"Q$6","v":"火"},{"$f":"R$6","v":"水"},"木","金","土","日","月","火","水","木","金","土","日","月","火","水","木","金","土","日","月","火","水","木","金","土","日","月","火","水","","勤務時間"]
[null,{"$f":"B148+1","v":63},null,null,null,null,null,null,null,null,null,null,null,null,null,null,null,null,null,null,null,null,null,null,null,null,null,null,null,null,null,null,null,null,null,null,null,null,null,null,null,null,null,null,null,null,null,{"$f":"COUNTA(Q155:AU155)","v":0},{"$f":"AV156","v":0},{"$f":"IFERROR(ROUNDDOWN(AV156/$AT$3,1),\"\")","v":""}]
[null,null,null,null,null,null,null,null,null,null,null,null,null,null,null,null,{"$f":"IFERROR(VLOOKUP(Q155,'P2'!$B$4:$J$48,9,FALSE),\"\")","v":""},{"$f":"IFERROR(VLOOKUP(R155,'P2'!$B$4:$J$48,9,FALSE),\"\")","v":""},{"$f":"IFERROR(VLOOKUP(S155,'P2'!$B$4:$J$48,9,FALSE),\"\")","v":""},{"$f":"IFERROR(VLOOKUP(T155,'P2'!$B$4:$J$48,9,FALSE),\"\")","v":""},{"$f":"IFERROR(VLOOKUP(U155,'P2'!$B$4:$J$48,9,FALSE),\"\")","v":""},{"$f":"IFERROR(VLOOKUP(V155,'P2'!$B$4:$J$48,9,FALSE),\"\")","v":""},{"$f":"IFERROR(VLOOKUP(W155,'P2'!$B$4:$J$48,9,FALSE),\"\")","v":""},{"$f":"IFERROR(VLOOKUP(X155,'P2'!$B$4:$J$48,9,FALSE),\"\")","v":""},{"$f":"IFERROR(VLOOKUP(Y155,'P2'!$B$4:$J$48,9,FALSE),\"\")","v":""},{"$f":"IFERROR(VLOOKUP(Z155,'P2'!$B$4:$J$48,9,FALSE),\"\")","v":""},{"$f":"IFERROR(VLOOKUP(AA155,'P2'!$B$4:$J$48,9,FALSE),\"\")","v":""},{"$f":"IFERROR(VLOOKUP(AB155,'P2'!$B$4:$J$48,9,FALSE),\"\")","v":""},{"$f":"IFERROR(VLOOKUP(AC155,'P2'!$B$4:$J$48,9,FALSE),\"\")","v":""},{"$f":"IFERROR(VLOOKUP(AD155,'P2'!$B$4:$J$48,9,FALSE),\"\")","v":""},{"$f":"IFERROR(VLOOKUP(AE155,'P2'!$B$4:$J$48,9,FALSE),\"\")","v":""},{"$f":"IFERROR(VLOOKUP(AF155,'P2'!$B$4:$J$48,9,FALSE),\"\")","v":""},{"$f":"IFERROR(VLOOKUP(AG155,'P2'!$B$4:$J$48,9,FALSE),\"\")","v":""},{"$f":"IFERROR(VLOOKUP(AH155,'P2'!$B$4:$J$48,9,FALSE),\"\")","v":""},{"$f":"IFERROR(VLOOKUP(AI155,'P2'!$B$4:$J$48,9,FALSE),\"\")","v":""},{"$f":"IFERROR(VLOOKUP(AJ155,'P2'!$B$4:$J$48,9,FALSE),\"\")","v":""},{"$f":"IFERROR(VLOOKUP(AK155,'P2'!$B$4:$J$48,9,FALSE),\"\")","v":""},{"$f":"IFERROR(VLOOKUP(AL155,'P2'!$B$4:$J$48,9,FALSE),\"\")","v":""},{"$f":"IFERROR(VLOOKUP(AM155,'P2'!$B$4:$J$48,9,FALSE),\"\")","v":""},{"$f":"IFERROR(VLOOKUP(AN155,'P2'!$B$4:$J$48,9,FALSE),\"\")","v":""},{"$f":"IFERROR(VLOOKUP(AO155,'P2'!$B$4:$J$48,9,FALSE),\"\")","v":""},{"$f":"IFERROR(VLOOKUP(AP155,'P2'!$B$4:$J$48,9,FALSE),\"\")","v":""},{"$f":"IFERROR(VLOOKUP(AQ155,'P2'!$B$4:$J$48,9,FALSE),\"\")","v":""},{"$f":"IFERROR(VLOOKUP(AR155,'P2'!$B$4:$J$48,9,FALSE),\"\")","v":""},{"$f":"IFERROR(VLOOKUP(AS155,'P2'!$B$4:$J$48,9,FALSE),\"\")","v":""},{"$f":"IFERROR(VLOOKUP(AT155,'P2'!$B$4:$J$48,9,FALSE),\"\")","v":""},{"$f":"IFERROR(VLOOKUP(AU155,'P2'!$B$4:$J$48,9,FALSE),\"\")","v":""},{"$f":"SUM(Q156:AU156)","v":0}]
[null,{"$f":"B155+1","v":64},null,null,null,null,null,null,null,null,null,null,null,null,null,null,null,null,null,null,null,null,null,null,null,null,null,null,null,null,null,null,null,null,null,null,null,null,null,null,null,null,null,null,null,null,null,{"$f":"COUNTA(Q157:AU157)","v":0},{"$f":"AV158","v":0},{"$f":"IFERROR(ROUNDDOWN(AV158/$AT$3,1),\"\")","v":""}]
[null,null,null,null,null,null,null,null,null,null,null,null,null,null,null,null,{"$f":"IFERROR(VLOOKUP(Q157,'P2'!$B$4:$J$48,9,FALSE),\"\")","v":""},{"$f":"IFERROR(VLOOKUP(R157,'P2'!$B$4:$J$48,9,FALSE),\"\")","v":""},{"$f":"IFERROR(VLOOKUP(S157,'P2'!$B$4:$J$48,9,FALSE),\"\")","v":""},{"$f":"IFERROR(VLOOKUP(T157,'P2'!$B$4:$J$48,9,FALSE),\"\")","v":""},{"$f":"IFERROR(VLOOKUP(U157,'P2'!$B$4:$J$48,9,FALSE),\"\")","v":""},{"$f":"IFERROR(VLOOKUP(V157,'P2'!$B$4:$J$48,9,FALSE),\"\")","v":""},{"$f":"IFERROR(VLOOKUP(W157,'P2'!$B$4:$J$48,9,FALSE),\"\")","v":""},{"$f":"IFERROR(VLOOKUP(X157,'P2'!$B$4:$J$48,9,FALSE),\"\")","v":""},{"$f":"IFERROR(VLOOKUP(Y157,'P2'!$B$4:$J$48,9,FALSE),\"\")","v":""},{"$f":"IFERROR(VLOOKUP(Z157,'P2'!$B$4:$J$48,9,FALSE),\"\")","v":""},{"$f":"IFERROR(VLOOKUP(AA157,'P2'!$B$4:$J$48,9,FALSE),\"\")","v":""},{"$f":"IFERROR(VLOOKUP(AB157,'P2'!$B$4:$J$48,9,FALSE),\"\")","v":""},{"$f":"IFERROR(VLOOKUP(AC157,'P2'!$B$4:$J$48,9,FALSE),\"\")","v":""},{"$f":"IFERROR(VLOOKUP(AD157,'P2'!$B$4:$J$48,9,FALSE),\"\")","v":""},{"$f":"IFERROR(VLOOKUP(AE157,'P2'!$B$4:$J$48,9,FALSE),\"\")","v":""},{"$f":"IFERROR(VLOOKUP(AF157,'P2'!$B$4:$J$48,9,FALSE),\"\")","v":""},{"$f":"IFERROR(VLOOKUP(AG157,'P2'!$B$4:$J$48,9,FALSE),\"\")","v":""},{"$f":"IFERROR(VLOOKUP(AH157,'P2'!$B$4:$J$48,9,FALSE),\"\")","v":""},{"$f":"IFERROR(VLOOKUP(AI157,'P2'!$B$4:$J$48,9,FALSE),\"\")","v":""},{"$f":"IFERROR(VLOOKUP(AJ157,'P2'!$B$4:$J$48,9,FALSE),\"\")","v":""},{"$f":"IFERROR(VLOOKUP(AK157,'P2'!$B$4:$J$48,9,FALSE),\"\")","v":""},{"$f":"IFERROR(VLOOKUP(AL157,'P2'!$B$4:$J$48,9,FALSE),\"\")","v":""},{"$f":"IFERROR(VLOOKUP(AM157,'P2'!$B$4:$J$48,9,FALSE),\"\")","v":""},{"$f":"IFERROR(VLOOKUP(AN157,'P2'!$B$4:$J$48,9,FALSE),\"\")","v":""},{"$f":"IFERROR(VLOOKUP(AO157,'P2'!$B$4:$J$48,9,FALSE),\"\")","v":""},{"$f":"IFERROR(VLOOKUP(AP157,'P2'!$B$4:$J$48,9,FALSE),\"\")","v":""},{"$f":"IFERROR(VLOOKUP(AQ157,'P2'!$B$4:$J$48,9,FALSE),\"\")","v":""},{"$f":"IFERROR(VLOOKUP(AR157,'P2'!$B$4:$J$48,9,FALSE),\"\")","v":""},{"$f":"IFERROR(VLOOKUP(AS157,'P2'!$B$4:$J$48,9,FALSE),\"\")","v":""},{"$f":"IFERROR(VLOOKUP(AT157,'P2'!$B$4:$J$48,9,FALSE),\"\")","v":""},{"$f":"IFERROR(VLOOKUP(AU157,'P2'!$B$4:$J$48,9,FALSE),\"\")","v":""},{"$f":"SUM(Q158:AU158)","v":0}]
[null,65,null,null,null,null,null,null,null,null,null,null,null,null,null,null,null,null,null,null,null,null,null,null,null,null,null,null,null,null,null,null,null,null,null,null,null,null,null,null,null,null,null,null,null,null,null,{"$f":"COUNTA(Q159:AU159)","v":0},{"$f":"AV160","v":0},{"$f":"IFERROR(ROUNDDOWN(AV160/$AT$3,1),\"\")","v":""}]
[null,null,null,null,null,null,null,null,null,null,null,null,null,null,null,null,{"$f":"IFERROR(VLOOKUP(Q159,'P2'!$B$4:$J$48,9,FALSE),\"\")","v":""},{"$f":"IFERROR(VLOOKUP(R159,'P2'!$B$4:$J$48,9,FALSE),\"\")","v":""},{"$f":"IFERROR(VLOOKUP(S159,'P2'!$B$4:$J$48,9,FALSE),\"\")","v":""},{"$f":"IFERROR(VLOOKUP(T159,'P2'!$B$4:$J$48,9,FALSE),\"\")","v":""},{"$f":"IFERROR(VLOOKUP(U159,'P2'!$B$4:$J$48,9,FALSE),\"\")","v":""},{"$f":"IFERROR(VLOOKUP(V159,'P2'!$B$4:$J$48,9,FALSE),\"\")","v":""},{"$f":"IFERROR(VLOOKUP(W159,'P2'!$B$4:$J$48,9,FALSE),\"\")","v":""},{"$f":"IFERROR(VLOOKUP(X159,'P2'!$B$4:$J$48,9,FALSE),\"\")","v":""},{"$f":"IFERROR(VLOOKUP(Y159,'P2'!$B$4:$J$48,9,FALSE),\"\")","v":""},{"$f":"IFERROR(VLOOKUP(Z159,'P2'!$B$4:$J$48,9,FALSE),\"\")","v":""},{"$f":"IFERROR(VLOOKUP(AA159,'P2'!$B$4:$J$48,9,FALSE),\"\")","v":""},{"$f":"IFERROR(VLOOKUP(AB159,'P2'!$B$4:$J$48,9,FALSE),\"\")","v":""},{"$f":"IFERROR(VLOOKUP(AC159,'P2'!$B$4:$J$48,9,FALSE),\"\")","v":""},{"$f":"IFERROR(VLOOKUP(AD159,'P2'!$B$4:$J$48,9,FALSE),\"\")","v":""},{"$f":"IFERROR(VLOOKUP(AE159,'P2'!$B$4:$J$48,9,FALSE),\"\")","v":""},{"$f":"IFERROR(VLOOKUP(AF159,'P2'!$B$4:$J$48,9,FALSE),\"\")","v":""},{"$f":"IFERROR(VLOOKUP(AG159,'P2'!$B$4:$J$48,9,FALSE),\"\")","v":""},{"$f":"IFERROR(VLOOKUP(AH159,'P2'!$B$4:$J$48,9,FALSE),\"\")","v":""},{"$f":"IFERROR(VLOOKUP(AI159,'P2'!$B$4:$J$48,9,FALSE),\"\")","v":""},{"$f":"IFERROR(VLOOKUP(AJ159,'P2'!$B$4:$J$48,9,FALSE),\"\")","v":""},{"$f":"IFERROR(VLOOKUP(AK159,'P2'!$B$4:$J$48,9,FALSE),\"\")","v":""},{"$f":"IFERROR(VLOOKUP(AL159,'P2'!$B$4:$J$48,9,FALSE),\"\")","v":""},{"$f":"IFERROR(VLOOKUP(AM159,'P2'!$B$4:$J$48,9,FALSE),\"\")","v":""},{"$f":"IFERROR(VLOOKUP(AN159,'P2'!$B$4:$J$48,9,FALSE),\"\")","v":""},{"$f":"IFERROR(VLOOKUP(AO159,'P2'!$B$4:$J$48,9,FALSE),\"\")","v":""},{"$f":"IFERROR(VLOOKUP(AP159,'P2'!$B$4:$J$48,9,FALSE),\"\")","v":""},{"$f":"IFERROR(VLOOKUP(AQ159,'P2'!$B$4:$J$48,9,FALSE),\"\")","v":""},{"$f":"IFERROR(VLOOKUP(AR159,'P2'!$B$4:$J$48,9,FALSE),\"\")","v":""},{"$f":"IFERROR(VLOOKUP(AS159,'P2'!$B$4:$J$48,9,FALSE),\"\")","v":""},{"$f":"IFERROR(VLOOKUP(AT159,'P2'!$B$4:$J$48,9,FALSE),\"\")","v":""},{"$f":"IFERROR(VLOOKUP(AU159,'P2'!$B$4:$J$48,9,FALSE),\"\")","v":""},{"$f":"SUM(Q160:AU160)","v":0}]
[null,66,null,null,null,null,null,null,null,null,null,null,null,null,null,null,null,null,null,null,null,null,null,null,null,null,null,null,null,null,null,null,null,null,null,null,null,null,null,null,null,null,null,null,null,null,null,{"$f":"COUNTA(Q161:AU161)","v":0},{"$f":"AV162","v":0},{"$f":"IFERROR(ROUNDDOWN(AV162/$AT$3,1),\"\")","v":""}]
[null,null,null,null,null,null,null,null,null,null,null,null,null,null,null,null,{"$f":"IFERROR(VLOOKUP(Q161,'P2'!$B$4:$J$48,9,FALSE),\"\")","v":""},{"$f":"IFERROR(VLOOKUP(R161,'P2'!$B$4:$J$48,9,FALSE),\"\")","v":""},{"$f":"IFERROR(VLOOKUP(S161,'P2'!$B$4:$J$48,9,FALSE),\"\")","v":""},{"$f":"IFERROR(VLOOKUP(T161,'P2'!$B$4:$J$48,9,FALSE),\"\")","v":""},{"$f":"IFERROR(VLOOKUP(U161,'P2'!$B$4:$J$48,9,FALSE),\"\")","v":""},{"$f":"IFERROR(VLOOKUP(V161,'P2'!$B$4:$J$48,9,FALSE),\"\")","v":""},{"$f":"IFERROR(VLOOKUP(W161,'P2'!$B$4:$J$48,9,FALSE),\"\")","v":""},{"$f":"IFERROR(VLOOKUP(X161,'P2'!$B$4:$J$48,9,FALSE),\"\")","v":""},{"$f":"IFERROR(VLOOKUP(Y161,'P2'!$B$4:$J$48,9,FALSE),\"\")","v":""},{"$f":"IFERROR(VLOOKUP(Z161,'P2'!$B$4:$J$48,9,FALSE),\"\")","v":""},{"$f":"IFERROR(VLOOKUP(AA161,'P2'!$B$4:$J$48,9,FALSE),\"\")","v":""},{"$f":"IFERROR(VLOOKUP(AB161,'P2'!$B$4:$J$48,9,FALSE),\"\")","v":""},{"$f":"IFERROR(VLOOKUP(AC161,'P2'!$B$4:$J$48,9,FALSE),\"\")","v":""},{"$f":"IFERROR(VLOOKUP(AD161,'P2'!$B$4:$J$48,9,FALSE),\"\")","v":""},{"$f":"IFERROR(VLOOKUP(AE161,'P2'!$B$4:$J$48,9,FALSE),\"\")","v":""},{"$f":"IFERROR(VLOOKUP(AF161,'P2'!$B$4:$J$48,9,FALSE),\"\")","v":""},{"$f":"IFERROR(VLOOKUP(AG161,'P2'!$B$4:$J$48,9,FALSE),\"\")","v":""},{"$f":"IFERROR(VLOOKUP(AH161,'P2'!$B$4:$J$48,9,FALSE),\"\")","v":""},{"$f":"IFERROR(VLOOKUP(AI161,'P2'!$B$4:$J$48,9,FALSE),\"\")","v":""},{"$f":"IFERROR(VLOOKUP(AJ161,'P2'!$B$4:$J$48,9,FALSE),\"\")","v":""},{"$f":"IFERROR(VLOOKUP(AK161,'P2'!$B$4:$J$48,9,FALSE),\"\")","v":""},{"$f":"IFERROR(VLOOKUP(AL161,'P2'!$B$4:$J$48,9,FALSE),\"\")","v":""},{"$f":"IFERROR(VLOOKUP(AM161,'P2'!$B$4:$J$48,9,FALSE),\"\")","v":""},{"$f":"IFERROR(VLOOKUP(AN161,'P2'!$B$4:$J$48,9,FALSE),\"\")","v":""},{"$f":"IFERROR(VLOOKUP(AO161,'P2'!$B$4:$J$48,9,FALSE),\"\")","v":""},{"$f":"IFERROR(VLOOKUP(AP161,'P2'!$B$4:$J$48,9,FALSE),\"\")","v":""},{"$f":"IFERROR(VLOOKUP(AQ161,'P2'!$B$4:$J$48,9,FALSE),\"\")","v":""},{"$f":"IFERROR(VLOOKUP(AR161,'P2'!$B$4:$J$48,9,FALSE),\"\")","v":""},{"$f":"IFERROR(VLOOKUP(AS161,'P2'!$B$4:$J$48,9,FALSE),\"\")","v":""},{"$f":"IFERROR(VLOOKUP(AT161,'P2'!$B$4:$J$48,9,FALSE),\"\")","v":""},{"$f":"IFERROR(VLOOKUP(AU161,'P2'!$B$4:$J$48,9,FALSE),\"\")","v":""},{"$f":"SUM(Q162:AU162)","v":0}]
[null,67,null,null,null,null,null,null,null,null,null,null,null,null,null,null,null,null,null,null,null,null,null,null,null,null,null,null,null,null,null,null,null,null,null,null,null,null,null,null,null,null,null,null,null,null,null,{"$f":"COUNTA(Q163:AU163)","v":0},{"$f":"AV164","v":0},{"$f":"IFERROR(ROUNDDOWN(AV164/$AT$3,1),\"\")","v":""}]
[null,null,null,null,null,null,null,null,null,null,null,null,null,null,null,null,{"$f":"IFERROR(VLOOKUP(Q163,'P2'!$B$4:$J$48,9,FALSE),\"\")","v":""},{"$f":"IFERROR(VLOOKUP(R163,'P2'!$B$4:$J$48,9,FALSE),\"\")","v":""},{"$f":"IFERROR(VLOOKUP(S163,'P2'!$B$4:$J$48,9,FALSE),\"\")","v":""},{"$f":"IFERROR(VLOOKUP(T163,'P2'!$B$4:$J$48,9,FALSE),\"\")","v":""},{"$f":"IFERROR(VLOOKUP(U163,'P2'!$B$4:$J$48,9,FALSE),\"\")","v":""},{"$f":"IFERROR(VLOOKUP(V163,'P2'!$B$4:$J$48,9,FALSE),\"\")","v":""},{"$f":"IFERROR(VLOOKUP(W163,'P2'!$B$4:$J$48,9,FALSE),\"\")","v":""},{"$f":"IFERROR(VLOOKUP(X163,'P2'!$B$4:$J$48,9,FALSE),\"\")","v":""},{"$f":"IFERROR(VLOOKUP(Y163,'P2'!$B$4:$J$48,9,FALSE),\"\")","v":""},{"$f":"IFERROR(VLOOKUP(Z163,'P2'!$B$4:$J$48,9,FALSE),\"\")","v":""},{"$f":"IFERROR(VLOOKUP(AA163,'P2'!$B$4:$J$48,9,FALSE),\"\")","v":""},{"$f":"IFERROR(VLOOKUP(AB163,'P2'!$B$4:$J$48,9,FALSE),\"\")","v":""},{"$f":"IFERROR(VLOOKUP(AC163,'P2'!$B$4:$J$48,9,FALSE),\"\")","v":""},{"$f":"IFERROR(VLOOKUP(AD163,'P2'!$B$4:$J$48,9,FALSE),\"\")","v":""},{"$f":"IFERROR(VLOOKUP(AE163,'P2'!$B$4:$J$48,9,FALSE),\"\")","v":""},{"$f":"IFERROR(VLOOKUP(AF163,'P2'!$B$4:$J$48,9,FALSE),\"\")","v":""},{"$f":"IFERROR(VLOOKUP(AG163,'P2'!$B$4:$J$48,9,FALSE),\"\")","v":""},{"$f":"IFERROR(VLOOKUP(AH163,'P2'!$B$4:$J$48,9,FALSE),\"\")","v":""},{"$f":"IFERROR(VLOOKUP(AI163,'P2'!$B$4:$J$48,9,FALSE),\"\")","v":""},{"$f":"IFERROR(VLOOKUP(AJ163,'P2'!$B$4:$J$48,9,FALSE),\"\")","v":""},{"$f":"IFERROR(VLOOKUP(AK163,'P2'!$B$4:$J$48,9,FALSE),\"\")","v":""},{"$f":"IFERROR(VLOOKUP(AL163,'P2'!$B$4:$J$48,9,FALSE),\"\")","v":""},{"$f":"IFERROR(VLOOKUP(AM163,'P2'!$B$4:$J$48,9,FALSE),\"\")","v":""},{"$f":"IFERROR(VLOOKUP(AN163,'P2'!$B$4:$J$48,9,FALSE),\"\")","v":""},{"$f":"IFERROR(VLOOKUP(AO163,'P2'!$B$4:$J$48,9,FALSE),\"\")","v":""},{"$f":"IFERROR(VLOOKUP(AP163,'P2'!$B$4:$J$48,9,FALSE),\"\")","v":""},{"$f":"IFERROR(VLOOKUP(AQ163,'P2'!$B$4:$J$48,9,FALSE),\"\")","v":""},{"$f":"IFERROR(VLOOKUP(AR163,'P2'!$B$4:$J$48,9,FALSE),\"\")","v":""},{"$f":"IFERROR(VLOOKUP(AS163,'P2'!$B$4:$J$48,9,FALSE),\"\")","v":""},{"$f":"IFERROR(VLOOKUP(AT163,'P2'!$B$4:$J$48,9,FALSE),\"\")","v":""},{"$f":"IFERROR(VLOOKUP(AU163,'P2'!$B$4:$J$48,9,FALSE),\"\")","v":""},{"$f":"SUM(Q164:AU164)","v":0}]
[null,68,null,null,null,null,null,null,null,null,null,null,null,null,null,null,null,null,null,null,null,null,null,null,null,null,null,null,null,null,null,null,null,null,null,null,null,null,null,null,null,null,null,null,null,null,null,{"$f":"COUNTA(Q165:AU165)","v":0},{"$f":"AV166","v":0},{"$f":"IFERROR(ROUNDDOWN(AV166/$AT$3,1),\"\")","v":""}]
[null,null,null,null,null,null,null,null,null,null,null,null,null,null,null,null,{"$f":"IFERROR(VLOOKUP(Q165,'P2'!$B$4:$J$48,9,FALSE),\"\")","v":""},{"$f":"IFERROR(VLOOKUP(R165,'P2'!$B$4:$J$48,9,FALSE),\"\")","v":""},{"$f":"IFERROR(VLOOKUP(S165,'P2'!$B$4:$J$48,9,FALSE),\"\")","v":""},{"$f":"IFERROR(VLOOKUP(T165,'P2'!$B$4:$J$48,9,FALSE),\"\")","v":""},{"$f":"IFERROR(VLOOKUP(U165,'P2'!$B$4:$J$48,9,FALSE),\"\")","v":""},{"$f":"IFERROR(VLOOKUP(V165,'P2'!$B$4:$J$48,9,FALSE),\"\")","v":""},{"$f":"IFERROR(VLOOKUP(W165,'P2'!$B$4:$J$48,9,FALSE),\"\")","v":""},{"$f":"IFERROR(VLOOKUP(X165,'P2'!$B$4:$J$48,9,FALSE),\"\")","v":""},{"$f":"IFERROR(VLOOKUP(Y165,'P2'!$B$4:$J$48,9,FALSE),\"\")","v":""},{"$f":"IFERROR(VLOOKUP(Z165,'P2'!$B$4:$J$48,9,FALSE),\"\")","v":""},{"$f":"IFERROR(VLOOKUP(AA165,'P2'!$B$4:$J$48,9,FALSE),\"\")","v":""},{"$f":"IFERROR(VLOOKUP(AB165,'P2'!$B$4:$J$48,9,FALSE),\"\")","v":""},{"$f":"IFERROR(VLOOKUP(AC165,'P2'!$B$4:$J$48,9,FALSE),\"\")","v":""},{"$f":"IFERROR(VLOOKUP(AD165,'P2'!$B$4:$J$48,9,FALSE),\"\")","v":""},{"$f":"IFERROR(VLOOKUP(AE165,'P2'!$B$4:$J$48,9,FALSE),\"\")","v":""},{"$f":"IFERROR(VLOOKUP(AF165,'P2'!$B$4:$J$48,9,FALSE),\"\")","v":""},{"$f":"IFERROR(VLOOKUP(AG165,'P2'!$B$4:$J$48,9,FALSE),\"\")","v":""},{"$f":"IFERROR(VLOOKUP(AH165,'P2'!$B$4:$J$48,9,FALSE),\"\")","v":""},{"$f":"IFERROR(VLOOKUP(AI165,'P2'!$B$4:$J$48,9,FALSE),\"\")","v":""},{"$f":"IFERROR(VLOOKUP(AJ165,'P2'!$B$4:$J$48,9,FALSE),\"\")","v":""},{"$f":"IFERROR(VLOOKUP(AK165,'P2'!$B$4:$J$48,9,FALSE),\"\")","v":""},{"$f":"IFERROR(VLOOKUP(AL165,'P2'!$B$4:$J$48,9,FALSE),\"\")","v":""},{"$f":"IFERROR(VLOOKUP(AM165,'P2'!$B$4:$J$48,9,FALSE),\"\")","v":""},{"$f":"IFERROR(VLOOKUP(AN165,'P2'!$B$4:$J$48,9,FALSE),\"\")","v":""},{"$f":"IFERROR(VLOOKUP(AO165,'P2'!$B$4:$J$48,9,FALSE),\"\")","v":""},{"$f":"IFERROR(VLOOKUP(AP165,'P2'!$B$4:$J$48,9,FALSE),\"\")","v":""},{"$f":"IFERROR(VLOOKUP(AQ165,'P2'!$B$4:$J$48,9,FALSE),\"\")","v":""},{"$f":"IFERROR(VLOOKUP(AR165,'P2'!$B$4:$J$48,9,FALSE),\"\")","v":""},{"$f":"IFERROR(VLOOKUP(AS165,'P2'!$B$4:$J$48,9,FALSE),\"\")","v":""},{"$f":"IFERROR(VLOOKUP(AT165,'P2'!$B$4:$J$48,9,FALSE),\"\")","v":""},{"$f":"IFERROR(VLOOKUP(AU165,'P2'!$B$4:$J$48,9,FALSE),\"\")","v":""},{"$f":"SUM(Q166:AU166)","v":0}]
[null,69,null,null,null,null,null,null,null,null,null,null,null,null,null,null,null,null,null,null,null,null,null,null,null,null,null,null,null,null,null,null,null,null,null,null,null,null,null,null,null,null,null,null,null,null,null,{"$f":"COUNTA(Q167:AU167)","v":0},{"$f":"AV168","v":0},{"$f":"IFERROR(ROUNDDOWN(AV168/$AT$3,1),\"\")","v":""}]
[null,null,null,null,null,null,null,null,null,null,null,null,null,null,null,null,{"$f":"IFERROR(VLOOKUP(Q167,'P2'!$B$4:$J$48,9,FALSE),\"\")","v":""},{"$f":"IFERROR(VLOOKUP(R167,'P2'!$B$4:$J$48,9,FALSE),\"\")","v":""},{"$f":"IFERROR(VLOOKUP(S167,'P2'!$B$4:$J$48,9,FALSE),\"\")","v":""},{"$f":"IFERROR(VLOOKUP(T167,'P2'!$B$4:$J$48,9,FALSE),\"\")","v":""},{"$f":"IFERROR(VLOOKUP(U167,'P2'!$B$4:$J$48,9,FALSE),\"\")","v":""},{"$f":"IFERROR(VLOOKUP(V167,'P2'!$B$4:$J$48,9,FALSE),\"\")","v":""},{"$f":"IFERROR(VLOOKUP(W167,'P2'!$B$4:$J$48,9,FALSE),\"\")","v":""},{"$f":"IFERROR(VLOOKUP(X167,'P2'!$B$4:$J$48,9,FALSE),\"\")","v":""},{"$f":"IFERROR(VLOOKUP(Y167,'P2'!$B$4:$J$48,9,FALSE),\"\")","v":""},{"$f":"IFERROR(VLOOKUP(Z167,'P2'!$B$4:$J$48,9,FALSE),\"\")","v":""},{"$f":"IFERROR(VLOOKUP(AA167,'P2'!$B$4:$J$48,9,FALSE),\"\")","v":""},{"$f":"IFERROR(VLOOKUP(AB167,'P2'!$B$4:$J$48,9,FALSE),\"\")","v":""},{"$f":"IFERROR(VLOOKUP(AC167,'P2'!$B$4:$J$48,9,FALSE),\"\")","v":""},{"$f":"IFERROR(VLOOKUP(AD167,'P2'!$B$4:$J$48,9,FALSE),\"\")","v":""},{"$f":"IFERROR(VLOOKUP(AE167,'P2'!$B$4:$J$48,9,FALSE),\"\")","v":""},{"$f":"IFERROR(VLOOKUP(AF167,'P2'!$B$4:$J$48,9,FALSE),\"\")","v":""},{"$f":"IFERROR(VLOOKUP(AG167,'P2'!$B$4:$J$48,9,FALSE),\"\")","v":""},{"$f":"IFERROR(VLOOKUP(AH167,'P2'!$B$4:$J$48,9,FALSE),\"\")","v":""},{"$f":"IFERROR(VLOOKUP(AI167,'P2'!$B$4:$J$48,9,FALSE),\"\")","v":""},{"$f":"IFERROR(VLOOKUP(AJ167,'P2'!$B$4:$J$48,9,FALSE),\"\")","v":""},{"$f":"IFERROR(VLOOKUP(AK167,'P2'!$B$4:$J$48,9,FALSE),\"\")","v":""},{"$f":"IFERROR(VLOOKUP(AL167,'P2'!$B$4:$J$48,9,FALSE),\"\")","v":""},{"$f":"IFERROR(VLOOKUP(AM167,'P2'!$B$4:$J$48,9,FALSE),\"\")","v":""},{"$f":"IFERROR(VLOOKUP(AN167,'P2'!$B$4:$J$48,9,FALSE),\"\")","v":""},{"$f":"IFERROR(VLOOKUP(AO167,'P2'!$B$4:$J$48,9,FALSE),\"\")","v":""},{"$f":"IFERROR(VLOOKUP(AP167,'P2'!$B$4:$J$48,9,FALSE),\"\")","v":""},{"$f":"IFERROR(VLOOKUP(AQ167,'P2'!$B$4:$J$48,9,FALSE),\"\")","v":""},{"$f":"IFERROR(VLOOKUP(AR167,'P2'!$B$4:$J$48,9,FALSE),\"\")","v":""},{"$f":"IFERROR(VLOOKUP(AS167,'P2'!$B$4:$J$48,9,FALSE),\"\")","v":""},{"$f":"IFERROR(VLOOKUP(AT167,'P2'!$B$4:$J$48,9,FALSE),\"\")","v":""},{"$f":"IFERROR(VLOOKUP(AU167,'P2'!$B$4:$J$48,9,FALSE),\"\")","v":""},{"$f":"SUM(Q168:AU168)","v":0}]
[null,70,null,null,null,null,null,null,null,null,null,null,null,null,null,null,null,null,null,null,null,null,null,null,null,null,null,null,null,null,null,null,null,null,null,null,null,null,null,null,null,null,null,null,null,null,null,{"$f":"COUNTA(Q169:AU169)","v":0},{"$f":"AV170","v":0},{"$f":"IFERROR(ROUNDDOWN(AV170/$AT$3,1),\"\")","v":""}]
[null,null,null,null,null,null,null,null,null,null,null,null,null,null,null,null,{"$f":"IFERROR(VLOOKUP(Q169,'P2'!$B$4:$J$48,9,FALSE),\"\")","v":""},{"$f":"IFERROR(VLOOKUP(R169,'P2'!$B$4:$J$48,9,FALSE),\"\")","v":""},{"$f":"IFERROR(VLOOKUP(S169,'P2'!$B$4:$J$48,9,FALSE),\"\")","v":""},{"$f":"IFERROR(VLOOKUP(T169,'P2'!$B$4:$J$48,9,FALSE),\"\")","v":""},{"$f":"IFERROR(VLOOKUP(U169,'P2'!$B$4:$J$48,9,FALSE),\"\")","v":""},{"$f":"IFERROR(VLOOKUP(V169,'P2'!$B$4:$J$48,9,FALSE),\"\")","v":""},{"$f":"IFERROR(VLOOKUP(W169,'P2'!$B$4:$J$48,9,FALSE),\"\")","v":""},{"$f":"IFERROR(VLOOKUP(X169,'P2'!$B$4:$J$48,9,FALSE),\"\")","v":""},{"$f":"IFERROR(VLOOKUP(Y169,'P2'!$B$4:$J$48,9,FALSE),\"\")","v":""},{"$f":"IFERROR(VLOOKUP(Z169,'P2'!$B$4:$J$48,9,FALSE),\"\")","v":""},{"$f":"IFERROR(VLOOKUP(AA169,'P2'!$B$4:$J$48,9,FALSE),\"\")","v":""},{"$f":"IFERROR(VLOOKUP(AB169,'P2'!$B$4:$J$48,9,FALSE),\"\")","v":""},{"$f":"IFERROR(VLOOKUP(AC169,'P2'!$B$4:$J$48,9,FALSE),\"\")","v":""},{"$f":"IFERROR(VLOOKUP(AD169,'P2'!$B$4:$J$48,9,FALSE),\"\")","v":""},{"$f":"IFERROR(VLOOKUP(AE169,'P2'!$B$4:$J$48,9,FALSE),\"\")","v":""},{"$f":"IFERROR(VLOOKUP(AF169,'P2'!$B$4:$J$48,9,FALSE),\"\")","v":""},{"$f":"IFERROR(VLOOKUP(AG169,'P2'!$B$4:$J$48,9,FALSE),\"\")","v":""},{"$f":"IFERROR(VLOOKUP(AH169,'P2'!$B$4:$J$48,9,FALSE),\"\")","v":""},{"$f":"IFERROR(VLOOKUP(AI169,'P2'!$B$4:$J$48,9,FALSE),\"\")","v":""},{"$f":"IFERROR(VLOOKUP(AJ169,'P2'!$B$4:$J$48,9,FALSE),\"\")","v":""},{"$f":"IFERROR(VLOOKUP(AK169,'P2'!$B$4:$J$48,9,FALSE),\"\")","v":""},{"$f":"IFERROR(VLOOKUP(AL169,'P2'!$B$4:$J$48,9,FALSE),\"\")","v":""},{"$f":"IFERROR(VLOOKUP(AM169,'P2'!$B$4:$J$48,9,FALSE),\"\")","v":""},{"$f":"IFERROR(VLOOKUP(AN169,'P2'!$B$4:$J$48,9,FALSE),\"\")","v":""},{"$f":"IFERROR(VLOOKUP(AO169,'P2'!$B$4:$J$48,9,FALSE),\"\")","v":""},{"$f":"IFERROR(VLOOKUP(AP169,'P2'!$B$4:$J$48,9,FALSE),\"\")","v":""},{"$f":"IFERROR(VLOOKUP(AQ169,'P2'!$B$4:$J$48,9,FALSE),\"\")","v":""},{"$f":"IFERROR(VLOOKUP(AR169,'P2'!$B$4:$J$48,9,FALSE),\"\")","v":""},{"$f":"IFERROR(VLOOKUP(AS169,'P2'!$B$4:$J$48,9,FALSE),\"\")","v":""},{"$f":"IFERROR(VLOOKUP(AT169,'P2'!$B$4:$J$48,9,FALSE),\"\")","v":""},{"$f":"IFERROR(VLOOKUP(AU169,'P2'!$B$4:$J$48,9,FALSE),\"\")","v":""},{"$f":"SUM(Q170:AU170)","v":0}]
[null,71,null,null,null,null,null,null,null,null,null,null,null,null,null,null,null,null,null,null,null,null,null,null,null,null,null,null,null,null,null,null,null,null,null,null,null,null,null,null,null,null,null,null,null,null,null,{"$f":"COUNTA(Q171:AU171)","v":0},{"$f":"AV172","v":0},{"$f":"IFERROR(ROUNDDOWN(AV172/$AT$3,1),\"\")","v":""}]
[null,null,null,null,null,null,null,null,null,null,null,null,null,null,null,null,{"$f":"IFERROR(VLOOKUP(Q171,'P2'!$B$4:$J$48,9,FALSE),\"\")","v":""},{"$f":"IFERROR(VLOOKUP(R171,'P2'!$B$4:$J$48,9,FALSE),\"\")","v":""},{"$f":"IFERROR(VLOOKUP(S171,'P2'!$B$4:$J$48,9,FALSE),\"\")","v":""},{"$f":"IFERROR(VLOOKUP(T171,'P2'!$B$4:$J$48,9,FALSE),\"\")","v":""},{"$f":"IFERROR(VLOOKUP(U171,'P2'!$B$4:$J$48,9,FALSE),\"\")","v":""},{"$f":"IFERROR(VLOOKUP(V171,'P2'!$B$4:$J$48,9,FALSE),\"\")","v":""},{"$f":"IFERROR(VLOOKUP(W171,'P2'!$B$4:$J$48,9,FALSE),\"\")","v":""},{"$f":"IFERROR(VLOOKUP(X171,'P2'!$B$4:$J$48,9,FALSE),\"\")","v":""},{"$f":"IFERROR(VLOOKUP(Y171,'P2'!$B$4:$J$48,9,FALSE),\"\")","v":""},{"$f":"IFERROR(VLOOKUP(Z171,'P2'!$B$4:$J$48,9,FALSE),\"\")","v":""},{"$f":"IFERROR(VLOOKUP(AA171,'P2'!$B$4:$J$48,9,FALSE),\"\")","v":""},{"$f":"IFERROR(VLOOKUP(AB171,'P2'!$B$4:$J$48,9,FALSE),\"\")","v":""},{"$f":"IFERROR(VLOOKUP(AC171,'P2'!$B$4:$J$48,9,FALSE),\"\")","v":""},{"$f":"IFERROR(VLOOKUP(AD171,'P2'!$B$4:$J$48,9,FALSE),\"\")","v":""},{"$f":"IFERROR(VLOOKUP(AE171,'P2'!$B$4:$J$48,9,FALSE),\"\")","v":""},{"$f":"IFERROR(VLOOKUP(AF171,'P2'!$B$4:$J$48,9,FALSE),\"\")","v":""},{"$f":"IFERROR(VLOOKUP(AG171,'P2'!$B$4:$J$48,9,FALSE),\"\")","v":""},{"$f":"IFERROR(VLOOKUP(AH171,'P2'!$B$4:$J$48,9,FALSE),\"\")","v":""},{"$f":"IFERROR(VLOOKUP(AI171,'P2'!$B$4:$J$48,9,FALSE),\"\")","v":""},{"$f":"IFERROR(VLOOKUP(AJ171,'P2'!$B$4:$J$48,9,FALSE),\"\")","v":""},{"$f":"IFERROR(VLOOKUP(AK171,'P2'!$B$4:$J$48,9,FALSE),\"\")","v":""},{"$f":"IFERROR(VLOOKUP(AL171,'P2'!$B$4:$J$48,9,FALSE),\"\")","v":""},{"$f":"IFERROR(VLOOKUP(AM171,'P2'!$B$4:$J$48,9,FALSE),\"\")","v":""},{"$f":"IFERROR(VLOOKUP(AN171,'P2'!$B$4:$J$48,9,FALSE),\"\")","v":""},{"$f":"IFERROR(VLOOKUP(AO171,'P2'!$B$4:$J$48,9,FALSE),\"\")","v":""},{"$f":"IFERROR(VLOOKUP(AP171,'P2'!$B$4:$J$48,9,FALSE),\"\")","v":""},{"$f":"IFERROR(VLOOKUP(AQ171,'P2'!$B$4:$J$48,9,FALSE),\"\")","v":""},{"$f":"IFERROR(VLOOKUP(AR171,'P2'!$B$4:$J$48,9,FALSE),\"\")","v":""},{"$f":"IFERROR(VLOOKUP(AS171,'P2'!$B$4:$J$48,9,FALSE),\"\")","v":""},{"$f":"IFERROR(VLOOKUP(AT171,'P2'!$B$4:$J$48,9,FALSE),\"\")","v":""},{"$f":"IFERROR(VLOOKUP(AU171,'P2'!$B$4:$J$48,9,FALSE),\"\")","v":""},{"$f":"SUM(Q172:AU172)","v":0}]
[null,72,null,null,null,null,null,null,null,null,null,null,null,null,null,null,null,null,null,null,null,null,null,null,null,null,null,null,null,null,null,null,null,null,null,null,null,null,null,null,null,null,null,null,null,null,null,{"$f":"COUNTA(Q173:AU173)","v":0},{"$f":"AV174","v":0},{"$f":"IFERROR(ROUNDDOWN(AV174/$AT$3,1),\"\")","v":""}]
[null,null,null,null,null,null,null,null,null,null,null,null,null,null,null,null,{"$f":"IFERROR(VLOOKUP(Q173,'P2'!$B$4:$J$48,9,FALSE),\"\")","v":""},{"$f":"IFERROR(VLOOKUP(R173,'P2'!$B$4:$J$48,9,FALSE),\"\")","v":""},{"$f":"IFERROR(VLOOKUP(S173,'P2'!$B$4:$J$48,9,FALSE),\"\")","v":""},{"$f":"IFERROR(VLOOKUP(T173,'P2'!$B$4:$J$48,9,FALSE),\"\")","v":""},{"$f":"IFERROR(VLOOKUP(U173,'P2'!$B$4:$J$48,9,FALSE),\"\")","v":""},{"$f":"IFERROR(VLOOKUP(V173,'P2'!$B$4:$J$48,9,FALSE),\"\")","v":""},{"$f":"IFERROR(VLOOKUP(W173,'P2'!$B$4:$J$48,9,FALSE),\"\")","v":""},{"$f":"IFERROR(VLOOKUP(X173,'P2'!$B$4:$J$48,9,FALSE),\"\")","v":""},{"$f":"IFERROR(VLOOKUP(Y173,'P2'!$B$4:$J$48,9,FALSE),\"\")","v":""},{"$f":"IFERROR(VLOOKUP(Z173,'P2'!$B$4:$J$48,9,FALSE),\"\")","v":""},{"$f":"IFERROR(VLOOKUP(AA173,'P2'!$B$4:$J$48,9,FALSE),\"\")","v":""},{"$f":"IFERROR(VLOOKUP(AB173,'P2'!$B$4:$J$48,9,FALSE),\"\")","v":""},{"$f":"IFERROR(VLOOKUP(AC173,'P2'!$B$4:$J$48,9,FALSE),\"\")","v":""},{"$f":"IFERROR(VLOOKUP(AD173,'P2'!$B$4:$J$48,9,FALSE),\"\")","v":""},{"$f":"IFERROR(VLOOKUP(AE173,'P2'!$B$4:$J$48,9,FALSE),\"\")","v":""},{"$f":"IFERROR(VLOOKUP(AF173,'P2'!$B$4:$J$48,9,FALSE),\"\")","v":""},{"$f":"IFERROR(VLOOKUP(AG173,'P2'!$B$4:$J$48,9,FALSE),\"\")","v":""},{"$f":"IFERROR(VLOOKUP(AH173,'P2'!$B$4:$J$48,9,FALSE),\"\")","v":""},{"$f":"IFERROR(VLOOKUP(AI173,'P2'!$B$4:$J$48,9,FALSE),\"\")","v":""},{"$f":"IFERROR(VLOOKUP(AJ173,'P2'!$B$4:$J$48,9,FALSE),\"\")","v":""},{"$f":"IFERROR(VLOOKUP(AK173,'P2'!$B$4:$J$48,9,FALSE),\"\")","v":""},{"$f":"IFERROR(VLOOKUP(AL173,'P2'!$B$4:$J$48,9,FALSE),\"\")","v":""},{"$f":"IFERROR(VLOOKUP(AM173,'P2'!$B$4:$J$48,9,FALSE),\"\")","v":""},{"$f":"IFERROR(VLOOKUP(AN173,'P2'!$B$4:$J$48,9,FALSE),\"\")","v":""},{"$f":"IFERROR(VLOOKUP(AO173,'P2'!$B$4:$J$48,9,FALSE),\"\")","v":""},{"$f":"IFERROR(VLOOKUP(AP173,'P2'!$B$4:$J$48,9,FALSE),\"\")","v":""},{"$f":"IFERROR(VLOOKUP(AQ173,'P2'!$B$4:$J$48,9,FALSE),\"\")","v":""},{"$f":"IFERROR(VLOOKUP(AR173,'P2'!$B$4:$J$48,9,FALSE),\"\")","v":""},{"$f":"IFERROR(VLOOKUP(AS173,'P2'!$B$4:$J$48,9,FALSE),\"\")","v":""},{"$f":"IFERROR(VLOOKUP(AT173,'P2'!$B$4:$J$48,9,FALSE),\"\")","v":""},{"$f":"IFERROR(VLOOKUP(AU173,'P2'!$B$4:$J$48,9,FALSE),\"\")","v":""},{"$f":"SUM(Q174:AU174)","v":0}]
[null,73,null,null,null,null,null,null,null,null,null,null,null,null,null,null,null,null,null,null,null,null,null,null,null,null,null,null,null,null,null,null,null,null,null,null,null,null,null,null,null,null,null,null,null,null,null,{"$f":"COUNTA(Q175:AU175)","v":0},{"$f":"AV176","v":0},{"$f":"IFERROR(ROUNDDOWN(AV176/$AT$3,1),\"\")","v":""}]
[null,null,null,null,null,null,null,null,null,null,null,null,null,null,null,null,{"$f":"IFERROR(VLOOKUP(Q175,'P2'!$B$4:$J$48,9,FALSE),\"\")","v":""},{"$f":"IFERROR(VLOOKUP(R175,'P2'!$B$4:$J$48,9,FALSE),\"\")","v":""},{"$f":"IFERROR(VLOOKUP(S175,'P2'!$B$4:$J$48,9,FALSE),\"\")","v":""},{"$f":"IFERROR(VLOOKUP(T175,'P2'!$B$4:$J$48,9,FALSE),\"\")","v":""},{"$f":"IFERROR(VLOOKUP(U175,'P2'!$B$4:$J$48,9,FALSE),\"\")","v":""},{"$f":"IFERROR(VLOOKUP(V175,'P2'!$B$4:$J$48,9,FALSE),\"\")","v":""},{"$f":"IFERROR(VLOOKUP(W175,'P2'!$B$4:$J$48,9,FALSE),\"\")","v":""},{"$f":"IFERROR(VLOOKUP(X175,'P2'!$B$4:$J$48,9,FALSE),\"\")","v":""},{"$f":"IFERROR(VLOOKUP(Y175,'P2'!$B$4:$J$48,9,FALSE),\"\")","v":""},{"$f":"IFERROR(VLOOKUP(Z175,'P2'!$B$4:$J$48,9,FALSE),\"\")","v":""},{"$f":"IFERROR(VLOOKUP(AA175,'P2'!$B$4:$J$48,9,FALSE),\"\")","v":""},{"$f":"IFERROR(VLOOKUP(AB175,'P2'!$B$4:$J$48,9,FALSE),\"\")","v":""},{"$f":"IFERROR(VLOOKUP(AC175,'P2'!$B$4:$J$48,9,FALSE),\"\")","v":""},{"$f":"IFERROR(VLOOKUP(AD175,'P2'!$B$4:$J$48,9,FALSE),\"\")","v":""},{"$f":"IFERROR(VLOOKUP(AE175,'P2'!$B$4:$J$48,9,FALSE),\"\")","v":""},{"$f":"IFERROR(VLOOKUP(AF175,'P2'!$B$4:$J$48,9,FALSE),\"\")","v":""},{"$f":"IFERROR(VLOOKUP(AG175,'P2'!$B$4:$J$48,9,FALSE),\"\")","v":""},{"$f":"IFERROR(VLOOKUP(AH175,'P2'!$B$4:$J$48,9,FALSE),\"\")","v":""},{"$f":"IFERROR(VLOOKUP(AI175,'P2'!$B$4:$J$48,9,FALSE),\"\")","v":""},{"$f":"IFERROR(VLOOKUP(AJ175,'P2'!$B$4:$J$48,9,FALSE),\"\")","v":""},{"$f":"IFERROR(VLOOKUP(AK175,'P2'!$B$4:$J$48,9,FALSE),\"\")","v":""},{"$f":"IFERROR(VLOOKUP(AL175,'P2'!$B$4:$J$48,9,FALSE),\"\")","v":""},{"$f":"IFERROR(VLOOKUP(AM175,'P2'!$B$4:$J$48,9,FALSE),\"\")","v":""},{"$f":"IFERROR(VLOOKUP(AN175,'P2'!$B$4:$J$48,9,FALSE),\"\")","v":""},{"$f":"IFERROR(VLOOKUP(AO175,'P2'!$B$4:$J$48,9,FALSE),\"\")","v":""},{"$f":"IFERROR(VLOOKUP(AP175,'P2'!$B$4:$J$48,9,FALSE),\"\")","v":""},{"$f":"IFERROR(VLOOKUP(AQ175,'P2'!$B$4:$J$48,9,FALSE),\"\")","v":""},{"$f":"IFERROR(VLOOKUP(AR175,'P2'!$B$4:$J$48,9,FALSE),\"\")","v":""},{"$f":"IFERROR(VLOOKUP(AS175,'P2'!$B$4:$J$48,9,FALSE),\"\")","v":""},{"$f":"IFERROR(VLOOKUP(AT175,'P2'!$B$4:$J$48,9,FALSE),\"\")","v":""},{"$f":"IFERROR(VLOOKUP(AU175,'P2'!$B$4:$J$48,9,FALSE),\"\")","v":""},{"$f":"SUM(Q176:AU176)","v":0}]
[null,74,null,null,null,null,null,null,null,null,null,null,null,null,null,null,null,null,null,null,null,null,null,null,null,null,null,null,null,null,null,null,null,null,null,null,null,null,null,null,null,null,null,null,null,null,null,{"$f":"COUNTA(Q177:AU177)","v":0},{"$f":"AV178","v":0},{"$f":"IFERROR(ROUNDDOWN(AV178/$AT$3,1),\"\")","v":""}]
[null,null,null,null,null,null,null,null,null,null,null,null,null,null,null,null,{"$f":"IFERROR(VLOOKUP(Q177,'P2'!$B$4:$J$48,9,FALSE),\"\")","v":""},{"$f":"IFERROR(VLOOKUP(R177,'P2'!$B$4:$J$48,9,FALSE),\"\")","v":""},{"$f":"IFERROR(VLOOKUP(S177,'P2'!$B$4:$J$48,9,FALSE),\"\")","v":""},{"$f":"IFERROR(VLOOKUP(T177,'P2'!$B$4:$J$48,9,FALSE),\"\")","v":""},{"$f":"IFERROR(VLOOKUP(U177,'P2'!$B$4:$J$48,9,FALSE),\"\")","v":""},{"$f":"IFERROR(VLOOKUP(V177,'P2'!$B$4:$J$48,9,FALSE),\"\")","v":""},{"$f":"IFERROR(VLOOKUP(W177,'P2'!$B$4:$J$48,9,FALSE),\"\")","v":""},{"$f":"IFERROR(VLOOKUP(X177,'P2'!$B$4:$J$48,9,FALSE),\"\")","v":""},{"$f":"IFERROR(VLOOKUP(Y177,'P2'!$B$4:$J$48,9,FALSE),\"\")","v":""},{"$f":"IFERROR(VLOOKUP(Z177,'P2'!$B$4:$J$48,9,FALSE),\"\")","v":""},{"$f":"IFERROR(VLOOKUP(AA177,'P2'!$B$4:$J$48,9,FALSE),\"\")","v":""},{"$f":"IFERROR(VLOOKUP(AB177,'P2'!$B$4:$J$48,9,FALSE),\"\")","v":""},{"$f":"IFERROR(VLOOKUP(AC177,'P2'!$B$4:$J$48,9,FALSE),\"\")","v":""},{"$f":"IFERROR(VLOOKUP(AD177,'P2'!$B$4:$J$48,9,FALSE),\"\")","v":""},{"$f":"IFERROR(VLOOKUP(AE177,'P2'!$B$4:$J$48,9,FALSE),\"\")","v":""},{"$f":"IFERROR(VLOOKUP(AF177,'P2'!$B$4:$J$48,9,FALSE),\"\")","v":""},{"$f":"IFERROR(VLOOKUP(AG177,'P2'!$B$4:$J$48,9,FALSE),\"\")","v":""},{"$f":"IFERROR(VLOOKUP(AH177,'P2'!$B$4:$J$48,9,FALSE),\"\")","v":""},{"$f":"IFERROR(VLOOKUP(AI177,'P2'!$B$4:$J$48,9,FALSE),\"\")","v":""},{"$f":"IFERROR(VLOOKUP(AJ177,'P2'!$B$4:$J$48,9,FALSE),\"\")","v":""},{"$f":"IFERROR(VLOOKUP(AK177,'P2'!$B$4:$J$48,9,FALSE),\"\")","v":""},{"$f":"IFERROR(VLOOKUP(AL177,'P2'!$B$4:$J$48,9,FALSE),\"\")","v":""},{"$f":"IFERROR(VLOOKUP(AM177,'P2'!$B$4:$J$48,9,FALSE),\"\")","v":""},{"$f":"IFERROR(VLOOKUP(AN177,'P2'!$B$4:$J$48,9,FALSE),\"\")","v":""},{"$f":"IFERROR(VLOOKUP(AO177,'P2'!$B$4:$J$48,9,FALSE),\"\")","v":""},{"$f":"IFERROR(VLOOKUP(AP177,'P2'!$B$4:$J$48,9,FALSE),\"\")","v":""},{"$f":"IFERROR(VLOOKUP(AQ177,'P2'!$B$4:$J$48,9,FALSE),\"\")","v":""},{"$f":"IFERROR(VLOOKUP(AR177,'P2'!$B$4:$J$48,9,FALSE),\"\")","v":""},{"$f":"IFERROR(VLOOKUP(AS177,'P2'!$B$4:$J$48,9,FALSE),\"\")","v":""},{"$f":"IFERROR(VLOOKUP(AT177,'P2'!$B$4:$J$48,9,FALSE),\"\")","v":""},{"$f":"IFERROR(VLOOKUP(AU177,'P2'!$B$4:$J$48,9,FALSE),\"\")","v":""},{"$f":"SUM(Q178:AU178)","v":0}]
[null,75,null,null,null,null,null,null,null,null,null,null,null,null,null,null,null,null,null,null,null,null,null,null,null,null,null,null,null,null,null,null,null,null,null,null,null,null,null,null,null,null,null,null,null,null,null,{"$f":"COUNTA(Q179:AU179)","v":0},{"$f":"AV180","v":0},{"$f":"IFERROR(ROUNDDOWN(AV180/$AT$3,1),\"\")","v":""}]
[null,null,null,null,null,null,null,null,null,null,null,null,null,null,null,null,{"$f":"IFERROR(VLOOKUP(Q179,'P2'!$B$4:$J$48,9,FALSE),\"\")","v":""},{"$f":"IFERROR(VLOOKUP(R179,'P2'!$B$4:$J$48,9,FALSE),\"\")","v":""},{"$f":"IFERROR(VLOOKUP(S179,'P2'!$B$4:$J$48,9,FALSE),\"\")","v":""},{"$f":"IFERROR(VLOOKUP(T179,'P2'!$B$4:$J$48,9,FALSE),\"\")","v":""},{"$f":"IFERROR(VLOOKUP(U179,'P2'!$B$4:$J$48,9,FALSE),\"\")","v":""},{"$f":"IFERROR(VLOOKUP(V179,'P2'!$B$4:$J$48,9,FALSE),\"\")","v":""},{"$f":"IFERROR(VLOOKUP(W179,'P2'!$B$4:$J$48,9,FALSE),\"\")","v":""},{"$f":"IFERROR(VLOOKUP(X179,'P2'!$B$4:$J$48,9,FALSE),\"\")","v":""},{"$f":"IFERROR(VLOOKUP(Y179,'P2'!$B$4:$J$48,9,FALSE),\"\")","v":""},{"$f":"IFERROR(VLOOKUP(Z179,'P2'!$B$4:$J$48,9,FALSE),\"\")","v":""},{"$f":"IFERROR(VLOOKUP(AA179,'P2'!$B$4:$J$48,9,FALSE),\"\")","v":""},{"$f":"IFERROR(VLOOKUP(AB179,'P2'!$B$4:$J$48,9,FALSE),\"\")","v":""},{"$f":"IFERROR(VLOOKUP(AC179,'P2'!$B$4:$J$48,9,FALSE),\"\")","v":""},{"$f":"IFERROR(VLOOKUP(AD179,'P2'!$B$4:$J$48,9,FALSE),\"\")","v":""},{"$f":"IFERROR(VLOOKUP(AE179,'P2'!$B$4:$J$48,9,FALSE),\"\")","v":""},{"$f":"IFERROR(VLOOKUP(AF179,'P2'!$B$4:$J$48,9,FALSE),\"\")","v":""},{"$f":"IFERROR(VLOOKUP(AG179,'P2'!$B$4:$J$48,9,FALSE),\"\")","v":""},{"$f":"IFERROR(VLOOKUP(AH179,'P2'!$B$4:$J$48,9,FALSE),\"\")","v":""},{"$f":"IFERROR(VLOOKUP(AI179,'P2'!$B$4:$J$48,9,FALSE),\"\")","v":""},{"$f":"IFERROR(VLOOKUP(AJ179,'P2'!$B$4:$J$48,9,FALSE),\"\")","v":""},{"$f":"IFERROR(VLOOKUP(AK179,'P2'!$B$4:$J$48,9,FALSE),\"\")","v":""},{"$f":"IFERROR(VLOOKUP(AL179,'P2'!$B$4:$J$48,9,FALSE),\"\")","v":""},{"$f":"IFERROR(VLOOKUP(AM179,'P2'!$B$4:$J$48,9,FALSE),\"\")","v":""},{"$f":"IFERROR(VLOOKUP(AN179,'P2'!$B$4:$J$48,9,FALSE),\"\")","v":""},{"$f":"IFERROR(VLOOKUP(AO179,'P2'!$B$4:$J$48,9,FALSE),\"\")","v":""},{"$f":"IFERROR(VLOOKUP(AP179,'P2'!$B$4:$J$48,9,FALSE),\"\")","v":""},{"$f":"IFERROR(VLOOKUP(AQ179,'P2'!$B$4:$J$48,9,FALSE),\"\")","v":""},{"$f":"IFERROR(VLOOKUP(AR179,'P2'!$B$4:$J$48,9,FALSE),\"\")","v":""},{"$f":"IFERROR(VLOOKUP(AS179,'P2'!$B$4:$J$48,9,FALSE),\"\")","v":""},{"$f":"IFERROR(VLOOKUP(AT179,'P2'!$B$4:$J$48,9,FALSE),\"\")","v":""},{"$f":"IFERROR(VLOOKUP(AU179,'P2'!$B$4:$J$48,9,FALSE),\"\")","v":""},{"$f":"SUM(Q180:AU180)","v":0}]
[null,76,null,null,null,null,null,null,null,null,null,null,null,null,null,null,null,null,null,null,null,null,null,null,null,null,null,null,null,null,null,null,null,null,null,null,null,null,null,null,null,null,null,null,null,null,null,{"$f":"COUNTA(Q181:AU181)","v":0},{"$f":"AV182","v":0},{"$f":"IFERROR(ROUNDDOWN(AV182/$AT$3,1),\"\")","v":""}]
[null,null,null,null,null,null,null,null,null,null,null,null,null,null,null,null,{"$f":"IFERROR(VLOOKUP(Q181,'P2'!$B$4:$J$48,9,FALSE),\"\")","v":""},{"$f":"IFERROR(VLOOKUP(R181,'P2'!$B$4:$J$48,9,FALSE),\"\")","v":""},{"$f":"IFERROR(VLOOKUP(S181,'P2'!$B$4:$J$48,9,FALSE),\"\")","v":""},{"$f":"IFERROR(VLOOKUP(T181,'P2'!$B$4:$J$48,9,FALSE),\"\")","v":""},{"$f":"IFERROR(VLOOKUP(U181,'P2'!$B$4:$J$48,9,FALSE),\"\")","v":""},{"$f":"IFERROR(VLOOKUP(V181,'P2'!$B$4:$J$48,9,FALSE),\"\")","v":""},{"$f":"IFERROR(VLOOKUP(W181,'P2'!$B$4:$J$48,9,FALSE),\"\")","v":""},{"$f":"IFERROR(VLOOKUP(X181,'P2'!$B$4:$J$48,9,FALSE),\"\")","v":""},{"$f":"IFERROR(VLOOKUP(Y181,'P2'!$B$4:$J$48,9,FALSE),\"\")","v":""},{"$f":"IFERROR(VLOOKUP(Z181,'P2'!$B$4:$J$48,9,FALSE),\"\")","v":""},{"$f":"IFERROR(VLOOKUP(AA181,'P2'!$B$4:$J$48,9,FALSE),\"\")","v":""},{"$f":"IFERROR(VLOOKUP(AB181,'P2'!$B$4:$J$48,9,FALSE),\"\")","v":""},{"$f":"IFERROR(VLOOKUP(AC181,'P2'!$B$4:$J$48,9,FALSE),\"\")","v":""},{"$f":"IFERROR(VLOOKUP(AD181,'P2'!$B$4:$J$48,9,FALSE),\"\")","v":""},{"$f":"IFERROR(VLOOKUP(AE181,'P2'!$B$4:$J$48,9,FALSE),\"\")","v":""},{"$f":"IFERROR(VLOOKUP(AF181,'P2'!$B$4:$J$48,9,FALSE),\"\")","v":""},{"$f":"IFERROR(VLOOKUP(AG181,'P2'!$B$4:$J$48,9,FALSE),\"\")","v":""},{"$f":"IFERROR(VLOOKUP(AH181,'P2'!$B$4:$J$48,9,FALSE),\"\")","v":""},{"$f":"IFERROR(VLOOKUP(AI181,'P2'!$B$4:$J$48,9,FALSE),\"\")","v":""},{"$f":"IFERROR(VLOOKUP(AJ181,'P2'!$B$4:$J$48,9,FALSE),\"\")","v":""},{"$f":"IFERROR(VLOOKUP(AK181,'P2'!$B$4:$J$48,9,FALSE),\"\")","v":""},{"$f":"IFERROR(VLOOKUP(AL181,'P2'!$B$4:$J$48,9,FALSE),\"\")","v":""},{"$f":"IFERROR(VLOOKUP(AM181,'P2'!$B$4:$J$48,9,FALSE),\"\")","v":""},{"$f":"IFERROR(VLOOKUP(AN181,'P2'!$B$4:$J$48,9,FALSE),\"\")","v":""},{"$f":"IFERROR(VLOOKUP(AO181,'P2'!$B$4:$J$48,9,FALSE),\"\")","v":""},{"$f":"IFERROR(VLOOKUP(AP181,'P2'!$B$4:$J$48,9,FALSE),\"\")","v":""},{"$f":"IFERROR(VLOOKUP(AQ181,'P2'!$B$4:$J$48,9,FALSE),\"\")","v":""},{"$f":"IFERROR(VLOOKUP(AR181,'P2'!$B$4:$J$48,9,FALSE),\"\")","v":""},{"$f":"IFERROR(VLOOKUP(AS181,'P2'!$B$4:$J$48,9,FALSE),\"\")","v":""},{"$f":"IFERROR(VLOOKUP(AT181,'P2'!$B$4:$J$48,9,FALSE),\"\")","v":""},{"$f":"IFERROR(VLOOKUP(AU181,'P2'!$B$4:$J$48,9,FALSE),\"\")","v":""},{"$f":"SUM(Q182:AU182)","v":0}]
[null,77,null,null,null,null,null,null,null,null,null,null,null,null,null,null,null,null,null,null,null,null,null,null,null,null,null,null,null,null,null,null,null,null,null,null,null,null,null,null,null,null,null,null,null,null,null,{"$f":"COUNTA(Q183:AU183)","v":0},{"$f":"AV184","v":0},{"$f":"IFERROR(ROUNDDOWN(AV184/$AT$3,1),\"\")","v":""}]
[null,null,null,null,null,null,null,null,null,null,null,null,null,null,null,null,{"$f":"IFERROR(VLOOKUP(Q183,'P2'!$B$4:$J$48,9,FALSE),\"\")","v":""},{"$f":"IFERROR(VLOOKUP(R183,'P2'!$B$4:$J$48,9,FALSE),\"\")","v":""},{"$f":"IFERROR(VLOOKUP(S183,'P2'!$B$4:$J$48,9,FALSE),\"\")","v":""},{"$f":"IFERROR(VLOOKUP(T183,'P2'!$B$4:$J$48,9,FALSE),\"\")","v":""},{"$f":"IFERROR(VLOOKUP(U183,'P2'!$B$4:$J$48,9,FALSE),\"\")","v":""},{"$f":"IFERROR(VLOOKUP(V183,'P2'!$B$4:$J$48,9,FALSE),\"\")","v":""},{"$f":"IFERROR(VLOOKUP(W183,'P2'!$B$4:$J$48,9,FALSE),\"\")","v":""},{"$f":"IFERROR(VLOOKUP(X183,'P2'!$B$4:$J$48,9,FALSE),\"\")","v":""},{"$f":"IFERROR(VLOOKUP(Y183,'P2'!$B$4:$J$48,9,FALSE),\"\")","v":""},{"$f":"IFERROR(VLOOKUP(Z183,'P2'!$B$4:$J$48,9,FALSE),\"\")","v":""},{"$f":"IFERROR(VLOOKUP(AA183,'P2'!$B$4:$J$48,9,FALSE),\"\")","v":""},{"$f":"IFERROR(VLOOKUP(AB183,'P2'!$B$4:$J$48,9,FALSE),\"\")","v":""},{"$f":"IFERROR(VLOOKUP(AC183,'P2'!$B$4:$J$48,9,FALSE),\"\")","v":""},{"$f":"IFERROR(VLOOKUP(AD183,'P2'!$B$4:$J$48,9,FALSE),\"\")","v":""},{"$f":"IFERROR(VLOOKUP(AE183,'P2'!$B$4:$J$48,9,FALSE),\"\")","v":""},{"$f":"IFERROR(VLOOKUP(AF183,'P2'!$B$4:$J$48,9,FALSE),\"\")","v":""},{"$f":"IFERROR(VLOOKUP(AG183,'P2'!$B$4:$J$48,9,FALSE),\"\")","v":""},{"$f":"IFERROR(VLOOKUP(AH183,'P2'!$B$4:$J$48,9,FALSE),\"\")","v":""},{"$f":"IFERROR(VLOOKUP(AI183,'P2'!$B$4:$J$48,9,FALSE),\"\")","v":""},{"$f":"IFERROR(VLOOKUP(AJ183,'P2'!$B$4:$J$48,9,FALSE),\"\")","v":""},{"$f":"IFERROR(VLOOKUP(AK183,'P2'!$B$4:$J$48,9,FALSE),\"\")","v":""},{"$f":"IFERROR(VLOOKUP(AL183,'P2'!$B$4:$J$48,9,FALSE),\"\")","v":""},{"$f":"IFERROR(VLOOKUP(AM183,'P2'!$B$4:$J$48,9,FALSE),\"\")","v":""},{"$f":"IFERROR(VLOOKUP(AN183,'P2'!$B$4:$J$48,9,FALSE),\"\")","v":""},{"$f":"IFERROR(VLOOKUP(AO183,'P2'!$B$4:$J$48,9,FALSE),\"\")","v":""},{"$f":"IFERROR(VLOOKUP(AP183,'P2'!$B$4:$J$48,9,FALSE),\"\")","v":""},{"$f":"IFERROR(VLOOKUP(AQ183,'P2'!$B$4:$J$48,9,FALSE),\"\")","v":""},{"$f":"IFERROR(VLOOKUP(AR183,'P2'!$B$4:$J$48,9,FALSE),\"\")","v":""},{"$f":"IFERROR(VLOOKUP(AS183,'P2'!$B$4:$J$48,9,FALSE),\"\")","v":""},{"$f":"IFERROR(VLOOKUP(AT183,'P2'!$B$4:$J$48,9,FALSE),\"\")","v":""},{"$f":"IFERROR(VLOOKUP(AU183,'P2'!$B$4:$J$48,9,FALSE),\"\")","v":""},{"$f":"SUM(Q184:AU184)","v":0}]
[null,78,null,null,null,null,null,null,null,null,null,null,null,null,null,null,null,null,null,null,null,null,null,null,null,null,null,null,null,null,null,null,null,null,null,null,null,null,null,null,null,null,null,null,null,null,null,{"$f":"COUNTA(Q185:AU185)","v":0},{"$f":"AV186","v":0},{"$f":"IFERROR(ROUNDDOWN(AV186/$AT$3,1),\"\")","v":""}]
[null,null,null,null,null,null,null,null,null,null,null,null,null,null,null,null,{"$f":"IFERROR(VLOOKUP(Q185,'P2'!$B$4:$J$48,9,FALSE),\"\")","v":""},{"$f":"IFERROR(VLOOKUP(R185,'P2'!$B$4:$J$48,9,FALSE),\"\")","v":""},{"$f":"IFERROR(VLOOKUP(S185,'P2'!$B$4:$J$48,9,FALSE),\"\")","v":""},{"$f":"IFERROR(VLOOKUP(T185,'P2'!$B$4:$J$48,9,FALSE),\"\")","v":""},{"$f":"IFERROR(VLOOKUP(U185,'P2'!$B$4:$J$48,9,FALSE),\"\")","v":""},{"$f":"IFERROR(VLOOKUP(V185,'P2'!$B$4:$J$48,9,FALSE),\"\")","v":""},{"$f":"IFERROR(VLOOKUP(W185,'P2'!$B$4:$J$48,9,FALSE),\"\")","v":""},{"$f":"IFERROR(VLOOKUP(X185,'P2'!$B$4:$J$48,9,FALSE),\"\")","v":""},{"$f":"IFERROR(VLOOKUP(Y185,'P2'!$B$4:$J$48,9,FALSE),\"\")","v":""},{"$f":"IFERROR(VLOOKUP(Z185,'P2'!$B$4:$J$48,9,FALSE),\"\")","v":""},{"$f":"IFERROR(VLOOKUP(AA185,'P2'!$B$4:$J$48,9,FALSE),\"\")","v":""},{"$f":"IFERROR(VLOOKUP(AB185,'P2'!$B$4:$J$48,9,FALSE),\"\")","v":""},{"$f":"IFERROR(VLOOKUP(AC185,'P2'!$B$4:$J$48,9,FALSE),\"\")","v":""},{"$f":"IFERROR(VLOOKUP(AD185,'P2'!$B$4:$J$48,9,FALSE),\"\")","v":""},{"$f":"IFERROR(VLOOKUP(AE185,'P2'!$B$4:$J$48,9,FALSE),\"\")","v":""},{"$f":"IFERROR(VLOOKUP(AF185,'P2'!$B$4:$J$48,9,FALSE),\"\")","v":""},{"$f":"IFERROR(VLOOKUP(AG185,'P2'!$B$4:$J$48,9,FALSE),\"\")","v":""},{"$f":"IFERROR(VLOOKUP(AH185,'P2'!$B$4:$J$48,9,FALSE),\"\")","v":""},{"$f":"IFERROR(VLOOKUP(AI185,'P2'!$B$4:$J$48,9,FALSE),\"\")","v":""},{"$f":"IFERROR(VLOOKUP(AJ185,'P2'!$B$4:$J$48,9,FALSE),\"\")","v":""},{"$f":"IFERROR(VLOOKUP(AK185,'P2'!$B$4:$J$48,9,FALSE),\"\")","v":""},{"$f":"IFERROR(VLOOKUP(AL185,'P2'!$B$4:$J$48,9,FALSE),\"\")","v":""},{"$f":"IFERROR(VLOOKUP(AM185,'P2'!$B$4:$J$48,9,FALSE),\"\")","v":""},{"$f":"IFERROR(VLOOKUP(AN185,'P2'!$B$4:$J$48,9,FALSE),\"\")","v":""},{"$f":"IFERROR(VLOOKUP(AO185,'P2'!$B$4:$J$48,9,FALSE),\"\")","v":""},{"$f":"IFERROR(VLOOKUP(AP185,'P2'!$B$4:$J$48,9,FALSE),\"\")","v":""},{"$f":"IFERROR(VLOOKUP(AQ185,'P2'!$B$4:$J$48,9,FALSE),\"\")","v":""},{"$f":"IFERROR(VLOOKUP(AR185,'P2'!$B$4:$J$48,9,FALSE),\"\")","v":""},{"$f":"IFERROR(VLOOKUP(AS185,'P2'!$B$4:$J$48,9,FALSE),\"\")","v":""},{"$f":"IFERROR(VLOOKUP(AT185,'P2'!$B$4:$J$48,9,FALSE),\"\")","v":""},{"$f":"IFERROR(VLOOKUP(AU185,'P2'!$B$4:$J$48,9,FALSE),\"\")","v":""},{"$f":"SUM(Q186:AU186)","v":0}]
[null,79,null,null,null,null,null,null,null,null,null,null,null,null,null,null,null,null,null,null,null,null,null,null,null,null,null,null,null,null,null,null,null,null,null,null,null,null,null,null,null,null,null,null,null,null,null,{"$f":"COUNTA(Q187:AU187)","v":0},{"$f":"AV188","v":0},{"$f":"IFERROR(ROUNDDOWN(AV188/$AT$3,1),\"\")","v":""}]
[null,null,null,null,null,null,null,null,null,null,null,null,null,null,null,null,{"$f":"IFERROR(VLOOKUP(Q187,'P2'!$B$4:$J$48,9,FALSE),\"\")","v":""},{"$f":"IFERROR(VLOOKUP(R187,'P2'!$B$4:$J$48,9,FALSE),\"\")","v":""},{"$f":"IFERROR(VLOOKUP(S187,'P2'!$B$4:$J$48,9,FALSE),\"\")","v":""},{"$f":"IFERROR(VLOOKUP(T187,'P2'!$B$4:$J$48,9,FALSE),\"\")","v":""},{"$f":"IFERROR(VLOOKUP(U187,'P2'!$B$4:$J$48,9,FALSE),\"\")","v":""},{"$f":"IFERROR(VLOOKUP(V187,'P2'!$B$4:$J$48,9,FALSE),\"\")","v":""},{"$f":"IFERROR(VLOOKUP(W187,'P2'!$B$4:$J$48,9,FALSE),\"\")","v":""},{"$f":"IFERROR(VLOOKUP(X187,'P2'!$B$4:$J$48,9,FALSE),\"\")","v":""},{"$f":"IFERROR(VLOOKUP(Y187,'P2'!$B$4:$J$48,9,FALSE),\"\")","v":""},{"$f":"IFERROR(VLOOKUP(Z187,'P2'!$B$4:$J$48,9,FALSE),\"\")","v":""},{"$f":"IFERROR(VLOOKUP(AA187,'P2'!$B$4:$J$48,9,FALSE),\"\")","v":""},{"$f":"IFERROR(VLOOKUP(AB187,'P2'!$B$4:$J$48,9,FALSE),\"\")","v":""},{"$f":"IFERROR(VLOOKUP(AC187,'P2'!$B$4:$J$48,9,FALSE),\"\")","v":""},{"$f":"IFERROR(VLOOKUP(AD187,'P2'!$B$4:$J$48,9,FALSE),\"\")","v":""},{"$f":"IFERROR(VLOOKUP(AE187,'P2'!$B$4:$J$48,9,FALSE),\"\")","v":""},{"$f":"IFERROR(VLOOKUP(AF187,'P2'!$B$4:$J$48,9,FALSE),\"\")","v":""},{"$f":"IFERROR(VLOOKUP(AG187,'P2'!$B$4:$J$48,9,FALSE),\"\")","v":""},{"$f":"IFERROR(VLOOKUP(AH187,'P2'!$B$4:$J$48,9,FALSE),\"\")","v":""},{"$f":"IFERROR(VLOOKUP(AI187,'P2'!$B$4:$J$48,9,FALSE),\"\")","v":""},{"$f":"IFERROR(VLOOKUP(AJ187,'P2'!$B$4:$J$48,9,FALSE),\"\")","v":""},{"$f":"IFERROR(VLOOKUP(AK187,'P2'!$B$4:$J$48,9,FALSE),\"\")","v":""},{"$f":"IFERROR(VLOOKUP(AL187,'P2'!$B$4:$J$48,9,FALSE),\"\")","v":""},{"$f":"IFERROR(VLOOKUP(AM187,'P2'!$B$4:$J$48,9,FALSE),\"\")","v":""},{"$f":"IFERROR(VLOOKUP(AN187,'P2'!$B$4:$J$48,9,FALSE),\"\")","v":""},{"$f":"IFERROR(VLOOKUP(AO187,'P2'!$B$4:$J$48,9,FALSE),\"\")","v":""},{"$f":"IFERROR(VLOOKUP(AP187,'P2'!$B$4:$J$48,9,FALSE),\"\")","v":""},{"$f":"IFERROR(VLOOKUP(AQ187,'P2'!$B$4:$J$48,9,FALSE),\"\")","v":""},{"$f":"IFERROR(VLOOKUP(AR187,'P2'!$B$4:$J$48,9,FALSE),\"\")","v":""},{"$f":"IFERROR(VLOOKUP(AS187,'P2'!$B$4:$J$48,9,FALSE),\"\")","v":""},{"$f":"IFERROR(VLOOKUP(AT187,'P2'!$B$4:$J$48,9,FALSE),\"\")","v":""},{"$f":"IFERROR(VLOOKUP(AU187,'P2'!$B$4:$J$48,9,FALSE),\"\")","v":""},{"$f":"SUM(Q188:AU188)","v":0}]
[null,80,null,null,null,null,null,null,null,null,null,null,null,null,null,null,null,null,null,null,null,null,null,null,null,null,null,null,null,null,null,null,null,null,null,null,null,null,null,null,null,null,null,null,null,null,null,{"$f":"COUNTA(Q189:AU189)","v":0},{"$f":"AV190","v":0},{"$f":"IFERROR(ROUNDDOWN(AV190/$AT$3,1),\"\")","v":""}]
[null,null,null,null,null,null,null,null,null,null,null,null,null,null,null,null,{"$f":"IFERROR(VLOOKUP(Q189,'P2'!$B$4:$J$48,9,FALSE),\"\")","v":""},{"$f":"IFERROR(VLOOKUP(R189,'P2'!$B$4:$J$48,9,FALSE),\"\")","v":""},{"$f":"IFERROR(VLOOKUP(S189,'P2'!$B$4:$J$48,9,FALSE),\"\")","v":""},{"$f":"IFERROR(VLOOKUP(T189,'P2'!$B$4:$J$48,9,FALSE),\"\")","v":""},{"$f":"IFERROR(VLOOKUP(U189,'P2'!$B$4:$J$48,9,FALSE),\"\")","v":""},{"$f":"IFERROR(VLOOKUP(V189,'P2'!$B$4:$J$48,9,FALSE),\"\")","v":""},{"$f":"IFERROR(VLOOKUP(W189,'P2'!$B$4:$J$48,9,FALSE),\"\")","v":""},{"$f":"IFERROR(VLOOKUP(X189,'P2'!$B$4:$J$48,9,FALSE),\"\")","v":""},{"$f":"IFERROR(VLOOKUP(Y189,'P2'!$B$4:$J$48,9,FALSE),\"\")","v":""},{"$f":"IFERROR(VLOOKUP(Z189,'P2'!$B$4:$J$48,9,FALSE),\"\")","v":""},{"$f":"IFERROR(VLOOKUP(AA189,'P2'!$B$4:$J$48,9,FALSE),\"\")","v":""},{"$f":"IFERROR(VLOOKUP(AB189,'P2'!$B$4:$J$48,9,FALSE),\"\")","v":""},{"$f":"IFERROR(VLOOKUP(AC189,'P2'!$B$4:$J$48,9,FALSE),\"\")","v":""},{"$f":"IFERROR(VLOOKUP(AD189,'P2'!$B$4:$J$48,9,FALSE),\"\")","v":""},{"$f":"IFERROR(VLOOKUP(AE189,'P2'!$B$4:$J$48,9,FALSE),\"\")","v":""},{"$f":"IFERROR(VLOOKUP(AF189,'P2'!$B$4:$J$48,9,FALSE),\"\")","v":""},{"$f":"IFERROR(VLOOKUP(AG189,'P2'!$B$4:$J$48,9,FALSE),\"\")","v":""},{"$f":"IFERROR(VLOOKUP(AH189,'P2'!$B$4:$J$48,9,FALSE),\"\")","v":""},{"$f":"IFERROR(VLOOKUP(AI189,'P2'!$B$4:$J$48,9,FALSE),\"\")","v":""},{"$f":"IFERROR(VLOOKUP(AJ189,'P2'!$B$4:$J$48,9,FALSE),\"\")","v":""},{"$f":"IFERROR(VLOOKUP(AK189,'P2'!$B$4:$J$48,9,FALSE),\"\")","v":""},{"$f":"IFERROR(VLOOKUP(AL189,'P2'!$B$4:$J$48,9,FALSE),\"\")","v":""},{"$f":"IFERROR(VLOOKUP(AM189,'P2'!$B$4:$J$48,9,FALSE),\"\")","v":""},{"$f":"IFERROR(VLOOKUP(AN189,'P2'!$B$4:$J$48,9,FALSE),\"\")","v":""},{"$f":"IFERROR(VLOOKUP(AO189,'P2'!$B$4:$J$48,9,FALSE),\"\")","v":""},{"$f":"IFERROR(VLOOKUP(AP189,'P2'!$B$4:$J$48,9,FALSE),\"\")","v":""},{"$f":"IFERROR(VLOOKUP(AQ189,'P2'!$B$4:$J$48,9,FALSE),\"\")","v":""},{"$f":"IFERROR(VLOOKUP(AR189,'P2'!$B$4:$J$48,9,FALSE),\"\")","v":""},{"$f":"IFERROR(VLOOKUP(AS189,'P2'!$B$4:$J$48,9,FALSE),\"\")","v":""},{"$f":"IFERROR(VLOOKUP(AT189,'P2'!$B$4:$J$48,9,FALSE),\"\")","v":""},{"$f":"IFERROR(VLOOKUP(AU189,'P2'!$B$4:$J$48,9,FALSE),\"\")","v":""},{"$f":"SUM(Q190:AU190)","v":0}]
[null,81,null,null,null,null,null,null,null,null,null,null,null,null,null,null,null,null,null,null,null,null,null,null,null,null,null,null,null,null,null,null,null,null,null,null,null,null,null,null,null,null,null,null,null,null,null,{"$f":"COUNTA(Q191:AU191)","v":0},{"$f":"AV192","v":0},{"$f":"IFERROR(ROUNDDOWN(AV192/$AT$3,1),\"\")","v":""}]
[null,null,null,null,null,null,null,null,null,null,null,null,null,null,null,null,{"$f":"IFERROR(VLOOKUP(Q191,'P2'!$B$4:$J$48,9,FALSE),\"\")","v":""},{"$f":"IFERROR(VLOOKUP(R191,'P2'!$B$4:$J$48,9,FALSE),\"\")","v":""},{"$f":"IFERROR(VLOOKUP(S191,'P2'!$B$4:$J$48,9,FALSE),\"\")","v":""},{"$f":"IFERROR(VLOOKUP(T191,'P2'!$B$4:$J$48,9,FALSE),\"\")","v":""},{"$f":"IFERROR(VLOOKUP(U191,'P2'!$B$4:$J$48,9,FALSE),\"\")","v":""},{"$f":"IFERROR(VLOOKUP(V191,'P2'!$B$4:$J$48,9,FALSE),\"\")","v":""},{"$f":"IFERROR(VLOOKUP(W191,'P2'!$B$4:$J$48,9,FALSE),\"\")","v":""},{"$f":"IFERROR(VLOOKUP(X191,'P2'!$B$4:$J$48,9,FALSE),\"\")","v":""},{"$f":"IFERROR(VLOOKUP(Y191,'P2'!$B$4:$J$48,9,FALSE),\"\")","v":""},{"$f":"IFERROR(VLOOKUP(Z191,'P2'!$B$4:$J$48,9,FALSE),\"\")","v":""},{"$f":"IFERROR(VLOOKUP(AA191,'P2'!$B$4:$J$48,9,FALSE),\"\")","v":""},{"$f":"IFERROR(VLOOKUP(AB191,'P2'!$B$4:$J$48,9,FALSE),\"\")","v":""},{"$f":"IFERROR(VLOOKUP(AC191,'P2'!$B$4:$J$48,9,FALSE),\"\")","v":""},{"$f":"IFERROR(VLOOKUP(AD191,'P2'!$B$4:$J$48,9,FALSE),\"\")","v":""},{"$f":"IFERROR(VLOOKUP(AE191,'P2'!$B$4:$J$48,9,FALSE),\"\")","v":""},{"$f":"IFERROR(VLOOKUP(AF191,'P2'!$B$4:$J$48,9,FALSE),\"\")","v":""},{"$f":"IFERROR(VLOOKUP(AG191,'P2'!$B$4:$J$48,9,FALSE),\"\")","v":""},{"$f":"IFERROR(VLOOKUP(AH191,'P2'!$B$4:$J$48,9,FALSE),\"\")","v":""},{"$f":"IFERROR(VLOOKUP(AI191,'P2'!$B$4:$J$48,9,FALSE),\"\")","v":""},{"$f":"IFERROR(VLOOKUP(AJ191,'P2'!$B$4:$J$48,9,FALSE),\"\")","v":""},{"$f":"IFERROR(VLOOKUP(AK191,'P2'!$B$4:$J$48,9,FALSE),\"\")","v":""},{"$f":"IFERROR(VLOOKUP(AL191,'P2'!$B$4:$J$48,9,FALSE),\"\")","v":""},{"$f":"IFERROR(VLOOKUP(AM191,'P2'!$B$4:$J$48,9,FALSE),\"\")","v":""},{"$f":"IFERROR(VLOOKUP(AN191,'P2'!$B$4:$J$48,9,FALSE),\"\")","v":""},{"$f":"IFERROR(VLOOKUP(AO191,'P2'!$B$4:$J$48,9,FALSE),\"\")","v":""},{"$f":"IFERROR(VLOOKUP(AP191,'P2'!$B$4:$J$48,9,FALSE),\"\")","v":""},{"$f":"IFERROR(VLOOKUP(AQ191,'P2'!$B$4:$J$48,9,FALSE),\"\")","v":""},{"$f":"IFERROR(VLOOKUP(AR191,'P2'!$B$4:$J$48,9,FALSE),\"\")","v":""},{"$f":"IFERROR(VLOOKUP(AS191,'P2'!$B$4:$J$48,9,FALSE),\"\")","v":""},{"$f":"IFERROR(VLOOKUP(AT191,'P2'!$B$4:$J$48,9,FALSE),\"\")","v":""},{"$f":"IFERROR(VLOOKUP(AU191,'P2'!$B$4:$J$48,9,FALSE),\"\")","v":""},{"$f":"SUM(Q192:AU192)","v":0}]
[null,82,null,null,null,null,null,null,null,null,null,null,null,null,null,null,null,null,null,null,null,null,null,null,null,null,null,null,null,null,null,null,null,null,null,null,null,null,null,null,null,null,null,null,null,null,null,{"$f":"COUNTA(Q193:AU193)","v":0},{"$f":"AV194","v":0},{"$f":"IFERROR(ROUNDDOWN(AV194/$AT$3,1),\"\")","v":""}]
[null,null,null,null,null,null,null,null,null,null,null,null,null,null,null,null,{"$f":"IFERROR(VLOOKUP(Q193,'P2'!$B$4:$J$48,9,FALSE),\"\")","v":""},{"$f":"IFERROR(VLOOKUP(R193,'P2'!$B$4:$J$48,9,FALSE),\"\")","v":""},{"$f":"IFERROR(VLOOKUP(S193,'P2'!$B$4:$J$48,9,FALSE),\"\")","v":""},{"$f":"IFERROR(VLOOKUP(T193,'P2'!$B$4:$J$48,9,FALSE),\"\")","v":""},{"$f":"IFERROR(VLOOKUP(U193,'P2'!$B$4:$J$48,9,FALSE),\"\")","v":""},{"$f":"IFERROR(VLOOKUP(V193,'P2'!$B$4:$J$48,9,FALSE),\"\")","v":""},{"$f":"IFERROR(VLOOKUP(W193,'P2'!$B$4:$J$48,9,FALSE),\"\")","v":""},{"$f":"IFERROR(VLOOKUP(X193,'P2'!$B$4:$J$48,9,FALSE),\"\")","v":""},{"$f":"IFERROR(VLOOKUP(Y193,'P2'!$B$4:$J$48,9,FALSE),\"\")","v":""},{"$f":"IFERROR(VLOOKUP(Z193,'P2'!$B$4:$J$48,9,FALSE),\"\")","v":""},{"$f":"IFERROR(VLOOKUP(AA193,'P2'!$B$4:$J$48,9,FALSE),\"\")","v":""},{"$f":"IFERROR(VLOOKUP(AB193,'P2'!$B$4:$J$48,9,FALSE),\"\")","v":""},{"$f":"IFERROR(VLOOKUP(AC193,'P2'!$B$4:$J$48,9,FALSE),\"\")","v":""},{"$f":"IFERROR(VLOOKUP(AD193,'P2'!$B$4:$J$48,9,FALSE),\"\")","v":""},{"$f":"IFERROR(VLOOKUP(AE193,'P2'!$B$4:$J$48,9,FALSE),\"\")","v":""},{"$f":"IFERROR(VLOOKUP(AF193,'P2'!$B$4:$J$48,9,FALSE),\"\")","v":""},{"$f":"IFERROR(VLOOKUP(AG193,'P2'!$B$4:$J$48,9,FALSE),\"\")","v":""},{"$f":"IFERROR(VLOOKUP(AH193,'P2'!$B$4:$J$48,9,FALSE),\"\")","v":""},{"$f":"IFERROR(VLOOKUP(AI193,'P2'!$B$4:$J$48,9,FALSE),\"\")","v":""},{"$f":"IFERROR(VLOOKUP(AJ193,'P2'!$B$4:$J$48,9,FALSE),\"\")","v":""},{"$f":"IFERROR(VLOOKUP(AK193,'P2'!$B$4:$J$48,9,FALSE),\"\")","v":""},{"$f":"IFERROR(VLOOKUP(AL193,'P2'!$B$4:$J$48,9,FALSE),\"\")","v":""},{"$f":"IFERROR(VLOOKUP(AM193,'P2'!$B$4:$J$48,9,FALSE),\"\")","v":""},{"$f":"IFERROR(VLOOKUP(AN193,'P2'!$B$4:$J$48,9,FALSE),\"\")","v":""},{"$f":"IFERROR(VLOOKUP(AO193,'P2'!$B$4:$J$48,9,FALSE),\"\")","v":""},{"$f":"IFERROR(VLOOKUP(AP193,'P2'!$B$4:$J$48,9,FALSE),\"\")","v":""},{"$f":"IFERROR(VLOOKUP(AQ193,'P2'!$B$4:$J$48,9,FALSE),\"\")","v":""},{"$f":"IFERROR(VLOOKUP(AR193,'P2'!$B$4:$J$48,9,FALSE),\"\")","v":""},{"$f":"IFERROR(VLOOKUP(AS193,'P2'!$B$4:$J$48,9,FALSE),\"\")","v":""},{"$f":"IFERROR(VLOOKUP(AT193,'P2'!$B$4:$J$48,9,FALSE),\"\")","v":""},{"$f":"IFERROR(VLOOKUP(AU193,'P2'!$B$4:$J$48,9,FALSE),\"\")","v":""},{"$f":"SUM(Q194:AU194)","v":0}]
[null,83,null,null,null,null,null,null,null,null,null,null,null,null,null,null,null,null,null,null,null,null,null,null,null,null,null,null,null,null,null,null,null,null,null,null,null,null,null,null,null,null,null,null,null,null,null,{"$f":"COUNTA(Q195:AU195)","v":0},{"$f":"AV196","v":0},{"$f":"IFERROR(ROUNDDOWN(AV196/$AT$3,1),\"\")","v":""}]
[null,null,null,null,null,null,null,null,null,null,null,null,null,null,null,null,{"$f":"IFERROR(VLOOKUP(Q195,'P2'!$B$4:$J$48,9,FALSE),\"\")","v":""},{"$f":"IFERROR(VLOOKUP(R195,'P2'!$B$4:$J$48,9,FALSE),\"\")","v":""},{"$f":"IFERROR(VLOOKUP(S195,'P2'!$B$4:$J$48,9,FALSE),\"\")","v":""},{"$f":"IFERROR(VLOOKUP(T195,'P2'!$B$4:$J$48,9,FALSE),\"\")","v":""},{"$f":"IFERROR(VLOOKUP(U195,'P2'!$B$4:$J$48,9,FALSE),\"\")","v":""},{"$f":"IFERROR(VLOOKUP(V195,'P2'!$B$4:$J$48,9,FALSE),\"\")","v":""},{"$f":"IFERROR(VLOOKUP(W195,'P2'!$B$4:$J$48,9,FALSE),\"\")","v":""},{"$f":"IFERROR(VLOOKUP(X195,'P2'!$B$4:$J$48,9,FALSE),\"\")","v":""},{"$f":"IFERROR(VLOOKUP(Y195,'P2'!$B$4:$J$48,9,FALSE),\"\")","v":""},{"$f":"IFERROR(VLOOKUP(Z195,'P2'!$B$4:$J$48,9,FALSE),\"\")","v":""},{"$f":"IFERROR(VLOOKUP(AA195,'P2'!$B$4:$J$48,9,FALSE),\"\")","v":""},{"$f":"IFERROR(VLOOKUP(AB195,'P2'!$B$4:$J$48,9,FALSE),\"\")","v":""},{"$f":"IFERROR(VLOOKUP(AC195,'P2'!$B$4:$J$48,9,FALSE),\"\")","v":""},{"$f":"IFERROR(VLOOKUP(AD195,'P2'!$B$4:$J$48,9,FALSE),\"\")","v":""},{"$f":"IFERROR(VLOOKUP(AE195,'P2'!$B$4:$J$48,9,FALSE),\"\")","v":""},{"$f":"IFERROR(VLOOKUP(AF195,'P2'!$B$4:$J$48,9,FALSE),\"\")","v":""},{"$f":"IFERROR(VLOOKUP(AG195,'P2'!$B$4:$J$48,9,FALSE),\"\")","v":""},{"$f":"IFERROR(VLOOKUP(AH195,'P2'!$B$4:$J$48,9,FALSE),\"\")","v":""},{"$f":"IFERROR(VLOOKUP(AI195,'P2'!$B$4:$J$48,9,FALSE),\"\")","v":""},{"$f":"IFERROR(VLOOKUP(AJ195,'P2'!$B$4:$J$48,9,FALSE),\"\")","v":""},{"$f":"IFERROR(VLOOKUP(AK195,'P2'!$B$4:$J$48,9,FALSE),\"\")","v":""},{"$f":"IFERROR(VLOOKUP(AL195,'P2'!$B$4:$J$48,9,FALSE),\"\")","v":""},{"$f":"IFERROR(VLOOKUP(AM195,'P2'!$B$4:$J$48,9,FALSE),\"\")","v":""},{"$f":"IFERROR(VLOOKUP(AN195,'P2'!$B$4:$J$48,9,FALSE),\"\")","v":""},{"$f":"IFERROR(VLOOKUP(AO195,'P2'!$B$4:$J$48,9,FALSE),\"\")","v":""},{"$f":"IFERROR(VLOOKUP(AP195,'P2'!$B$4:$J$48,9,FALSE),\"\")","v":""},{"$f":"IFERROR(VLOOKUP(AQ195,'P2'!$B$4:$J$48,9,FALSE),\"\")","v":""},{"$f":"IFERROR(VLOOKUP(AR195,'P2'!$B$4:$J$48,9,FALSE),\"\")","v":""},{"$f":"IFERROR(VLOOKUP(AS195,'P2'!$B$4:$J$48,9,FALSE),\"\")","v":""},{"$f":"IFERROR(VLOOKUP(AT195,'P2'!$B$4:$J$48,9,FALSE),\"\")","v":""},{"$f":"IFERROR(VLOOKUP(AU195,'P2'!$B$4:$J$48,9,FALSE),\"\")","v":""},{"$f":"SUM(Q196:AU196)","v":0}]
[null,84,null,null,null,null,null,null,null,null,null,null,null,null,null,null,null,null,null,null,null,null,null,null,null,null,null,null,null,null,null,null,null,null,null,null,null,null,null,null,null,null,null,null,null,null,null,{"$f":"COUNTA(Q197:AU197)","v":0},{"$f":"AV198","v":0},{"$f":"IFERROR(ROUNDDOWN(AV198/$AT$3,1),\"\")","v":""}]
[null,null,null,null,null,null,null,null,null,null,null,null,null,null,null,null,{"$f":"IFERROR(VLOOKUP(Q197,'P2'!$B$4:$J$48,9,FALSE),\"\")","v":""},{"$f":"IFERROR(VLOOKUP(R197,'P2'!$B$4:$J$48,9,FALSE),\"\")","v":""},{"$f":"IFERROR(VLOOKUP(S197,'P2'!$B$4:$J$48,9,FALSE),\"\")","v":""},{"$f":"IFERROR(VLOOKUP(T197,'P2'!$B$4:$J$48,9,FALSE),\"\")","v":""},{"$f":"IFERROR(VLOOKUP(U197,'P2'!$B$4:$J$48,9,FALSE),\"\")","v":""},{"$f":"IFERROR(VLOOKUP(V197,'P2'!$B$4:$J$48,9,FALSE),\"\")","v":""},{"$f":"IFERROR(VLOOKUP(W197,'P2'!$B$4:$J$48,9,FALSE),\"\")","v":""},{"$f":"IFERROR(VLOOKUP(X197,'P2'!$B$4:$J$48,9,FALSE),\"\")","v":""},{"$f":"IFERROR(VLOOKUP(Y197,'P2'!$B$4:$J$48,9,FALSE),\"\")","v":""},{"$f":"IFERROR(VLOOKUP(Z197,'P2'!$B$4:$J$48,9,FALSE),\"\")","v":""},{"$f":"IFERROR(VLOOKUP(AA197,'P2'!$B$4:$J$48,9,FALSE),\"\")","v":""},{"$f":"IFERROR(VLOOKUP(AB197,'P2'!$B$4:$J$48,9,FALSE),\"\")","v":""},{"$f":"IFERROR(VLOOKUP(AC197,'P2'!$B$4:$J$48,9,FALSE),\"\")","v":""},{"$f":"IFERROR(VLOOKUP(AD197,'P2'!$B$4:$J$48,9,FALSE),\"\")","v":""},{"$f":"IFERROR(VLOOKUP(AE197,'P2'!$B$4:$J$48,9,FALSE),\"\")","v":""},{"$f":"IFERROR(VLOOKUP(AF197,'P2'!$B$4:$J$48,9,FALSE),\"\")","v":""},{"$f":"IFERROR(VLOOKUP(AG197,'P2'!$B$4:$J$48,9,FALSE),\"\")","v":""},{"$f":"IFERROR(VLOOKUP(AH197,'P2'!$B$4:$J$48,9,FALSE),\"\")","v":""},{"$f":"IFERROR(VLOOKUP(AI197,'P2'!$B$4:$J$48,9,FALSE),\"\")","v":""},{"$f":"IFERROR(VLOOKUP(AJ197,'P2'!$B$4:$J$48,9,FALSE),\"\")","v":""},{"$f":"IFERROR(VLOOKUP(AK197,'P2'!$B$4:$J$48,9,FALSE),\"\")","v":""},{"$f":"IFERROR(VLOOKUP(AL197,'P2'!$B$4:$J$48,9,FALSE),\"\")","v":""},{"$f":"IFERROR(VLOOKUP(AM197,'P2'!$B$4:$J$48,9,FALSE),\"\")","v":""},{"$f":"IFERROR(VLOOKUP(AN197,'P2'!$B$4:$J$48,9,FALSE),\"\")","v":""},{"$f":"IFERROR(VLOOKUP(AO197,'P2'!$B$4:$J$48,9,FALSE),\"\")","v":""},{"$f":"IFERROR(VLOOKUP(AP197,'P2'!$B$4:$J$48,9,FALSE),\"\")","v":""},{"$f":"IFERROR(VLOOKUP(AQ197,'P2'!$B$4:$J$48,9,FALSE),\"\")","v":""},{"$f":"IFERROR(VLOOKUP(AR197,'P2'!$B$4:$J$48,9,FALSE),\"\")","v":""},{"$f":"IFERROR(VLOOKUP(AS197,'P2'!$B$4:$J$48,9,FALSE),\"\")","v":""},{"$f":"IFERROR(VLOOKUP(AT197,'P2'!$B$4:$J$48,9,FALSE),\"\")","v":""},{"$f":"IFERROR(VLOOKUP(AU197,'P2'!$B$4:$J$48,9,FALSE),\"\")","v":""},{"$f":"SUM(Q198:AU198)","v":0}]
[]
[]
[null,"(2)　勤務実績　（直近3か月分の実績）",null,null,null,null,null,null,null,null,null,null,null,null,null,null,null,null,"（",{"$f":"$T$3","v":"令和　7"},null,"年",{"$f":"$W$3","v":4},"月分実績",null,"）",null,null,null,null,null,null,null,null,null,null,null,null,null,null,null,null,null,null,null,null,null,null,null,{"$f":"\"5 / \"&COUNTA(C$7,C$57,C$106,C$155,C$204)","v":"5 / 1"}]
[null,null,"職　　種",null,null,null,null,null,"氏　　名",null,null,null,null,"勤務\n形態",null,null,{"$f":"Q$5","v":"2025-04-01"},{"$f":"R$5","v":"2025-04-02"},"2025-04-03","2025-04-04","2025-04-05","2025-04-06","2025-04-07","2025-04-08","2025-04-09","2025-04-10","2025-04-11","2025-04-12","2025-04-13","2025-04-14","2025-04-15","2025-04-16","2025-04-17","2025-04-18","2025-04-19","2025-04-20","2025-04-21","2025-04-22","2025-04-23","2025-04-24","2025-04-25","2025-04-26","2025-04-27","2025-04-28","2025-04-29","2025-04-30","","勤務日数",null,"常勤換算"]
[null,null,null,null,null,null,null,null,null,null,null,null,null,null,null,null,{"$f":"Q$6","v":"火"},{"$f":"R$6","v":"水"},"木","金","土","日","月","火","水","木","金","土","日","月","火","水","木","金","土","日","月","火","水","木","金","土","日","月","火","水","","勤務時間"]
[null,{"$f":"B197+1","v":85},null,null,null,null,null,null,null,null,null,null,null,null,null,null,null,null,null,null,null,null,null,null,null,null,null,null,null,null,null,null,null,null,null,null,null,null,null,null,null,null,null,null,null,null,null,{"$f":"COUNTA(Q204:AU204)","v":0},{"$f":"AV205","v":0},{"$f":"IFERROR(ROUNDDOWN(AV205/$AT$3,1),\"\")","v":""}]
[null,null,null,null,null,null,null,null,null,null,null,null,null,null,null,null,{"$f":"IFERROR(VLOOKUP(Q204,'P2'!$B$4:$J$48,9,FALSE),\"\")","v":""},{"$f":"IFERROR(VLOOKUP(R204,'P2'!$B$4:$J$48,9,FALSE),\"\")","v":""},{"$f":"IFERROR(VLOOKUP(S204,'P2'!$B$4:$J$48,9,FALSE),\"\")","v":""},{"$f":"IFERROR(VLOOKUP(T204,'P2'!$B$4:$J$48,9,FALSE),\"\")","v":""},{"$f":"IFERROR(VLOOKUP(U204,'P2'!$B$4:$J$48,9,FALSE),\"\")","v":""},{"$f":"IFERROR(VLOOKUP(V204,'P2'!$B$4:$J$48,9,FALSE),\"\")","v":""},{"$f":"IFERROR(VLOOKUP(W204,'P2'!$B$4:$J$48,9,FALSE),\"\")","v":""},{"$f":"IFERROR(VLOOKUP(X204,'P2'!$B$4:$J$48,9,FALSE),\"\")","v":""},{"$f":"IFERROR(VLOOKUP(Y204,'P2'!$B$4:$J$48,9,FALSE),\"\")","v":""},{"$f":"IFERROR(VLOOKUP(Z204,'P2'!$B$4:$J$48,9,FALSE),\"\")","v":""},{"$f":"IFERROR(VLOOKUP(AA204,'P2'!$B$4:$J$48,9,FALSE),\"\")","v":""},{"$f":"IFERROR(VLOOKUP(AB204,'P2'!$B$4:$J$48,9,FALSE),\"\")","v":""},{"$f":"IFERROR(VLOOKUP(AC204,'P2'!$B$4:$J$48,9,FALSE),\"\")","v":""},{"$f":"IFERROR(VLOOKUP(AD204,'P2'!$B$4:$J$48,9,FALSE),\"\")","v":""},{"$f":"IFERROR(VLOOKUP(AE204,'P2'!$B$4:$J$48,9,FALSE),\"\")","v":""},{"$f":"IFERROR(VLOOKUP(AF204,'P2'!$B$4:$J$48,9,FALSE),\"\")","v":""},{"$f":"IFERROR(VLOOKUP(AG204,'P2'!$B$4:$J$48,9,FALSE),\"\")","v":""},{"$f":"IFERROR(VLOOKUP(AH204,'P2'!$B$4:$J$48,9,FALSE),\"\")","v":""},{"$f":"IFERROR(VLOOKUP(AI204,'P2'!$B$4:$J$48,9,FALSE),\"\")","v":""},{"$f":"IFERROR(VLOOKUP(AJ204,'P2'!$B$4:$J$48,9,FALSE),\"\")","v":""},{"$f":"IFERROR(VLOOKUP(AK204,'P2'!$B$4:$J$48,9,FALSE),\"\")","v":""},{"$f":"IFERROR(VLOOKUP(AL204,'P2'!$B$4:$J$48,9,FALSE),\"\")","v":""},{"$f":"IFERROR(VLOOKUP(AM204,'P2'!$B$4:$J$48,9,FALSE),\"\")","v":""},{"$f":"IFERROR(VLOOKUP(AN204,'P2'!$B$4:$J$48,9,FALSE),\"\")","v":""},{"$f":"IFERROR(VLOOKUP(AO204,'P2'!$B$4:$J$48,9,FALSE),\"\")","v":""},{"$f":"IFERROR(VLOOKUP(AP204,'P2'!$B$4:$J$48,9,FALSE),\"\")","v":""},{"$f":"IFERROR(VLOOKUP(AQ204,'P2'!$B$4:$J$48,9,FALSE),\"\")","v":""},{"$f":"IFERROR(VLOOKUP(AR204,'P2'!$B$4:$J$48,9,FALSE),\"\")","v":""},{"$f":"IFERROR(VLOOKUP(AS204,'P2'!$B$4:$J$48,9,FALSE),\"\")","v":""},{"$f":"IFERROR(VLOOKUP(AT204,'P2'!$B$4:$J$48,9,FALSE),\"\")","v":""},{"$f":"IFERROR(VLOOKUP(AU204,'P2'!$B$4:$J$48,9,FALSE),\"\")","v":""},{"$f":"SUM(Q205:AU205)","v":0}]
[null,{"$f":"B204+1","v":86},null,null,null,null,null,null,null,null,null,null,null,null,null,null,null,null,null,null,null,null,null,null,null,null,null,null,null,null,null,null,null,null,null,null,null,null,null,null,null,null,null,null,null,null,null,{"$f":"COUNTA(Q206:AU206)","v":0},{"$f":"AV207","v":0},{"$f":"IFERROR(ROUNDDOWN(AV207/$AT$3,1),\"\")","v":""}]
[null,null,null,null,null,null,null,null,null,null,null,null,null,null,null,null,{"$f":"IFERROR(VLOOKUP(Q206,'P2'!$B$4:$J$48,9,FALSE),\"\")","v":""},{"$f":"IFERROR(VLOOKUP(R206,'P2'!$B$4:$J$48,9,FALSE),\"\")","v":""},{"$f":"IFERROR(VLOOKUP(S206,'P2'!$B$4:$J$48,9,FALSE),\"\")","v":""},{"$f":"IFERROR(VLOOKUP(T206,'P2'!$B$4:$J$48,9,FALSE),\"\")","v":""},{"$f":"IFERROR(VLOOKUP(U206,'P2'!$B$4:$J$48,9,FALSE),\"\")","v":""},{"$f":"IFERROR(VLOOKUP(V206,'P2'!$B$4:$J$48,9,FALSE),\"\")","v":""},{"$f":"IFERROR(VLOOKUP(W206,'P2'!$B$4:$J$48,9,FALSE),\"\")","v":""},{"$f":"IFERROR(VLOOKUP(X206,'P2'!$B$4:$J$48,9,FALSE),\"\")","v":""},{"$f":"IFERROR(VLOOKUP(Y206,'P2'!$B$4:$J$48,9,FALSE),\"\")","v":""},{"$f":"IFERROR(VLOOKUP(Z206,'P2'!$B$4:$J$48,9,FALSE),\"\")","v":""},{"$f":"IFERROR(VLOOKUP(AA206,'P2'!$B$4:$J$48,9,FALSE),\"\")","v":""},{"$f":"IFERROR(VLOOKUP(AB206,'P2'!$B$4:$J$48,9,FALSE),\"\")","v":""},{"$f":"IFERROR(VLOOKUP(AC206,'P2'!$B$4:$J$48,9,FALSE),\"\")","v":""},{"$f":"IFERROR(VLOOKUP(AD206,'P2'!$B$4:$J$48,9,FALSE),\"\")","v":""},{"$f":"IFERROR(VLOOKUP(AE206,'P2'!$B$4:$J$48,9,FALSE),\"\")","v":""},{"$f":"IFERROR(VLOOKUP(AF206,'P2'!$B$4:$J$48,9,FALSE),\"\")","v":""},{"$f":"IFERROR(VLOOKUP(AG206,'P2'!$B$4:$J$48,9,FALSE),\"\")","v":""},{"$f":"IFERROR(VLOOKUP(AH206,'P2'!$B$4:$J$48,9,FALSE),\"\")","v":""},{"$f":"IFERROR(VLOOKUP(AI206,'P2'!$B$4:$J$48,9,FALSE),\"\")","v":""},{"$f":"IFERROR(VLOOKUP(AJ206,'P2'!$B$4:$J$48,9,FALSE),\"\")","v":""},{"$f":"IFERROR(VLOOKUP(AK206,'P2'!$B$4:$J$48,9,FALSE),\"\")","v":""},{"$f":"IFERROR(VLOOKUP(AL206,'P2'!$B$4:$J$48,9,FALSE),\"\")","v":""},{"$f":"IFERROR(VLOOKUP(AM206,'P2'!$B$4:$J$48,9,FALSE),\"\")","v":""},{"$f":"IFERROR(VLOOKUP(AN206,'P2'!$B$4:$J$48,9,FALSE),\"\")","v":""},{"$f":"IFERROR(VLOOKUP(AO206,'P2'!$B$4:$J$48,9,FALSE),\"\")","v":""},{"$f":"IFERROR(VLOOKUP(AP206,'P2'!$B$4:$J$48,9,FALSE),\"\")","v":""},{"$f":"IFERROR(VLOOKUP(AQ206,'P2'!$B$4:$J$48,9,FALSE),\"\")","v":""},{"$f":"IFERROR(VLOOKUP(AR206,'P2'!$B$4:$J$48,9,FALSE),\"\")","v":""},{"$f":"IFERROR(VLOOKUP(AS206,'P2'!$B$4:$J$48,9,FALSE),\"\")","v":""},{"$f":"IFERROR(VLOOKUP(AT206,'P2'!$B$4:$J$48,9,FALSE),\"\")","v":""},{"$f":"IFERROR(VLOOKUP(AU206,'P2'!$B$4:$J$48,9,FALSE),\"\")","v":""},{"$f":"SUM(Q207:AU207)","v":0}]
[null,87,null,null,null,null,null,null,null,null,null,null,null,null,null,null,null,null,null,null,null,null,null,null,null,null,null,null,null,null,null,null,null,null,null,null,null,null,null,null,null,null,null,null,null,null,null,{"$f":"COUNTA(Q208:AU208)","v":0},{"$f":"AV209","v":0},{"$f":"IFERROR(ROUNDDOWN(AV209/$AT$3,1),\"\")","v":""}]
[null,null,null,null,null,null,null,null,null,null,null,null,null,null,null,null,{"$f":"IFERROR(VLOOKUP(Q208,'P2'!$B$4:$J$48,9,FALSE),\"\")","v":""},{"$f":"IFERROR(VLOOKUP(R208,'P2'!$B$4:$J$48,9,FALSE),\"\")","v":""},{"$f":"IFERROR(VLOOKUP(S208,'P2'!$B$4:$J$48,9,FALSE),\"\")","v":""},{"$f":"IFERROR(VLOOKUP(T208,'P2'!$B$4:$J$48,9,FALSE),\"\")","v":""},{"$f":"IFERROR(VLOOKUP(U208,'P2'!$B$4:$J$48,9,FALSE),\"\")","v":""},{"$f":"IFERROR(VLOOKUP(V208,'P2'!$B$4:$J$48,9,FALSE),\"\")","v":""},{"$f":"IFERROR(VLOOKUP(W208,'P2'!$B$4:$J$48,9,FALSE),\"\")","v":""},{"$f":"IFERROR(VLOOKUP(X208,'P2'!$B$4:$J$48,9,FALSE),\"\")","v":""},{"$f":"IFERROR(VLOOKUP(Y208,'P2'!$B$4:$J$48,9,FALSE),\"\")","v":""},{"$f":"IFERROR(VLOOKUP(Z208,'P2'!$B$4:$J$48,9,FALSE),\"\")","v":""},{"$f":"IFERROR(VLOOKUP(AA208,'P2'!$B$4:$J$48,9,FALSE),\"\")","v":""},{"$f":"IFERROR(VLOOKUP(AB208,'P2'!$B$4:$J$48,9,FALSE),\"\")","v":""},{"$f":"IFERROR(VLOOKUP(AC208,'P2'!$B$4:$J$48,9,FALSE),\"\")","v":""},{"$f":"IFERROR(VLOOKUP(AD208,'P2'!$B$4:$J$48,9,FALSE),\"\")","v":""},{"$f":"IFERROR(VLOOKUP(AE208,'P2'!$B$4:$J$48,9,FALSE),\"\")","v":""},{"$f":"IFERROR(VLOOKUP(AF208,'P2'!$B$4:$J$48,9,FALSE),\"\")","v":""},{"$f":"IFERROR(VLOOKUP(AG208,'P2'!$B$4:$J$48,9,FALSE),\"\")","v":""},{"$f":"IFERROR(VLOOKUP(AH208,'P2'!$B$4:$J$48,9,FALSE),\"\")","v":""},{"$f":"IFERROR(VLOOKUP(AI208,'P2'!$B$4:$J$48,9,FALSE),\"\")","v":""},{"$f":"IFERROR(VLOOKUP(AJ208,'P2'!$B$4:$J$48,9,FALSE),\"\")","v":""},{"$f":"IFERROR(VLOOKUP(AK208,'P2'!$B$4:$J$48,9,FALSE),\"\")","v":""},{"$f":"IFERROR(VLOOKUP(AL208,'P2'!$B$4:$J$48,9,FALSE),\"\")","v":""},{"$f":"IFERROR(VLOOKUP(AM208,'P2'!$B$4:$J$48,9,FALSE),\"\")","v":""},{"$f":"IFERROR(VLOOKUP(AN208,'P2'!$B$4:$J$48,9,FALSE),\"\")","v":""},{"$f":"IFERROR(VLOOKUP(AO208,'P2'!$B$4:$J$48,9,FALSE),\"\")","v":""},{"$f":"IFERROR(VLOOKUP(AP208,'P2'!$B$4:$J$48,9,FALSE),\"\")","v":""},{"$f":"IFERROR(VLOOKUP(AQ208,'P2'!$B$4:$J$48,9,FALSE),\"\")","v":""},{"$f":"IFERROR(VLOOKUP(AR208,'P2'!$B$4:$J$48,9,FALSE),\"\")","v":""},{"$f":"IFERROR(VLOOKUP(AS208,'P2'!$B$4:$J$48,9,FALSE),\"\")","v":""},{"$f":"IFERROR(VLOOKUP(AT208,'P2'!$B$4:$J$48,9,FALSE),\"\")","v":""},{"$f":"IFERROR(VLOOKUP(AU208,'P2'!$B$4:$J$48,9,FALSE),\"\")","v":""},{"$f":"SUM(Q209:AU209)","v":0}]
[null,88,null,null,null,null,null,null,null,null,null,null,null,null,null,null,null,null,null,null,null,null,null,null,null,null,null,null,null,null,null,null,null,null,null,null,null,null,null,null,null,null,null,null,null,null,null,{"$f":"COUNTA(Q210:AU210)","v":0},{"$f":"AV211","v":0},{"$f":"IFERROR(ROUNDDOWN(AV211/$AT$3,1),\"\")","v":""}]
[null,null,null,null,null,null,null,null,null,null,null,null,null,null,null,null,{"$f":"IFERROR(VLOOKUP(Q210,'P2'!$B$4:$J$48,9,FALSE),\"\")","v":""},{"$f":"IFERROR(VLOOKUP(R210,'P2'!$B$4:$J$48,9,FALSE),\"\")","v":""},{"$f":"IFERROR(VLOOKUP(S210,'P2'!$B$4:$J$48,9,FALSE),\"\")","v":""},{"$f":"IFERROR(VLOOKUP(T210,'P2'!$B$4:$J$48,9,FALSE),\"\")","v":""},{"$f":"IFERROR(VLOOKUP(U210,'P2'!$B$4:$J$48,9,FALSE),\"\")","v":""},{"$f":"IFERROR(VLOOKUP(V210,'P2'!$B$4:$J$48,9,FALSE),\"\")","v":""},{"$f":"IFERROR(VLOOKUP(W210,'P2'!$B$4:$J$48,9,FALSE),\"\")","v":""},{"$f":"IFERROR(VLOOKUP(X210,'P2'!$B$4:$J$48,9,FALSE),\"\")","v":""},{"$f":"IFERROR(VLOOKUP(Y210,'P2'!$B$4:$J$48,9,FALSE),\"\")","v":""},{"$f":"IFERROR(VLOOKUP(Z210,'P2'!$B$4:$J$48,9,FALSE),\"\")","v":""},{"$f":"IFERROR(VLOOKUP(AA210,'P2'!$B$4:$J$48,9,FALSE),\"\")","v":""},{"$f":"IFERROR(VLOOKUP(AB210,'P2'!$B$4:$J$48,9,FALSE),\"\")","v":""},{"$f":"IFERROR(VLOOKUP(AC210,'P2'!$B$4:$J$48,9,FALSE),\"\")","v":""},{"$f":"IFERROR(VLOOKUP(AD210,'P2'!$B$4:$J$48,9,FALSE),\"\")","v":""},{"$f":"IFERROR(VLOOKUP(AE210,'P2'!$B$4:$J$48,9,FALSE),\"\")","v":""},{"$f":"IFERROR(VLOOKUP(AF210,'P2'!$B$4:$J$48,9,FALSE),\"\")","v":""},{"$f":"IFERROR(VLOOKUP(AG210,'P2'!$B$4:$J$48,9,FALSE),\"\")","v":""},{"$f":"IFERROR(VLOOKUP(AH210,'P2'!$B$4:$J$48,9,FALSE),\"\")","v":""},{"$f":"IFERROR(VLOOKUP(AI210,'P2'!$B$4:$J$48,9,FALSE),\"\")","v":""},{"$f":"IFERROR(VLOOKUP(AJ210,'P2'!$B$4:$J$48,9,FALSE),\"\")","v":""},{"$f":"IFERROR(VLOOKUP(AK210,'P2'!$B$4:$J$48,9,FALSE),\"\")","v":""},{"$f":"IFERROR(VLOOKUP(AL210,'P2'!$B$4:$J$48,9,FALSE),\"\")","v":""},{"$f":"IFERROR(VLOOKUP(AM210,'P2'!$B$4:$J$48,9,FALSE),\"\")","v":""},{"$f":"IFERROR(VLOOKUP(AN210,'P2'!$B$4:$J$48,9,FALSE),\"\")","v":""},{"$f":"IFERROR(VLOOKUP(AO210,'P2'!$B$4:$J$48,9,FALSE),\"\")","v":""},{"$f":"IFERROR(VLOOKUP(AP210,'P2'!$B$4:$J$48,9,FALSE),\"\")","v":""},{"$f":"IFERROR(VLOOKUP(AQ210,'P2'!$B$4:$J$48,9,FALSE),\"\")","v":""},{"$f":"IFERROR(VLOOKUP(AR210,'P2'!$B$4:$J$48,9,FALSE),\"\")","v":""},{"$f":"IFERROR(VLOOKUP(AS210,'P2'!$B$4:$J$48,9,FALSE),\"\")","v":""},{"$f":"IFERROR(VLOOKUP(AT210,'P2'!$B$4:$J$48,9,FALSE),\"\")","v":""},{"$f":"IFERROR(VLOOKUP(AU210,'P2'!$B$4:$J$48,9,FALSE),\"\")","v":""},{"$f":"SUM(Q211:AU211)","v":0}]
[null,89,null,null,null,null,null,null,null,null,null,null,null,null,null,null,null,null,null,null,null,null,null,null,null,null,null,null,null,null,null,null,null,null,null,null,null,null,null,null,null,null,null,null,null,null,null,{"$f":"COUNTA(Q212:AU212)","v":0},{"$f":"AV213","v":0},{"$f":"IFERROR(ROUNDDOWN(AV213/$AT$3,1),\"\")","v":""}]
[null,null,null,null,null,null,null,null,null,null,null,null,null,null,null,null,{"$f":"IFERROR(VLOOKUP(Q212,'P2'!$B$4:$J$48,9,FALSE),\"\")","v":""},{"$f":"IFERROR(VLOOKUP(R212,'P2'!$B$4:$J$48,9,FALSE),\"\")","v":""},{"$f":"IFERROR(VLOOKUP(S212,'P2'!$B$4:$J$48,9,FALSE),\"\")","v":""},{"$f":"IFERROR(VLOOKUP(T212,'P2'!$B$4:$J$48,9,FALSE),\"\")","v":""},{"$f":"IFERROR(VLOOKUP(U212,'P2'!$B$4:$J$48,9,FALSE),\"\")","v":""},{"$f":"IFERROR(VLOOKUP(V212,'P2'!$B$4:$J$48,9,FALSE),\"\")","v":""},{"$f":"IFERROR(VLOOKUP(W212,'P2'!$B$4:$J$48,9,FALSE),\"\")","v":""},{"$f":"IFERROR(VLOOKUP(X212,'P2'!$B$4:$J$48,9,FALSE),\"\")","v":""},{"$f":"IFERROR(VLOOKUP(Y212,'P2'!$B$4:$J$48,9,FALSE),\"\")","v":""},{"$f":"IFERROR(VLOOKUP(Z212,'P2'!$B$4:$J$48,9,FALSE),\"\")","v":""},{"$f":"IFERROR(VLOOKUP(AA212,'P2'!$B$4:$J$48,9,FALSE),\"\")","v":""},{"$f":"IFERROR(VLOOKUP(AB212,'P2'!$B$4:$J$48,9,FALSE),\"\")","v":""},{"$f":"IFERROR(VLOOKUP(AC212,'P2'!$B$4:$J$48,9,FALSE),\"\")","v":""},{"$f":"IFERROR(VLOOKUP(AD212,'P2'!$B$4:$J$48,9,FALSE),\"\")","v":""},{"$f":"IFERROR(VLOOKUP(AE212,'P2'!$B$4:$J$48,9,FALSE),\"\")","v":""},{"$f":"IFERROR(VLOOKUP(AF212,'P2'!$B$4:$J$48,9,FALSE),\"\")","v":""},{"$f":"IFERROR(VLOOKUP(AG212,'P2'!$B$4:$J$48,9,FALSE),\"\")","v":""},{"$f":"IFERROR(VLOOKUP(AH212,'P2'!$B$4:$J$48,9,FALSE),\"\")","v":""},{"$f":"IFERROR(VLOOKUP(AI212,'P2'!$B$4:$J$48,9,FALSE),\"\")","v":""},{"$f":"IFERROR(VLOOKUP(AJ212,'P2'!$B$4:$J$48,9,FALSE),\"\")","v":""},{"$f":"IFERROR(VLOOKUP(AK212,'P2'!$B$4:$J$48,9,FALSE),\"\")","v":""},{"$f":"IFERROR(VLOOKUP(AL212,'P2'!$B$4:$J$48,9,FALSE),\"\")","v":""},{"$f":"IFERROR(VLOOKUP(AM212,'P2'!$B$4:$J$48,9,FALSE),\"\")","v":""},{"$f":"IFERROR(VLOOKUP(AN212,'P2'!$B$4:$J$48,9,FALSE),\"\")","v":""},{"$f":"IFERROR(VLOOKUP(AO212,'P2'!$B$4:$J$48,9,FALSE),\"\")","v":""},{"$f":"IFERROR(VLOOKUP(AP212,'P2'!$B$4:$J$48,9,FALSE),\"\")","v":""},{"$f":"IFERROR(VLOOKUP(AQ212,'P2'!$B$4:$J$48,9,FALSE),\"\")","v":""},{"$f":"IFERROR(VLOOKUP(AR212,'P2'!$B$4:$J$48,9,FALSE),\"\")","v":""},{"$f":"IFERROR(VLOOKUP(AS212,'P2'!$B$4:$J$48,9,FALSE),\"\")","v":""},{"$f":"IFERROR(VLOOKUP(AT212,'P2'!$B$4:$J$48,9,FALSE),\"\")","v":""},{"$f":"IFERROR(VLOOKUP(AU212,'P2'!$B$4:$J$48,9,FALSE),\"\")","v":""},{"$f":"SUM(Q213:AU213)","v":0}]
[null,90,null,null,null,null,null,null,null,null,null,null,null,null,null,null,null,null,null,null,null,null,null,null,null,null,null,null,null,null,null,null,null,null,null,null,null,null,null,null,null,null,null,null,null,null,null,{"$f":"COUNTA(Q214:AU214)","v":0},{"$f":"AV215","v":0},{"$f":"IFERROR(ROUNDDOWN(AV215/$AT$3,1),\"\")","v":""}]
[null,null,null,null,null,null,null,null,null,null,null,null,null,null,null,null,{"$f":"IFERROR(VLOOKUP(Q214,'P2'!$B$4:$J$48,9,FALSE),\"\")","v":""},{"$f":"IFERROR(VLOOKUP(R214,'P2'!$B$4:$J$48,9,FALSE),\"\")","v":""},{"$f":"IFERROR(VLOOKUP(S214,'P2'!$B$4:$J$48,9,FALSE),\"\")","v":""},{"$f":"IFERROR(VLOOKUP(T214,'P2'!$B$4:$J$48,9,FALSE),\"\")","v":""},{"$f":"IFERROR(VLOOKUP(U214,'P2'!$B$4:$J$48,9,FALSE),\"\")","v":""},{"$f":"IFERROR(VLOOKUP(V214,'P2'!$B$4:$J$48,9,FALSE),\"\")","v":""},{"$f":"IFERROR(VLOOKUP(W214,'P2'!$B$4:$J$48,9,FALSE),\"\")","v":""},{"$f":"IFERROR(VLOOKUP(X214,'P2'!$B$4:$J$48,9,FALSE),\"\")","v":""},{"$f":"IFERROR(VLOOKUP(Y214,'P2'!$B$4:$J$48,9,FALSE),\"\")","v":""},{"$f":"IFERROR(VLOOKUP(Z214,'P2'!$B$4:$J$48,9,FALSE),\"\")","v":""},{"$f":"IFERROR(VLOOKUP(AA214,'P2'!$B$4:$J$48,9,FALSE),\"\")","v":""},{"$f":"IFERROR(VLOOKUP(AB214,'P2'!$B$4:$J$48,9,FALSE),\"\")","v":""},{"$f":"IFERROR(VLOOKUP(AC214,'P2'!$B$4:$J$48,9,FALSE),\"\")","v":""},{"$f":"IFERROR(VLOOKUP(AD214,'P2'!$B$4:$J$48,9,FALSE),\"\")","v":""},{"$f":"IFERROR(VLOOKUP(AE214,'P2'!$B$4:$J$48,9,FALSE),\"\")","v":""},{"$f":"IFERROR(VLOOKUP(AF214,'P2'!$B$4:$J$48,9,FALSE),\"\")","v":""},{"$f":"IFERROR(VLOOKUP(AG214,'P2'!$B$4:$J$48,9,FALSE),\"\")","v":""},{"$f":"IFERROR(VLOOKUP(AH214,'P2'!$B$4:$J$48,9,FALSE),\"\")","v":""},{"$f":"IFERROR(VLOOKUP(AI214,'P2'!$B$4:$J$48,9,FALSE),\"\")","v":""},{"$f":"IFERROR(VLOOKUP(AJ214,'P2'!$B$4:$J$48,9,FALSE),\"\")","v":""},{"$f":"IFERROR(VLOOKUP(AK214,'P2'!$B$4:$J$48,9,FALSE),\"\")","v":""},{"$f":"IFERROR(VLOOKUP(AL214,'P2'!$B$4:$J$48,9,FALSE),\"\")","v":""},{"$f":"IFERROR(VLOOKUP(AM214,'P2'!$B$4:$J$48,9,FALSE),\"\")","v":""},{"$f":"IFERROR(VLOOKUP(AN214,'P2'!$B$4:$J$48,9,FALSE),\"\")","v":""},{"$f":"IFERROR(VLOOKUP(AO214,'P2'!$B$4:$J$48,9,FALSE),\"\")","v":""},{"$f":"IFERROR(VLOOKUP(AP214,'P2'!$B$4:$J$48,9,FALSE),\"\")","v":""},{"$f":"IFERROR(VLOOKUP(AQ214,'P2'!$B$4:$J$48,9,FALSE),\"\")","v":""},{"$f":"IFERROR(VLOOKUP(AR214,'P2'!$B$4:$J$48,9,FALSE),\"\")","v":""},{"$f":"IFERROR(VLOOKUP(AS214,'P2'!$B$4:$J$48,9,FALSE),\"\")","v":""},{"$f":"IFERROR(VLOOKUP(AT214,'P2'!$B$4:$J$48,9,FALSE),\"\")","v":""},{"$f":"IFERROR(VLOOKUP(AU214,'P2'!$B$4:$J$48,9,FALSE),\"\")","v":""},{"$f":"SUM(Q215:AU215)","v":0}]
[null,91,null,null,null,null,null,null,null,null,null,null,null,null,null,null,null,null,null,null,null,null,null,null,null,null,null,null,null,null,null,null,null,null,null,null,null,null,null,null,null,null,null,null,null,null,null,{"$f":"COUNTA(Q216:AU216)","v":0},{"$f":"AV217","v":0},{"$f":"IFERROR(ROUNDDOWN(AV217/$AT$3,1),\"\")","v":""}]
[null,null,null,null,null,null,null,null,null,null,null,null,null,null,null,null,{"$f":"IFERROR(VLOOKUP(Q216,'P2'!$B$4:$J$48,9,FALSE),\"\")","v":""},{"$f":"IFERROR(VLOOKUP(R216,'P2'!$B$4:$J$48,9,FALSE),\"\")","v":""},{"$f":"IFERROR(VLOOKUP(S216,'P2'!$B$4:$J$48,9,FALSE),\"\")","v":""},{"$f":"IFERROR(VLOOKUP(T216,'P2'!$B$4:$J$48,9,FALSE),\"\")","v":""},{"$f":"IFERROR(VLOOKUP(U216,'P2'!$B$4:$J$48,9,FALSE),\"\")","v":""},{"$f":"IFERROR(VLOOKUP(V216,'P2'!$B$4:$J$48,9,FALSE),\"\")","v":""},{"$f":"IFERROR(VLOOKUP(W216,'P2'!$B$4:$J$48,9,FALSE),\"\")","v":""},{"$f":"IFERROR(VLOOKUP(X216,'P2'!$B$4:$J$48,9,FALSE),\"\")","v":""},{"$f":"IFERROR(VLOOKUP(Y216,'P2'!$B$4:$J$48,9,FALSE),\"\")","v":""},{"$f":"IFERROR(VLOOKUP(Z216,'P2'!$B$4:$J$48,9,FALSE),\"\")","v":""},{"$f":"IFERROR(VLOOKUP(AA216,'P2'!$B$4:$J$48,9,FALSE),\"\")","v":""},{"$f":"IFERROR(VLOOKUP(AB216,'P2'!$B$4:$J$48,9,FALSE),\"\")","v":""},{"$f":"IFERROR(VLOOKUP(AC216,'P2'!$B$4:$J$48,9,FALSE),\"\")","v":""},{"$f":"IFERROR(VLOOKUP(AD216,'P2'!$B$4:$J$48,9,FALSE),\"\")","v":""},{"$f":"IFERROR(VLOOKUP(AE216,'P2'!$B$4:$J$48,9,FALSE),\"\")","v":""},{"$f":"IFERROR(VLOOKUP(AF216,'P2'!$B$4:$J$48,9,FALSE),\"\")","v":""},{"$f":"IFERROR(VLOOKUP(AG216,'P2'!$B$4:$J$48,9,FALSE),\"\")","v":""},{"$f":"IFERROR(VLOOKUP(AH216,'P2'!$B$4:$J$48,9,FALSE),\"\")","v":""},{"$f":"IFERROR(VLOOKUP(AI216,'P2'!$B$4:$J$48,9,FALSE),\"\")","v":""},{"$f":"IFERROR(VLOOKUP(AJ216,'P2'!$B$4:$J$48,9,FALSE),\"\")","v":""},{"$f":"IFERROR(VLOOKUP(AK216,'P2'!$B$4:$J$48,9,FALSE),\"\")","v":""},{"$f":"IFERROR(VLOOKUP(AL216,'P2'!$B$4:$J$48,9,FALSE),\"\")","v":""},{"$f":"IFERROR(VLOOKUP(AM216,'P2'!$B$4:$J$48,9,FALSE),\"\")","v":""},{"$f":"IFERROR(VLOOKUP(AN216,'P2'!$B$4:$J$48,9,FALSE),\"\")","v":""},{"$f":"IFERROR(VLOOKUP(AO216,'P2'!$B$4:$J$48,9,FALSE),\"\")","v":""},{"$f":"IFERROR(VLOOKUP(AP216,'P2'!$B$4:$J$48,9,FALSE),\"\")","v":""},{"$f":"IFERROR(VLOOKUP(AQ216,'P2'!$B$4:$J$48,9,FALSE),\"\")","v":""},{"$f":"IFERROR(VLOOKUP(AR216,'P2'!$B$4:$J$48,9,FALSE),\"\")","v":""},{"$f":"IFERROR(VLOOKUP(AS216,'P2'!$B$4:$J$48,9,FALSE),\"\")","v":""},{"$f":"IFERROR(VLOOKUP(AT216,'P2'!$B$4:$J$48,9,FALSE),\"\")","v":""},{"$f":"IFERROR(VLOOKUP(AU216,'P2'!$B$4:$J$48,9,FALSE),\"\")","v":""},{"$f":"SUM(Q217:AU217)","v":0}]
[null,92,null,null,null,null,null,null,null,null,null,null,null,null,null,null,null,null,null,null,null,null,null,null,null,null,null,null,null,null,null,null,null,null,null,null,null,null,null,null,null,null,null,null,null,null,null,{"$f":"COUNTA(Q218:AU218)","v":0},{"$f":"AV219","v":0},{"$f":"IFERROR(ROUNDDOWN(AV219/$AT$3,1),\"\")","v":""}]
[null,null,null,null,null,null,null,null,null,null,null,null,null,null,null,null,{"$f":"IFERROR(VLOOKUP(Q218,'P2'!$B$4:$J$48,9,FALSE),\"\")","v":""},{"$f":"IFERROR(VLOOKUP(R218,'P2'!$B$4:$J$48,9,FALSE),\"\")","v":""},{"$f":"IFERROR(VLOOKUP(S218,'P2'!$B$4:$J$48,9,FALSE),\"\")","v":""},{"$f":"IFERROR(VLOOKUP(T218,'P2'!$B$4:$J$48,9,FALSE),\"\")","v":""},{"$f":"IFERROR(VLOOKUP(U218,'P2'!$B$4:$J$48,9,FALSE),\"\")","v":""},{"$f":"IFERROR(VLOOKUP(V218,'P2'!$B$4:$J$48,9,FALSE),\"\")","v":""},{"$f":"IFERROR(VLOOKUP(W218,'P2'!$B$4:$J$48,9,FALSE),\"\")","v":""},{"$f":"IFERROR(VLOOKUP(X218,'P2'!$B$4:$J$48,9,FALSE),\"\")","v":""},{"$f":"IFERROR(VLOOKUP(Y218,'P2'!$B$4:$J$48,9,FALSE),\"\")","v":""},{"$f":"IFERROR(VLOOKUP(Z218,'P2'!$B$4:$J$48,9,FALSE),\"\")","v":""},{"$f":"IFERROR(VLOOKUP(AA218,'P2'!$B$4:$J$48,9,FALSE),\"\")","v":""},{"$f":"IFERROR(VLOOKUP(AB218,'P2'!$B$4:$J$48,9,FALSE),\"\")","v":""},{"$f":"IFERROR(VLOOKUP(AC218,'P2'!$B$4:$J$48,9,FALSE),\"\")","v":""},{"$f":"IFERROR(VLOOKUP(AD218,'P2'!$B$4:$J$48,9,FALSE),\"\")","v":""},{"$f":"IFERROR(VLOOKUP(AE218,'P2'!$B$4:$J$48,9,FALSE),\"\")","v":""},{"$f":"IFERROR(VLOOKUP(AF218,'P2'!$B$4:$J$48,9,FALSE),\"\")","v":""},{"$f":"IFERROR(VLOOKUP(AG218,'P2'!$B$4:$J$48,9,FALSE),\"\")","v":""},{"$f":"IFERROR(VLOOKUP(AH218,'P2'!$B$4:$J$48,9,FALSE),\"\")","v":""},{"$f":"IFERROR(VLOOKUP(AI218,'P2'!$B$4:$J$48,9,FALSE),\"\")","v":""},{"$f":"IFERROR(VLOOKUP(AJ218,'P2'!$B$4:$J$48,9,FALSE),\"\")","v":""},{"$f":"IFERROR(VLOOKUP(AK218,'P2'!$B$4:$J$48,9,FALSE),\"\")","v":""},{"$f":"IFERROR(VLOOKUP(AL218,'P2'!$B$4:$J$48,9,FALSE),\"\")","v":""},{"$f":"IFERROR(VLOOKUP(AM218,'P2'!$B$4:$J$48,9,FALSE),\"\")","v":""},{"$f":"IFERROR(VLOOKUP(AN218,'P2'!$B$4:$J$48,9,FALSE),\"\")","v":""},{"$f":"IFERROR(VLOOKUP(AO218,'P2'!$B$4:$J$48,9,FALSE),\"\")","v":""},{"$f":"IFERROR(VLOOKUP(AP218,'P2'!$B$4:$J$48,9,FALSE),\"\")","v":""},{"$f":"IFERROR(VLOOKUP(AQ218,'P2'!$B$4:$J$48,9,FALSE),\"\")","v":""},{"$f":"IFERROR(VLOOKUP(AR218,'P2'!$B$4:$J$48,9,FALSE),\"\")","v":""},{"$f":"IFERROR(VLOOKUP(AS218,'P2'!$B$4:$J$48,9,FALSE),\"\")","v":""},{"$f":"IFERROR(VLOOKUP(AT218,'P2'!$B$4:$J$48,9,FALSE),\"\")","v":""},{"$f":"IFERROR(VLOOKUP(AU218,'P2'!$B$4:$J$48,9,FALSE),\"\")","v":""},{"$f":"SUM(Q219:AU219)","v":0}]
[null,93,null,null,null,null,null,null,null,null,null,null,null,null,null,null,null,null,null,null,null,null,null,null,null,null,null,null,null,null,null,null,null,null,null,null,null,null,null,null,null,null,null,null,null,null,null,{"$f":"COUNTA(Q220:AU220)","v":0},{"$f":"AV221","v":0},{"$f":"IFERROR(ROUNDDOWN(AV221/$AT$3,1),\"\")","v":""}]
[null,null,null,null,null,null,null,null,null,null,null,null,null,null,null,null,{"$f":"IFERROR(VLOOKUP(Q220,'P2'!$B$4:$J$48,9,FALSE),\"\")","v":""},{"$f":"IFERROR(VLOOKUP(R220,'P2'!$B$4:$J$48,9,FALSE),\"\")","v":""},{"$f":"IFERROR(VLOOKUP(S220,'P2'!$B$4:$J$48,9,FALSE),\"\")","v":""},{"$f":"IFERROR(VLOOKUP(T220,'P2'!$B$4:$J$48,9,FALSE),\"\")","v":""},{"$f":"IFERROR(VLOOKUP(U220,'P2'!$B$4:$J$48,9,FALSE),\"\")","v":""},{"$f":"IFERROR(VLOOKUP(V220,'P2'!$B$4:$J$48,9,FALSE),\"\")","v":""},{"$f":"IFERROR(VLOOKUP(W220,'P2'!$B$4:$J$48,9,FALSE),\"\")","v":""},{"$f":"IFERROR(VLOOKUP(X220,'P2'!$B$4:$J$48,9,FALSE),\"\")","v":""},{"$f":"IFERROR(VLOOKUP(Y220,'P2'!$B$4:$J$48,9,FALSE),\"\")","v":""},{"$f":"IFERROR(VLOOKUP(Z220,'P2'!$B$4:$J$48,9,FALSE),\"\")","v":""},{"$f":"IFERROR(VLOOKUP(AA220,'P2'!$B$4:$J$48,9,FALSE),\"\")","v":""},{"$f":"IFERROR(VLOOKUP(AB220,'P2'!$B$4:$J$48,9,FALSE),\"\")","v":""},{"$f":"IFERROR(VLOOKUP(AC220,'P2'!$B$4:$J$48,9,FALSE),\"\")","v":""},{"$f":"IFERROR(VLOOKUP(AD220,'P2'!$B$4:$J$48,9,FALSE),\"\")","v":""},{"$f":"IFERROR(VLOOKUP(AE220,'P2'!$B$4:$J$48,9,FALSE),\"\")","v":""},{"$f":"IFERROR(VLOOKUP(AF220,'P2'!$B$4:$J$48,9,FALSE),\"\")","v":""},{"$f":"IFERROR(VLOOKUP(AG220,'P2'!$B$4:$J$48,9,FALSE),\"\")","v":""},{"$f":"IFERROR(VLOOKUP(AH220,'P2'!$B$4:$J$48,9,FALSE),\"\")","v":""},{"$f":"IFERROR(VLOOKUP(AI220,'P2'!$B$4:$J$48,9,FALSE),\"\")","v":""},{"$f":"IFERROR(VLOOKUP(AJ220,'P2'!$B$4:$J$48,9,FALSE),\"\")","v":""},{"$f":"IFERROR(VLOOKUP(AK220,'P2'!$B$4:$J$48,9,FALSE),\"\")","v":""},{"$f":"IFERROR(VLOOKUP(AL220,'P2'!$B$4:$J$48,9,FALSE),\"\")","v":""},{"$f":"IFERROR(VLOOKUP(AM220,'P2'!$B$4:$J$48,9,FALSE),\"\")","v":""},{"$f":"IFERROR(VLOOKUP(AN220,'P2'!$B$4:$J$48,9,FALSE),\"\")","v":""},{"$f":"IFERROR(VLOOKUP(AO220,'P2'!$B$4:$J$48,9,FALSE),\"\")","v":""},{"$f":"IFERROR(VLOOKUP(AP220,'P2'!$B$4:$J$48,9,FALSE),\"\")","v":""},{"$f":"IFERROR(VLOOKUP(AQ220,'P2'!$B$4:$J$48,9,FALSE),\"\")","v":""},{"$f":"IFERROR(VLOOKUP(AR220,'P2'!$B$4:$J$48,9,FALSE),\"\")","v":""},{"$f":"IFERROR(VLOOKUP(AS220,'P2'!$B$4:$J$48,9,FALSE),\"\")","v":""},{"$f":"IFERROR(VLOOKUP(AT220,'P2'!$B$4:$J$48,9,FALSE),\"\")","v":""},{"$f":"IFERROR(VLOOKUP(AU220,'P2'!$B$4:$J$48,9,FALSE),\"\")","v":""},{"$f":"SUM(Q221:AU221)","v":0}]
[null,94,null,null,null,null,null,null,null,null,null,null,null,null,null,null,null,null,null,null,null,null,null,null,null,null,null,null,null,null,null,null,null,null,null,null,null,null,null,null,null,null,null,null,null,null,null,{"$f":"COUNTA(Q222:AU222)","v":0},{"$f":"AV223","v":0},{"$f":"IFERROR(ROUNDDOWN(AV223/$AT$3,1),\"\")","v":""}]
[null,null,null,null,null,null,null,null,null,null,null,null,null,null,null,null,{"$f":"IFERROR(VLOOKUP(Q222,'P2'!$B$4:$J$48,9,FALSE),\"\")","v":""},{"$f":"IFERROR(VLOOKUP(R222,'P2'!$B$4:$J$48,9,FALSE),\"\")","v":""},{"$f":"IFERROR(VLOOKUP(S222,'P2'!$B$4:$J$48,9,FALSE),\"\")","v":""},{"$f":"IFERROR(VLOOKUP(T222,'P2'!$B$4:$J$48,9,FALSE),\"\")","v":""},{"$f":"IFERROR(VLOOKUP(U222,'P2'!$B$4:$J$48,9,FALSE),\"\")","v":""},{"$f":"IFERROR(VLOOKUP(V222,'P2'!$B$4:$J$48,9,FALSE),\"\")","v":""},{"$f":"IFERROR(VLOOKUP(W222,'P2'!$B$4:$J$48,9,FALSE),\"\")","v":""},{"$f":"IFERROR(VLOOKUP(X222,'P2'!$B$4:$J$48,9,FALSE),\"\")","v":""},{"$f":"IFERROR(VLOOKUP(Y222,'P2'!$B$4:$J$48,9,FALSE),\"\")","v":""},{"$f":"IFERROR(VLOOKUP(Z222,'P2'!$B$4:$J$48,9,FALSE),\"\")","v":""},{"$f":"IFERROR(VLOOKUP(AA222,'P2'!$B$4:$J$48,9,FALSE),\"\")","v":""},{"$f":"IFERROR(VLOOKUP(AB222,'P2'!$B$4:$J$48,9,FALSE),\"\")","v":""},{"$f":"IFERROR(VLOOKUP(AC222,'P2'!$B$4:$J$48,9,FALSE),\"\")","v":""},{"$f":"IFERROR(VLOOKUP(AD222,'P2'!$B$4:$J$48,9,FALSE),\"\")","v":""},{"$f":"IFERROR(VLOOKUP(AE222,'P2'!$B$4:$J$48,9,FALSE),\"\")","v":""},{"$f":"IFERROR(VLOOKUP(AF222,'P2'!$B$4:$J$48,9,FALSE),\"\")","v":""},{"$f":"IFERROR(VLOOKUP(AG222,'P2'!$B$4:$J$48,9,FALSE),\"\")","v":""},{"$f":"IFERROR(VLOOKUP(AH222,'P2'!$B$4:$J$48,9,FALSE),\"\")","v":""},{"$f":"IFERROR(VLOOKUP(AI222,'P2'!$B$4:$J$48,9,FALSE),\"\")","v":""},{"$f":"IFERROR(VLOOKUP(AJ222,'P2'!$B$4:$J$48,9,FALSE),\"\")","v":""},{"$f":"IFERROR(VLOOKUP(AK222,'P2'!$B$4:$J$48,9,FALSE),\"\")","v":""},{"$f":"IFERROR(VLOOKUP(AL222,'P2'!$B$4:$J$48,9,FALSE),\"\")","v":""},{"$f":"IFERROR(VLOOKUP(AM222,'P2'!$B$4:$J$48,9,FALSE),\"\")","v":""},{"$f":"IFERROR(VLOOKUP(AN222,'P2'!$B$4:$J$48,9,FALSE),\"\")","v":""},{"$f":"IFERROR(VLOOKUP(AO222,'P2'!$B$4:$J$48,9,FALSE),\"\")","v":""},{"$f":"IFERROR(VLOOKUP(AP222,'P2'!$B$4:$J$48,9,FALSE),\"\")","v":""},{"$f":"IFERROR(VLOOKUP(AQ222,'P2'!$B$4:$J$48,9,FALSE),\"\")","v":""},{"$f":"IFERROR(VLOOKUP(AR222,'P2'!$B$4:$J$48,9,FALSE),\"\")","v":""},{"$f":"IFERROR(VLOOKUP(AS222,'P2'!$B$4:$J$48,9,FALSE),\"\")","v":""},{"$f":"IFERROR(VLOOKUP(AT222,'P2'!$B$4:$J$48,9,FALSE),\"\")","v":""},{"$f":"IFERROR(VLOOKUP(AU222,'P2'!$B$4:$J$48,9,FALSE),\"\")","v":""},{"$f":"SUM(Q223:AU223)","v":0}]
[null,95,null,null,null,null,null,null,null,null,null,null,null,null,null,null,null,null,null,null,null,null,null,null,null,null,null,null,null,null,null,null,null,null,null,null,null,null,null,null,null,null,null,null,null,null,null,{"$f":"COUNTA(Q224:AU224)","v":0},{"$f":"AV225","v":0},{"$f":"IFERROR(ROUNDDOWN(AV225/$AT$3,1),\"\")","v":""}]
[null,null,null,null,null,null,null,null,null,null,null,null,null,null,null,null,{"$f":"IFERROR(VLOOKUP(Q224,'P2'!$B$4:$J$48,9,FALSE),\"\")","v":""},{"$f":"IFERROR(VLOOKUP(R224,'P2'!$B$4:$J$48,9,FALSE),\"\")","v":""},{"$f":"IFERROR(VLOOKUP(S224,'P2'!$B$4:$J$48,9,FALSE),\"\")","v":""},{"$f":"IFERROR(VLOOKUP(T224,'P2'!$B$4:$J$48,9,FALSE),\"\")","v":""},{"$f":"IFERROR(VLOOKUP(U224,'P2'!$B$4:$J$48,9,FALSE),\"\")","v":""},{"$f":"IFERROR(VLOOKUP(V224,'P2'!$B$4:$J$48,9,FALSE),\"\")","v":""},{"$f":"IFERROR(VLOOKUP(W224,'P2'!$B$4:$J$48,9,FALSE),\"\")","v":""},{"$f":"IFERROR(VLOOKUP(X224,'P2'!$B$4:$J$48,9,FALSE),\"\")","v":""},{"$f":"IFERROR(VLOOKUP(Y224,'P2'!$B$4:$J$48,9,FALSE),\"\")","v":""},{"$f":"IFERROR(VLOOKUP(Z224,'P2'!$B$4:$J$48,9,FALSE),\"\")","v":""},{"$f":"IFERROR(VLOOKUP(AA224,'P2'!$B$4:$J$48,9,FALSE),\"\")","v":""},{"$f":"IFERROR(VLOOKUP(AB224,'P2'!$B$4:$J$48,9,FALSE),\"\")","v":""},{"$f":"IFERROR(VLOOKUP(AC224,'P2'!$B$4:$J$48,9,FALSE),\"\")","v":""},{"$f":"IFERROR(VLOOKUP(AD224,'P2'!$B$4:$J$48,9,FALSE),\"\")","v":""},{"$f":"IFERROR(VLOOKUP(AE224,'P2'!$B$4:$J$48,9,FALSE),\"\")","v":""},{"$f":"IFERROR(VLOOKUP(AF224,'P2'!$B$4:$J$48,9,FALSE),\"\")","v":""},{"$f":"IFERROR(VLOOKUP(AG224,'P2'!$B$4:$J$48,9,FALSE),\"\")","v":""},{"$f":"IFERROR(VLOOKUP(AH224,'P2'!$B$4:$J$48,9,FALSE),\"\")","v":""},{"$f":"IFERROR(VLOOKUP(AI224,'P2'!$B$4:$J$48,9,FALSE),\"\")","v":""},{"$f":"IFERROR(VLOOKUP(AJ224,'P2'!$B$4:$J$48,9,FALSE),\"\")","v":""},{"$f":"IFERROR(VLOOKUP(AK224,'P2'!$B$4:$J$48,9,FALSE),\"\")","v":""},{"$f":"IFERROR(VLOOKUP(AL224,'P2'!$B$4:$J$48,9,FALSE),\"\")","v":""},{"$f":"IFERROR(VLOOKUP(AM224,'P2'!$B$4:$J$48,9,FALSE),\"\")","v":""},{"$f":"IFERROR(VLOOKUP(AN224,'P2'!$B$4:$J$48,9,FALSE),\"\")","v":""},{"$f":"IFERROR(VLOOKUP(AO224,'P2'!$B$4:$J$48,9,FALSE),\"\")","v":""},{"$f":"IFERROR(VLOOKUP(AP224,'P2'!$B$4:$J$48,9,FALSE),\"\")","v":""},{"$f":"IFERROR(VLOOKUP(AQ224,'P2'!$B$4:$J$48,9,FALSE),\"\")","v":""},{"$f":"IFERROR(VLOOKUP(AR224,'P2'!$B$4:$J$48,9,FALSE),\"\")","v":""},{"$f":"IFERROR(VLOOKUP(AS224,'P2'!$B$4:$J$48,9,FALSE),\"\")","v":""},{"$f":"IFERROR(VLOOKUP(AT224,'P2'!$B$4:$J$48,9,FALSE),\"\")","v":""},{"$f":"IFERROR(VLOOKUP(AU224,'P2'!$B$4:$J$48,9,FALSE),\"\")","v":""},{"$f":"SUM(Q225:AU225)","v":0}]
[null,96,null,null,null,null,null,null,null,null,null,null,null,null,null,null,null,null,null,null,null,null,null,null,null,null,null,null,null,null,null,null,null,null,null,null,null,null,null,null,null,null,null,null,null,null,null,{"$f":"COUNTA(Q226:AU226)","v":0},{"$f":"AV227","v":0},{"$f":"IFERROR(ROUNDDOWN(AV227/$AT$3,1),\"\")","v":""}]
[null,null,null,null,null,null,null,null,null,null,null,null,null,null,null,null,{"$f":"IFERROR(VLOOKUP(Q226,'P2'!$B$4:$J$48,9,FALSE),\"\")","v":""},{"$f":"IFERROR(VLOOKUP(R226,'P2'!$B$4:$J$48,9,FALSE),\"\")","v":""},{"$f":"IFERROR(VLOOKUP(S226,'P2'!$B$4:$J$48,9,FALSE),\"\")","v":""},{"$f":"IFERROR(VLOOKUP(T226,'P2'!$B$4:$J$48,9,FALSE),\"\")","v":""},{"$f":"IFERROR(VLOOKUP(U226,'P2'!$B$4:$J$48,9,FALSE),\"\")","v":""},{"$f":"IFERROR(VLOOKUP(V226,'P2'!$B$4:$J$48,9,FALSE),\"\")","v":""},{"$f":"IFERROR(VLOOKUP(W226,'P2'!$B$4:$J$48,9,FALSE),\"\")","v":""},{"$f":"IFERROR(VLOOKUP(X226,'P2'!$B$4:$J$48,9,FALSE),\"\")","v":""},{"$f":"IFERROR(VLOOKUP(Y226,'P2'!$B$4:$J$48,9,FALSE),\"\")","v":""},{"$f":"IFERROR(VLOOKUP(Z226,'P2'!$B$4:$J$48,9,FALSE),\"\")","v":""},{"$f":"IFERROR(VLOOKUP(AA226,'P2'!$B$4:$J$48,9,FALSE),\"\")","v":""},{"$f":"IFERROR(VLOOKUP(AB226,'P2'!$B$4:$J$48,9,FALSE),\"\")","v":""},{"$f":"IFERROR(VLOOKUP(AC226,'P2'!$B$4:$J$48,9,FALSE),\"\")","v":""},{"$f":"IFERROR(VLOOKUP(AD226,'P2'!$B$4:$J$48,9,FALSE),\"\")","v":""},{"$f":"IFERROR(VLOOKUP(AE226,'P2'!$B$4:$J$48,9,FALSE),\"\")","v":""},{"$f":"IFERROR(VLOOKUP(AF226,'P2'!$B$4:$J$48,9,FALSE),\"\")","v":""},{"$f":"IFERROR(VLOOKUP(AG226,'P2'!$B$4:$J$48,9,FALSE),\"\")","v":""},{"$f":"IFERROR(VLOOKUP(AH226,'P2'!$B$4:$J$48,9,FALSE),\"\")","v":""},{"$f":"IFERROR(VLOOKUP(AI226,'P2'!$B$4:$J$48,9,FALSE),\"\")","v":""},{"$f":"IFERROR(VLOOKUP(AJ226,'P2'!$B$4:$J$48,9,FALSE),\"\")","v":""},{"$f":"IFERROR(VLOOKUP(AK226,'P2'!$B$4:$J$48,9,FALSE),\"\")","v":""},{"$f":"IFERROR(VLOOKUP(AL226,'P2'!$B$4:$J$48,9,FALSE),\"\")","v":""},{"$f":"IFERROR(VLOOKUP(AM226,'P2'!$B$4:$J$48,9,FALSE),\"\")","v":""},{"$f":"IFERROR(VLOOKUP(AN226,'P2'!$B$4:$J$48,9,FALSE),\"\")","v":""},{"$f":"IFERROR(VLOOKUP(AO226,'P2'!$B$4:$J$48,9,FALSE),\"\")","v":""},{"$f":"IFERROR(VLOOKUP(AP226,'P2'!$B$4:$J$48,9,FALSE),\"\")","v":""},{"$f":"IFERROR(VLOOKUP(AQ226,'P2'!$B$4:$J$48,9,FALSE),\"\")","v":""},{"$f":"IFERROR(VLOOKUP(AR226,'P2'!$B$4:$J$48,9,FALSE),\"\")","v":""},{"$f":"IFERROR(VLOOKUP(AS226,'P2'!$B$4:$J$48,9,FALSE),\"\")","v":""},{"$f":"IFERROR(VLOOKUP(AT226,'P2'!$B$4:$J$48,9,FALSE),\"\")","v":""},{"$f":"IFERROR(VLOOKUP(AU226,'P2'!$B$4:$J$48,9,FALSE),\"\")","v":""},{"$f":"SUM(Q227:AU227)","v":0}]
[null,97,null,null,null,null,null,null,null,null,null,null,null,null,null,null,null,null,null,null,null,null,null,null,null,null,null,null,null,null,null,null,null,null,null,null,null,null,null,null,null,null,null,null,null,null,null,{"$f":"COUNTA(Q228:AU228)","v":0},{"$f":"AV229","v":0},{"$f":"IFERROR(ROUNDDOWN(AV229/$AT$3,1),\"\")","v":""}]
[null,null,null,null,null,null,null,null,null,null,null,null,null,null,null,null,{"$f":"IFERROR(VLOOKUP(Q228,'P2'!$B$4:$J$48,9,FALSE),\"\")","v":""},{"$f":"IFERROR(VLOOKUP(R228,'P2'!$B$4:$J$48,9,FALSE),\"\")","v":""},{"$f":"IFERROR(VLOOKUP(S228,'P2'!$B$4:$J$48,9,FALSE),\"\")","v":""},{"$f":"IFERROR(VLOOKUP(T228,'P2'!$B$4:$J$48,9,FALSE),\"\")","v":""},{"$f":"IFERROR(VLOOKUP(U228,'P2'!$B$4:$J$48,9,FALSE),\"\")","v":""},{"$f":"IFERROR(VLOOKUP(V228,'P2'!$B$4:$J$48,9,FALSE),\"\")","v":""},{"$f":"IFERROR(VLOOKUP(W228,'P2'!$B$4:$J$48,9,FALSE),\"\")","v":""},{"$f":"IFERROR(VLOOKUP(X228,'P2'!$B$4:$J$48,9,FALSE),\"\")","v":""},{"$f":"IFERROR(VLOOKUP(Y228,'P2'!$B$4:$J$48,9,FALSE),\"\")","v":""},{"$f":"IFERROR(VLOOKUP(Z228,'P2'!$B$4:$J$48,9,FALSE),\"\")","v":""},{"$f":"IFERROR(VLOOKUP(AA228,'P2'!$B$4:$J$48,9,FALSE),\"\")","v":""},{"$f":"IFERROR(VLOOKUP(AB228,'P2'!$B$4:$J$48,9,FALSE),\"\")","v":""},{"$f":"IFERROR(VLOOKUP(AC228,'P2'!$B$4:$J$48,9,FALSE),\"\")","v":""},{"$f":"IFERROR(VLOOKUP(AD228,'P2'!$B$4:$J$48,9,FALSE),\"\")","v":""},{"$f":"IFERROR(VLOOKUP(AE228,'P2'!$B$4:$J$48,9,FALSE),\"\")","v":""},{"$f":"IFERROR(VLOOKUP(AF228,'P2'!$B$4:$J$48,9,FALSE),\"\")","v":""},{"$f":"IFERROR(VLOOKUP(AG228,'P2'!$B$4:$J$48,9,FALSE),\"\")","v":""},{"$f":"IFERROR(VLOOKUP(AH228,'P2'!$B$4:$J$48,9,FALSE),\"\")","v":""},{"$f":"IFERROR(VLOOKUP(AI228,'P2'!$B$4:$J$48,9,FALSE),\"\")","v":""},{"$f":"IFERROR(VLOOKUP(AJ228,'P2'!$B$4:$J$48,9,FALSE),\"\")","v":""},{"$f":"IFERROR(VLOOKUP(AK228,'P2'!$B$4:$J$48,9,FALSE),\"\")","v":""},{"$f":"IFERROR(VLOOKUP(AL228,'P2'!$B$4:$J$48,9,FALSE),\"\")","v":""},{"$f":"IFERROR(VLOOKUP(AM228,'P2'!$B$4:$J$48,9,FALSE),\"\")","v":""},{"$f":"IFERROR(VLOOKUP(AN228,'P2'!$B$4:$J$48,9,FALSE),\"\")","v":""},{"$f":"IFERROR(VLOOKUP(AO228,'P2'!$B$4:$J$48,9,FALSE),\"\")","v":""},{"$f":"IFERROR(VLOOKUP(AP228,'P2'!$B$4:$J$48,9,FALSE),\"\")","v":""},{"$f":"IFERROR(VLOOKUP(AQ228,'P2'!$B$4:$J$48,9,FALSE),\"\")","v":""},{"$f":"IFERROR(VLOOKUP(AR228,'P2'!$B$4:$J$48,9,FALSE),\"\")","v":""},{"$f":"IFERROR(VLOOKUP(AS228,'P2'!$B$4:$J$48,9,FALSE),\"\")","v":""},{"$f":"IFERROR(VLOOKUP(AT228,'P2'!$B$4:$J$48,9,FALSE),\"\")","v":""},{"$f":"IFERROR(VLOOKUP(AU228,'P2'!$B$4:$J$48,9,FALSE),\"\")","v":""},{"$f":"SUM(Q229:AU229)","v":0}]
[null,98,null,null,null,null,null,null,null,null,null,null,null,null,null,null,null,null,null,null,null,null,null,null,null,null,null,null,null,null,null,null,null,null,null,null,null,null,null,null,null,null,null,null,null,null,null,{"$f":"COUNTA(Q230:AU230)","v":0},{"$f":"AV231","v":0},{"$f":"IFERROR(ROUNDDOWN(AV231/$AT$3,1),\"\")","v":""}]
[null,null,null,null,null,null,null,null,null,null,null,null,null,null,null,null,{"$f":"IFERROR(VLOOKUP(Q230,'P2'!$B$4:$J$48,9,FALSE),\"\")","v":""},{"$f":"IFERROR(VLOOKUP(R230,'P2'!$B$4:$J$48,9,FALSE),\"\")","v":""},{"$f":"IFERROR(VLOOKUP(S230,'P2'!$B$4:$J$48,9,FALSE),\"\")","v":""},{"$f":"IFERROR(VLOOKUP(T230,'P2'!$B$4:$J$48,9,FALSE),\"\")","v":""},{"$f":"IFERROR(VLOOKUP(U230,'P2'!$B$4:$J$48,9,FALSE),\"\")","v":""},{"$f":"IFERROR(VLOOKUP(V230,'P2'!$B$4:$J$48,9,FALSE),\"\")","v":""},{"$f":"IFERROR(VLOOKUP(W230,'P2'!$B$4:$J$48,9,FALSE),\"\")","v":""},{"$f":"IFERROR(VLOOKUP(X230,'P2'!$B$4:$J$48,9,FALSE),\"\")","v":""},{"$f":"IFERROR(VLOOKUP(Y230,'P2'!$B$4:$J$48,9,FALSE),\"\")","v":""},{"$f":"IFERROR(VLOOKUP(Z230,'P2'!$B$4:$J$48,9,FALSE),\"\")","v":""},{"$f":"IFERROR(VLOOKUP(AA230,'P2'!$B$4:$J$48,9,FALSE),\"\")","v":""},{"$f":"IFERROR(VLOOKUP(AB230,'P2'!$B$4:$J$48,9,FALSE),\"\")","v":""},{"$f":"IFERROR(VLOOKUP(AC230,'P2'!$B$4:$J$48,9,FALSE),\"\")","v":""},{"$f":"IFERROR(VLOOKUP(AD230,'P2'!$B$4:$J$48,9,FALSE),\"\")","v":""},{"$f":"IFERROR(VLOOKUP(AE230,'P2'!$B$4:$J$48,9,FALSE),\"\")","v":""},{"$f":"IFERROR(VLOOKUP(AF230,'P2'!$B$4:$J$48,9,FALSE),\"\")","v":""},{"$f":"IFERROR(VLOOKUP(AG230,'P2'!$B$4:$J$48,9,FALSE),\"\")","v":""},{"$f":"IFERROR(VLOOKUP(AH230,'P2'!$B$4:$J$48,9,FALSE),\"\")","v":""},{"$f":"IFERROR(VLOOKUP(AI230,'P2'!$B$4:$J$48,9,FALSE),\"\")","v":""},{"$f":"IFERROR(VLOOKUP(AJ230,'P2'!$B$4:$J$48,9,FALSE),\"\")","v":""},{"$f":"IFERROR(VLOOKUP(AK230,'P2'!$B$4:$J$48,9,FALSE),\"\")","v":""},{"$f":"IFERROR(VLOOKUP(AL230,'P2'!$B$4:$J$48,9,FALSE),\"\")","v":""},{"$f":"IFERROR(VLOOKUP(AM230,'P2'!$B$4:$J$48,9,FALSE),\"\")","v":""},{"$f":"IFERROR(VLOOKUP(AN230,'P2'!$B$4:$J$48,9,FALSE),\"\")","v":""},{"$f":"IFERROR(VLOOKUP(AO230,'P2'!$B$4:$J$48,9,FALSE),\"\")","v":""},{"$f":"IFERROR(VLOOKUP(AP230,'P2'!$B$4:$J$48,9,FALSE),\"\")","v":""},{"$f":"IFERROR(VLOOKUP(AQ230,'P2'!$B$4:$J$48,9,FALSE),\"\")","v":""},{"$f":"IFERROR(VLOOKUP(AR230,'P2'!$B$4:$J$48,9,FALSE),\"\")","v":""},{"$f":"IFERROR(VLOOKUP(AS230,'P2'!$B$4:$J$48,9,FALSE),\"\")","v":""},{"$f":"IFERROR(VLOOKUP(AT230,'P2'!$B$4:$J$48,9,FALSE),\"\")","v":""},{"$f":"IFERROR(VLOOKUP(AU230,'P2'!$B$4:$J$48,9,FALSE),\"\")","v":""},{"$f":"SUM(Q231:AU231)","v":0}]
[null,99,null,null,null,null,null,null,null,null,null,null,null,null,null,null,null,null,null,null,null,null,null,null,null,null,null,null,null,null,null,null,null,null,null,null,null,null,null,null,null,null,null,null,null,null,null,{"$f":"COUNTA(Q232:AU232)","v":0},{"$f":"AV233","v":0},{"$f":"IFERROR(ROUNDDOWN(AV233/$AT$3,1),\"\")","v":""}]
[null,null,null,null,null,null,null,null,null,null,null,null,null,null,null,null,{"$f":"IFERROR(VLOOKUP(Q232,'P2'!$B$4:$J$48,9,FALSE),\"\")","v":""},{"$f":"IFERROR(VLOOKUP(R232,'P2'!$B$4:$J$48,9,FALSE),\"\")","v":""},{"$f":"IFERROR(VLOOKUP(S232,'P2'!$B$4:$J$48,9,FALSE),\"\")","v":""},{"$f":"IFERROR(VLOOKUP(T232,'P2'!$B$4:$J$48,9,FALSE),\"\")","v":""},{"$f":"IFERROR(VLOOKUP(U232,'P2'!$B$4:$J$48,9,FALSE),\"\")","v":""},{"$f":"IFERROR(VLOOKUP(V232,'P2'!$B$4:$J$48,9,FALSE),\"\")","v":""},{"$f":"IFERROR(VLOOKUP(W232,'P2'!$B$4:$J$48,9,FALSE),\"\")","v":""},{"$f":"IFERROR(VLOOKUP(X232,'P2'!$B$4:$J$48,9,FALSE),\"\")","v":""},{"$f":"IFERROR(VLOOKUP(Y232,'P2'!$B$4:$J$48,9,FALSE),\"\")","v":""},{"$f":"IFERROR(VLOOKUP(Z232,'P2'!$B$4:$J$48,9,FALSE),\"\")","v":""},{"$f":"IFERROR(VLOOKUP(AA232,'P2'!$B$4:$J$48,9,FALSE),\"\")","v":""},{"$f":"IFERROR(VLOOKUP(AB232,'P2'!$B$4:$J$48,9,FALSE),\"\")","v":""},{"$f":"IFERROR(VLOOKUP(AC232,'P2'!$B$4:$J$48,9,FALSE),\"\")","v":""},{"$f":"IFERROR(VLOOKUP(AD232,'P2'!$B$4:$J$48,9,FALSE),\"\")","v":""},{"$f":"IFERROR(VLOOKUP(AE232,'P2'!$B$4:$J$48,9,FALSE),\"\")","v":""},{"$f":"IFERROR(VLOOKUP(AF232,'P2'!$B$4:$J$48,9,FALSE),\"\")","v":""},{"$f":"IFERROR(VLOOKUP(AG232,'P2'!$B$4:$J$48,9,FALSE),\"\")","v":""},{"$f":"IFERROR(VLOOKUP(AH232,'P2'!$B$4:$J$48,9,FALSE),\"\")","v":""},{"$f":"IFERROR(VLOOKUP(AI232,'P2'!$B$4:$J$48,9,FALSE),\"\")","v":""},{"$f":"IFERROR(VLOOKUP(AJ232,'P2'!$B$4:$J$48,9,FALSE),\"\")","v":""},{"$f":"IFERROR(VLOOKUP(AK232,'P2'!$B$4:$J$48,9,FALSE),\"\")","v":""},{"$f":"IFERROR(VLOOKUP(AL232,'P2'!$B$4:$J$48,9,FALSE),\"\")","v":""},{"$f":"IFERROR(VLOOKUP(AM232,'P2'!$B$4:$J$48,9,FALSE),\"\")","v":""},{"$f":"IFERROR(VLOOKUP(AN232,'P2'!$B$4:$J$48,9,FALSE),\"\")","v":""},{"$f":"IFERROR(VLOOKUP(AO232,'P2'!$B$4:$J$48,9,FALSE),\"\")","v":""},{"$f":"IFERROR(VLOOKUP(AP232,'P2'!$B$4:$J$48,9,FALSE),\"\")","v":""},{"$f":"IFERROR(VLOOKUP(AQ232,'P2'!$B$4:$J$48,9,FALSE),\"\")","v":""},{"$f":"IFERROR(VLOOKUP(AR232,'P2'!$B$4:$J$48,9,FALSE),\"\")","v":""},{"$f":"IFERROR(VLOOKUP(AS232,'P2'!$B$4:$J$48,9,FALSE),\"\")","v":""},{"$f":"IFERROR(VLOOKUP(AT232,'P2'!$B$4:$J$48,9,FALSE),\"\")","v":""},{"$f":"IFERROR(VLOOKUP(AU232,'P2'!$B$4:$J$48,9,FALSE),\"\")","v":""},{"$f":"SUM(Q233:AU233)","v":0}]
[null,100,null,null,null,null,null,null,null,null,null,null,null,null,null,null,null,null,null,null,null,null,null,null,null,null,null,null,null,null,null,null,null,null,null,null,null,null,null,null,null,null,null,null,null,null,null,{"$f":"COUNTA(Q234:AU234)","v":0},{"$f":"AV235","v":0},{"$f":"IFERROR(ROUNDDOWN(AV235/$AT$3,1),\"\")","v":""}]
[null,null,null,null,null,null,null,null,null,null,null,null,null,null,null,null,{"$f":"IFERROR(VLOOKUP(Q234,'P2'!$B$4:$J$48,9,FALSE),\"\")","v":""},{"$f":"IFERROR(VLOOKUP(R234,'P2'!$B$4:$J$48,9,FALSE),\"\")","v":""},{"$f":"IFERROR(VLOOKUP(S234,'P2'!$B$4:$J$48,9,FALSE),\"\")","v":""},{"$f":"IFERROR(VLOOKUP(T234,'P2'!$B$4:$J$48,9,FALSE),\"\")","v":""},{"$f":"IFERROR(VLOOKUP(U234,'P2'!$B$4:$J$48,9,FALSE),\"\")","v":""},{"$f":"IFERROR(VLOOKUP(V234,'P2'!$B$4:$J$48,9,FALSE),\"\")","v":""},{"$f":"IFERROR(VLOOKUP(W234,'P2'!$B$4:$J$48,9,FALSE),\"\")","v":""},{"$f":"IFERROR(VLOOKUP(X234,'P2'!$B$4:$J$48,9,FALSE),\"\")","v":""},{"$f":"IFERROR(VLOOKUP(Y234,'P2'!$B$4:$J$48,9,FALSE),\"\")","v":""},{"$f":"IFERROR(VLOOKUP(Z234,'P2'!$B$4:$J$48,9,FALSE),\"\")","v":""},{"$f":"IFERROR(VLOOKUP(AA234,'P2'!$B$4:$J$48,9,FALSE),\"\")","v":""},{"$f":"IFERROR(VLOOKUP(AB234,'P2'!$B$4:$J$48,9,FALSE),\"\")","v":""},{"$f":"IFERROR(VLOOKUP(AC234,'P2'!$B$4:$J$48,9,FALSE),\"\")","v":""},{"$f":"IFERROR(VLOOKUP(AD234,'P2'!$B$4:$J$48,9,FALSE),\"\")","v":""},{"$f":"IFERROR(VLOOKUP(AE234,'P2'!$B$4:$J$48,9,FALSE),\"\")","v":""},{"$f":"IFERROR(VLOOKUP(AF234,'P2'!$B$4:$J$48,9,FALSE),\"\")","v":""},{"$f":"IFERROR(VLOOKUP(AG234,'P2'!$B$4:$J$48,9,FALSE),\"\")","v":""},{"$f":"IFERROR(VLOOKUP(AH234,'P2'!$B$4:$J$48,9,FALSE),\"\")","v":""},{"$f":"IFERROR(VLOOKUP(AI234,'P2'!$B$4:$J$48,9,FALSE),\"\")","v":""},{"$f":"IFERROR(VLOOKUP(AJ234,'P2'!$B$4:$J$48,9,FALSE),\"\")","v":""},{"$f":"IFERROR(VLOOKUP(AK234,'P2'!$B$4:$J$48,9,FALSE),\"\")","v":""},{"$f":"IFERROR(VLOOKUP(AL234,'P2'!$B$4:$J$48,9,FALSE),\"\")","v":""},{"$f":"IFERROR(VLOOKUP(AM234,'P2'!$B$4:$J$48,9,FALSE),\"\")","v":""},{"$f":"IFERROR(VLOOKUP(AN234,'P2'!$B$4:$J$48,9,FALSE),\"\")","v":""},{"$f":"IFERROR(VLOOKUP(AO234,'P2'!$B$4:$J$48,9,FALSE),\"\")","v":""},{"$f":"IFERROR(VLOOKUP(AP234,'P2'!$B$4:$J$48,9,FALSE),\"\")","v":""},{"$f":"IFERROR(VLOOKUP(AQ234,'P2'!$B$4:$J$48,9,FALSE),\"\")","v":""},{"$f":"IFERROR(VLOOKUP(AR234,'P2'!$B$4:$J$48,9,FALSE),\"\")","v":""},{"$f":"IFERROR(VLOOKUP(AS234,'P2'!$B$4:$J$48,9,FALSE),\"\")","v":""},{"$f":"IFERROR(VLOOKUP(AT234,'P2'!$B$4:$J$48,9,FALSE),\"\")","v":""},{"$f":"IFERROR(VLOOKUP(AU234,'P2'!$B$4:$J$48,9,FALSE),\"\")","v":""},{"$f":"SUM(Q235:AU235)","v":0}]
[null,101,null,null,null,null,null,null,null,null,null,null,null,null,null,null,null,null,null,null,null,null,null,null,null,null,null,null,null,null,null,null,null,null,null,null,null,null,null,null,null,null,null,null,null,null,null,{"$f":"COUNTA(Q236:AU236)","v":0},{"$f":"AV237","v":0},{"$f":"IFERROR(ROUNDDOWN(AV237/$AT$3,1),\"\")","v":""}]
[null,null,null,null,null,null,null,null,null,null,null,null,null,null,null,null,{"$f":"IFERROR(VLOOKUP(Q236,'P2'!$B$4:$J$48,9,FALSE),\"\")","v":""},{"$f":"IFERROR(VLOOKUP(R236,'P2'!$B$4:$J$48,9,FALSE),\"\")","v":""},{"$f":"IFERROR(VLOOKUP(S236,'P2'!$B$4:$J$48,9,FALSE),\"\")","v":""},{"$f":"IFERROR(VLOOKUP(T236,'P2'!$B$4:$J$48,9,FALSE),\"\")","v":""},{"$f":"IFERROR(VLOOKUP(U236,'P2'!$B$4:$J$48,9,FALSE),\"\")","v":""},{"$f":"IFERROR(VLOOKUP(V236,'P2'!$B$4:$J$48,9,FALSE),\"\")","v":""},{"$f":"IFERROR(VLOOKUP(W236,'P2'!$B$4:$J$48,9,FALSE),\"\")","v":""},{"$f":"IFERROR(VLOOKUP(X236,'P2'!$B$4:$J$48,9,FALSE),\"\")","v":""},{"$f":"IFERROR(VLOOKUP(Y236,'P2'!$B$4:$J$48,9,FALSE),\"\")","v":""},{"$f":"IFERROR(VLOOKUP(Z236,'P2'!$B$4:$J$48,9,FALSE),\"\")","v":""},{"$f":"IFERROR(VLOOKUP(AA236,'P2'!$B$4:$J$48,9,FALSE),\"\")","v":""},{"$f":"IFERROR(VLOOKUP(AB236,'P2'!$B$4:$J$48,9,FALSE),\"\")","v":""},{"$f":"IFERROR(VLOOKUP(AC236,'P2'!$B$4:$J$48,9,FALSE),\"\")","v":""},{"$f":"IFERROR(VLOOKUP(AD236,'P2'!$B$4:$J$48,9,FALSE),\"\")","v":""},{"$f":"IFERROR(VLOOKUP(AE236,'P2'!$B$4:$J$48,9,FALSE),\"\")","v":""},{"$f":"IFERROR(VLOOKUP(AF236,'P2'!$B$4:$J$48,9,FALSE),\"\")","v":""},{"$f":"IFERROR(VLOOKUP(AG236,'P2'!$B$4:$J$48,9,FALSE),\"\")","v":""},{"$f":"IFERROR(VLOOKUP(AH236,'P2'!$B$4:$J$48,9,FALSE),\"\")","v":""},{"$f":"IFERROR(VLOOKUP(AI236,'P2'!$B$4:$J$48,9,FALSE),\"\")","v":""},{"$f":"IFERROR(VLOOKUP(AJ236,'P2'!$B$4:$J$48,9,FALSE),\"\")","v":""},{"$f":"IFERROR(VLOOKUP(AK236,'P2'!$B$4:$J$48,9,FALSE),\"\")","v":""},{"$f":"IFERROR(VLOOKUP(AL236,'P2'!$B$4:$J$48,9,FALSE),\"\")","v":""},{"$f":"IFERROR(VLOOKUP(AM236,'P2'!$B$4:$J$48,9,FALSE),\"\")","v":""},{"$f":"IFERROR(VLOOKUP(AN236,'P2'!$B$4:$J$48,9,FALSE),\"\")","v":""},{"$f":"IFERROR(VLOOKUP(AO236,'P2'!$B$4:$J$48,9,FALSE),\"\")","v":""},{"$f":"IFERROR(VLOOKUP(AP236,'P2'!$B$4:$J$48,9,FALSE),\"\")","v":""},{"$f":"IFERROR(VLOOKUP(AQ236,'P2'!$B$4:$J$48,9,FALSE),\"\")","v":""},{"$f":"IFERROR(VLOOKUP(AR236,'P2'!$B$4:$J$48,9,FALSE),\"\")","v":""},{"$f":"IFERROR(VLOOKUP(AS236,'P2'!$B$4:$J$48,9,FALSE),\"\")","v":""},{"$f":"IFERROR(VLOOKUP(AT236,'P2'!$B$4:$J$48,9,FALSE),\"\")","v":""},{"$f":"IFERROR(VLOOKUP(AU236,'P2'!$B$4:$J$48,9,FALSE),\"\")","v":""},{"$f":"SUM(Q237:AU237)","v":0}]
[null,102,null,null,null,null,null,null,null,null,null,null,null,null,null,null,null,null,null,null,null,null,null,null,null,null,null,null,null,null,null,null,null,null,null,null,null,null,null,null,null,null,null,null,null,null,null,{"$f":"COUNTA(Q238:AU238)","v":0},{"$f":"AV239","v":0},{"$f":"IFERROR(ROUNDDOWN(AV239/$AT$3,1),\"\")","v":""}]
[null,null,null,null,null,null,null,null,null,null,null,null,null,null,null,null,{"$f":"IFERROR(VLOOKUP(Q238,'P2'!$B$4:$J$48,9,FALSE),\"\")","v":""},{"$f":"IFERROR(VLOOKUP(R238,'P2'!$B$4:$J$48,9,FALSE),\"\")","v":""},{"$f":"IFERROR(VLOOKUP(S238,'P2'!$B$4:$J$48,9,FALSE),\"\")","v":""},{"$f":"IFERROR(VLOOKUP(T238,'P2'!$B$4:$J$48,9,FALSE),\"\")","v":""},{"$f":"IFERROR(VLOOKUP(U238,'P2'!$B$4:$J$48,9,FALSE),\"\")","v":""},{"$f":"IFERROR(VLOOKUP(V238,'P2'!$B$4:$J$48,9,FALSE),\"\")","v":""},{"$f":"IFERROR(VLOOKUP(W238,'P2'!$B$4:$J$48,9,FALSE),\"\")","v":""},{"$f":"IFERROR(VLOOKUP(X238,'P2'!$B$4:$J$48,9,FALSE),\"\")","v":""},{"$f":"IFERROR(VLOOKUP(Y238,'P2'!$B$4:$J$48,9,FALSE),\"\")","v":""},{"$f":"IFERROR(VLOOKUP(Z238,'P2'!$B$4:$J$48,9,FALSE),\"\")","v":""},{"$f":"IFERROR(VLOOKUP(AA238,'P2'!$B$4:$J$48,9,FALSE),\"\")","v":""},{"$f":"IFERROR(VLOOKUP(AB238,'P2'!$B$4:$J$48,9,FALSE),\"\")","v":""},{"$f":"IFERROR(VLOOKUP(AC238,'P2'!$B$4:$J$48,9,FALSE),\"\")","v":""},{"$f":"IFERROR(VLOOKUP(AD238,'P2'!$B$4:$J$48,9,FALSE),\"\")","v":""},{"$f":"IFERROR(VLOOKUP(AE238,'P2'!$B$4:$J$48,9,FALSE),\"\")","v":""},{"$f":"IFERROR(VLOOKUP(AF238,'P2'!$B$4:$J$48,9,FALSE),\"\")","v":""},{"$f":"IFERROR(VLOOKUP(AG238,'P2'!$B$4:$J$48,9,FALSE),\"\")","v":""},{"$f":"IFERROR(VLOOKUP(AH238,'P2'!$B$4:$J$48,9,FALSE),\"\")","v":""},{"$f":"IFERROR(VLOOKUP(AI238,'P2'!$B$4:$J$48,9,FALSE),\"\")","v":""},{"$f":"IFERROR(VLOOKUP(AJ238,'P2'!$B$4:$J$48,9,FALSE),\"\")","v":""},{"$f":"IFERROR(VLOOKUP(AK238,'P2'!$B$4:$J$48,9,FALSE),\"\")","v":""},{"$f":"IFERROR(VLOOKUP(AL238,'P2'!$B$4:$J$48,9,FALSE),\"\")","v":""},{"$f":"IFERROR(VLOOKUP(AM238,'P2'!$B$4:$J$48,9,FALSE),\"\")","v":""},{"$f":"IFERROR(VLOOKUP(AN238,'P2'!$B$4:$J$48,9,FALSE),\"\")","v":""},{"$f":"IFERROR(VLOOKUP(AO238,'P2'!$B$4:$J$48,9,FALSE),\"\")","v":""},{"$f":"IFERROR(VLOOKUP(AP238,'P2'!$B$4:$J$48,9,FALSE),\"\")","v":""},{"$f":"IFERROR(VLOOKUP(AQ238,'P2'!$B$4:$J$48,9,FALSE),\"\")","v":""},{"$f":"IFERROR(VLOOKUP(AR238,'P2'!$B$4:$J$48,9,FALSE),\"\")","v":""},{"$f":"IFERROR(VLOOKUP(AS238,'P2'!$B$4:$J$48,9,FALSE),\"\")","v":""},{"$f":"IFERROR(VLOOKUP(AT238,'P2'!$B$4:$J$48,9,FALSE),\"\")","v":""},{"$f":"IFERROR(VLOOKUP(AU238,'P2'!$B$4:$J$48,9,FALSE),\"\")","v":""},{"$f":"SUM(Q239:AU239)","v":0}]
[null,103,null,null,null,null,null,null,null,null,null,null,null,null,null,null,null,null,null,null,null,null,null,null,null,null,null,null,null,null,null,null,null,null,null,null,null,null,null,null,null,null,null,null,null,null,null,{"$f":"COUNTA(Q240:AU240)","v":0},{"$f":"AV241","v":0},{"$f":"IFERROR(ROUNDDOWN(AV241/$AT$3,1),\"\")","v":""}]
[null,null,null,null,null,null,null,null,null,null,null,null,null,null,null,null,{"$f":"IFERROR(VLOOKUP(Q240,'P2'!$B$4:$J$48,9,FALSE),\"\")","v":""},{"$f":"IFERROR(VLOOKUP(R240,'P2'!$B$4:$J$48,9,FALSE),\"\")","v":""},{"$f":"IFERROR(VLOOKUP(S240,'P2'!$B$4:$J$48,9,FALSE),\"\")","v":""},{"$f":"IFERROR(VLOOKUP(T240,'P2'!$B$4:$J$48,9,FALSE),\"\")","v":""},{"$f":"IFERROR(VLOOKUP(U240,'P2'!$B$4:$J$48,9,FALSE),\"\")","v":""},{"$f":"IFERROR(VLOOKUP(V240,'P2'!$B$4:$J$48,9,FALSE),\"\")","v":""},{"$f":"IFERROR(VLOOKUP(W240,'P2'!$B$4:$J$48,9,FALSE),\"\")","v":""},{"$f":"IFERROR(VLOOKUP(X240,'P2'!$B$4:$J$48,9,FALSE),\"\")","v":""},{"$f":"IFERROR(VLOOKUP(Y240,'P2'!$B$4:$J$48,9,FALSE),\"\")","v":""},{"$f":"IFERROR(VLOOKUP(Z240,'P2'!$B$4:$J$48,9,FALSE),\"\")","v":""},{"$f":"IFERROR(VLOOKUP(AA240,'P2'!$B$4:$J$48,9,FALSE),\"\")","v":""},{"$f":"IFERROR(VLOOKUP(AB240,'P2'!$B$4:$J$48,9,FALSE),\"\")","v":""},{"$f":"IFERROR(VLOOKUP(AC240,'P2'!$B$4:$J$48,9,FALSE),\"\")","v":""},{"$f":"IFERROR(VLOOKUP(AD240,'P2'!$B$4:$J$48,9,FALSE),\"\")","v":""},{"$f":"IFERROR(VLOOKUP(AE240,'P2'!$B$4:$J$48,9,FALSE),\"\")","v":""},{"$f":"IFERROR(VLOOKUP(AF240,'P2'!$B$4:$J$48,9,FALSE),\"\")","v":""},{"$f":"IFERROR(VLOOKUP(AG240,'P2'!$B$4:$J$48,9,FALSE),\"\")","v":""},{"$f":"IFERROR(VLOOKUP(AH240,'P2'!$B$4:$J$48,9,FALSE),\"\")","v":""},{"$f":"IFERROR(VLOOKUP(AI240,'P2'!$B$4:$J$48,9,FALSE),\"\")","v":""},{"$f":"IFERROR(VLOOKUP(AJ240,'P2'!$B$4:$J$48,9,FALSE),\"\")","v":""},{"$f":"IFERROR(VLOOKUP(AK240,'P2'!$B$4:$J$48,9,FALSE),\"\")","v":""},{"$f":"IFERROR(VLOOKUP(AL240,'P2'!$B$4:$J$48,9,FALSE),\"\")","v":""},{"$f":"IFERROR(VLOOKUP(AM240,'P2'!$B$4:$J$48,9,FALSE),\"\")","v":""},{"$f":"IFERROR(VLOOKUP(AN240,'P2'!$B$4:$J$48,9,FALSE),\"\")","v":""},{"$f":"IFERROR(VLOOKUP(AO240,'P2'!$B$4:$J$48,9,FALSE),\"\")","v":""},{"$f":"IFERROR(VLOOKUP(AP240,'P2'!$B$4:$J$48,9,FALSE),\"\")","v":""},{"$f":"IFERROR(VLOOKUP(AQ240,'P2'!$B$4:$J$48,9,FALSE),\"\")","v":""},{"$f":"IFERROR(VLOOKUP(AR240,'P2'!$B$4:$J$48,9,FALSE),\"\")","v":""},{"$f":"IFERROR(VLOOKUP(AS240,'P2'!$B$4:$J$48,9,FALSE),\"\")","v":""},{"$f":"IFERROR(VLOOKUP(AT240,'P2'!$B$4:$J$48,9,FALSE),\"\")","v":""},{"$f":"IFERROR(VLOOKUP(AU240,'P2'!$B$4:$J$48,9,FALSE),\"\")","v":""},{"$f":"SUM(Q241:AU241)","v":0}]
[null,104,null,null,null,null,null,null,null,null,null,null,null,null,null,null,null,null,null,null,null,null,null,null,null,null,null,null,null,null,null,null,null,null,null,null,null,null,null,null,null,null,null,null,null,null,null,{"$f":"COUNTA(Q242:AU242)","v":0},{"$f":"AV243","v":0},{"$f":"IFERROR(ROUNDDOWN(AV243/$AT$3,1),\"\")","v":""}]
[null,null,null,null,null,null,null,null,null,null,null,null,null,null,null,null,{"$f":"IFERROR(VLOOKUP(Q242,'P2'!$B$4:$J$48,9,FALSE),\"\")","v":""},{"$f":"IFERROR(VLOOKUP(R242,'P2'!$B$4:$J$48,9,FALSE),\"\")","v":""},{"$f":"IFERROR(VLOOKUP(S242,'P2'!$B$4:$J$48,9,FALSE),\"\")","v":""},{"$f":"IFERROR(VLOOKUP(T242,'P2'!$B$4:$J$48,9,FALSE),\"\")","v":""},{"$f":"IFERROR(VLOOKUP(U242,'P2'!$B$4:$J$48,9,FALSE),\"\")","v":""},{"$f":"IFERROR(VLOOKUP(V242,'P2'!$B$4:$J$48,9,FALSE),\"\")","v":""},{"$f":"IFERROR(VLOOKUP(W242,'P2'!$B$4:$J$48,9,FALSE),\"\")","v":""},{"$f":"IFERROR(VLOOKUP(X242,'P2'!$B$4:$J$48,9,FALSE),\"\")","v":""},{"$f":"IFERROR(VLOOKUP(Y242,'P2'!$B$4:$J$48,9,FALSE),\"\")","v":""},{"$f":"IFERROR(VLOOKUP(Z242,'P2'!$B$4:$J$48,9,FALSE),\"\")","v":""},{"$f":"IFERROR(VLOOKUP(AA242,'P2'!$B$4:$J$48,9,FALSE),\"\")","v":""},{"$f":"IFERROR(VLOOKUP(AB242,'P2'!$B$4:$J$48,9,FALSE),\"\")","v":""},{"$f":"IFERROR(VLOOKUP(AC242,'P2'!$B$4:$J$48,9,FALSE),\"\")","v":""},{"$f":"IFERROR(VLOOKUP(AD242,'P2'!$B$4:$J$48,9,FALSE),\"\")","v":""},{"$f":"IFERROR(VLOOKUP(AE242,'P2'!$B$4:$J$48,9,FALSE),\"\")","v":""},{"$f":"IFERROR(VLOOKUP(AF242,'P2'!$B$4:$J$48,9,FALSE),\"\")","v":""},{"$f":"IFERROR(VLOOKUP(AG242,'P2'!$B$4:$J$48,9,FALSE),\"\")","v":""},{"$f":"IFERROR(VLOOKUP(AH242,'P2'!$B$4:$J$48,9,FALSE),\"\")","v":""},{"$f":"IFERROR(VLOOKUP(AI242,'P2'!$B$4:$J$48,9,FALSE),\"\")","v":""},{"$f":"IFERROR(VLOOKUP(AJ242,'P2'!$B$4:$J$48,9,FALSE),\"\")","v":""},{"$f":"IFERROR(VLOOKUP(AK242,'P2'!$B$4:$J$48,9,FALSE),\"\")","v":""},{"$f":"IFERROR(VLOOKUP(AL242,'P2'!$B$4:$J$48,9,FALSE),\"\")","v":""},{"$f":"IFERROR(VLOOKUP(AM242,'P2'!$B$4:$J$48,9,FALSE),\"\")","v":""},{"$f":"IFERROR(VLOOKUP(AN242,'P2'!$B$4:$J$48,9,FALSE),\"\")","v":""},{"$f":"IFERROR(VLOOKUP(AO242,'P2'!$B$4:$J$48,9,FALSE),\"\")","v":""},{"$f":"IFERROR(VLOOKUP(AP242,'P2'!$B$4:$J$48,9,FALSE),\"\")","v":""},{"$f":"IFERROR(VLOOKUP(AQ242,'P2'!$B$4:$J$48,9,FALSE),\"\")","v":""},{"$f":"IFERROR(VLOOKUP(AR242,'P2'!$B$4:$J$48,9,FALSE),\"\")","v":""},{"$f":"IFERROR(VLOOKUP(AS242,'P2'!$B$4:$J$48,9,FALSE),\"\")","v":""},{"$f":"IFERROR(VLOOKUP(AT242,'P2'!$B$4:$J$48,9,FALSE),\"\")","v":""},{"$f":"IFERROR(VLOOKUP(AU242,'P2'!$B$4:$J$48,9,FALSE),\"\")","v":""},{"$f":"SUM(Q243:AU243)","v":0}]
[null,105,null,null,null,null,null,null,null,null,null,null,null,null,null,null,null,null,null,null,null,null,null,null,null,null,null,null,null,null,null,null,null,null,null,null,null,null,null,null,null,null,null,null,null,null,null,{"$f":"COUNTA(Q244:AU244)","v":0},{"$f":"AV245","v":0},{"$f":"IFERROR(ROUNDDOWN(AV245/$AT$3,1),\"\")","v":""}]
[null,null,null,null,null,null,null,null,null,null,null,null,null,null,null,null,{"$f":"IFERROR(VLOOKUP(Q244,'P2'!$B$4:$J$48,9,FALSE),\"\")","v":""},{"$f":"IFERROR(VLOOKUP(R244,'P2'!$B$4:$J$48,9,FALSE),\"\")","v":""},{"$f":"IFERROR(VLOOKUP(S244,'P2'!$B$4:$J$48,9,FALSE),\"\")","v":""},{"$f":"IFERROR(VLOOKUP(T244,'P2'!$B$4:$J$48,9,FALSE),\"\")","v":""},{"$f":"IFERROR(VLOOKUP(U244,'P2'!$B$4:$J$48,9,FALSE),\"\")","v":""},{"$f":"IFERROR(VLOOKUP(V244,'P2'!$B$4:$J$48,9,FALSE),\"\")","v":""},{"$f":"IFERROR(VLOOKUP(W244,'P2'!$B$4:$J$48,9,FALSE),\"\")","v":""},{"$f":"IFERROR(VLOOKUP(X244,'P2'!$B$4:$J$48,9,FALSE),\"\")","v":""},{"$f":"IFERROR(VLOOKUP(Y244,'P2'!$B$4:$J$48,9,FALSE),\"\")","v":""},{"$f":"IFERROR(VLOOKUP(Z244,'P2'!$B$4:$J$48,9,FALSE),\"\")","v":""},{"$f":"IFERROR(VLOOKUP(AA244,'P2'!$B$4:$J$48,9,FALSE),\"\")","v":""},{"$f":"IFERROR(VLOOKUP(AB244,'P2'!$B$4:$J$48,9,FALSE),\"\")","v":""},{"$f":"IFERROR(VLOOKUP(AC244,'P2'!$B$4:$J$48,9,FALSE),\"\")","v":""},{"$f":"IFERROR(VLOOKUP(AD244,'P2'!$B$4:$J$48,9,FALSE),\"\")","v":""},{"$f":"IFERROR(VLOOKUP(AE244,'P2'!$B$4:$J$48,9,FALSE),\"\")","v":""},{"$f":"IFERROR(VLOOKUP(AF244,'P2'!$B$4:$J$48,9,FALSE),\"\")","v":""},{"$f":"IFERROR(VLOOKUP(AG244,'P2'!$B$4:$J$48,9,FALSE),\"\")","v":""},{"$f":"IFERROR(VLOOKUP(AH244,'P2'!$B$4:$J$48,9,FALSE),\"\")","v":""},{"$f":"IFERROR(VLOOKUP(AI244,'P2'!$B$4:$J$48,9,FALSE),\"\")","v":""},{"$f":"IFERROR(VLOOKUP(AJ244,'P2'!$B$4:$J$48,9,FALSE),\"\")","v":""},{"$f":"IFERROR(VLOOKUP(AK244,'P2'!$B$4:$J$48,9,FALSE),\"\")","v":""},{"$f":"IFERROR(VLOOKUP(AL244,'P2'!$B$4:$J$48,9,FALSE),\"\")","v":""},{"$f":"IFERROR(VLOOKUP(AM244,'P2'!$B$4:$J$48,9,FALSE),\"\")","v":""},{"$f":"IFERROR(VLOOKUP(AN244,'P2'!$B$4:$J$48,9,FALSE),\"\")","v":""},{"$f":"IFERROR(VLOOKUP(AO244,'P2'!$B$4:$J$48,9,FALSE),\"\")","v":""},{"$f":"IFERROR(VLOOKUP(AP244,'P2'!$B$4:$J$48,9,FALSE),\"\")","v":""},{"$f":"IFERROR(VLOOKUP(AQ244,'P2'!$B$4:$J$48,9,FALSE),\"\")","v":""},{"$f":"IFERROR(VLOOKUP(AR244,'P2'!$B$4:$J$48,9,FALSE),\"\")","v":""},{"$f":"IFERROR(VLOOKUP(AS244,'P2'!$B$4:$J$48,9,FALSE),\"\")","v":""},{"$f":"IFERROR(VLOOKUP(AT244,'P2'!$B$4:$J$48,9,FALSE),\"\")","v":""},{"$f":"IFERROR(VLOOKUP(AU244,'P2'!$B$4:$J$48,9,FALSE),\"\")","v":""},{"$f":"SUM(Q245:AU245)","v":0}]
[null,106,null,null,null,null,null,null,null,null,null,null,null,null,null,null,null,null,null,null,null,null,null,null,null,null,null,null,null,null,null,null,null,null,null,null,null,null,null,null,null,null,null,null,null,null,null,{"$f":"COUNTA(Q246:AU246)","v":0},{"$f":"AV247","v":0},{"$f":"IFERROR(ROUNDDOWN(AV247/$AT$3,1),\"\")","v":""}]
[null,null,null,null,null,null,null,null,null,null,null,null,null,null,null,null,{"$f":"IFERROR(VLOOKUP(Q246,'P2'!$B$4:$J$48,9,FALSE),\"\")","v":""},{"$f":"IFERROR(VLOOKUP(R246,'P2'!$B$4:$J$48,9,FALSE),\"\")","v":""},{"$f":"IFERROR(VLOOKUP(S246,'P2'!$B$4:$J$48,9,FALSE),\"\")","v":""},{"$f":"IFERROR(VLOOKUP(T246,'P2'!$B$4:$J$48,9,FALSE),\"\")","v":""},{"$f":"IFERROR(VLOOKUP(U246,'P2'!$B$4:$J$48,9,FALSE),\"\")","v":""},{"$f":"IFERROR(VLOOKUP(V246,'P2'!$B$4:$J$48,9,FALSE),\"\")","v":""},{"$f":"IFERROR(VLOOKUP(W246,'P2'!$B$4:$J$48,9,FALSE),\"\")","v":""},{"$f":"IFERROR(VLOOKUP(X246,'P2'!$B$4:$J$48,9,FALSE),\"\")","v":""},{"$f":"IFERROR(VLOOKUP(Y246,'P2'!$B$4:$J$48,9,FALSE),\"\")","v":""},{"$f":"IFERROR(VLOOKUP(Z246,'P2'!$B$4:$J$48,9,FALSE),\"\")","v":""},{"$f":"IFERROR(VLOOKUP(AA246,'P2'!$B$4:$J$48,9,FALSE),\"\")","v":""},{"$f":"IFERROR(VLOOKUP(AB246,'P2'!$B$4:$J$48,9,FALSE),\"\")","v":""},{"$f":"IFERROR(VLOOKUP(AC246,'P2'!$B$4:$J$48,9,FALSE),\"\")","v":""},{"$f":"IFERROR(VLOOKUP(AD246,'P2'!$B$4:$J$48,9,FALSE),\"\")","v":""},{"$f":"IFERROR(VLOOKUP(AE246,'P2'!$B$4:$J$48,9,FALSE),\"\")","v":""},{"$f":"IFERROR(VLOOKUP(AF246,'P2'!$B$4:$J$48,9,FALSE),\"\")","v":""},{"$f":"IFERROR(VLOOKUP(AG246,'P2'!$B$4:$J$48,9,FALSE),\"\")","v":""},{"$f":"IFERROR(VLOOKUP(AH246,'P2'!$B$4:$J$48,9,FALSE),\"\")","v":""},{"$f":"IFERROR(VLOOKUP(AI246,'P2'!$B$4:$J$48,9,FALSE),\"\")","v":""},{"$f":"IFERROR(VLOOKUP(AJ246,'P2'!$B$4:$J$48,9,FALSE),\"\")","v":""},{"$f":"IFERROR(VLOOKUP(AK246,'P2'!$B$4:$J$48,9,FALSE),\"\")","v":""},{"$f":"IFERROR(VLOOKUP(AL246,'P2'!$B$4:$J$48,9,FALSE),\"\")","v":""},{"$f":"IFERROR(VLOOKUP(AM246,'P2'!$B$4:$J$48,9,FALSE),\"\")","v":""},{"$f":"IFERROR(VLOOKUP(AN246,'P2'!$B$4:$J$48,9,FALSE),\"\")","v":""},{"$f":"IFERROR(VLOOKUP(AO246,'P2'!$B$4:$J$48,9,FALSE),\"\")","v":""},{"$f":"IFERROR(VLOOKUP(AP246,'P2'!$B$4:$J$48,9,FALSE),\"\")","v":""},{"$f":"IFERROR(VLOOKUP(AQ246,'P2'!$B$4:$J$48,9,FALSE),\"\")","v":""},{"$f":"IFERROR(VLOOKUP(AR246,'P2'!$B$4:$J$48,9,FALSE),\"\")","v":""},{"$f":"IFERROR(VLOOKUP(AS246,'P2'!$B$4:$J$48,9,FALSE),\"\")","v":""},{"$f":"IFERROR(VLOOKUP(AT246,'P2'!$B$4:$J$48,9,FALSE),\"\")","v":""},{"$f":"IFERROR(VLOOKUP(AU246,'P2'!$B$4:$J$48,9,FALSE),\"\")","v":""},{"$f":"SUM(Q247:AU247)","v":0}]

{"sheet":"P3-3","index":6,"n_rows":247,"n_cols":65,"rows_kept":247,"cut":false,"hidden":false,"merged":[[2,26,2,36],[2,37,2,38],[4,48,5,48],[4,49,5,49],[6,1,7,1],[6,2,7,7],[6,8,7,12],[6,13,7,15],[6,48,7,48],[6,49,7,49],[2,39,2,40],[2,41,2,42],[2,43,2,44],[2,45,2,46],[4,1,5,1],[4,2,5,7],[4,8,5,12],[4,13,5,15],[2,13,2,14],[2,19,2,20],[10,1,11,1],[10,2,11,7],[10,8,11,12],[10,13,11,15],[10,48,11,48],[10,49,11,49],[8,1,9,1],[8,2,9,7],[8,8,9,12],[8,13,9,15],[8,48,9,48],[8,49,9,49],[14,1,15,1],[14,2,15,7],[14,8,15,12],[14,13,15,15],[14,48,15,48],[14,49,15,49],[12,1,13,1],[12,2,13,7],[12,8,13,12],[12,13,13,15],[12,48,13,48],[12,49,13,49],[18,1,19,1],[18,2,19,7],[18,8,19,12],[18,13,19,15],[18,48,19,48],[18,49,19,49],[16,1,17,1],[16,2,17,7],[16,8,17,12],[16,13,17,15],[16,48,17,48],[16,49,17,49],[22,1,23,1],[22,2,23,7],[22,8,23,12],[22,13,23,15],[22,48,23,48],[22,49,23,49],[20,1,21,1],[20,2,21,7],[20,8,21,12],[20,13,21,15],[20,48,21,48],[20,49,21,49],[26,1,27,1],[26,2,27,7],[26,8,27,12],[26,13,27,15],[26,48,27,48],[26,49,27,49],[24,1,25,1],[24,2,25,7],[24,8,25,12],[24,13,25,15],[24,48,25,48],[24,49,25,49],[30,1,31,1],[30,2,31,7],[30,8,31,12],[30,13,31,15],[30,48,31,48],[30,49,31,49],[28,1,29,1],[28,2,29,7],[28,8,29,12],[28,13,29,15],[28,48,29,48],[28,49,29,49],[34,1,35,1],[34,2,35,7],[34,8,35,12],[34,13,35,15],[34,48,35,48],[34,49,35,49],[32,1,33,1],[32,2,33,7],[32,8,33,12],[32,13,33,15],[32,48,33,48],[32,49,33,49],[38,1,39,1],[38,2,39,7],[38,8,39,12],[38,13,39,15],[38,48,39,48],[38,49,39,49],[36,1,37,1],[36,2,37,7],[36,8,37,12],[36,13,37,15],[36,48,37,48],[36,49,37,49],[42,1,43,1],[42,2,43,7],[42,8,43,12],[42,13,43,15],[42,48,43,48],[42,49,43,49],[40,1,41,1],[40,2,41,7],[40,8,41,12],[40,13,41,15],[40,48,41,48],[40,49,41,49],[46,1,47,1],[46,2,47,7],[46,8,47,12],[46,13,47,15],[46,48,47,48],[46,49,47,49],[44,1,45,1],[44,2,45,7],[44,8,45,12],[44,13,45,15],[44,48,45,48],[44,49,45,49],[54,49,55,49],[56,1,57,1],[56,2,57,7],[56,8,57,12],[56,13,57,15],[56,48,57,48],[56,49,57,49],[53,19,53,20],[54,1,55,1],[54,2,55,7],[54,8,55,12],[54,13,55,15],[54,48,55,48],[60,1,61,1],[60,2,61,7],[60,8,61,12],[60,13,61,15],[60,48,61,48],[60,49,61,49],[58,1,59,1],[58,2,59,7],[58,8,59,12],[58,13,59,15],[58,48,59,48],[58,49,59,49],[64,1,65,1],[64,2,65,7],[64,8,65,12],[64,13,65,15],[64,48,65,48],[64,49,65,49],[62,1,63,1],[62,2,63,7],[62,8,63,12],[62,13,63,15],[62,48,63,48],[62,49,63,49],[68,1,69,1],[68,2,69,7],[68,8,69,12],[68,13,69,15],[68,48,69,48],[68,49,69,49],[66,1,67,1],[66,2,67,7],[66,8,67,12],[66,13,67,15],[66,48,67,48],[66,49,67,49],[72,1,73,1],[72,2,73,7],[72,8,73,12],[72,13,73,15],[72,48,73,48],[72,49,73,49],[70,1,71,1],[70,2,71,7],[70,8,71,12],[70,13,71,15],[70,48,71,48],[70,49,71,49],[76,1,77,1],[76,2,77,7],[76,8,77,12],[76,13,77,15],[76,48,77,48],[76,49,77,49],[74,1,75,1],[74,2,75,7],[74,8,75,12],[74,13,75,15],[74,48,75,48],[74,49,75,49],[80,1,81,1],[80,2,81,7],[80,8,81,12],[80,13,81,15],[80,48,81,48],[80,49,81,49],[78,1,79,1],[78,2,79,7],[78,8,79,12],[78,13,79,15],[78,48,79,48],[78,49,79,49],[84,1,85,1],[84,2,85,7],[84,8,85,12],[84,13,85,15],[84,48,85,48],[84,49,85,49],[82,1,83,1],[82,2,83,7],[82,8,83,12],[82,13,83,15],[82,48,83,48],[82,49,83,49],[88,1,89,1],[88,2,89,7],[88,8,89,12],[88,13,89,15],[88,48,89,48],[88,49,89,49],[86,1,87,1],[86,2,87,7],[86,8,87,12],[86,13,87,15],[86,48,87,48],[86,49,87,49],[92,1,93,1],[92,2,93,7],[92,8,93,12],[92,13,93,15],[92,48,93,48],[92,49,93,49],[90,1,91,1],[90,2,91,7],[90,8,91,12],[90,13,91,15],[90,48,91,48],[90,49,91,49],[98,49,99,49],[96,1,97,1],[96,2,97,7],[96,8,97,12],[96,13,97,15],[96,48,97,48],[96,49,97,49],[94,1,95,1],[94,2,95,7],[94,8,95,12],[94,13,95,15],[94,48,95,48],[94,49,95,49],[102,19,102,20],[103,1,104,1],[103,2,104,7],[103,8,104,12],[103,13,104,15],[103,48,104,48],[98,1,99,1],[98,2,99,7],[98,8,99,12],[98,13,99,15],[98,48,99,48],[107,1,108,1],[107,2,108,7],[107,8,108,12],[107,13,108,15],[107,48,108,48],[107,49,108,49],[103,49,104,49],[105,1,106,1],[105,2,106,7],[105,8,106,12],[105,13,106,15],[105,48,106,48],[105,49,106,49],[111,1,112,1],[111,2,112,7],[111,8,112,12],[111,13,112,15],[111,48,112,48],[111,49,112,49],[109,1,110,1],[109,2,110,7],[109,8,110,12],[109,13,110,15],[109,48,110,48],[109,49,110,49],[115,1,116,1],[115,2,116,7],[115,8,116,12],[115,13,116,15],[115,48,116,48],[115,49,116,49],[113,1,114,1],[113,2,114,7],[113,8,114,12],[113,13,114,15],[113,48,114,48],[113,49,114,49],[119,1,120,1],[119,2,120,7],[119,8,120,12],[119,13,120,15],[119,48,120,48],[119,49,120,49],[117,1,118,1],[117,2,118,7],[117,8,118,12],[117,13,118,15],[117,48,118,48],[117,49,118,49],[123,1,124,1],[123,2,124,7],[123,8,124,12],[123,13,124,15],[123,48,124,48],[123,49,124,49],[121,1,122,1],[121,2,122,7],[121,8,122,12],[121,13,122,15],[121,48,122,48],[121,49,122,49],[127,1,128,1],[127,2,128,7],[127,8,128,12],[127,13,128,15],[127,48,128,48],[127,49,128,49],[125,1,126,1],[125,2,126,7],[125,8,126,12],[125,13,126,15],[125,48,126,48],[125,49,126,49],[131,1,132,1],[131,2,132,7],[131,8,132,12],[131,13,132,15],[131,48,132,48],[131,49,132,49],[129,1,130,1],[129,2,130,7],[129,8,130,12],[129,13,130,15],[129,48,130,48],[129,49,130,49],[135,1,136,1],[135,2,136,7],[135,8,136,12],[135,13,136,15],[135,48,136,48],[135,49,136,49],[133,1,134,1],[133,2,134,7],[133,8,134,12],[133,13,134,15],[133,48,134,48],[133,49,134,49],[139,1,140,1],[139,2,140,7],[139,8,140,12],[139,13,140,15],[139,48,140,48],[139,49,140,49],[137,1,138,1],[137,2,138,7],[137,8,138,12],[137,13,138,15],[137,48,138,48],[137,49,138,49],[143,1,144,1],[143,2,144,7],[143,8,144,12],[143,13,144,15],[143,48,144,48],[143,49,144,49],[141,1,142,1],[141,2,142,7],[141,8,142,12],[141,13,142,15],[141,48,142,48],[141,49,142,49],[147,1,148,1],[147,2,148,7],[147,8,148,12],[147,13,148,15],[147,48,148,48],[147,49,148,49],[145,1,146,1],[145,2,146,7],[145,8,146,12],[145,13,146,15],[145,48,146,48],[145,49,146,49],[152,49,153,49],[154,1,155,1],[154,2,155,7],[154,8,155,12],[154,13,155,15],[154,48,155,48],[154,49,155,49],[151,19,151,20],[152,1,153,1],[152,2,153,7],[152,8,153,12],[152,13,153,15],[152,48,153,48],[158,1,159,1],[158,2,159,7],[158,8,159,12],[158,13,159,15],[158,48,159,48],[158,49,159,49],[156,1,157,1],[156,2,157,7],[156,8,157,12],[156,13,157,15],[156,48,157,48],[156,49,157,49],[162,1,163,1],[162,2,163,7],[162,8,163,12],[162,13,163,15],[162,48,163,48],[162,49,163,49],[160,1,161,1],[160,2,161,7],[160,8,161,12],[160,13,161,15],[160,48,161,48],[160,49,161,49],[166,1,167,1],[166,2,167,7],[166,8,167,12],[166,13,167,15],[166,48,167,48],[166,49,167,49],[164,1,165,1],[164,2,165,7],[164,8,165,12],[164,13,165,15],[164,48,165,48],[164,49,165,49],[170,1,171,1],[170,2,171,7],[170,8,171,12],[170,13,171,15],[170,48,171,48],[170,49,171,49],[168,1,169,1],[168,2,169,7],[168,8,169,12],[168,13,169,15],[168,48,169,48],[168,49,169,49],[174,1,175,1],[174,2,175,7],[174,8,175,12],[174,13,175,15],[174,48,175,48],[174,49,175,49],[172,1,173,1],[172,2,173,7],[172,8,173,12],[172,13,173,15],[172,48,173,48],[172,49,173,49],[178,1,179,1],[178,2,179,7],[178,8,179,12],[178,13,179,15],[178,48,179,48],[178,49,179,49],[176,1,177,1],[176,2,177,7],[176,8,177,12],[176,13,177,15],[176,48,177,48],[176,49,177,49],[182,1,183,1],[182,2,183,7],[182,8,183,12],[182,13,183,15],[182,48,183,48],[182,49,183,49],[180,1,181,1],[180,2,181,7],[180,8,181,12],[180,13,181,15],[180,48,181,48],[180,49,181,49],[186,1,187,1],[186,2,187,7],[186,8,187,12],[186,13,187,15],[186,48,187,48],[186,49,187,49],[184,1,185,1],[184,2,185,7],[184,8,185,12],[184,13,185,15],[184,48,185,48],[184,49,185,49],[190,1,191,1],[190,2,191,7],[190,8,191,12],[190,13,191,15],[190,48,191,48],[190,49,191,49],[188,1,189,1],[188,2,189,7],[188,8,189,12],[188,13,189,15],[188,48,189,48],[188,49,189,49],[196,49,197,49],[194,1,195,1],[194,2,195,7],[194,8,195,12],[194,13,195,15],[194,48,195,48],[194,49,195,49],[192,1,193,1],[192,2,193,7],[192,8,193,12],[192,13,193,15],[192,48,193,48],[192,49,193,49],[200,19,200,20],[201,1,202,1],[201,2,202,7],[201,8,202,12],[201,13,202,15],[201,48,202,48],[196,1,197,1],[196,2,197,7],[196,8,197,12],[196,13,197,15],[196,48,197,48],[205,1,206,1],[205,2,206,7],[205,8,206,12],[205,13,206,15],[205,48,206,48],[205,49,206,49],[201,49,202,49],[203,1,204,1],[203,2,204,7],[203,8,204,12],[203,13,204,15],[203,48,204,48],[203,49,204,49],[209,1,210,1],[209,2,210,7],[209,8,210,12],[209,13,210,15],[209,48,210,48],[209,49,210,49],[207,1,208,1],[207,2,208,7],[207,8,208,12],[207,13,208,15],[207,48,208,48],[207,49,208,49],[213,1,214,1],[213,2,214,7],[213,8,214,12],[213,13,214,15],[213,48,214,48],[213,49,214,49],[211,1,212,1],[211,2,212,7],[211,8,212,12],[211,13,212,15],[211,48,212,48],[211,49,212,49],[217,1,218,1],[217,2,218,7],[217,8,218,12],[217,13,218,15],[217,48,218,48],[217,49,218,49],[215,1,216,1],[215,2,216,7],[215,8,216,12],[215,13,216,15],[215,48,216,48],[215,49,216,49],[221,1,222,1],[221,2,222,7],[221,8,222,12],[221,13,222,15],[221,48,222,48],[221,49,222,49],[219,1,220,1],[219,2,220,7],[219,8,220,12],[219,13,220,15],[219,48,220,48],[219,49,220,49],[225,1,226,1],[225,2,226,7],[225,8,226,12],[225,13,226,15],[225,48,226,48],[225,49,226,49],[223,1,224,1],[223,2,224,7],[223,8,224,12],[223,13,224,15],[223,48,224,48],[223,49,224,49],[229,1,230,1],[229,2,230,7],[229,8,230,12],[229,13,230,15],[229,48,230,48],[229,49,230,49],[227,1,228,1],[227,2,228,7],[227,8,228,12],[227,13,228,15],[227,48,228,48],[227,49,228,49],[233,1,234,1],[233,2,234,7],[233,8,234,12],[233,13,234,15],[233,48,234,48],[233,49,234,49],[231,1,232,1],[231,2,232,7],[231,8,232,12],[231,13,232,15],[231,48,232,48],[231,49,232,49],[237,1,238,1],[237,2,238,7],[237,8,238,12],[237,13,238,15],[237,48,238,48],[237,49,238,49],[235,1,236,1],[235,2,236,7],[235,8,236,12],[235,13,236,15],[235,48,236,48],[235,49,236,49],[241,1,242,1],[241,2,242,7],[241,8,242,12],[241,13,242,15],[241,48,242,48],[241,49,242,49],[239,1,240,1],[239,2,240,7],[239,8,240,12],[239,13,240,15],[239,48,240,48],[239,49,240,49],[245,1,246,1],[245,2,246,7],[245,8,246,12],[245,13,246,15],[245,48,246,48],[245,49,246,49],[243,1,244,1],[243,2,244,7],[243,8,244,12],[243,13,244,15],[243,48,244,48],[243,49,244,49]]}
[]
[]
[null,"(2)　勤務実績　（直近3か月分の実績）",null,null,null,null,null,null,null,null,null,null,null,{"$f":"YEAR(EOMONTH(DATE(SUM(2018+【共通】!L9),【共通】!N9,【共通】!P9),-2))","v":2025},null,null,null,null,"（",{"$f":"IFERROR(\"令和　\"&VLOOKUP(N3,BL5:BM12,2,FALSE),\"\")","v":"令和　7"},null,"年",{"$f":"MONTH(EOMONTH(DATE(2023,【共通】!N9,【共通】!P9),-4))","v":3},"月分実績",null,"）","当該事業所の常勤の職員が当該月に勤務すべき時間数",null,null,null,null,null,null,null,null,null,null,null,null," 時間／日",null,null,null," 時間／週",null,null,null," 時間／月",null,{"$f":"\"1 / \"&COUNTA(C$7,C$57,C$106,C$155,C$204)","v":"1 / 1"}]
[]
[null,null,"職　　種",null,null,null,null,null,"氏　　名",null,null,null,null,"勤務\n形態",null,null,{"$f":"DATE($N$3,$W$3,1)","v":"2025-03-01"},{"$f":"Q5+1","v":"2025-03-02"},{"$f":"R5+1","v":"2025-03-03"},{"$f":"S5+1","v":"2025-03-04"},"2025-03-05","2025-03-06","2025-03-07","2025-03-08","2025-03-09","2025-03-10","2025-03-11","2025-03-12","2025-03-13","2025-03-14","2025-03-15","2025-03-16","2025-03-17","2025-03-18","2025-03-19","2025-03-20","2025-03-21","2025-03-22","2025-03-23","2025-03-24","2025-03-25","2025-03-26","2025-03-27",{"$f":"AQ5+1","v":"2025-03-28"},{"$f":"IF(DAY(DATE($N$3,$W$3,29))=29,AR5+1,\"\")","v":"2025-03-29"},{"$f":"IF(DAY(DATE($N$3,$W$3,30))=30,AS5+1,\"\")","v":"2025-03-30"},{"$f":"IF(DAY(DATE($N$3,$W$3,31))=31,AT5+1,\"\")","v":"2025-03-31"},"勤務日数",null,"常勤換算",null,null,null,null,null,null,null,null,null,null,null,null,null,2023,5]
[null,null,null,null,null,null,null,null,null,null,null,null,null,null,null,null,{"$f":"VLOOKUP(WEEKDAY(Q5,2),$BA$7:$BB$14,2,FALSE)","v":"土"},"日","月","火","水","木","金","土","日","月","火","水","木","金","土","日","月","火","水","木","金","土","日","月","火","水","木","金",{"$f":"IF(AS5=\"\",\"\",VLOOKUP(WEEKDAY(AS5,2),$BA$7:$BB$14,2,FALSE))","v":"土"},{"$f":"IF(AT5=\"\",\"\",VLOOKUP(WEEKDAY(AT5,2),$BA$7:$BB$14,2,FALSE))","v":"日"},{"$f":"IF(AU5=\"\",\"\",VLOOKUP(WEEKDAY(AU5,2),$BA$7:$BB$14,2,FALSE))","v":"月"},"勤務時間",null,null,null,null,null,null,null,null,null,null,null,null,null,null,null,{"$f":"BL5+1","v":2024},{"$f":"BM5+1","v":6}]
[null,"例","管理者",null,null,null,null,null,"○○　○○",null,null,null,null,"常勤\n兼務",null,null,"A","A",null,null,"A","A","A","A","A",null,null,"A","A","A","A","A",null,null,"A","A","A","A","A",null,null,"A","A","A","A","A",null,{"$f":"COUNTA(Q7:AU7)","v":22},{"$f":"AV8","v":170.49999999999997},{"$f":"IFERROR(ROUNDDOWN(AV8/$AT$3,1),\"\")","v":""},null,null,1,"月","管理者",null,null,null,"常勤\n専従","常勤\n兼務","非常勤\n専従","非常勤\n兼務",null,{"$f":"BL6+1","v":2025},7]
[null,null,null,null,null,null,null,null,null,null,null,null,null,null,null,null,{"$f":"IFERROR(VLOOKUP(Q7,'P2'!$B$59:$J$64,9,FALSE),\"\")","v":7.7499999999999991},{"$f":"IFERROR(VLOOKUP(R7,'P2'!$B$59:$J$64,9,FALSE),\"\")","v":7.7499999999999991},{"$f":"IFERROR(VLOOKUP(S7,'P2'!$B$59:$J$64,9,FALSE),\"\")","v":""},{"$f":"IFERROR(VLOOKUP(T7,'P2'!$B$59:$J$64,9,FALSE),\"\")","v":""},{"$f":"IFERROR(VLOOKUP(U7,'P2'!$B$59:$J$64,9,FALSE),\"\")","v":7.7499999999999991},{"$f":"IFERROR(VLOOKUP(V7,'P2'!$B$59:$J$64,9,FALSE),\"\")","v":7.7499999999999991},{"$f":"IFERROR(VLOOKUP(W7,'P2'!$B$59:$J$64,9,FALSE),\"\")","v":7.7499999999999991},{"$f":"IFERROR(VLOOKUP(X7,'P2'!$B$59:$J$64,9,FALSE),\"\")","v":7.7499999999999991},{"$f":"IFERROR(VLOOKUP(Y7,'P2'!$B$59:$J$64,9,FALSE),\"\")","v":7.7499999999999991},{"$f":"IFERROR(VLOOKUP(Z7,'P2'!$B$59:$J$64,9,FALSE),\"\")","v":""},{"$f":"IFERROR(VLOOKUP(AA7,'P2'!$B$59:$J$64,9,FALSE),\"\")","v":""},{"$f":"IFERROR(VLOOKUP(AB7,'P2'!$B$59:$J$64,9,FALSE),\"\")","v":7.7499999999999991},{"$f":"IFERROR(VLOOKUP(AC7,'P2'!$B$59:$J$64,9,FALSE),\"\")","v":7.7499999999999991},{"$f":"IFERROR(VLOOKUP(AD7,'P2'!$B$59:$J$64,9,FALSE),\"\")","v":7.7499999999999991},{"$f":"IFERROR(VLOOKUP(AE7,'P2'!$B$59:$J$64,9,FALSE),\"\")","v":7.7499999999999991},{"$f":"IFERROR(VLOOKUP(AF7,'P2'!$B$59:$J$64,9,FALSE),\"\")","v":7.7499999999999991},{"$f":"IFERROR(VLOOKUP(AG7,'P2'!$B$59:$J$64,9,FALSE),\"\")","v":""},{"$f":"IFERROR(VLOOKUP(AH7,'P2'!$B$59:$J$64,9,FALSE),\"\")","v":""},{"$f":"IFERROR(VLOOKUP(AI7,'P2'!$B$59:$J$64,9,FALSE),\"\")","v":7.7499999999999991},{"$f":"IFERROR(VLOOKUP(AJ7,'P2'!$B$59:$J$64,9,FALSE),\"\")","v":7.7499999999999991},{"$f":"IFERROR(VLOOKUP(AK7,'P2'!$B$59:$J$64,9,FALSE),\"\")","v":7.7499999999999991},{"$f":"IFERROR(VLOOKUP(AL7,'P2'!$B$59:$J$64,9,FALSE),\"\")","v":7.7499999999999991},{"$f":"IFERROR(VLOOKUP(AM7,'P2'!$B$59:$J$64,9,FALSE),\"\")","v":7.7499999999999991},{"$f":"IFERROR(VLOOKUP(AN7,'P2'!$B$59:$J$64,9,FALSE),\"\")","v":""},{"$f":"IFERROR(VLOOKUP(AO7,'P2'!$B$59:$J$64,9,FALSE),\"\")","v":""},{"$f":"IFERROR(VLOOKUP(AP7,'P2'!$B$59:$J$64,9,FALSE),\"\")","v":7.7499999999999991},{"$f":"IFERROR(VLOOKUP(AQ7,'P2'!$B$59:$J$64,9,FALSE),\"\")","v":7.7499999999999991},{"$f":"IFERROR(VLOOKUP(AR7,'P2'!$B$59:$J$64,9,FALSE),\"\")","v":7.7499999999999991},{"$f":"IFERROR(VLOOKUP(AS7,'P2'!$B$59:$J$64,9,FALSE),\"\")","v":7.7499999999999991},{"$f":"IFERROR(VLOOKUP(AT7,'P2'!$B$59:$J$64,9,FALSE),\"\")","v":7.7499999999999991},{"$f":"IFERROR(VLOOKUP(AU7,'P2'!$B$59:$J$64,9,FALSE),\"\")","v":""},{"$f":"SUM(Q8:AU8)","v":170.49999999999997},null,null,null,null,2,"火","サービス提供責任者",null,null,null,null,null,null,null,null,2026,8]
[null,"例","サービス提供責任者",null,null,null,null,null,"××　××",null,null,null,null,"常勤\n専従",null,null,"B","B",null,null,"B","B","B","B","B",null,null,"B","B","B","B","B",null,null,"B","B","B","B","B",null,null,"B","B","B","B","B",null,{"$f":"COUNTA(Q9:AU9)","v":22},{"$f":"AV10","v":148.5},{"$f":"IFERROR(ROUNDDOWN(AV10/$AT$3,1),\"\")","v":""},null,null,3,"水","ヘルパー",null,null,null,null,null,null,null,null,2027,9]
[null,null,null,null,null,null,null,null,null,null,null,null,null,null,null,null,{"$f":"IFERROR(VLOOKUP(Q9,'P2'!$B$59:$J$64,9,FALSE),\"\")","v":6.75},{"$f":"IFERROR(VLOOKUP(R9,'P2'!$B$59:$J$64,9,FALSE),\"\")","v":6.75},{"$f":"IFERROR(VLOOKUP(S9,'P2'!$B$59:$J$64,9,FALSE),\"\")","v":""},{"$f":"IFERROR(VLOOKUP(T9,'P2'!$B$59:$J$64,9,FALSE),\"\")","v":""},{"$f":"IFERROR(VLOOKUP(U9,'P2'!$B$59:$J$64,9,FALSE),\"\")","v":6.75},{"$f":"IFERROR(VLOOKUP(V9,'P2'!$B$59:$J$64,9,FALSE),\"\")","v":6.75},{"$f":"IFERROR(VLOOKUP(W9,'P2'!$B$59:$J$64,9,FALSE),\"\")","v":6.75},{"$f":"IFERROR(VLOOKUP(X9,'P2'!$B$59:$J$64,9,FALSE),\"\")","v":6.75},{"$f":"IFERROR(VLOOKUP(Y9,'P2'!$B$59:$J$64,9,FALSE),\"\")","v":6.75},{"$f":"IFERROR(VLOOKUP(Z9,'P2'!$B$59:$J$64,9,FALSE),\"\")","v":""},{"$f":"IFERROR(VLOOKUP(AA9,'P2'!$B$59:$J$64,9,FALSE),\"\")","v":""},{"$f":"IFERROR(VLOOKUP(AB9,'P2'!$B$59:$J$64,9,FALSE),\"\")","v":6.75},{"$f":"IFERROR(VLOOKUP(AC9,'P2'!$B$59:$J$64,9,FALSE),\"\")","v":6.75},{"$f":"IFERROR(VLOOKUP(AD9,'P2'!$B$59:$J$64,9,FALSE),\"\")","v":6.75},{"$f":"IFERROR(VLOOKUP(AE9,'P2'!$B$59:$J$64,9,FALSE),\"\")","v":6.75},{"$f":"IFERROR(VLOOKUP(AF9,'P2'!$B$59:$J$64,9,FALSE),\"\")","v":6.75},{"$f":"IFERROR(VLOOKUP(AG9,'P2'!$B$59:$J$64,9,FALSE),\"\")","v":""},{"$f":"IFERROR(VLOOKUP(AH9,'P2'!$B$59:$J$64,9,FALSE),\"\")","v":""},{"$f":"IFERROR(VLOOKUP(AI9,'P2'!$B$59:$J$64,9,FALSE),\"\")","v":6.75},{"$f":"IFERROR(VLOOKUP(AJ9,'P2'!$B$59:$J$64,9,FALSE),\"\")","v":6.75},{"$f":"IFERROR(VLOOKUP(AK9,'P2'!$B$59:$J$64,9,FALSE),\"\")","v":6.75},{"$f":"IFERROR(VLOOKUP(AL9,'P2'!$B$59:$J$64,9,FALSE),\"\")","v":6.75},{"$f":"IFERROR(VLOOKUP(AM9,'P2'!$B$59:$J$64,9,FALSE),\"\")","v":6.75},{"$f":"IFERROR(VLOOKUP(AN9,'P2'!$B$59:$J$64,9,FALSE),\"\")","v":""},{"$f":"IFERROR(VLOOKUP(AO9,'P2'!$B$59:$J$64,9,FALSE),\"\")","v":""},{"$f":"IFERROR(VLOOKUP(AP9,'P2'!$B$59:$J$64,9,FALSE),\"\")","v":6.75},{"$f":"IFERROR(VLOOKUP(AQ9,'P2'!$B$59:$J$64,9,FALSE),\"\")","v":6.75},{"$f":"IFERROR(VLOOKUP(AR9,'P2'!$B$59:$J$64,9,FALSE),\"\")","v":6.75},{"$f":"IFERROR(VLOOKUP(AS9,'P2'!$B$59:$J$64,9,FALSE),\"\")","v":6.75},{"$f":"IFERROR(VLOOKUP(AT9,'P2'!$B$59:$J$64,9,FALSE),\"\")","v":6.75},null,{"$f":"SUM(Q10:AU10)","v":148.5},null,null,null,null,4,"木","登録ヘルパー",null,null,null,null,null,null,null,null,2028,10]
[null,"例","ヘルパー",null,null,null,null,null,"△△　△△",null,null,null,null,"非常勤\n兼務",null,null,"登②","登②",null,null,"登①","登①",null,"登②","登②",null,null,"登①","登①",null,"登②","登②",null,null,"登①","登①",null,"登②","登②",null,null,"登①","登①",null,"登②","登②",null,{"$f":"COUNTA(Q11:AU11)","v":18},{"$f":"AV12","v":39.5},{"$f":"IFERROR(ROUNDDOWN(AV12/$AT$3,1),\"\")","v":""},null,null,5,"金",null,null,null,null,null,null,null,null,null,2029,11]
[null,null,null,null,null,null,null,null,null,null,null,null,null,null,null,null,{"$f":"IFERROR(VLOOKUP(Q11,'P2'!$B$59:$J$64,9,FALSE),\"\")","v":2.75},{"$f":"IFERROR(VLOOKUP(R11,'P2'!$B$59:$J$64,9,FALSE),\"\")","v":2.75},{"$f":"IFERROR(VLOOKUP(S11,'P2'!$B$59:$J$64,9,FALSE),\"\")","v":""},{"$f":"IFERROR(VLOOKUP(T11,'P2'!$B$59:$J$64,9,FALSE),\"\")","v":""},{"$f":"IFERROR(VLOOKUP(U11,'P2'!$B$59:$J$64,9,FALSE),\"\")","v":1.5},{"$f":"IFERROR(VLOOKUP(V11,'P2'!$B$59:$J$64,9,FALSE),\"\")","v":1.5},{"$f":"IFERROR(VLOOKUP(W11,'P2'!$B$59:$J$64,9,FALSE),\"\")","v":""},{"$f":"IFERROR(VLOOKUP(X11,'P2'!$B$59:$J$64,9,FALSE),\"\")","v":2.75},{"$f":"IFERROR(VLOOKUP(Y11,'P2'!$B$59:$J$64,9,FALSE),\"\")","v":2.75},{"$f":"IFERROR(VLOOKUP(Z11,'P2'!$B$59:$J$64,9,FALSE),\"\")","v":""},{"$f":"IFERROR(VLOOKUP(AA11,'P2'!$B$59:$J$64,9,FALSE),\"\")","v":""},{"$f":"IFERROR(VLOOKUP(AB11,'P2'!$B$59:$J$64,9,FALSE),\"\")","v":1.5},{"$f":"IFERROR(VLOOKUP(AC11,'P2'!$B$59:$J$64,9,FALSE),\"\")","v":1.5},{"$f":"IFERROR(VLOOKUP(AD11,'P2'!$B$59:$J$64,9,FALSE),\"\")","v":""},{"$f":"IFERROR(VLOOKUP(AE11,'P2'!$B$59:$J$64,9,FALSE),\"\")","v":2.75},{"$f":"IFERROR(VLOOKUP(AF11,'P2'!$B$59:$J$64,9,FALSE),\"\")","v":2.75},{"$f":"IFERROR(VLOOKUP(AG11,'P2'!$B$59:$J$64,9,FALSE),\"\")","v":""},{"$f":"IFERROR(VLOOKUP(AH11,'P2'!$B$59:$J$64,9,FALSE),\"\")","v":""},{"$f":"IFERROR(VLOOKUP(AI11,'P2'!$B$59:$J$64,9,FALSE),\"\")","v":1.5},{"$f":"IFERROR(VLOOKUP(AJ11,'P2'!$B$59:$J$64,9,FALSE),\"\")","v":1.5},{"$f":"IFERROR(VLOOKUP(AK11,'P2'!$B$59:$J$64,9,FALSE),\"\")","v":""},{"$f":"IFERROR(VLOOKUP(AL11,'P2'!$B$59:$J$64,9,FALSE),\"\")","v":2.75},{"$f":"IFERROR(VLOOKUP(AM11,'P2'!$B$59:$J$64,9,FALSE),\"\")","v":2.75},{"$f":"IFERROR(VLOOKUP(AN11,'P2'!$B$59:$J$64,9,FALSE),\"\")","v":""},{"$f":"IFERROR(VLOOKUP(AO11,'P2'!$B$59:$J$64,9,FALSE),\"\")","v":""},{"$f":"IFERROR(VLOOKUP(AP11,'P2'!$B$59:$J$64,9,FALSE),\"\")","v":1.5},{"$f":"IFERROR(VLOOKUP(AQ11,'P2'!$B$59:$J$64,9,FALSE),\"\")","v":1.5},{"$f":"IFERROR(VLOOKUP(AR11,'P2'!$B$59:$J$64,9,FALSE),\"\")","v":""},{"$f":"IFERROR(VLOOKUP(AS11,'P2'!$B$59:$J$64,9,FALSE),\"\")","v":2.75},{"$f":"IFERROR(VLOOKUP(AT11,'P2'!$B$59:$J$64,9,FALSE),\"\")","v":2.75},{"$f":"IFERROR(VLOOKUP(AU11,'P2'!$B$59:$J$64,9,FALSE),\"\")","v":""},{"$f":"SUM(Q12:AU12)","v":39.5},null,null,null,null,6,"土",null,null,null,null,null,null,null,null,null,2030,12]
[null,{"$f":"ROW(B1)","v":1},null,null,null,null,null,null,null,null,null,null,null,null,null,null,null,null,null,null,null,null,null,null,null,null,null,null,null,null,null,null,null,null,null,null,null,null,null,null,null,null,null,null,null,null,null,{"$f":"COUNTA(Q13:AU13)","v":0},{"$f":"AV14","v":0},{"$f":"IFERROR(ROUNDDOWN(AV14/$AT$3,1),\"\")","v":""},null,null,7,"日"]
[null,null,null,null,null,null,null,null,null,null,null,null,null,null,null,null,{"$f":"IFERROR(VLOOKUP(Q13,'P2'!$B$4:$J$48,9,FALSE),\"\")","v":""},{"$f":"IFERROR(VLOOKUP(R13,'P2'!$B$4:$J$48,9,FALSE),\"\")","v":""},{"$f":"IFERROR(VLOOKUP(S13,'P2'!$B$4:$J$48,9,FALSE),\"\")","v":""},{"$f":"IFERROR(VLOOKUP(T13,'P2'!$B$4:$J$48,9,FALSE),\"\")","v":""},{"$f":"IFERROR(VLOOKUP(U13,'P2'!$B$4:$J$48,9,FALSE),\"\")","v":""},{"$f":"IFERROR(VLOOKUP(V13,'P2'!$B$4:$J$48,9,FALSE),\"\")","v":""},{"$f":"IFERROR(VLOOKUP(W13,'P2'!$B$4:$J$48,9,FALSE),\"\")","v":""},{"$f":"IFERROR(VLOOKUP(X13,'P2'!$B$4:$J$48,9,FALSE),\"\")","v":""},{"$f":"IFERROR(VLOOKUP(Y13,'P2'!$B$4:$J$48,9,FALSE),\"\")","v":""},{"$f":"IFERROR(VLOOKUP(Z13,'P2'!$B$4:$J$48,9,FALSE),\"\")","v":""},{"$f":"IFERROR(VLOOKUP(AA13,'P2'!$B$4:$J$48,9,FALSE),\"\")","v":""},{"$f":"IFERROR(VLOOKUP(AB13,'P2'!$B$4:$J$48,9,FALSE),\"\")","v":""},{"$f":"IFERROR(VLOOKUP(AC13,'P2'!$B$4:$J$48,9,FALSE),\"\")","v":""},{"$f":"IFERROR(VLOOKUP(AD13,'P2'!$B$4:$J$48,9,FALSE),\"\")","v":""},{"$f":"IFERROR(VLOOKUP(AE13,'P2'!$B$4:$J$48,9,FALSE),\"\")","v":""},{"$f":"IFERROR(VLOOKUP(AF13,'P2'!$B$4:$J$48,9,FALSE),\"\")","v":""},{"$f":"IFERROR(VLOOKUP(AG13,'P2'!$B$4:$J$48,9,FALSE),\"\")","v":""},{"$f":"IFERROR(VLOOKUP(AH13,'P2'!$B$4:$J$48,9,FALSE),\"\")","v":""},{"$f":"IFERROR(VLOOKUP(AI13,'P2'!$B$4:$J$48,9,FALSE),\"\")","v":""},{"$f":"IFERROR(VLOOKUP(AJ13,'P2'!$B$4:$J$48,9,FALSE),\"\")","v":""},{"$f":"IFERROR(VLOOKUP(AK13,'P2'!$B$4:$J$48,9,FALSE),\"\")","v":""},{"$f":"IFERROR(VLOOKUP(AL13,'P2'!$B$4:$J$48,9,FALSE),\"\")","v":""},{"$f":"IFERROR(VLOOKUP(AM13,'P2'!$B$4:$J$48,9,FALSE),\"\")","v":""},{"$f":"IFERROR(VLOOKUP(AN13,'P2'!$B$4:$J$48,9,FALSE),\"\")","v":""},{"$f":"IFERROR(VLOOKUP(AO13,'P2'!$B$4:$J$48,9,FALSE),\"\")","v":""},{"$f":"IFERROR(VLOOKUP(AP13,'P2'!$B$4:$J$48,9,FALSE),\"\")","v":""},{"$f":"IFERROR(VLOOKUP(AQ13,'P2'!$B$4:$J$48,9,FALSE),\"\")","v":""},{"$f":"IFERROR(VLOOKUP(AR13,'P2'!$B$4:$J$48,9,FALSE),\"\")","v":""},{"$f":"IFERROR(VLOOKUP(AS13,'P2'!$B$4:$J$48,9,FALSE),\"\")","v":""},{"$f":"IFERROR(VLOOKUP(AT13,'P2'!$B$4:$J$48,9,FALSE),\"\")","v":""},{"$f":"IFERROR(VLOOKUP(AU13,'P2'!$B$4:$J$48,9,FALSE),\"\")","v":""},{"$f":"SUM(Q14:AU14)","v":0}]
[null,{"$f":"B13+1","v":2},null,null,null,null,null,null,null,null,null,null,null,null,null,null,null,null,null,null,null,null,null,null,null,null,null,null,null,null,null,null,null,null,null,null,null,null,null,null,null,null,null,null,null,null,null,{"$f":"COUNTA(Q15:AU15)","v":0},{"$f":"AV16","v":0},{"$f":"IFERROR(ROUNDDOWN(AV16/$AT$3,1),\"\")","v":""}]
[null,null,null,null,null,null,null,null,null,null,null,null,null,null,null,null,{"$f":"IFERROR(VLOOKUP(Q15,'P2'!$B$4:$J$48,9,FALSE),\"\")","v":""},{"$f":"IFERROR(VLOOKUP(R15,'P2'!$B$4:$J$48,9,FALSE),\"\")","v":""},{"$f":"IFERROR(VLOOKUP(S15,'P2'!$B$4:$J$48,9,FALSE),\"\")","v":""},{"$f":"IFERROR(VLOOKUP(T15,'P2'!$B$4:$J$48,9,FALSE),\"\")","v":""},{"$f":"IFERROR(VLOOKUP(U15,'P2'!$B$4:$J$48,9,FALSE),\"\")","v":""},{"$f":"IFERROR(VLOOKUP(V15,'P2'!$B$4:$J$48,9,FALSE),\"\")","v":""},{"$f":"IFERROR(VLOOKUP(W15,'P2'!$B$4:$J$48,9,FALSE),\"\")","v":""},{"$f":"IFERROR(VLOOKUP(X15,'P2'!$B$4:$J$48,9,FALSE),\"\")","v":""},{"$f":"IFERROR(VLOOKUP(Y15,'P2'!$B$4:$J$48,9,FALSE),\"\")","v":""},{"$f":"IFERROR(VLOOKUP(Z15,'P2'!$B$4:$J$48,9,FALSE),\"\")","v":""},{"$f":"IFERROR(VLOOKUP(AA15,'P2'!$B$4:$J$48,9,FALSE),\"\")","v":""},{"$f":"IFERROR(VLOOKUP(AB15,'P2'!$B$4:$J$48,9,FALSE),\"\")","v":""},{"$f":"IFERROR(VLOOKUP(AC15,'P2'!$B$4:$J$48,9,FALSE),\"\")","v":""},{"$f":"IFERROR(VLOOKUP(AD15,'P2'!$B$4:$J$48,9,FALSE),\"\")","v":""},{"$f":"IFERROR(VLOOKUP(AE15,'P2'!$B$4:$J$48,9,FALSE),\"\")","v":""},{"$f":"IFERROR(VLOOKUP(AF15,'P2'!$B$4:$J$48,9,FALSE),\"\")","v":""},{"$f":"IFERROR(VLOOKUP(AG15,'P2'!$B$4:$J$48,9,FALSE),\"\")","v":""},{"$f":"IFERROR(VLOOKUP(AH15,'P2'!$B$4:$J$48,9,FALSE),\"\")","v":""},{"$f":"IFERROR(VLOOKUP(AI15,'P2'!$B$4:$J$48,9,FALSE),\"\")","v":""},{"$f":"IFERROR(VLOOKUP(AJ15,'P2'!$B$4:$J$48,9,FALSE),\"\")","v":""},{"$f":"IFERROR(VLOOKUP(AK15,'P2'!$B$4:$J$48,9,FALSE),\"\")","v":""},{"$f":"IFERROR(VLOOKUP(AL15,'P2'!$B$4:$J$48,9,FALSE),\"\")","v":""},{"$f":"IFERROR(VLOOKUP(AM15,'P2'!$B$4:$J$48,9,FALSE),\"\")","v":""},{"$f":"IFERROR(VLOOKUP(AN15,'P2'!$B$4:$J$48,9,FALSE),\"\")","v":""},{"$f":"IFERROR(VLOOKUP(AO15,'P2'!$B$4:$J$48,9,FALSE),\"\")","v":""},{"$f":"IFERROR(VLOOKUP(AP15,'P2'!$B$4:$J$48,9,FALSE),\"\")","v":""},{"$f":"IFERROR(VLOOKUP(AQ15,'P2'!$B$4:$J$48,9,FALSE),\"\")","v":""},{"$f":"IFERROR(VLOOKUP(AR15,'P2'!$B$4:$J$48,9,FALSE),\"\")","v":""},{"$f":"IFERROR(VLOOKUP(AS15,'P2'!$B$4:$J$48,9,FALSE),\"\")","v":""},{"$f":"IFERROR(VLOOKUP(AT15,'P2'!$B$4:$J$48,9,FALSE),\"\")","v":""},{"$f":"IFERROR(VLOOKUP(AU15,'P2'!$B$4:$J$48,9,FALSE),\"\")","v":""},{"$f":"SUM(Q16:AU16)","v":0}]
[null,{"$f":"B15+1","v":3},null,null,null,null,null,null,null,null,null,null,null,null,null,null,null,null,null,null,null,null,null,null,null,null,null,null,null,null,null,null,null,null,null,null,null,null,null,null,null,null,null,null,null,null,null,{"$f":"COUNTA(Q17:AU17)","v":0},{"$f":"AV18","v":0},{"$f":"IFERROR(ROUNDDOWN(AV18/$AT$3,1),\"\")","v":""}]
[null,null,null,null,null,null,null,null,null,null,null,null,null,null,null,null,{"$f":"IFERROR(VLOOKUP(Q17,'P2'!$B$4:$J$48,9,FALSE),\"\")","v":""},{"$f":"IFERROR(VLOOKUP(R17,'P2'!$B$4:$J$48,9,FALSE),\"\")","v":""},{"$f":"IFERROR(VLOOKUP(S17,'P2'!$B$4:$J$48,9,FALSE),\"\")","v":""},{"$f":"IFERROR(VLOOKUP(T17,'P2'!$B$4:$J$48,9,FALSE),\"\")","v":""},{"$f":"IFERROR(VLOOKUP(U17,'P2'!$B$4:$J$48,9,FALSE),\"\")","v":""},{"$f":"IFERROR(VLOOKUP(V17,'P2'!$B$4:$J$48,9,FALSE),\"\")","v":""},{"$f":"IFERROR(VLOOKUP(W17,'P2'!$B$4:$J$48,9,FALSE),\"\")","v":""},{"$f":"IFERROR(VLOOKUP(X17,'P2'!$B$4:$J$48,9,FALSE),\"\")","v":""},{"$f":"IFERROR(VLOOKUP(Y17,'P2'!$B$4:$J$48,9,FALSE),\"\")","v":""},{"$f":"IFERROR(VLOOKUP(Z17,'P2'!$B$4:$J$48,9,FALSE),\"\")","v":""},{"$f":"IFERROR(VLOOKUP(AA17,'P2'!$B$4:$J$48,9,FALSE),\"\")","v":""},{"$f":"IFERROR(VLOOKUP(AB17,'P2'!$B$4:$J$48,9,FALSE),\"\")","v":""},{"$f":"IFERROR(VLOOKUP(AC17,'P2'!$B$4:$J$48,9,FALSE),\"\")","v":""},{"$f":"IFERROR(VLOOKUP(AD17,'P2'!$B$4:$J$48,9,FALSE),\"\")","v":""},{"$f":"IFERROR(VLOOKUP(AE17,'P2'!$B$4:$J$48,9,FALSE),\"\")","v":""},{"$f":"IFERROR(VLOOKUP(AF17,'P2'!$B$4:$J$48,9,FALSE),\"\")","v":""},{"$f":"IFERROR(VLOOKUP(AG17,'P2'!$B$4:$J$48,9,FALSE),\"\")","v":""},{"$f":"IFERROR(VLOOKUP(AH17,'P2'!$B$4:$J$48,9,FALSE),\"\")","v":""},{"$f":"IFERROR(VLOOKUP(AI17,'P2'!$B$4:$J$48,9,FALSE),\"\")","v":""},{"$f":"IFERROR(VLOOKUP(AJ17,'P2'!$B$4:$J$48,9,FALSE),\"\")","v":""},{"$f":"IFERROR(VLOOKUP(AK17,'P2'!$B$4:$J$48,9,FALSE),\"\")","v":""},{"$f":"IFERROR(VLOOKUP(AL17,'P2'!$B$4:$J$48,9,FALSE),\"\")","v":""},{"$f":"IFERROR(VLOOKUP(AM17,'P2'!$B$4:$J$48,9,FALSE),\"\")","v":""},{"$f":"IFERROR(VLOOKUP(AN17,'P2'!$B$4:$J$48,9,FALSE),\"\")","v":""},{"$f":"IFERROR(VLOOKUP(AO17,'P2'!$B$4:$J$48,9,FALSE),\"\")","v":""},{"$f":"IFERROR(VLOOKUP(AP17,'P2'!$B$4:$J$48,9,FALSE),\"\")","v":""},{"$f":"IFERROR(VLOOKUP(AQ17,'P2'!$B$4:$J$48,9,FALSE),\"\")","v":""},{"$f":"IFERROR(VLOOKUP(AR17,'P2'!$B$4:$J$48,9,FALSE),\"\")","v":""},{"$f":"IFERROR(VLOOKUP(AS17,'P2'!$B$4:$J$48,9,FALSE),\"\")","v":""},{"$f":"IFERROR(VLOOKUP(AT17,'P2'!$B$4:$J$48,9,FALSE),\"\")","v":""},{"$f":"IFERROR(VLOOKUP(AU17,'P2'!$B$4:$J$48,9,FALSE),\"\")","v":""},{"$f":"SUM(Q18:AU18)","v":0}]
[null,{"$f":"B17+1","v":4},null,null,null,null,null,null,null,null,null,null,null,null,null,null,null,null,null,null,null,null,null,null,null,null,null,null,null,null,null,null,null,null,null,null,null,null,null,null,null,null,null,null,null,null,null,{"$f":"COUNTA(Q19:AU19)","v":0},{"$f":"AV20","v":0},{"$f":"IFERROR(ROUNDDOWN(AV20/$AT$3,1),\"\")","v":""}]
[null,null,null,null,null,null,null,null,null,null,null,null,null,null,null,null,{"$f":"IFERROR(VLOOKUP(Q19,'P2'!$B$4:$J$48,9,FALSE),\"\")","v":""},{"$f":"IFERROR(VLOOKUP(R19,'P2'!$B$4:$J$48,9,FALSE),\"\")","v":""},{"$f":"IFERROR(VLOOKUP(S19,'P2'!$B$4:$J$48,9,FALSE),\"\")","v":""},{"$f":"IFERROR(VLOOKUP(T19,'P2'!$B$4:$J$48,9,FALSE),\"\")","v":""},{"$f":"IFERROR(VLOOKUP(U19,'P2'!$B$4:$J$48,9,FALSE),\"\")","v":""},{"$f":"IFERROR(VLOOKUP(V19,'P2'!$B$4:$J$48,9,FALSE),\"\")","v":""},{"$f":"IFERROR(VLOOKUP(W19,'P2'!$B$4:$J$48,9,FALSE),\"\")","v":""},{"$f":"IFERROR(VLOOKUP(X19,'P2'!$B$4:$J$48,9,FALSE),\"\")","v":""},{"$f":"IFERROR(VLOOKUP(Y19,'P2'!$B$4:$J$48,9,FALSE),\"\")","v":""},{"$f":"IFERROR(VLOOKUP(Z19,'P2'!$B$4:$J$48,9,FALSE),\"\")","v":""},{"$f":"IFERROR(VLOOKUP(AA19,'P2'!$B$4:$J$48,9,FALSE),\"\")","v":""},{"$f":"IFERROR(VLOOKUP(AB19,'P2'!$B$4:$J$48,9,FALSE),\"\")","v":""},{"$f":"IFERROR(VLOOKUP(AC19,'P2'!$B$4:$J$48,9,FALSE),\"\")","v":""},{"$f":"IFERROR(VLOOKUP(AD19,'P2'!$B$4:$J$48,9,FALSE),\"\")","v":""},{"$f":"IFERROR(VLOOKUP(AE19,'P2'!$B$4:$J$48,9,FALSE),\"\")","v":""},{"$f":"IFERROR(VLOOKUP(AF19,'P2'!$B$4:$J$48,9,FALSE),\"\")","v":""},{"$f":"IFERROR(VLOOKUP(AG19,'P2'!$B$4:$J$48,9,FALSE),\"\")","v":""},{"$f":"IFERROR(VLOOKUP(AH19,'P2'!$B$4:$J$48,9,FALSE),\"\")","v":""},{"$f":"IFERROR(VLOOKUP(AI19,'P2'!$B$4:$J$48,9,FALSE),\"\")","v":""},{"$f":"IFERROR(VLOOKUP(AJ19,'P2'!$B$4:$J$48,9,FALSE),\"\")","v":""},{"$f":"IFERROR(VLOOKUP(AK19,'P2'!$B$4:$J$48,9,FALSE),\"\")","v":""},{"$f":"IFERROR(VLOOKUP(AL19,'P2'!$B$4:$J$48,9,FALSE),\"\")","v":""},{"$f":"IFERROR(VLOOKUP(AM19,'P2'!$B$4:$J$48,9,FALSE),\"\")","v":""},{"$f":"IFERROR(VLOOKUP(AN19,'P2'!$B$4:$J$48,9,FALSE),\"\")","v":""},{"$f":"IFERROR(VLOOKUP(AO19,'P2'!$B$4:$J$48,9,FALSE),\"\")","v":""},{"$f":"IFERROR(VLOOKUP(AP19,'P2'!$B$4:$J$48,9,FALSE),\"\")","v":""},{"$f":"IFERROR(VLOOKUP(AQ19,'P2'!$B$4:$J$48,9,FALSE),\"\")","v":""},{"$f":"IFERROR(VLOOKUP(AR19,'P2'!$B$4:$J$48,9,FALSE),\"\")","v":""},{"$f":"IFERROR(VLOOKUP(AS19,'P2'!$B$4:$J$48,9,FALSE),\"\")","v":""},{"$f":"IFERROR(VLOOKUP(AT19,'P2'!$B$4:$J$48,9,FALSE),\"\")","v":""},{"$f":"IFERROR(VLOOKUP(AU19,'P2'!$B$4:$J$48,9,FALSE),\"\")","v":""},{"$f":"SUM(Q20:AU20)","v":0}]
[null,{"$f":"B19+1","v":5},null,null,null,null,null,null,null,null,null,null,null,null,null,null,null,null,null,null,null,null,null,null,null,null,null,null,null,null,null,null,null,null,null,null,null,null,null,null,null,null,null,null,null,null,null,{"$f":"COUNTA(Q21:AU21)","v":0},{"$f":"AV22","v":0},{"$f":"IFERROR(ROUNDDOWN(AV22/$AT$3,1),\"\")","v":""}]
[null,null,null,null,null,null,null,null,null,null,null,null,null,null,null,null,{"$f":"IFERROR(VLOOKUP(Q21,'P2'!$B$4:$J$48,9,FALSE),\"\")","v":""},{"$f":"IFERROR(VLOOKUP(R21,'P2'!$B$4:$J$48,9,FALSE),\"\")","v":""},{"$f":"IFERROR(VLOOKUP(S21,'P2'!$B$4:$J$48,9,FALSE),\"\")","v":""},{"$f":"IFERROR(VLOOKUP(T21,'P2'!$B$4:$J$48,9,FALSE),\"\")","v":""},{"$f":"IFERROR(VLOOKUP(U21,'P2'!$B$4:$J$48,9,FALSE),\"\")","v":""},{"$f":"IFERROR(VLOOKUP(V21,'P2'!$B$4:$J$48,9,FALSE),\"\")","v":""},{"$f":"IFERROR(VLOOKUP(W21,'P2'!$B$4:$J$48,9,FALSE),\"\")","v":""},{"$f":"IFERROR(VLOOKUP(X21,'P2'!$B$4:$J$48,9,FALSE),\"\")","v":""},{"$f":"IFERROR(VLOOKUP(Y21,'P2'!$B$4:$J$48,9,FALSE),\"\")","v":""},{"$f":"IFERROR(VLOOKUP(Z21,'P2'!$B$4:$J$48,9,FALSE),\"\")","v":""},{"$f":"IFERROR(VLOOKUP(AA21,'P2'!$B$4:$J$48,9,FALSE),\"\")","v":""},{"$f":"IFERROR(VLOOKUP(AB21,'P2'!$B$4:$J$48,9,FALSE),\"\")","v":""},{"$f":"IFERROR(VLOOKUP(AC21,'P2'!$B$4:$J$48,9,FALSE),\"\")","v":""},{"$f":"IFERROR(VLOOKUP(AD21,'P2'!$B$4:$J$48,9,FALSE),\"\")","v":""},{"$f":"IFERROR(VLOOKUP(AE21,'P2'!$B$4:$J$48,9,FALSE),\"\")","v":""},{"$f":"IFERROR(VLOOKUP(AF21,'P2'!$B$4:$J$48,9,FALSE),\"\")","v":""},{"$f":"IFERROR(VLOOKUP(AG21,'P2'!$B$4:$J$48,9,FALSE),\"\")","v":""},{"$f":"IFERROR(VLOOKUP(AH21,'P2'!$B$4:$J$48,9,FALSE),\"\")","v":""},{"$f":"IFERROR(VLOOKUP(AI21,'P2'!$B$4:$J$48,9,FALSE),\"\")","v":""},{"$f":"IFERROR(VLOOKUP(AJ21,'P2'!$B$4:$J$48,9,FALSE),\"\")","v":""},{"$f":"IFERROR(VLOOKUP(AK21,'P2'!$B$4:$J$48,9,FALSE),\"\")","v":""},{"$f":"IFERROR(VLOOKUP(AL21,'P2'!$B$4:$J$48,9,FALSE),\"\")","v":""},{"$f":"IFERROR(VLOOKUP(AM21,'P2'!$B$4:$J$48,9,FALSE),\"\")","v":""},{"$f":"IFERROR(VLOOKUP(AN21,'P2'!$B$4:$J$48,9,FALSE),\"\")","v":""},{"$f":"IFERROR(VLOOKUP(AO21,'P2'!$B$4:$J$48,9,FALSE),\"\")","v":""},{"$f":"IFERROR(VLOOKUP(AP21,'P2'!$B$4:$J$48,9,FALSE),\"\")","v":""},{"$f":"IFERROR(VLOOKUP(AQ21,'P2'!$B$4:$J$48,9,FALSE),\"\")","v":""},{"$f":"IFERROR(VLOOKUP(AR21,'P2'!$B$4:$J$48,9,FALSE),\"\")","v":""},{"$f":"IFERROR(VLOOKUP(AS21,'P2'!$B$4:$J$48,9,FALSE),\"\")","v":""},{"$f":"IFERROR(VLOOKUP(AT21,'P2'!$B$4:$J$48,9,FALSE),\"\")","v":""},{"$f":"IFERROR(VLOOKUP(AU21,'P2'!$B$4:$J$48,9,FALSE),\"\")","v":""},{"$f":"SUM(Q22:AU22)","v":0}]
[null,{"$f":"B21+1","v":6},null,null,null,null,null,null,null,null,null,null,null,null,null,null,null,null,null,null,null,null,null,null,null,null,null,null,null,null,null,null,null,null,null,null,null,null,null,null,null,null,null,null,null,null,null,{"$f":"COUNTA(Q23:AU23)","v":0},{"$f":"AV24","v":0},{"$f":"IFERROR(ROUNDDOWN(AV24/$AT$3,1),\"\")","v":""}]
[null,null,null,null,null,null,null,null,null,null,null,null,null,null,null,null,{"$f":"IFERROR(VLOOKUP(Q23,'P2'!$B$4:$J$48,9,FALSE),\"\")","v":""},{"$f":"IFERROR(VLOOKUP(R23,'P2'!$B$4:$J$48,9,FALSE),\"\")","v":""},{"$f":"IFERROR(VLOOKUP(S23,'P2'!$B$4:$J$48,9,FALSE),\"\")","v":""},{"$f":"IFERROR(VLOOKUP(T23,'P2'!$B$4:$J$48,9,FALSE),\"\")","v":""},{"$f":"IFERROR(VLOOKUP(U23,'P2'!$B$4:$J$48,9,FALSE),\"\")","v":""},{"$f":"IFERROR(VLOOKUP(V23,'P2'!$B$4:$J$48,9,FALSE),\"\")","v":""},{"$f":"IFERROR(VLOOKUP(W23,'P2'!$B$4:$J$48,9,FALSE),\"\")","v":""},{"$f":"IFERROR(VLOOKUP(X23,'P2'!$B$4:$J$48,9,FALSE),\"\")","v":""},{"$f":"IFERROR(VLOOKUP(Y23,'P2'!$B$4:$J$48,9,FALSE),\"\")","v":""},{"$f":"IFERROR(VLOOKUP(Z23,'P2'!$B$4:$J$48,9,FALSE),\"\")","v":""},{"$f":"IFERROR(VLOOKUP(AA23,'P2'!$B$4:$J$48,9,FALSE),\"\")","v":""},{"$f":"IFERROR(VLOOKUP(AB23,'P2'!$B$4:$J$48,9,FALSE),\"\")","v":""},{"$f":"IFERROR(VLOOKUP(AC23,'P2'!$B$4:$J$48,9,FALSE),\"\")","v":""},{"$f":"IFERROR(VLOOKUP(AD23,'P2'!$B$4:$J$48,9,FALSE),\"\")","v":""},{"$f":"IFERROR(VLOOKUP(AE23,'P2'!$B$4:$J$48,9,FALSE),\"\")","v":""},{"$f":"IFERROR(VLOOKUP(AF23,'P2'!$B$4:$J$48,9,FALSE),\"\")","v":""},{"$f":"IFERROR(VLOOKUP(AG23,'P2'!$B$4:$J$48,9,FALSE),\"\")","v":""},{"$f":"IFERROR(VLOOKUP(AH23,'P2'!$B$4:$J$48,9,FALSE),\"\")","v":""},{"$f":"IFERROR(VLOOKUP(AI23,'P2'!$B$4:$J$48,9,FALSE),\"\")","v":""},{"$f":"IFERROR(VLOOKUP(AJ23,'P2'!$B$4:$J$48,9,FALSE),\"\")","v":""},{"$f":"IFERROR(VLOOKUP(AK23,'P2'!$B$4:$J$48,9,FALSE),\"\")","v":""},{"$f":"IFERROR(VLOOKUP(AL23,'P2'!$B$4:$J$48,9,FALSE),\"\")","v":""},{"$f":"IFERROR(VLOOKUP(AM23,'P2'!$B$4:$J$48,9,FALSE),\"\")","v":""},{"$f":"IFERROR(VLOOKUP(AN23,'P2'!$B$4:$J$48,9,FALSE),\"\")","v":""},{"$f":"IFERROR(VLOOKUP(AO23,'P2'!$B$4:$J$48,9,FALSE),\"\")","v":""},{"$f":"IFERROR(VLOOKUP(AP23,'P2'!$B$4:$J$48,9,FALSE),\"\")","v":""},{"$f":"IFERROR(VLOOKUP(AQ23,'P2'!$B$4:$J$48,9,FALSE),\"\")","v":""},{"$f":"IFERROR(VLOOKUP(AR23,'P2'!$B$4:$J$48,9,FALSE),\"\")","v":""},{"$f":"IFERROR(VLOOKUP(AS23,'P2'!$B$4:$J$48,9,FALSE),\"\")","v":""},{"$f":"IFERROR(VLOOKUP(AT23,'P2'!$B$4:$J$48,9,FALSE),\"\")","v":""},{"$f":"IFERROR(VLOOKUP(AU23,'P2'!$B$4:$J$48,9,FALSE),\"\")","v":""},{"$f":"SUM(Q24:AU24)","v":0}]
[null,{"$f":"B23+1","v":7},null,null,null,null,null,null,null,null,null,null,null,null,null,null,null,null,null,null,null,null,null,null,null,null,null,null,null,null,null,null,null,null,null,null,null,null,null,null,null,null,null,null,null,null,null,{"$f":"COUNTA(Q25:AU25)","v":0},{"$f":"AV26","v":0},{"$f":"IFERROR(ROUNDDOWN(AV26/$AT$3,1),\"\")","v":""}]
[null,null,null,null,null,null,null,null,null,null,null,null,null,null,null,null,{"$f":"IFERROR(VLOOKUP(Q25,'P2'!$B$4:$J$48,9,FALSE),\"\")","v":""},{"$f":"IFERROR(VLOOKUP(R25,'P2'!$B$4:$J$48,9,FALSE),\"\")","v":""},{"$f":"IFERROR(VLOOKUP(S25,'P2'!$B$4:$J$48,9,FALSE),\"\")","v":""},{"$f":"IFERROR(VLOOKUP(T25,'P2'!$B$4:$J$48,9,FALSE),\"\")","v":""},{"$f":"IFERROR(VLOOKUP(U25,'P2'!$B$4:$J$48,9,FALSE),\"\")","v":""},{"$f":"IFERROR(VLOOKUP(V25,'P2'!$B$4:$J$48,9,FALSE),\"\")","v":""},{"$f":"IFERROR(VLOOKUP(W25,'P2'!$B$4:$J$48,9,FALSE),\"\")","v":""},{"$f":"IFERROR(VLOOKUP(X25,'P2'!$B$4:$J$48,9,FALSE),\"\")","v":""},{"$f":"IFERROR(VLOOKUP(Y25,'P2'!$B$4:$J$48,9,FALSE),\"\")","v":""},{"$f":"IFERROR(VLOOKUP(Z25,'P2'!$B$4:$J$48,9,FALSE),\"\")","v":""},{"$f":"IFERROR(VLOOKUP(AA25,'P2'!$B$4:$J$48,9,FALSE),\"\")","v":""},{"$f":"IFERROR(VLOOKUP(AB25,'P2'!$B$4:$J$48,9,FALSE),\"\")","v":""},{"$f":"IFERROR(VLOOKUP(AC25,'P2'!$B$4:$J$48,9,FALSE),\"\")","v":""},{"$f":"IFERROR(VLOOKUP(AD25,'P2'!$B$4:$J$48,9,FALSE),\"\")","v":""},{"$f":"IFERROR(VLOOKUP(AE25,'P2'!$B$4:$J$48,9,FALSE),\"\")","v":""},{"$f":"IFERROR(VLOOKUP(AF25,'P2'!$B$4:$J$48,9,FALSE),\"\")","v":""},{"$f":"IFERROR(VLOOKUP(AG25,'P2'!$B$4:$J$48,9,FALSE),\"\")","v":""},{"$f":"IFERROR(VLOOKUP(AH25,'P2'!$B$4:$J$48,9,FALSE),\"\")","v":""},{"$f":"IFERROR(VLOOKUP(AI25,'P2'!$B$4:$J$48,9,FALSE),\"\")","v":""},{"$f":"IFERROR(VLOOKUP(AJ25,'P2'!$B$4:$J$48,9,FALSE),\"\")","v":""},{"$f":"IFERROR(VLOOKUP(AK25,'P2'!$B$4:$J$48,9,FALSE),\"\")","v":""},{"$f":"IFERROR(VLOOKUP(AL25,'P2'!$B$4:$J$48,9,FALSE),\"\")","v":""},{"$f":"IFERROR(VLOOKUP(AM25,'P2'!$B$4:$J$48,9,FALSE),\"\")","v":""},{"$f":"IFERROR(VLOOKUP(AN25,'P2'!$B$4:$J$48,9,FALSE),\"\")","v":""},{"$f":"IFERROR(VLOOKUP(AO25,'P2'!$B$4:$J$48,9,FALSE),\"\")","v":""},{"$f":"IFERROR(VLOOKUP(AP25,'P2'!$B$4:$J$48,9,FALSE),\"\")","v":""},{"$f":"IFERROR(VLOOKUP(AQ25,'P2'!$B$4:$J$48,9,FALSE),\"\")","v":""},{"$f":"IFERROR(VLOOKUP(AR25,'P2'!$B$4:$J$48,9,FALSE),\"\")","v":""},{"$f":"IFERROR(VLOOKUP(AS25,'P2'!$B$4:$J$48,9,FALSE),\"\")","v":""},{"$f":"IFERROR(VLOOKUP(AT25,'P2'!$B$4:$J$48,9,FALSE),\"\")","v":""},{"$f":"IFERROR(VLOOKUP(AU25,'P2'!$B$4:$J$48,9,FALSE),\"\")","v":""},{"$f":"SUM(Q26:AU26)","v":0}]
[null,{"$f":"B25+1","v":8},null,null,null,null,null,null,null,null,null,null,null,null,null,null,null,null,null,null,null,null,null,null,null,null,null,null,null,null,null,null,null,null,null,null,null,null,null,null,null,null,null,null,null,null,null,{"$f":"COUNTA(Q27:AU27)","v":0},{"$f":"AV28","v":0},{"$f":"IFERROR(ROUNDDOWN(AV28/$AT$3,1),\"\")","v":""}]
[null,null,null,null,null,null,null,null,null,null,null,null,null,null,null,null,{"$f":"IFERROR(VLOOKUP(Q27,'P2'!$B$4:$J$48,9,FALSE),\"\")","v":""},{"$f":"IFERROR(VLOOKUP(R27,'P2'!$B$4:$J$48,9,FALSE),\"\")","v":""},{"$f":"IFERROR(VLOOKUP(S27,'P2'!$B$4:$J$48,9,FALSE),\"\")","v":""},{"$f":"IFERROR(VLOOKUP(T27,'P2'!$B$4:$J$48,9,FALSE),\"\")","v":""},{"$f":"IFERROR(VLOOKUP(U27,'P2'!$B$4:$J$48,9,FALSE),\"\")","v":""},{"$f":"IFERROR(VLOOKUP(V27,'P2'!$B$4:$J$48,9,FALSE),\"\")","v":""},{"$f":"IFERROR(VLOOKUP(W27,'P2'!$B$4:$J$48,9,FALSE),\"\")","v":""},{"$f":"IFERROR(VLOOKUP(X27,'P2'!$B$4:$J$48,9,FALSE),\"\")","v":""},{"$f":"IFERROR(VLOOKUP(Y27,'P2'!$B$4:$J$48,9,FALSE),\"\")","v":""},{"$f":"IFERROR(VLOOKUP(Z27,'P2'!$B$4:$J$48,9,FALSE),\"\")","v":""},{"$f":"IFERROR(VLOOKUP(AA27,'P2'!$B$4:$J$48,9,FALSE),\"\")","v":""},{"$f":"IFERROR(VLOOKUP(AB27,'P2'!$B$4:$J$48,9,FALSE),\"\")","v":""},{"$f":"IFERROR(VLOOKUP(AC27,'P2'!$B$4:$J$48,9,FALSE),\"\")","v":""},{"$f":"IFERROR(VLOOKUP(AD27,'P2'!$B$4:$J$48,9,FALSE),\"\")","v":""},{"$f":"IFERROR(VLOOKUP(AE27,'P2'!$B$4:$J$48,9,FALSE),\"\")","v":""},{"$f":"IFERROR(VLOOKUP(AF27,'P2'!$B$4:$J$48,9,FALSE),\"\")","v":""},{"$f":"IFERROR(VLOOKUP(AG27,'P2'!$B$4:$J$48,9,FALSE),\"\")","v":""},{"$f":"IFERROR(VLOOKUP(AH27,'P2'!$B$4:$J$48,9,FALSE),\"\")","v":""},{"$f":"IFERROR(VLOOKUP(AI27,'P2'!$B$4:$J$48,9,FALSE),\"\")","v":""},{"$f":"IFERROR(VLOOKUP(AJ27,'P2'!$B$4:$J$48,9,FALSE),\"\")","v":""},{"$f":"IFERROR(VLOOKUP(AK27,'P2'!$B$4:$J$48,9,FALSE),\"\")","v":""},{"$f":"IFERROR(VLOOKUP(AL27,'P2'!$B$4:$J$48,9,FALSE),\"\")","v":""},{"$f":"IFERROR(VLOOKUP(AM27,'P2'!$B$4:$J$48,9,FALSE),\"\")","v":""},{"$f":"IFERROR(VLOOKUP(AN27,'P2'!$B$4:$J$48,9,FALSE),\"\")","v":""},{"$f":"IFERROR(VLOOKUP(AO27,'P2'!$B$4:$J$48,9,FALSE),\"\")","v":""},{"$f":"IFERROR(VLOOKUP(AP27,'P2'!$B$4:$J$48,9,FALSE),\"\")","v":""},{"$f":"IFERROR(VLOOKUP(AQ27,'P2'!$B$4:$J$48,9,FALSE),\"\")","v":""},{"$f":"IFERROR(VLOOKUP(AR27,'P2'!$B$4:$J$48,9,FALSE),\"\")","v":""},{"$f":"IFERROR(VLOOKUP(AS27,'P2'!$B$4:$J$48,9,FALSE),\"\")","v":""},{"$f":"IFERROR(VLOOKUP(AT27,'P2'!$B$4:$J$48,9,FALSE),\"\")","v":""},{"$f":"IFERROR(VLOOKUP(AU27,'P2'!$B$4:$J$48,9,FALSE),\"\")","v":""},{"$f":"SUM(Q28:AU28)","v":0}]
[null,{"$f":"B27+1","v":9},null,null,null,null,null,null,null,null,null,null,null,null,null,null,null,null,null,null,null,null,null,null,null,null,null,null,null,null,null,null,null,null,null,null,null,null,null,null,null,null,null,null,null,null,null,{"$f":"COUNTA(Q29:AU29)","v":0},{"$f":"AV30","v":0},{"$f":"IFERROR(ROUNDDOWN(AV30/$AT$3,1),\"\")","v":""}]
[null,null,null,null,null,null,null,null,null,null,null,null,null,null,null,null,{"$f":"IFERROR(VLOOKUP(Q29,'P2'!$B$4:$J$48,9,FALSE),\"\")","v":""},{"$f":"IFERROR(VLOOKUP(R29,'P2'!$B$4:$J$48,9,FALSE),\"\")","v":""},{"$f":"IFERROR(VLOOKUP(S29,'P2'!$B$4:$J$48,9,FALSE),\"\")","v":""},{"$f":"IFERROR(VLOOKUP(T29,'P2'!$B$4:$J$48,9,FALSE),\"\")","v":""},{"$f":"IFERROR(VLOOKUP(U29,'P2'!$B$4:$J$48,9,FALSE),\"\")","v":""},{"$f":"IFERROR(VLOOKUP(V29,'P2'!$B$4:$J$48,9,FALSE),\"\")","v":""},{"$f":"IFERROR(VLOOKUP(W29,'P2'!$B$4:$J$48,9,FALSE),\"\")","v":""},{"$f":"IFERROR(VLOOKUP(X29,'P2'!$B$4:$J$48,9,FALSE),\"\")","v":""},{"$f":"IFERROR(VLOOKUP(Y29,'P2'!$B$4:$J$48,9,FALSE),\"\")","v":""},{"$f":"IFERROR(VLOOKUP(Z29,'P2'!$B$4:$J$48,9,FALSE),\"\")","v":""},{"$f":"IFERROR(VLOOKUP(AA29,'P2'!$B$4:$J$48,9,FALSE),\"\")","v":""},{"$f":"IFERROR(VLOOKUP(AB29,'P2'!$B$4:$J$48,9,FALSE),\"\")","v":""},{"$f":"IFERROR(VLOOKUP(AC29,'P2'!$B$4:$J$48,9,FALSE),\"\")","v":""},{"$f":"IFERROR(VLOOKUP(AD29,'P2'!$B$4:$J$48,9,FALSE),\"\")","v":""},{"$f":"IFERROR(VLOOKUP(AE29,'P2'!$B$4:$J$48,9,FALSE),\"\")","v":""},{"$f":"IFERROR(VLOOKUP(AF29,'P2'!$B$4:$J$48,9,FALSE),\"\")","v":""},{"$f":"IFERROR(VLOOKUP(AG29,'P2'!$B$4:$J$48,9,FALSE),\"\")","v":""},{"$f":"IFERROR(VLOOKUP(AH29,'P2'!$B$4:$J$48,9,FALSE),\"\")","v":""},{"$f":"IFERROR(VLOOKUP(AI29,'P2'!$B$4:$J$48,9,FALSE),\"\")","v":""},{"$f":"IFERROR(VLOOKUP(AJ29,'P2'!$B$4:$J$48,9,FALSE),\"\")","v":""},{"$f":"IFERROR(VLOOKUP(AK29,'P2'!$B$4:$J$48,9,FALSE),\"\")","v":""},{"$f":"IFERROR(VLOOKUP(AL29,'P2'!$B$4:$J$48,9,FALSE),\"\")","v":""},{"$f":"IFERROR(VLOOKUP(AM29,'P2'!$B$4:$J$48,9,FALSE),\"\")","v":""},{"$f":"IFERROR(VLOOKUP(AN29,'P2'!$B$4:$J$48,9,FALSE),\"\")","v":""},{"$f":"IFERROR(VLOOKUP(AO29,'P2'!$B$4:$J$48,9,FALSE),\"\")","v":""},{"$f":"IFERROR(VLOOKUP(AP29,'P2'!$B$4:$J$48,9,FALSE),\"\")","v":""},{"$f":"IFERROR(VLOOKUP(AQ29,'P2'!$B$4:$J$48,9,FALSE),\"\")","v":""},{"$f":"IFERROR(VLOOKUP(AR29,'P2'!$B$4:$J$48,9,FALSE),\"\")","v":""},{"$f":"IFERROR(VLOOKUP(AS29,'P2'!$B$4:$J$48,9,FALSE),\"\")","v":""},{"$f":"IFERROR(VLOOKUP(AT29,'P2'!$B$4:$J$48,9,FALSE),\"\")","v":""},{"$f":"IFERROR(VLOOKUP(AU29,'P2'!$B$4:$J$48,9,FALSE),\"\")","v":""},{"$f":"SUM(Q30:AU30)","v":0}]
[null,{"$f":"B29+1","v":10},null,null,null,null,null,null,null,null,null,null,null,null,null,null,null,null,null,null,null,null,null,null,null,null,null,null,null,null,null,null,null,null,null,null,null,null,null,null,null,null,null,null,null,null,null,{"$f":"COUNTA(Q31:AU31)","v":0},{"$f":"AV32","v":0},{"$f":"IFERROR(ROUNDDOWN(AV32/$AT$3,1),\"\")","v":""}]
[null,null,null,null,null,null,null,null,null,null,null,null,null,null,null,null,{"$f":"IFERROR(VLOOKUP(Q31,'P2'!$B$4:$J$48,9,FALSE),\"\")","v":""},{"$f":"IFERROR(VLOOKUP(R31,'P2'!$B$4:$J$48,9,FALSE),\"\")","v":""},{"$f":"IFERROR(VLOOKUP(S31,'P2'!$B$4:$J$48,9,FALSE),\"\")","v":""},{"$f":"IFERROR(VLOOKUP(T31,'P2'!$B$4:$J$48,9,FALSE),\"\")","v":""},{"$f":"IFERROR(VLOOKUP(U31,'P2'!$B$4:$J$48,9,FALSE),\"\")","v":""},{"$f":"IFERROR(VLOOKUP(V31,'P2'!$B$4:$J$48,9,FALSE),\"\")","v":""},{"$f":"IFERROR(VLOOKUP(W31,'P2'!$B$4:$J$48,9,FALSE),\"\")","v":""},{"$f":"IFERROR(VLOOKUP(X31,'P2'!$B$4:$J$48,9,FALSE),\"\")","v":""},{"$f":"IFERROR(VLOOKUP(Y31,'P2'!$B$4:$J$48,9,FALSE),\"\")","v":""},{"$f":"IFERROR(VLOOKUP(Z31,'P2'!$B$4:$J$48,9,FALSE),\"\")","v":""},{"$f":"IFERROR(VLOOKUP(AA31,'P2'!$B$4:$J$48,9,FALSE),\"\")","v":""},{"$f":"IFERROR(VLOOKUP(AB31,'P2'!$B$4:$J$48,9,FALSE),\"\")","v":""},{"$f":"IFERROR(VLOOKUP(AC31,'P2'!$B$4:$J$48,9,FALSE),\"\")","v":""},{"$f":"IFERROR(VLOOKUP(AD31,'P2'!$B$4:$J$48,9,FALSE),\"\")","v":""},{"$f":"IFERROR(VLOOKUP(AE31,'P2'!$B$4:$J$48,9,FALSE),\"\")","v":""},{"$f":"IFERROR(VLOOKUP(AF31,'P2'!$B$4:$J$48,9,FALSE),\"\")","v":""},{"$f":"IFERROR(VLOOKUP(AG31,'P2'!$B$4:$J$48,9,FALSE),\"\")","v":""},{"$f":"IFERROR(VLOOKUP(AH31,'P2'!$B$4:$J$48,9,FALSE),\"\")","v":""},{"$f":"IFERROR(VLOOKUP(AI31,'P2'!$B$4:$J$48,9,FALSE),\"\")","v":""},{"$f":"IFERROR(VLOOKUP(AJ31,'P2'!$B$4:$J$48,9,FALSE),\"\")","v":""},{"$f":"IFERROR(VLOOKUP(AK31,'P2'!$B$4:$J$48,9,FALSE),\"\")","v":""},{"$f":"IFERROR(VLOOKUP(AL31,'P2'!$B$4:$J$48,9,FALSE),\"\")","v":""},{"$f":"IFERROR(VLOOKUP(AM31,'P2'!$B$4:$J$48,9,FALSE),\"\")","v":""},{"$f":"IFERROR(VLOOKUP(AN31,'P2'!$B$4:$J$48,9,FALSE),\"\")","v":""},{"$f":"IFERROR(VLOOKUP(AO31,'P2'!$B$4:$J$48,9,FALSE),\"\")","v":""},{"$f":"IFERROR(VLOOKUP(AP31,'P2'!$B$4:$J$48,9,FALSE),\"\")","v":""},{"$f":"IFERROR(VLOOKUP(AQ31,'P2'!$B$4:$J$48,9,FALSE),\"\")","v":""},{"$f":"IFERROR(VLOOKUP(AR31,'P2'!$B$4:$J$48,9,FALSE),\"\")","v":""},{"$f":"IFERROR(VLOOKUP(AS31,'P2'!$B$4:$J$48,9,FALSE),\"\")","v":""},{"$f":"IFERROR(VLOOKUP(AT31,'P2'!$B$4:$J$48,9,FALSE),\"\")","v":""},{"$f":"IFERROR(VLOOKUP(AU31,'P2'!$B$4:$J$48,9,FALSE),\"\")","v":""},{"$f":"SUM(Q32:AU32)","v":0}]
[null,{"$f":"B31+1","v":11},null,null,null,null,null,null,null,null,null,null,null,null,null,null,null,null,null,null,null,null,null,null,null,null,null,null,null,null,null,null,null,null,null,null,null,null,null,null,null,null,null,null,null,null,null,{"$f":"COUNTA(Q33:AU33)","v":0},{"$f":"AV34","v":0},{"$f":"IFERROR(ROUNDDOWN(AV34/$AT$3,1),\"\")","v":""}]
[null,null,null,null,null,null,null,null,null,null,null,null,null,null,null,null,{"$f":"IFERROR(VLOOKUP(Q33,'P2'!$B$4:$J$48,9,FALSE),\"\")","v":""},{"$f":"IFERROR(VLOOKUP(R33,'P2'!$B$4:$J$48,9,FALSE),\"\")","v":""},{"$f":"IFERROR(VLOOKUP(S33,'P2'!$B$4:$J$48,9,FALSE),\"\")","v":""},{"$f":"IFERROR(VLOOKUP(T33,'P2'!$B$4:$J$48,9,FALSE),\"\")","v":""},{"$f":"IFERROR(VLOOKUP(U33,'P2'!$B$4:$J$48,9,FALSE),\"\")","v":""},{"$f":"IFERROR(VLOOKUP(V33,'P2'!$B$4:$J$48,9,FALSE),\"\")","v":""},{"$f":"IFERROR(VLOOKUP(W33,'P2'!$B$4:$J$48,9,FALSE),\"\")","v":""},{"$f":"IFERROR(VLOOKUP(X33,'P2'!$B$4:$J$48,9,FALSE),\"\")","v":""},{"$f":"IFERROR(VLOOKUP(Y33,'P2'!$B$4:$J$48,9,FALSE),\"\")","v":""},{"$f":"IFERROR(VLOOKUP(Z33,'P2'!$B$4:$J$48,9,FALSE),\"\")","v":""},{"$f":"IFERROR(VLOOKUP(AA33,'P2'!$B$4:$J$48,9,FALSE),\"\")","v":""},{"$f":"IFERROR(VLOOKUP(AB33,'P2'!$B$4:$J$48,9,FALSE),\"\")","v":""},{"$f":"IFERROR(VLOOKUP(AC33,'P2'!$B$4:$J$48,9,FALSE),\"\")","v":""},{"$f":"IFERROR(VLOOKUP(AD33,'P2'!$B$4:$J$48,9,FALSE),\"\")","v":""},{"$f":"IFERROR(VLOOKUP(AE33,'P2'!$B$4:$J$48,9,FALSE),\"\")","v":""},{"$f":"IFERROR(VLOOKUP(AF33,'P2'!$B$4:$J$48,9,FALSE),\"\")","v":""},{"$f":"IFERROR(VLOOKUP(AG33,'P2'!$B$4:$J$48,9,FALSE),\"\")","v":""},{"$f":"IFERROR(VLOOKUP(AH33,'P2'!$B$4:$J$48,9,FALSE),\"\")","v":""},{"$f":"IFERROR(VLOOKUP(AI33,'P2'!$B$4:$J$48,9,FALSE),\"\")","v":""},{"$f":"IFERROR(VLOOKUP(AJ33,'P2'!$B$4:$J$48,9,FALSE),\"\")","v":""},{"$f":"IFERROR(VLOOKUP(AK33,'P2'!$B$4:$J$48,9,FALSE),\"\")","v":""},{"$f":"IFERROR(VLOOKUP(AL33,'P2'!$B$4:$J$48,9,FALSE),\"\")","v":""},{"$f":"IFERROR(VLOOKUP(AM33,'P2'!$B$4:$J$48,9,FALSE),\"\")","v":""},{"$f":"IFERROR(VLOOKUP(AN33,'P2'!$B$4:$J$48,9,FALSE),\"\")","v":""},{"$f":"IFERROR(VLOOKUP(AO33,'P2'!$B$4:$J$48,9,FALSE),\"\")","v":""},{"$f":"IFERROR(VLOOKUP(AP33,'P2'!$B$4:$J$48,9,FALSE),\"\")","v":""},{"$f":"IFERROR(VLOOKUP(AQ33,'P2'!$B$4:$J$48,9,FALSE),\"\")","v":""},{"$f":"IFERROR(VLOOKUP(AR33,'P2'!$B$4:$J$48,9,FALSE),\"\")","v":""},{"$f":"IFERROR(VLOOKUP(AS33,'P2'!$B$4:$J$48,9,FALSE),\"\")","v":""},{"$f":"IFERROR(VLOOKUP(AT33,'P2'!$B$4:$J$48,9,FALSE),\"\")","v":""},{"$f":"IFERROR(VLOOKUP(AU33,'P2'!$B$4:$J$48,9,FALSE),\"\")","v":""},{"$f":"SUM(Q34:AU34)","v":0}]
[null,{"$f":"B33+1","v":12},null,null,null,null,null,null,null,null,null,null,null,null,null,null,null,null,null,null,null,null,null,null,null,null,null,null,null,null,null,null,null,null,null,null,null,null,null,null,null,null,null,null,null,null,null,{"$f":"COUNTA(Q35:AU35)","v":0},{"$f":"AV36","v":0},{"$f":"IFERROR(ROUNDDOWN(AV36/$AT$3,1),\"\")","v":""}]
[null,null,null,null,null,null,null,null,null,null,null,null,null,null,null,null,{"$f":"IFERROR(VLOOKUP(Q35,'P2'!$B$4:$J$48,9,FALSE),\"\")","v":""},{"$f":"IFERROR(VLOOKUP(R35,'P2'!$B$4:$J$48,9,FALSE),\"\")","v":""},{"$f":"IFERROR(VLOOKUP(S35,'P2'!$B$4:$J$48,9,FALSE),\"\")","v":""},{"$f":"IFERROR(VLOOKUP(T35,'P2'!$B$4:$J$48,9,FALSE),\"\")","v":""},{"$f":"IFERROR(VLOOKUP(U35,'P2'!$B$4:$J$48,9,FALSE),\"\")","v":""},{"$f":"IFERROR(VLOOKUP(V35,'P2'!$B$4:$J$48,9,FALSE),\"\")","v":""},{"$f":"IFERROR(VLOOKUP(W35,'P2'!$B$4:$J$48,9,FALSE),\"\")","v":""},{"$f":"IFERROR(VLOOKUP(X35,'P2'!$B$4:$J$48,9,FALSE),\"\")","v":""},{"$f":"IFERROR(VLOOKUP(Y35,'P2'!$B$4:$J$48,9,FALSE),\"\")","v":""},{"$f":"IFERROR(VLOOKUP(Z35,'P2'!$B$4:$J$48,9,FALSE),\"\")","v":""},{"$f":"IFERROR(VLOOKUP(AA35,'P2'!$B$4:$J$48,9,FALSE),\"\")","v":""},{"$f":"IFERROR(VLOOKUP(AB35,'P2'!$B$4:$J$48,9,FALSE),\"\")","v":""},{"$f":"IFERROR(VLOOKUP(AC35,'P2'!$B$4:$J$48,9,FALSE),\"\")","v":""},{"$f":"IFERROR(VLOOKUP(AD35,'P2'!$B$4:$J$48,9,FALSE),\"\")","v":""},{"$f":"IFERROR(VLOOKUP(AE35,'P2'!$B$4:$J$48,9,FALSE),\"\")","v":""},{"$f":"IFERROR(VLOOKUP(AF35,'P2'!$B$4:$J$48,9,FALSE),\"\")","v":""},{"$f":"IFERROR(VLOOKUP(AG35,'P2'!$B$4:$J$48,9,FALSE),\"\")","v":""},{"$f":"IFERROR(VLOOKUP(AH35,'P2'!$B$4:$J$48,9,FALSE),\"\")","v":""},{"$f":"IFERROR(VLOOKUP(AI35,'P2'!$B$4:$J$48,9,FALSE),\"\")","v":""},{"$f":"IFERROR(VLOOKUP(AJ35,'P2'!$B$4:$J$48,9,FALSE),\"\")","v":""},{"$f":"IFERROR(VLOOKUP(AK35,'P2'!$B$4:$J$48,9,FALSE),\"\")","v":""},{"$f":"IFERROR(VLOOKUP(AL35,'P2'!$B$4:$J$48,9,FALSE),\"\")","v":""},{"$f":"IFERROR(VLOOKUP(AM35,'P2'!$B$4:$J$48,9,FALSE),\"\")","v":""},{"$f":"IFERROR(VLOOKUP(AN35,'P2'!$B$4:$J$48,9,FALSE),\"\")","v":""},{"$f":"IFERROR(VLOOKUP(AO35,'P2'!$B$4:$J$48,9,FALSE),\"\")","v":""},{"$f":"IFERROR(VLOOKUP(AP35,'P2'!$B$4:$J$48,9,FALSE),\"\")","v":""},{"$f":"IFERROR(VLOOKUP(AQ35,'P2'!$B$4:$J$48,9,FALSE),\"\")","v":""},{"$f":"IFERROR(VLOOKUP(AR35,'P2'!$B$4:$J$48,9,FALSE),\"\")","v":""},{"$f":"IFERROR(VLOOKUP(AS35,'P2'!$B$4:$J$48,9,FALSE),\"\")","v":""},{"$f":"IFERROR(VLOOKUP(AT35,'P2'!$B$4:$J$48,9,FALSE),\"\")","v":""},{"$f":"IFERROR(VLOOKUP(AU35,'P2'!$B$4:$J$48,9,FALSE),\"\")","v":""},{"$f":"SUM(Q36:AU36)","v":0}]
[null,{"$f":"B35+1","v":13},null,null,null,null,null,null,null,null,null,null,null,null,null,null,null,null,null,null,null,null,null,null,null,null,null,null,null,null,null,null,null,null,null,null,null,null,null,null,null,null,null,null,null,null,null,{"$f":"COUNTA(Q37:AU37)","v":0},{"$f":"AV38","v":0},{"$f":"IFERROR(ROUNDDOWN(AV38/$AT$3,1),\"\")","v":""}]
[null,null,null,null,null,null,null,null,null,null,null,null,null,null,null,null,{"$f":"IFERROR(VLOOKUP(Q37,'P2'!$B$4:$J$48,9,FALSE),\"\")","v":""},{"$f":"IFERROR(VLOOKUP(R37,'P2'!$B$4:$J$48,9,FALSE),\"\")","v":""},{"$f":"IFERROR(VLOOKUP(S37,'P2'!$B$4:$J$48,9,FALSE),\"\")","v":""},{"$f":"IFERROR(VLOOKUP(T37,'P2'!$B$4:$J$48,9,FALSE),\"\")","v":""},{"$f":"IFERROR(VLOOKUP(U37,'P2'!$B$4:$J$48,9,FALSE),\"\")","v":""},{"$f":"IFERROR(VLOOKUP(V37,'P2'!$B$4:$J$48,9,FALSE),\"\")","v":""},{"$f":"IFERROR(VLOOKUP(W37,'P2'!$B$4:$J$48,9,FALSE),\"\")","v":""},{"$f":"IFERROR(VLOOKUP(X37,'P2'!$B$4:$J$48,9,FALSE),\"\")","v":""},{"$f":"IFERROR(VLOOKUP(Y37,'P2'!$B$4:$J$48,9,FALSE),\"\")","v":""},{"$f":"IFERROR(VLOOKUP(Z37,'P2'!$B$4:$J$48,9,FALSE),\"\")","v":""},{"$f":"IFERROR(VLOOKUP(AA37,'P2'!$B$4:$J$48,9,FALSE),\"\")","v":""},{"$f":"IFERROR(VLOOKUP(AB37,'P2'!$B$4:$J$48,9,FALSE),\"\")","v":""},{"$f":"IFERROR(VLOOKUP(AC37,'P2'!$B$4:$J$48,9,FALSE),\"\")","v":""},{"$f":"IFERROR(VLOOKUP(AD37,'P2'!$B$4:$J$48,9,FALSE),\"\")","v":""},{"$f":"IFERROR(VLOOKUP(AE37,'P2'!$B$4:$J$48,9,FALSE),\"\")","v":""},{"$f":"IFERROR(VLOOKUP(AF37,'P2'!$B$4:$J$48,9,FALSE),\"\")","v":""},{"$f":"IFERROR(VLOOKUP(AG37,'P2'!$B$4:$J$48,9,FALSE),\"\")","v":""},{"$f":"IFERROR(VLOOKUP(AH37,'P2'!$B$4:$J$48,9,FALSE),\"\")","v":""},{"$f":"IFERROR(VLOOKUP(AI37,'P2'!$B$4:$J$48,9,FALSE),\"\")","v":""},{"$f":"IFERROR(VLOOKUP(AJ37,'P2'!$B$4:$J$48,9,FALSE),\"\")","v":""},{"$f":"IFERROR(VLOOKUP(AK37,'P2'!$B$4:$J$48,9,FALSE),\"\")","v":""},{"$f":"IFERROR(VLOOKUP(AL37,'P2'!$B$4:$J$48,9,FALSE),\"\")","v":""},{"$f":"IFERROR(VLOOKUP(AM37,'P2'!$B$4:$J$48,9,FALSE),\"\")","v":""},{"$f":"IFERROR(VLOOKUP(AN37,'P2'!$B$4:$J$48,9,FALSE),\"\")","v":""},{"$f":"IFERROR(VLOOKUP(AO37,'P2'!$B$4:$J$48,9,FALSE),\"\")","v":""},{"$f":"IFERROR(VLOOKUP(AP37,'P2'!$B$4:$J$48,9,FALSE),\"\")","v":""},{"$f":"IFERROR(VLOOKUP(AQ37,'P2'!$B$4:$J$48,9,FALSE),\"\")","v":""},{"$f":"IFERROR(VLOOKUP(AR37,'P2'!$B$4:$J$48,9,FALSE),\"\")","v":""},{"$f":"IFERROR(VLOOKUP(AS37,'P2'!$B$4:$J$48,9,FALSE),\"\")","v":""},{"$f":"IFERROR(VLOOKUP(AT37,'P2'!$B$4:$J$48,9,FALSE),\"\")","v":""},{"$f":"IFERROR(VLOOKUP(AU37,'P2'!$B$4:$J$48,9,FALSE),\"\")","v":""},{"$f":"SUM(Q38:AU38)","v":0}]
[null,{"$f":"B37+1","v":14},null,null,null,null,null,null,null,null,null,null,null,null,null,null,null,null,null,null,null,null,null,null,null,null,null,null,null,null,null,null,null,null,null,null,null,null,null,null,null,null,null,null,null,null,null,{"$f":"COUNTA(Q39:AU39)","v":0},{"$f":"AV40","v":0},{"$f":"IFERROR(ROUNDDOWN(AV40/$AT$3,1),\"\")","v":""}]
[null,null,null,null,null,null,null,null,null,null,null,null,null,null,null,null,{"$f":"IFERROR(VLOOKUP(Q39,'P2'!$B$4:$J$48,9,FALSE),\"\")","v":""},{"$f":"IFERROR(VLOOKUP(R39,'P2'!$B$4:$J$48,9,FALSE),\"\")","v":""},{"$f":"IFERROR(VLOOKUP(S39,'P2'!$B$4:$J$48,9,FALSE),\"\")","v":""},{"$f":"IFERROR(VLOOKUP(T39,'P2'!$B$4:$J$48,9,FALSE),\"\")","v":""},{"$f":"IFERROR(VLOOKUP(U39,'P2'!$B$4:$J$48,9,FALSE),\"\")","v":""},{"$f":"IFERROR(VLOOKUP(V39,'P2'!$B$4:$J$48,9,FALSE),\"\")","v":""},{"$f":"IFERROR(VLOOKUP(W39,'P2'!$B$4:$J$48,9,FALSE),\"\")","v":""},{"$f":"IFERROR(VLOOKUP(X39,'P2'!$B$4:$J$48,9,FALSE),\"\")","v":""},{"$f":"IFERROR(VLOOKUP(Y39,'P2'!$B$4:$J$48,9,FALSE),\"\")","v":""},{"$f":"IFERROR(VLOOKUP(Z39,'P2'!$B$4:$J$48,9,FALSE),\"\")","v":""},{"$f":"IFERROR(VLOOKUP(AA39,'P2'!$B$4:$J$48,9,FALSE),\"\")","v":""},{"$f":"IFERROR(VLOOKUP(AB39,'P2'!$B$4:$J$48,9,FALSE),\"\")","v":""},{"$f":"IFERROR(VLOOKUP(AC39,'P2'!$B$4:$J$48,9,FALSE),\"\")","v":""},{"$f":"IFERROR(VLOOKUP(AD39,'P2'!$B$4:$J$48,9,FALSE),\"\")","v":""},{"$f":"IFERROR(VLOOKUP(AE39,'P2'!$B$4:$J$48,9,FALSE),\"\")","v":""},{"$f":"IFERROR(VLOOKUP(AF39,'P2'!$B$4:$J$48,9,FALSE),\"\")","v":""},{"$f":"IFERROR(VLOOKUP(AG39,'P2'!$B$4:$J$48,9,FALSE),\"\")","v":""},{"$f":"IFERROR(VLOOKUP(AH39,'P2'!$B$4:$J$48,9,FALSE),\"\")","v":""},{"$f":"IFERROR(VLOOKUP(AI39,'P2'!$B$4:$J$48,9,FALSE),\"\")","v":""},{"$f":"IFERROR(VLOOKUP(AJ39,'P2'!$B$4:$J$48,9,FALSE),\"\")","v":""},{"$f":"IFERROR(VLOOKUP(AK39,'P2'!$B$4:$J$48,9,FALSE),\"\")","v":""},{"$f":"IFERROR(VLOOKUP(AL39,'P2'!$B$4:$J$48,9,FALSE),\"\")","v":""},{"$f":"IFERROR(VLOOKUP(AM39,'P2'!$B$4:$J$48,9,FALSE),\"\")","v":""},{"$f":"IFERROR(VLOOKUP(AN39,'P2'!$B$4:$J$48,9,FALSE),\"\")","v":""},{"$f":"IFERROR(VLOOKUP(AO39,'P2'!$B$4:$J$48,9,FALSE),\"\")","v":""},{"$f":"IFERROR(VLOOKUP(AP39,'P2'!$B$4:$J$48,9,FALSE),\"\")","v":""},{"$f":"IFERROR(VLOOKUP(AQ39,'P2'!$B$4:$J$48,9,FALSE),\"\")","v":""},{"$f":"IFERROR(VLOOKUP(AR39,'P2'!$B$4:$J$48,9,FALSE),\"\")","v":""},{"$f":"IFERROR(VLOOKUP(AS39,'P2'!$B$4:$J$48,9,FALSE),\"\")","v":""},{"$f":"IFERROR(VLOOKUP(AT39,'P2'!$B$4:$J$48,9,FALSE),\"\")","v":""},{"$f":"IFERROR(VLOOKUP(AU39,'P2'!$B$4:$J$48,9,FALSE),\"\")","v":""},{"$f":"SUM(Q40:AU40)","v":0}]
[null,{"$f":"B39+1","v":15},null,null,null,null,null,null,null,null,null,null,null,null,null,null,null,null,null,null,null,null,null,null,null,null,null,null,null,null,null,null,null,null,null,null,null,null,null,null,null,null,null,null,null,null,null,{"$f":"COUNTA(Q41:AU41)","v":0},{"$f":"AV42","v":0},{"$f":"IFERROR(ROUNDDOWN(AV42/$AT$3,1),\"\")","v":""}]
[null,null,null,null,null,null,null,null,null,null,null,null,null,null,null,null,{"$f":"IFERROR(VLOOKUP(Q41,'P2'!$B$4:$J$48,9,FALSE),\"\")","v":""},{"$f":"IFERROR(VLOOKUP(R41,'P2'!$B$4:$J$48,9,FALSE),\"\")","v":""},{"$f":"IFERROR(VLOOKUP(S41,'P2'!$B$4:$J$48,9,FALSE),\"\")","v":""},{"$f":"IFERROR(VLOOKUP(T41,'P2'!$B$4:$J$48,9,FALSE),\"\")","v":""},{"$f":"IFERROR(VLOOKUP(U41,'P2'!$B$4:$J$48,9,FALSE),\"\")","v":""},{"$f":"IFERROR(VLOOKUP(V41,'P2'!$B$4:$J$48,9,FALSE),\"\")","v":""},{"$f":"IFERROR(VLOOKUP(W41,'P2'!$B$4:$J$48,9,FALSE),\"\")","v":""},{"$f":"IFERROR(VLOOKUP(X41,'P2'!$B$4:$J$48,9,FALSE),\"\")","v":""},{"$f":"IFERROR(VLOOKUP(Y41,'P2'!$B$4:$J$48,9,FALSE),\"\")","v":""},{"$f":"IFERROR(VLOOKUP(Z41,'P2'!$B$4:$J$48,9,FALSE),\"\")","v":""},{"$f":"IFERROR(VLOOKUP(AA41,'P2'!$B$4:$J$48,9,FALSE),\"\")","v":""},{"$f":"IFERROR(VLOOKUP(AB41,'P2'!$B$4:$J$48,9,FALSE),\"\")","v":""},{"$f":"IFERROR(VLOOKUP(AC41,'P2'!$B$4:$J$48,9,FALSE),\"\")","v":""},{"$f":"IFERROR(VLOOKUP(AD41,'P2'!$B$4:$J$48,9,FALSE),\"\")","v":""},{"$f":"IFERROR(VLOOKUP(AE41,'P2'!$B$4:$J$48,9,FALSE),\"\")","v":""},{"$f":"IFERROR(VLOOKUP(AF41,'P2'!$B$4:$J$48,9,FALSE),\"\")","v":""},{"$f":"IFERROR(VLOOKUP(AG41,'P2'!$B$4:$J$48,9,FALSE),\"\")","v":""},{"$f":"IFERROR(VLOOKUP(AH41,'P2'!$B$4:$J$48,9,FALSE),\"\")","v":""},{"$f":"IFERROR(VLOOKUP(AI41,'P2'!$B$4:$J$48,9,FALSE),\"\")","v":""},{"$f":"IFERROR(VLOOKUP(AJ41,'P2'!$B$4:$J$48,9,FALSE),\"\")","v":""},{"$f":"IFERROR(VLOOKUP(AK41,'P2'!$B$4:$J$48,9,FALSE),\"\")","v":""},{"$f":"IFERROR(VLOOKUP(AL41,'P2'!$B$4:$J$48,9,FALSE),\"\")","v":""},{"$f":"IFERROR(VLOOKUP(AM41,'P2'!$B$4:$J$48,9,FALSE),\"\")","v":""},{"$f":"IFERROR(VLOOKUP(AN41,'P2'!$B$4:$J$48,9,FALSE),\"\")","v":""},{"$f":"IFERROR(VLOOKUP(AO41,'P2'!$B$4:$J$48,9,FALSE),\"\")","v":""},{"$f":"IFERROR(VLOOKUP(AP41,'P2'!$B$4:$J$48,9,FALSE),\"\")","v":""},{"$f":"IFERROR(VLOOKUP(AQ41,'P2'!$B$4:$J$48,9,FALSE),\"\")","v":""},{"$f":"IFERROR(VLOOKUP(AR41,'P2'!$B$4:$J$48,9,FALSE),\"\")","v":""},{"$f":"IFERROR(VLOOKUP(AS41,'P2'!$B$4:$J$48,9,FALSE),\"\")","v":""},{"$f":"IFERROR(VLOOKUP(AT41,'P2'!$B$4:$J$48,9,FALSE),\"\")","v":""},{"$f":"IFERROR(VLOOKUP(AU41,'P2'!$B$4:$J$48,9,FALSE),\"\")","v":""},{"$f":"SUM(Q42:AU42)","v":0}]
[null,{"$f":"B41+1","v":16},null,null,null,null,null,null,null,null,null,null,null,null,null,null,null,null,null,null,null,null,null,null,null,null,null,null,null,null,null,null,null,null,null,null,null,null,null,null,null,null,null,null,null,null,null,{"$f":"COUNTA(Q43:AU43)","v":0},{"$f":"AV44","v":0},{"$f":"IFERROR(ROUNDDOWN(AV44/$AT$3,1),\"\")","v":""}]
[null,null,null,null,null,null,null,null,null,null,null,null,null,null,null,null,{"$f":"IFERROR(VLOOKUP(Q43,'P2'!$B$4:$J$48,9,FALSE),\"\")","v":""},{"$f":"IFERROR(VLOOKUP(R43,'P2'!$B$4:$J$48,9,FALSE),\"\")","v":""},{"$f":"IFERROR(VLOOKUP(S43,'P2'!$B$4:$J$48,9,FALSE),\"\")","v":""},{"$f":"IFERROR(VLOOKUP(T43,'P2'!$B$4:$J$48,9,FALSE),\"\")","v":""},{"$f":"IFERROR(VLOOKUP(U43,'P2'!$B$4:$J$48,9,FALSE),\"\")","v":""},{"$f":"IFERROR(VLOOKUP(V43,'P2'!$B$4:$J$48,9,FALSE),\"\")","v":""},{"$f":"IFERROR(VLOOKUP(W43,'P2'!$B$4:$J$48,9,FALSE),\"\")","v":""},{"$f":"IFERROR(VLOOKUP(X43,'P2'!$B$4:$J$48,9,FALSE),\"\")","v":""},{"$f":"IFERROR(VLOOKUP(Y43,'P2'!$B$4:$J$48,9,FALSE),\"\")","v":""},{"$f":"IFERROR(VLOOKUP(Z43,'P2'!$B$4:$J$48,9,FALSE),\"\")","v":""},{"$f":"IFERROR(VLOOKUP(AA43,'P2'!$B$4:$J$48,9,FALSE),\"\")","v":""},{"$f":"IFERROR(VLOOKUP(AB43,'P2'!$B$4:$J$48,9,FALSE),\"\")","v":""},{"$f":"IFERROR(VLOOKUP(AC43,'P2'!$B$4:$J$48,9,FALSE),\"\")","v":""},{"$f":"IFERROR(VLOOKUP(AD43,'P2'!$B$4:$J$48,9,FALSE),\"\")","v":""},{"$f":"IFERROR(VLOOKUP(AE43,'P2'!$B$4:$J$48,9,FALSE),\"\")","v":""},{"$f":"IFERROR(VLOOKUP(AF43,'P2'!$B$4:$J$48,9,FALSE),\"\")","v":""},{"$f":"IFERROR(VLOOKUP(AG43,'P2'!$B$4:$J$48,9,FALSE),\"\")","v":""},{"$f":"IFERROR(VLOOKUP(AH43,'P2'!$B$4:$J$48,9,FALSE),\"\")","v":""},{"$f":"IFERROR(VLOOKUP(AI43,'P2'!$B$4:$J$48,9,FALSE),\"\")","v":""},{"$f":"IFERROR(VLOOKUP(AJ43,'P2'!$B$4:$J$48,9,FALSE),\"\")","v":""},{"$f":"IFERROR(VLOOKUP(AK43,'P2'!$B$4:$J$48,9,FALSE),\"\")","v":""},{"$f":"IFERROR(VLOOKUP(AL43,'P2'!$B$4:$J$48,9,FALSE),\"\")","v":""},{"$f":"IFERROR(VLOOKUP(AM43,'P2'!$B$4:$J$48,9,FALSE),\"\")","v":""},{"$f":"IFERROR(VLOOKUP(AN43,'P2'!$B$4:$J$48,9,FALSE),\"\")","v":""},{"$f":"IFERROR(VLOOKUP(AO43,'P2'!$B$4:$J$48,9,FALSE),\"\")","v":""},{"$f":"IFERROR(VLOOKUP(AP43,'P2'!$B$4:$J$48,9,FALSE),\"\")","v":""},{"$f":"IFERROR(VLOOKUP(AQ43,'P2'!$B$4:$J$48,9,FALSE),\"\")","v":""},{"$f":"IFERROR(VLOOKUP(AR43,'P2'!$B$4:$J$48,9,FALSE),\"\")","v":""},{"$f":"IFERROR(VLOOKUP(AS43,'P2'!$B$4:$J$48,9,FALSE),\"\")","v":""},{"$f":"IFERROR(VLOOKUP(AT43,'P2'!$B$4:$J$48,9,FALSE),\"\")","v":""},{"$f":"IFERROR(VLOOKUP(AU43,'P2'!$B$4:$J$48,9,FALSE),\"\")","v":""},{"$f":"SUM(Q44:AU44)","v":0}]
[null,{"$f":"B43+1","v":17},null,null,null,null,null,null,null,null,null,null,null,null,null,null,null,null,null,null,null,null,null,null,null,null,null,null,null,null,null,null,null,null,null,null,null,null,null,null,null,null,null,null,null,null,null,{"$f":"COUNTA(Q45:AU45)","v":0},{"$f":"AV46","v":0},{"$f":"IFERROR(ROUNDDOWN(AV46/$AT$3,1),\"\")","v":""}]
[null,null,null,null,null,null,null,null,null,null,null,null,null,null,null,null,{"$f":"IFERROR(VLOOKUP(Q45,'P2'!$B$4:$J$48,9,FALSE),\"\")","v":""},{"$f":"IFERROR(VLOOKUP(R45,'P2'!$B$4:$J$48,9,FALSE),\"\")","v":""},{"$f":"IFERROR(VLOOKUP(S45,'P2'!$B$4:$J$48,9,FALSE),\"\")","v":""},{"$f":"IFERROR(VLOOKUP(T45,'P2'!$B$4:$J$48,9,FALSE),\"\")","v":""},{"$f":"IFERROR(VLOOKUP(U45,'P2'!$B$4:$J$48,9,FALSE),\"\")","v":""},{"$f":"IFERROR(VLOOKUP(V45,'P2'!$B$4:$J$48,9,FALSE),\"\")","v":""},{"$f":"IFERROR(VLOOKUP(W45,'P2'!$B$4:$J$48,9,FALSE),\"\")","v":""},{"$f":"IFERROR(VLOOKUP(X45,'P2'!$B$4:$J$48,9,FALSE),\"\")","v":""},{"$f":"IFERROR(VLOOKUP(Y45,'P2'!$B$4:$J$48,9,FALSE),\"\")","v":""},{"$f":"IFERROR(VLOOKUP(Z45,'P2'!$B$4:$J$48,9,FALSE),\"\")","v":""},{"$f":"IFERROR(VLOOKUP(AA45,'P2'!$B$4:$J$48,9,FALSE),\"\")","v":""},{"$f":"IFERROR(VLOOKUP(AB45,'P2'!$B$4:$J$48,9,FALSE),\"\")","v":""},{"$f":"IFERROR(VLOOKUP(AC45,'P2'!$B$4:$J$48,9,FALSE),\"\")","v":""},{"$f":"IFERROR(VLOOKUP(AD45,'P2'!$B$4:$J$48,9,FALSE),\"\")","v":""},{"$f":"IFERROR(VLOOKUP(AE45,'P2'!$B$4:$J$48,9,FALSE),\"\")","v":""},{"$f":"IFERROR(VLOOKUP(AF45,'P2'!$B$4:$J$48,9,FALSE),\"\")","v":""},{"$f":"IFERROR(VLOOKUP(AG45,'P2'!$B$4:$J$48,9,FALSE),\"\")","v":""},{"$f":"IFERROR(VLOOKUP(AH45,'P2'!$B$4:$J$48,9,FALSE),\"\")","v":""},{"$f":"IFERROR(VLOOKUP(AI45,'P2'!$B$4:$J$48,9,FALSE),\"\")","v":""},{"$f":"IFERROR(VLOOKUP(AJ45,'P2'!$B$4:$J$48,9,FALSE),\"\")","v":""},{"$f":"IFERROR(VLOOKUP(AK45,'P2'!$B$4:$J$48,9,FALSE),\"\")","v":""},{"$f":"IFERROR(VLOOKUP(AL45,'P2'!$B$4:$J$48,9,FALSE),\"\")","v":""},{"$f":"IFERROR(VLOOKUP(AM45,'P2'!$B$4:$J$48,9,FALSE),\"\")","v":""},{"$f":"IFERROR(VLOOKUP(AN45,'P2'!$B$4:$J$48,9,FALSE),\"\")","v":""},{"$f":"IFERROR(VLOOKUP(AO45,'P2'!$B$4:$J$48,9,FALSE),\"\")","v":""},{"$f":"IFERROR(VLOOKUP(AP45,'P2'!$B$4:$J$48,9,FALSE),\"\")","v":""},{"$f":"IFERROR(VLOOKUP(AQ45,'P2'!$B$4:$J$48,9,FALSE),\"\")","v":""},{"$f":"IFERROR(VLOOKUP(AR45,'P2'!$B$4:$J$48,9,FALSE),\"\")","v":""},{"$f":"IFERROR(VLOOKUP(AS45,'P2'!$B$4:$J$48,9,FALSE),\"\")","v":""},{"$f":"IFERROR(VLOOKUP(AT45,'P2'!$B$4:$J$48,9,FALSE),\"\")","v":""},{"$f":"IFERROR(VLOOKUP(AU45,'P2'!$B$4:$J$48,9,FALSE),\"\")","v":""},{"$f":"SUM(Q46:AU46)","v":0}]
[null,{"$f":"B45+1","v":18},null,null,null,null,null,null,null,null,null,null,null,null,null,null,null,null,null,null,null,null,null,null,null,null,null,null,null,null,null,null,null,null,null,null,null,null,null,null,null,null,null,null,null,null,null,{"$f":"COUNTA(Q47:AU47)","v":0},{"$f":"AV48","v":0},{"$f":"IFERROR(ROUNDDOWN(AV48/$AT$3,1),\"\")","v":""}]
[null,null,null,null,null,null,null,null,null,null,null,null,null,null,null,null,{"$f":"IFERROR(VLOOKUP(Q47,'P2'!$B$4:$J$48,9,FALSE),\"\")","v":""},{"$f":"IFERROR(VLOOKUP(R47,'P2'!$B$4:$J$48,9,FALSE),\"\")","v":""},{"$f":"IFERROR(VLOOKUP(S47,'P2'!$B$4:$J$48,9,FALSE),\"\")","v":""},{"$f":"IFERROR(VLOOKUP(T47,'P2'!$B$4:$J$48,9,FALSE),\"\")","v":""},{"$f":"IFERROR(VLOOKUP(U47,'P2'!$B$4:$J$48,9,FALSE),\"\")","v":""},{"$f":"IFERROR(VLOOKUP(V47,'P2'!$B$4:$J$48,9,FALSE),\"\")","v":""},{"$f":"IFERROR(VLOOKUP(W47,'P2'!$B$4:$J$48,9,FALSE),\"\")","v":""},{"$f":"IFERROR(VLOOKUP(X47,'P2'!$B$4:$J$48,9,FALSE),\"\")","v":""},{"$f":"IFERROR(VLOOKUP(Y47,'P2'!$B$4:$J$48,9,FALSE),\"\")","v":""},{"$f":"IFERROR(VLOOKUP(Z47,'P2'!$B$4:$J$48,9,FALSE),\"\")","v":""},{"$f":"IFERROR(VLOOKUP(AA47,'P2'!$B$4:$J$48,9,FALSE),\"\")","v":""},{"$f":"IFERROR(VLOOKUP(AB47,'P2'!$B$4:$J$48,9,FALSE),\"\")","v":""},{"$f":"IFERROR(VLOOKUP(AC47,'P2'!$B$4:$J$48,9,FALSE),\"\")","v":""},{"$f":"IFERROR(VLOOKUP(AD47,'P2'!$B$4:$J$48,9,FALSE),\"\")","v":""},{"$f":"IFERROR(VLOOKUP(AE47,'P2'!$B$4:$J$48,9,FALSE),\"\")","v":""},{"$f":"IFERROR(VLOOKUP(AF47,'P2'!$B$4:$J$48,9,FALSE),\"\")","v":""},{"$f":"IFERROR(VLOOKUP(AG47,'P2'!$B$4:$J$48,9,FALSE),\"\")","v":""},{"$f":"IFERROR(VLOOKUP(AH47,'P2'!$B$4:$J$48,9,FALSE),\"\")","v":""},{"$f":"IFERROR(VLOOKUP(AI47,'P2'!$B$4:$J$48,9,FALSE),\"\")","v":""},{"$f":"IFERROR(VLOOKUP(AJ47,'P2'!$B$4:$J$48,9,FALSE),\"\")","v":""},{"$f":"IFERROR(VLOOKUP(AK47,'P2'!$B$4:$J$48,9,FALSE),\"\")","v":""},{"$f":"IFERROR(VLOOKUP(AL47,'P2'!$B$4:$J$48,9,FALSE),\"\")","v":""},{"$f":"IFERROR(VLOOKUP(AM47,'P2'!$B$4:$J$48,9,FALSE),\"\")","v":""},{"$f":"IFERROR(VLOOKUP(AN47,'P2'!$B$4:$J$48,9,FALSE),\"\")","v":""},{"$f":"IFERROR(VLOOKUP(AO47,'P2'!$B$4:$J$48,9,FALSE),\"\")","v":""},{"$f":"IFERROR(VLOOKUP(AP47,'P2'!$B$4:$J$48,9,FALSE),\"\")","v":""},{"$f":"IFERROR(VLOOKUP(AQ47,'P2'!$B$4:$J$48,9,FALSE),\"\")","v":""},{"$f":"IFERROR(VLOOKUP(AR47,'P2'!$B$4:$J$48,9,FALSE),\"\")","v":""},{"$f":"IFERROR(VLOOKUP(AS47,'P2'!$B$4:$J$48,9,FALSE),\"\")","v":""},{"$f":"IFERROR(VLOOKUP(AT47,'P2'!$B$4:$J$48,9,FALSE),\"\")","v":""},{"$f":"IFERROR(VLOOKUP(AU47,'P2'!$B$4:$J$48,9,FALSE),\"\")","v":""},{"$f":"SUM(Q48:AU48)","v":0}]
[]
[]
[null,"※P2で作成したシフト記号を記載すること。なお、公休の場合は空欄とすること。"]
[null,"※管理者が他の職種と兼務する場合は、職種ごとに分けて記載すること。"]
[]
[null,"(2)　勤務実績　（直近3か月分の実績）",null,null,null,null,null,null,null,null,null,null,null,null,null,null,null,null,"（",{"$f":"$T$3","v":"令和　7"},null,"年",{"$f":"$W$3","v":3},"月分実績",null,"）",null,null,null,null,null,null,null,null,null,null,null,null,null,null,null,null,null,null,null,null,null,null,null,{"$f":"\"2 / \"&COUNTA(C$7,C$57,C$106,C$155,C$204)","v":"2 / 1"}]
[null,null,"職　　種",null,null,null,null,null,"氏　　名",null,null,null,null,"勤務\n形態",null,null,{"$f":"Q$5","v":"2025-03-01"},{"$f":"R$5","v":"2025-03-02"},"2025-03-03","2025-03-04","2025-03-05","2025-03-06","2025-03-07","2025-03-08","2025-03-09","2025-03-10","2025-03-11","2025-03-12","2025-03-13","2025-03-14","2025-03-15","2025-03-16","2025-03-17","2025-03-18","2025-03-19","2025-03-20","2025-03-21","2025-03-22","2025-03-23","2025-03-24","2025-03-25","2025-03-26","2025-03-27","2025-03-28","2025-03-29","2025-03-30","2025-03-31","勤務日数",null,"常勤換算"]
[null,null,null,null,null,null,null,null,null,null,null,null,null,null,null,null,{"$f":"Q$6","v":"土"},{"$f":"R$6","v":"日"},"月","火","水","木","金","土","日","月","火","水","木","金","土","日","月","火","水","木","金","土","日","月","火","水","木","金","土","日","月","勤務時間"]
[null,{"$f":"B47+1","v":19},null,null,null,null,null,null,null,null,null,null,null,null,null,null,null,null,null,null,null,null,null,null,null,null,null,null,null,null,null,null,null,null,null,null,null,null,null,null,null,null,null,null,null,null,null,{"$f":"COUNTA(Q57:AU57)","v":0},{"$f":"AV58","v":0},{"$f":"IFERROR(ROUNDDOWN(AV58/$AT$3,1),\"\")","v":""}]
[null,null,null,null,null,null,null,null,null,null,null,null,null,null,null,null,{"$f":"IFERROR(VLOOKUP(Q57,'P2'!$B$4:$J$48,9,FALSE),\"\")","v":""},{"$f":"IFERROR(VLOOKUP(R57,'P2'!$B$4:$J$48,9,FALSE),\"\")","v":""},{"$f":"IFERROR(VLOOKUP(S57,'P2'!$B$4:$J$48,9,FALSE),\"\")","v":""},{"$f":"IFERROR(VLOOKUP(T57,'P2'!$B$4:$J$48,9,FALSE),\"\")","v":""},{"$f":"IFERROR(VLOOKUP(U57,'P2'!$B$4:$J$48,9,FALSE),\"\")","v":""},{"$f":"IFERROR(VLOOKUP(V57,'P2'!$B$4:$J$48,9,FALSE),\"\")","v":""},{"$f":"IFERROR(VLOOKUP(W57,'P2'!$B$4:$J$48,9,FALSE),\"\")","v":""},{"$f":"IFERROR(VLOOKUP(X57,'P2'!$B$4:$J$48,9,FALSE),\"\")","v":""},{"$f":"IFERROR(VLOOKUP(Y57,'P2'!$B$4:$J$48,9,FALSE),\"\")","v":""},{"$f":"IFERROR(VLOOKUP(Z57,'P2'!$B$4:$J$48,9,FALSE),\"\")","v":""},{"$f":"IFERROR(VLOOKUP(AA57,'P2'!$B$4:$J$48,9,FALSE),\"\")","v":""},{"$f":"IFERROR(VLOOKUP(AB57,'P2'!$B$4:$J$48,9,FALSE),\"\")","v":""},{"$f":"IFERROR(VLOOKUP(AC57,'P2'!$B$4:$J$48,9,FALSE),\"\")","v":""},{"$f":"IFERROR(VLOOKUP(AD57,'P2'!$B$4:$J$48,9,FALSE),\"\")","v":""},{"$f":"IFERROR(VLOOKUP(AE57,'P2'!$B$4:$J$48,9,FALSE),\"\")","v":""},{"$f":"IFERROR(VLOOKUP(AF57,'P2'!$B$4:$J$48,9,FALSE),\"\")","v":""},{"$f":"IFERROR(VLOOKUP(AG57,'P2'!$B$4:$J$48,9,FALSE),\"\")","v":""},{"$f":"IFERROR(VLOOKUP(AH57,'P2'!$B$4:$J$48,9,FALSE),\"\")","v":""},{"$f":"IFERROR(VLOOKUP(AI57,'P2'!$B$4:$J$48,9,FALSE),\"\")","v":""},{"$f":"IFERROR(VLOOKUP(AJ57,'P2'!$B$4:$J$48,9,FALSE),\"\")","v":""},{"$f":"IFERROR(VLOOKUP(AK57,'P2'!$B$4:$J$48,9,FALSE),\"\")","v":""},{"$f":"IFERROR(VLOOKUP(AL57,'P2'!$B$4:$J$48,9,FALSE),\"\")","v":""},{"$f":"IFERROR(VLOOKUP(AM57,'P2'!$B$4:$J$48,9,FALSE),\"\")","v":""},{"$f":"IFERROR(VLOOKUP(AN57,'P2'!$B$4:$J$48,9,FALSE),\"\")","v":""},{"$f":"IFERROR(VLOOKUP(AO57,'P2'!$B$4:$J$48,9,FALSE),\"\")","v":""},{"$f":"IFERROR(VLOOKUP(AP57,'P2'!$B$4:$J$48,9,FALSE),\"\")","v":""},{"$f":"IFERROR(VLOOKUP(AQ57,'P2'!$B$4:$J$48,9,FALSE),\"\")","v":""},{"$f":"IFERROR(VLOOKUP(AR57,'P2'!$B$4:$J$48,9,FALSE),\"\")","v":""},{"$f":"IFERROR(VLOOKUP(AS57,'P2'!$B$4:$J$48,9,FALSE),\"\")","v":""},{"$f":"IFERROR(VLOOKUP(AT57,'P2'!$B$4:$J$48,9,FALSE),\"\")","v":""},{"$f":"IFERROR(VLOOKUP(AU57,'P2'!$B$4:$J$48,9,FALSE),\"\")","v":""},{"$f":"SUM(Q58:AU58)","v":0}]
[null,{"$f":"B57+1","v":20},null,null,null,null,null,null,null,null,null,null,null,null,null,null,null,null,null,null,null,null,null,null,null,null,null,null,null,null,null,null,null,null,null,null,null,null,null,null,null,null,null,null,null,null,null,{"$f":"COUNTA(Q59:AU59)","v":0},{"$f":"AV60","v":0},{"$f":"IFERROR(ROUNDDOWN(AV60/$AT$3,1),\"\")","v":""}]
[null,null,null,null,null,null,null,null,null,null,null,null,null,null,null,null,{"$f":"IFERROR(VLOOKUP(Q59,'P2'!$B$4:$J$48,9,FALSE),\"\")","v":""},{"$f":"IFERROR(VLOOKUP(R59,'P2'!$B$4:$J$48,9,FALSE),\"\")","v":""},{"$f":"IFERROR(VLOOKUP(S59,'P2'!$B$4:$J$48,9,FALSE),\"\")","v":""},{"$f":"IFERROR(VLOOKUP(T59,'P2'!$B$4:$J$48,9,FALSE),\"\")","v":""},{"$f":"IFERROR(VLOOKUP(U59,'P2'!$B$4:$J$48,9,FALSE),\"\")","v":""},{"$f":"IFERROR(VLOOKUP(V59,'P2'!$B$4:$J$48,9,FALSE),\"\")","v":""},{"$f":"IFERROR(VLOOKUP(W59,'P2'!$B$4:$J$48,9,FALSE),\"\")","v":""},{"$f":"IFERROR(VLOOKUP(X59,'P2'!$B$4:$J$48,9,FALSE),\"\")","v":""},{"$f":"IFERROR(VLOOKUP(Y59,'P2'!$B$4:$J$48,9,FALSE),\"\")","v":""},{"$f":"IFERROR(VLOOKUP(Z59,'P2'!$B$4:$J$48,9,FALSE),\"\")","v":""},{"$f":"IFERROR(VLOOKUP(AA59,'P2'!$B$4:$J$48,9,FALSE),\"\")","v":""},{"$f":"IFERROR(VLOOKUP(AB59,'P2'!$B$4:$J$48,9,FALSE),\"\")","v":""},{"$f":"IFERROR(VLOOKUP(AC59,'P2'!$B$4:$J$48,9,FALSE),\"\")","v":""},{"$f":"IFERROR(VLOOKUP(AD59,'P2'!$B$4:$J$48,9,FALSE),\"\")","v":""},{"$f":"IFERROR(VLOOKUP(AE59,'P2'!$B$4:$J$48,9,FALSE),\"\")","v":""},{"$f":"IFERROR(VLOOKUP(AF59,'P2'!$B$4:$J$48,9,FALSE),\"\")","v":""},{"$f":"IFERROR(VLOOKUP(AG59,'P2'!$B$4:$J$48,9,FALSE),\"\")","v":""},{"$f":"IFERROR(VLOOKUP(AH59,'P2'!$B$4:$J$48,9,FALSE),\"\")","v":""},{"$f":"IFERROR(VLOOKUP(AI59,'P2'!$B$4:$J$48,9,FALSE),\"\")","v":""},{"$f":"IFERROR(VLOOKUP(AJ59,'P2'!$B$4:$J$48,9,FALSE),\"\")","v":""},{"$f":"IFERROR(VLOOKUP(AK59,'P2'!$B$4:$J$48,9,FALSE),\"\")","v":""},{"$f":"IFERROR(VLOOKUP(AL59,'P2'!$B$4:$J$48,9,FALSE),\"\")","v":""},{"$f":"IFERROR(VLOOKUP(AM59,'P2'!$B$4:$J$48,9,FALSE),\"\")","v":""},{"$f":"IFERROR(VLOOKUP(AN59,'P2'!$B$4:$J$48,9,FALSE),\"\")","v":""},{"$f":"IFERROR(VLOOKUP(AO59,'P2'!$B$4:$J$48,9,FALSE),\"\")","v":""},{"$f":"IFERROR(VLOOKUP(AP59,'P2'!$B$4:$J$48,9,FALSE),\"\")","v":""},{"$f":"IFERROR(VLOOKUP(AQ59,'P2'!$B$4:$J$48,9,FALSE),\"\")","v":""},{"$f":"IFERROR(VLOOKUP(AR59,'P2'!$B$4:$J$48,9,FALSE),\"\")","v":""},{"$f":"IFERROR(VLOOKUP(AS59,'P2'!$B$4:$J$48,9,FALSE),\"\")","v":""},{"$f":"IFERROR(VLOOKUP(AT59,'P2'!$B$4:$J$48,9,FALSE),\"\")","v":""},{"$f":"IFERROR(VLOOKUP(AU59,'P2'!$B$4:$J$48,9,FALSE),\"\")","v":""},{"$f":"SUM(Q60:AU60)","v":0}]
[null,21,null,null,null,null,null,null,null,null,null,null,null,null,null,null,null,null,null,null,null,null,null,null,null,null,null,null,null,null,null,null,null,null,null,null,null,null,null,null,null,null,null,null,null,null,null,{"$f":"COUNTA(Q61:AU61)","v":0},{"$f":"AV62","v":0},{"$f":"IFERROR(ROUNDDOWN(AV62/$AT$3,1),\"\")","v":""}]
[null,null,null,null,null,null,null,null,null,null,null,null,null,null,null,null,{"$f":"IFERROR(VLOOKUP(Q61,'P2'!$B$4:$J$48,9,FALSE),\"\")","v":""},{"$f":"IFERROR(VLOOKUP(R61,'P2'!$B$4:$J$48,9,FALSE),\"\")","v":""},{"$f":"IFERROR(VLOOKUP(S61,'P2'!$B$4:$J$48,9,FALSE),\"\")","v":""},{"$f":"IFERROR(VLOOKUP(T61,'P2'!$B$4:$J$48,9,FALSE),\"\")","v":""},{"$f":"IFERROR(VLOOKUP(U61,'P2'!$B$4:$J$48,9,FALSE),\"\")","v":""},{"$f":"IFERROR(VLOOKUP(V61,'P2'!$B$4:$J$48,9,FALSE),\"\")","v":""},{"$f":"IFERROR(VLOOKUP(W61,'P2'!$B$4:$J$48,9,FALSE),\"\")","v":""},{"$f":"IFERROR(VLOOKUP(X61,'P2'!$B$4:$J$48,9,FALSE),\"\")","v":""},{"$f":"IFERROR(VLOOKUP(Y61,'P2'!$B$4:$J$48,9,FALSE),\"\")","v":""},{"$f":"IFERROR(VLOOKUP(Z61,'P2'!$B$4:$J$48,9,FALSE),\"\")","v":""},{"$f":"IFERROR(VLOOKUP(AA61,'P2'!$B$4:$J$48,9,FALSE),\"\")","v":""},{"$f":"IFERROR(VLOOKUP(AB61,'P2'!$B$4:$J$48,9,FALSE),\"\")","v":""},{"$f":"IFERROR(VLOOKUP(AC61,'P2'!$B$4:$J$48,9,FALSE),\"\")","v":""},{"$f":"IFERROR(VLOOKUP(AD61,'P2'!$B$4:$J$48,9,FALSE),\"\")","v":""},{"$f":"IFERROR(VLOOKUP(AE61,'P2'!$B$4:$J$48,9,FALSE),\"\")","v":""},{"$f":"IFERROR(VLOOKUP(AF61,'P2'!$B$4:$J$48,9,FALSE),\"\")","v":""},{"$f":"IFERROR(VLOOKUP(AG61,'P2'!$B$4:$J$48,9,FALSE),\"\")","v":""},{"$f":"IFERROR(VLOOKUP(AH61,'P2'!$B$4:$J$48,9,FALSE),\"\")","v":""},{"$f":"IFERROR(VLOOKUP(AI61,'P2'!$B$4:$J$48,9,FALSE),\"\")","v":""},{"$f":"IFERROR(VLOOKUP(AJ61,'P2'!$B$4:$J$48,9,FALSE),\"\")","v":""},{"$f":"IFERROR(VLOOKUP(AK61,'P2'!$B$4:$J$48,9,FALSE),\"\")","v":""},{"$f":"IFERROR(VLOOKUP(AL61,'P2'!$B$4:$J$48,9,FALSE),\"\")","v":""},{"$f":"IFERROR(VLOOKUP(AM61,'P2'!$B$4:$J$48,9,FALSE),\"\")","v":""},{"$f":"IFERROR(VLOOKUP(AN61,'P2'!$B$4:$J$48,9,FALSE),\"\")","v":""},{"$f":"IFERROR(VLOOKUP(AO61,'P2'!$B$4:$J$48,9,FALSE),\"\")","v":""},{"$f":"IFERROR(VLOOKUP(AP61,'P2'!$B$4:$J$48,9,FALSE),\"\")","v":""},{"$f":"IFERROR(VLOOKUP(AQ61,'P2'!$B$4:$J$48,9,FALSE),\"\")","v":""},{"$f":"IFERROR(VLOOKUP(AR61,'P2'!$B$4:$J$48,9,FALSE),\"\")","v":""},{"$f":"IFERROR(VLOOKUP(AS61,'P2'!$B$4:$J$48,9,FALSE),\"\")","v":""},{"$f":"IFERROR(VLOOKUP(AT61,'P2'!$B$4:$J$48,9,FALSE),\"\")","v":""},{"$f":"IFERROR(VLOOKUP(AU61,'P2'!$B$4:$J$48,9,FALSE),\"\")","v":""},{"$f":"SUM(Q62:AU62)","v":0}]
[null,22,null,null,null,null,null,null,null,null,null,null,null,null,null,null,null,null,null,null,null,null,null,null,null,null,null,null,null,null,null,null,null,null,null,null,null,null,null,null,null,null,null,null,null,null,null,{"$f":"COUNTA(Q63:AU63)","v":0},{"$f":"AV64","v":0},{"$f":"IFERROR(ROUNDDOWN(AV64/$AT$3,1),\"\")","v":""}]
[null,null,null,null,null,null,null,null,null,null,null,null,null,null,null,null,{"$f":"IFERROR(VLOOKUP(Q63,'P2'!$B$4:$J$48,9,FALSE),\"\")","v":""},{"$f":"IFERROR(VLOOKUP(R63,'P2'!$B$4:$J$48,9,FALSE),\"\")","v":""},{"$f":"IFERROR(VLOOKUP(S63,'P2'!$B$4:$J$48,9,FALSE),\"\")","v":""},{"$f":"IFERROR(VLOOKUP(T63,'P2'!$B$4:$J$48,9,FALSE),\"\")","v":""},{"$f":"IFERROR(VLOOKUP(U63,'P2'!$B$4:$J$48,9,FALSE),\"\")","v":""},{"$f":"IFERROR(VLOOKUP(V63,'P2'!$B$4:$J$48,9,FALSE),\"\")","v":""},{"$f":"IFERROR(VLOOKUP(W63,'P2'!$B$4:$J$48,9,FALSE),\"\")","v":""},{"$f":"IFERROR(VLOOKUP(X63,'P2'!$B$4:$J$48,9,FALSE),\"\")","v":""},{"$f":"IFERROR(VLOOKUP(Y63,'P2'!$B$4:$J$48,9,FALSE),\"\")","v":""},{"$f":"IFERROR(VLOOKUP(Z63,'P2'!$B$4:$J$48,9,FALSE),\"\")","v":""},{"$f":"IFERROR(VLOOKUP(AA63,'P2'!$B$4:$J$48,9,FALSE),\"\")","v":""},{"$f":"IFERROR(VLOOKUP(AB63,'P2'!$B$4:$J$48,9,FALSE),\"\")","v":""},{"$f":"IFERROR(VLOOKUP(AC63,'P2'!$B$4:$J$48,9,FALSE),\"\")","v":""},{"$f":"IFERROR(VLOOKUP(AD63,'P2'!$B$4:$J$48,9,FALSE),\"\")","v":""},{"$f":"IFERROR(VLOOKUP(AE63,'P2'!$B$4:$J$48,9,FALSE),\"\")","v":""},{"$f":"IFERROR(VLOOKUP(AF63,'P2'!$B$4:$J$48,9,FALSE),\"\")","v":""},{"$f":"IFERROR(VLOOKUP(AG63,'P2'!$B$4:$J$48,9,FALSE),\"\")","v":""},{"$f":"IFERROR(VLOOKUP(AH63,'P2'!$B$4:$J$48,9,FALSE),\"\")","v":""},{"$f":"IFERROR(VLOOKUP(AI63,'P2'!$B$4:$J$48,9,FALSE),\"\")","v":""},{"$f":"IFERROR(VLOOKUP(AJ63,'P2'!$B$4:$J$48,9,FALSE),\"\")","v":""},{"$f":"IFERROR(VLOOKUP(AK63,'P2'!$B$4:$J$48,9,FALSE),\"\")","v":""},{"$f":"IFERROR(VLOOKUP(AL63,'P2'!$B$4:$J$48,9,FALSE),\"\")","v":""},{"$f":"IFERROR(VLOOKUP(AM63,'P2'!$B$4:$J$48,9,FALSE),\"\")","v":""},{"$f":"IFERROR(VLOOKUP(AN63,'P2'!$B$4:$J$48,9,FALSE),\"\")","v":""},{"$f":"IFERROR(VLOOKUP(AO63,'P2'!$B$4:$J$48,9,FALSE),\"\")","v":""},{"$f":"IFERROR(VLOOKUP(AP63,'P2'!$B$4:$J$48,9,FALSE),\"\")","v":""},{"$f":"IFERROR(VLOOKUP(AQ63,'P2'!$B$4:$J$48,9,FALSE),\"\")","v":""},{"$f":"IFERROR(VLOOKUP(AR63,'P2'!$B$4:$J$48,9,FALSE),\"\")","v":""},{"$f":"IFERROR(VLOOKUP(AS63,'P2'!$B$4:$J$48,9,FALSE),\"\")","v":""},{"$f":"IFERROR(VLOOKUP(AT63,'P2'!$B$4:$J$48,9,FALSE),\"\")","v":""},{"$f":"IFERROR(VLOOKUP(AU63,'P2'!$B$4:$J$48,9,FALSE),\"\")","v":""},{"$f":"SUM(Q64:AU64)","v":0}]
[null,23,null,null,null,null,null,null,null,null,null,null,null,null,null,null,null,null,null,null,null,null,null,null,null,null,null,null,null,null,null,null,null,null,null,null,null,null,null,null,null,null,null,null,null,null,null,{"$f":"COUNTA(Q65:AU65)","v":0},{"$f":"AV66","v":0},{"$f":"IFERROR(ROUNDDOWN(AV66/$AT$3,1),\"\")","v":""}]
[null,null,null,null,null,null,null,null,null,null,null,null,null,null,null,null,{"$f":"IFERROR(VLOOKUP(Q65,'P2'!$B$4:$J$48,9,FALSE),\"\")","v":""},{"$f":"IFERROR(VLOOKUP(R65,'P2'!$B$4:$J$48,9,FALSE),\"\")","v":""},{"$f":"IFERROR(VLOOKUP(S65,'P2'!$B$4:$J$48,9,FALSE),\"\")","v":""},{"$f":"IFERROR(VLOOKUP(T65,'P2'!$B$4:$J$48,9,FALSE),\"\")","v":""},{"$f":"IFERROR(VLOOKUP(U65,'P2'!$B$4:$J$48,9,FALSE),\"\")","v":""},{"$f":"IFERROR(VLOOKUP(V65,'P2'!$B$4:$J$48,9,FALSE),\"\")","v":""},{"$f":"IFERROR(VLOOKUP(W65,'P2'!$B$4:$J$48,9,FALSE),\"\")","v":""},{"$f":"IFERROR(VLOOKUP(X65,'P2'!$B$4:$J$48,9,FALSE),\"\")","v":""},{"$f":"IFERROR(VLOOKUP(Y65,'P2'!$B$4:$J$48,9,FALSE),\"\")","v":""},{"$f":"IFERROR(VLOOKUP(Z65,'P2'!$B$4:$J$48,9,FALSE),\"\")","v":""},{"$f":"IFERROR(VLOOKUP(AA65,'P2'!$B$4:$J$48,9,FALSE),\"\")","v":""},{"$f":"IFERROR(VLOOKUP(AB65,'P2'!$B$4:$J$48,9,FALSE),\"\")","v":""},{"$f":"IFERROR(VLOOKUP(AC65,'P2'!$B$4:$J$48,9,FALSE),\"\")","v":""},{"$f":"IFERROR(VLOOKUP(AD65,'P2'!$B$4:$J$48,9,FALSE),\"\")","v":""},{"$f":"IFERROR(VLOOKUP(AE65,'P2'!$B$4:$J$48,9,FALSE),\"\")","v":""},{"$f":"IFERROR(VLOOKUP(AF65,'P2'!$B$4:$J$48,9,FALSE),\"\")","v":""},{"$f":"IFERROR(VLOOKUP(AG65,'P2'!$B$4:$J$48,9,FALSE),\"\")","v":""},{"$f":"IFERROR(VLOOKUP(AH65,'P2'!$B$4:$J$48,9,FALSE),\"\")","v":""},{"$f":"IFERROR(VLOOKUP(AI65,'P2'!$B$4:$J$48,9,FALSE),\"\")","v":""},{"$f":"IFERROR(VLOOKUP(AJ65,'P2'!$B$4:$J$48,9,FALSE),\"\")","v":""},{"$f":"IFERROR(VLOOKUP(AK65,'P2'!$B$4:$J$48,9,FALSE),\"\")","v":""},{"$f":"IFERROR(VLOOKUP(AL65,'P2'!$B$4:$J$48,9,FALSE),\"\")","v":""},{"$f":"IFERROR(VLOOKUP(AM65,'P2'!$B$4:$J$48,9,FALSE),\"\")","v":""},{"$f":"IFERROR(VLOOKUP(AN65,'P2'!$B$4:$J$48,9,FALSE),\"\")","v":""},{"$f":"IFERROR(VLOOKUP(AO65,'P2'!$B$4:$J$48,9,FALSE),\"\")","v":""},{"$f":"IFERROR(VLOOKUP(AP65,'P2'!$B$4:$J$48,9,FALSE),\"\")","v":""},{"$f":"IFERROR(VLOOKUP(AQ65,'P2'!$B$4:$J$48,9,FALSE),\"\")","v":""},{"$f":"IFERROR(VLOOKUP(AR65,'P2'!$B$4:$J$48,9,FALSE),\"\")","v":""},{"$f":"IFERROR(VLOOKUP(AS65,'P2'!$B$4:$J$48,9,FALSE),\"\")","v":""},{"$f":"IFERROR(VLOOKUP(AT65,'P2'!$B$4:$J$48,9,FALSE),\"\")","v":""},{"$f":"IFERROR(VLOOKUP(AU65,'P2'!$B$4:$J$48,9,FALSE),\"\")","v":""},{"$f":"SUM(Q66:AU66)","v":0}]
[null,24,null,null,null,null,null,null,null,null,null,null,null,null,null,null,null,null,null,null,null,null,null,null,null,null,null,null,null,null,null,null,null,null,null,null,null,null,null,null,null,null,null,null,null,null,null,{"$f":"COUNTA(Q67:AU67)","v":0},{"$f":"AV68","v":0},{"$f":"IFERROR(ROUNDDOWN(AV68/$AT$3,1),\"\")","v":""}]
[null,null,null,null,null,null,null,null,null,null,null,null,null,null,null,null,{"$f":"IFERROR(VLOOKUP(Q67,'P2'!$B$4:$J$48,9,FALSE),\"\")","v":""},{"$f":"IFERROR(VLOOKUP(R67,'P2'!$B$4:$J$48,9,FALSE),\"\")","v":""},{"$f":"IFERROR(VLOOKUP(S67,'P2'!$B$4:$J$48,9,FALSE),\"\")","v":""},{"$f":"IFERROR(VLOOKUP(T67,'P2'!$B$4:$J$48,9,FALSE),\"\")","v":""},{"$f":"IFERROR(VLOOKUP(U67,'P2'!$B$4:$J$48,9,FALSE),\"\")","v":""},{"$f":"IFERROR(VLOOKUP(V67,'P2'!$B$4:$J$48,9,FALSE),\"\")","v":""},{"$f":"IFERROR(VLOOKUP(W67,'P2'!$B$4:$J$48,9,FALSE),\"\")","v":""},{"$f":"IFERROR(VLOOKUP(X67,'P2'!$B$4:$J$48,9,FALSE),\"\")","v":""},{"$f":"IFERROR(VLOOKUP(Y67,'P2'!$B$4:$J$48,9,FALSE),\"\")","v":""},{"$f":"IFERROR(VLOOKUP(Z67,'P2'!$B$4:$J$48,9,FALSE),\"\")","v":""},{"$f":"IFERROR(VLOOKUP(AA67,'P2'!$B$4:$J$48,9,FALSE),\"\")","v":""},{"$f":"IFERROR(VLOOKUP(AB67,'P2'!$B$4:$J$48,9,FALSE),\"\")","v":""},{"$f":"IFERROR(VLOOKUP(AC67,'P2'!$B$4:$J$48,9,FALSE),\"\")","v":""},{"$f":"IFERROR(VLOOKUP(AD67,'P2'!$B$4:$J$48,9,FALSE),\"\")","v":""},{"$f":"IFERROR(VLOOKUP(AE67,'P2'!$B$4:$J$48,9,FALSE),\"\")","v":""},{"$f":"IFERROR(VLOOKUP(AF67,'P2'!$B$4:$J$48,9,FALSE),\"\")","v":""},{"$f":"IFERROR(VLOOKUP(AG67,'P2'!$B$4:$J$48,9,FALSE),\"\")","v":""},{"$f":"IFERROR(VLOOKUP(AH67,'P2'!$B$4:$J$48,9,FALSE),\"\")","v":""},{"$f":"IFERROR(VLOOKUP(AI67,'P2'!$B$4:$J$48,9,FALSE),\"\")","v":""},{"$f":"IFERROR(VLOOKUP(AJ67,'P2'!$B$4:$J$48,9,FALSE),\"\")","v":""},{"$f":"IFERROR(VLOOKUP(AK67,'P2'!$B$4:$J$48,9,FALSE),\"\")","v":""},{"$f":"IFERROR(VLOOKUP(AL67,'P2'!$B$4:$J$48,9,FALSE),\"\")","v":""},{"$f":"IFERROR(VLOOKUP(AM67,'P2'!$B$4:$J$48,9,FALSE),\"\")","v":""},{"$f":"IFERROR(VLOOKUP(AN67,'P2'!$B$4:$J$48,9,FALSE),\"\")","v":""},{"$f":"IFERROR(VLOOKUP(AO67,'P2'!$B$4:$J$48,9,FALSE),\"\")","v":""},{"$f":"IFERROR(VLOOKUP(AP67,'P2'!$B$4:$J$48,9,FALSE),\"\")","v":""},{"$f":"IFERROR(VLOOKUP(AQ67,'P2'!$B$4:$J$48,9,FALSE),\"\")","v":""},{"$f":"IFERROR(VLOOKUP(AR67,'P2'!$B$4:$J$48,9,FALSE),\"\")","v":""},{"$f":"IFERROR(VLOOKUP(AS67,'P2'!$B$4:$J$48,9,FALSE),\"\")","v":""},{"$f":"IFERROR(VLOOKUP(AT67,'P2'!$B$4:$J$48,9,FALSE),\"\")","v":""},{"$f":"IFERROR(VLOOKUP(AU67,'P2'!$B$4:$J$48,9,FALSE),\"\")","v":""},{"$f":"SUM(Q68:AU68)","v":0}]
[null,25,null,null,null,null,null,null,null,null,null,null,null,null,null,null,null,null,null,null,null,null,null,null,null,null,null,null,null,null,null,null,null,null,null,null,null,null,null,null,null,null,null,null,null,null,null,{"$f":"COUNTA(Q69:AU69)","v":0},{"$f":"AV70","v":0},{"$f":"IFERROR(ROUNDDOWN(AV70/$AT$3,1),\"\")","v":""}]
[null,null,null,null,null,null,null,null,null,null,null,null,null,null,null,null,{"$f":"IFERROR(VLOOKUP(Q69,'P2'!$B$4:$J$48,9,FALSE),\"\")","v":""},{"$f":"IFERROR(VLOOKUP(R69,'P2'!$B$4:$J$48,9,FALSE),\"\")","v":""},{"$f":"IFERROR(VLOOKUP(S69,'P2'!$B$4:$J$48,9,FALSE),\"\")","v":""},{"$f":"IFERROR(VLOOKUP(T69,'P2'!$B$4:$J$48,9,FALSE),\"\")","v":""},{"$f":"IFERROR(VLOOKUP(U69,'P2'!$B$4:$J$48,9,FALSE),\"\")","v":""},{"$f":"IFERROR(VLOOKUP(V69,'P2'!$B$4:$J$48,9,FALSE),\"\")","v":""},{"$f":"IFERROR(VLOOKUP(W69,'P2'!$B$4:$J$48,9,FALSE),\"\")","v":""},{"$f":"IFERROR(VLOOKUP(X69,'P2'!$B$4:$J$48,9,FALSE),\"\")","v":""},{"$f":"IFERROR(VLOOKUP(Y69,'P2'!$B$4:$J$48,9,FALSE),\"\")","v":""},{"$f":"IFERROR(VLOOKUP(Z69,'P2'!$B$4:$J$48,9,FALSE),\"\")","v":""},{"$f":"IFERROR(VLOOKUP(AA69,'P2'!$B$4:$J$48,9,FALSE),\"\")","v":""},{"$f":"IFERROR(VLOOKUP(AB69,'P2'!$B$4:$J$48,9,FALSE),\"\")","v":""},{"$f":"IFERROR(VLOOKUP(AC69,'P2'!$B$4:$J$48,9,FALSE),\"\")","v":""},{"$f":"IFERROR(VLOOKUP(AD69,'P2'!$B$4:$J$48,9,FALSE),\"\")","v":""},{"$f":"IFERROR(VLOOKUP(AE69,'P2'!$B$4:$J$48,9,FALSE),\"\")","v":""},{"$f":"IFERROR(VLOOKUP(AF69,'P2'!$B$4:$J$48,9,FALSE),\"\")","v":""},{"$f":"IFERROR(VLOOKUP(AG69,'P2'!$B$4:$J$48,9,FALSE),\"\")","v":""},{"$f":"IFERROR(VLOOKUP(AH69,'P2'!$B$4:$J$48,9,FALSE),\"\")","v":""},{"$f":"IFERROR(VLOOKUP(AI69,'P2'!$B$4:$J$48,9,FALSE),\"\")","v":""},{"$f":"IFERROR(VLOOKUP(AJ69,'P2'!$B$4:$J$48,9,FALSE),\"\")","v":""},{"$f":"IFERROR(VLOOKUP(AK69,'P2'!$B$4:$J$48,9,FALSE),\"\")","v":""},{"$f":"IFERROR(VLOOKUP(AL69,'P2'!$B$4:$J$48,9,FALSE),\"\")","v":""},{"$f":"IFERROR(VLOOKUP(AM69,'P2'!$B$4:$J$48,9,FALSE),\"\")","v":""},{"$f":"IFERROR(VLOOKUP(AN69,'P2'!$B$4:$J$48,9,FALSE),\"\")","v":""},{"$f":"IFERROR(VLOOKUP(AO69,'P2'!$B$4:$J$48,9,FALSE),\"\")","v":""},{"$f":"IFERROR(VLOOKUP(AP69,'P2'!$B$4:$J$48,9,FALSE),\"\")","v":""},{"$f":"IFERROR(VLOOKUP(AQ69,'P2'!$B$4:$J$48,9,FALSE),\"\")","v":""},{"$f":"IFERROR(VLOOKUP(AR69,'P2'!$B$4:$J$48,9,FALSE),\"\")","v":""},{"$f":"IFERROR(VLOOKUP(AS69,'P2'!$B$4:$J$48,9,FALSE),\"\")","v":""},{"$f":"IFERROR(VLOOKUP(AT69,'P2'!$B$4:$J$48,9,FALSE),\"\")","v":""},{"$f":"IFERROR(VLOOKUP(AU69,'P2'!$B$4:$J$48,9,FALSE),\"\")","v":""},{"$f":"SUM(Q70:AU70)","v":0}]
[null,26,null,null,null,null,null,null,null,null,null,null,null,null,null,null,null,null,null,null,null,null,null,null,null,null,null,null,null,null,null,null,null,null,null,null,null,null,null,null,null,null,null,null,null,null,null,{"$f":"COUNTA(Q71:AU71)","v":0},{"$f":"AV72","v":0},{"$f":"IFERROR(ROUNDDOWN(AV72/$AT$3,1),\"\")","v":""}]
[null,null,null,null,null,null,null,null,null,null,null,null,null,null,null,null,{"$f":"IFERROR(VLOOKUP(Q71,'P2'!$B$4:$J$48,9,FALSE),\"\")","v":""},{"$f":"IFERROR(VLOOKUP(R71,'P2'!$B$4:$J$48,9,FALSE),\"\")","v":""},{"$f":"IFERROR(VLOOKUP(S71,'P2'!$B$4:$J$48,9,FALSE),\"\")","v":""},{"$f":"IFERROR(VLOOKUP(T71,'P2'!$B$4:$J$48,9,FALSE),\"\")","v":""},{"$f":"IFERROR(VLOOKUP(U71,'P2'!$B$4:$J$48,9,FALSE),\"\")","v":""},{"$f":"IFERROR(VLOOKUP(V71,'P2'!$B$4:$J$48,9,FALSE),\"\")","v":""},{"$f":"IFERROR(VLOOKUP(W71,'P2'!$B$4:$J$48,9,FALSE),\"\")","v":""},{"$f":"IFERROR(VLOOKUP(X71,'P2'!$B$4:$J$48,9,FALSE),\"\")","v":""},{"$f":"IFERROR(VLOOKUP(Y71,'P2'!$B$4:$J$48,9,FALSE),\"\")","v":""},{"$f":"IFERROR(VLOOKUP(Z71,'P2'!$B$4:$J$48,9,FALSE),\"\")","v":""},{"$f":"IFERROR(VLOOKUP(AA71,'P2'!$B$4:$J$48,9,FALSE),\"\")","v":""},{"$f":"IFERROR(VLOOKUP(AB71,'P2'!$B$4:$J$48,9,FALSE),\"\")","v":""},{"$f":"IFERROR(VLOOKUP(AC71,'P2'!$B$4:$J$48,9,FALSE),\"\")","v":""},{"$f":"IFERROR(VLOOKUP(AD71,'P2'!$B$4:$J$48,9,FALSE),\"\")","v":""},{"$f":"IFERROR(VLOOKUP(AE71,'P2'!$B$4:$J$48,9,FALSE),\"\")","v":""},{"$f":"IFERROR(VLOOKUP(AF71,'P2'!$B$4:$J$48,9,FALSE),\"\")","v":""},{"$f":"IFERROR(VLOOKUP(AG71,'P2'!$B$4:$J$48,9,FALSE),\"\")","v":""},{"$f":"IFERROR(VLOOKUP(AH71,'P2'!$B$4:$J$48,9,FALSE),\"\")","v":""},{"$f":"IFERROR(VLOOKUP(AI71,'P2'!$B$4:$J$48,9,FALSE),\"\")","v":""},{"$f":"IFERROR(VLOOKUP(AJ71,'P2'!$B$4:$J$48,9,FALSE),\"\")","v":""},{"$f":"IFERROR(VLOOKUP(AK71,'P2'!$B$4:$J$48,9,FALSE),\"\")","v":""},{"$f":"IFERROR(VLOOKUP(AL71,'P2'!$B$4:$J$48,9,FALSE),\"\")","v":""},{"$f":"IFERROR(VLOOKUP(AM71,'P2'!$B$4:$J$48,9,FALSE),\"\")","v":""},{"$f":"IFERROR(VLOOKUP(AN71,'P2'!$B$4:$J$48,9,FALSE),\"\")","v":""},{"$f":"IFERROR(VLOOKUP(AO71,'P2'!$B$4:$J$48,9,FALSE),\"\")","v":""},{"$f":"IFERROR(VLOOKUP(AP71,'P2'!$B$4:$J$48,9,FALSE),\"\")","v":""},{"$f":"IFERROR(VLOOKUP(AQ71,'P2'!$B$4:$J$48,9,FALSE),\"\")","v":""},{"$f":"IFERROR(VLOOKUP(AR71,'P2'!$B$4:$J$48,9,FALSE),\"\")","v":""},{"$f":"IFERROR(VLOOKUP(AS71,'P2'!$B$4:$J$48,9,FALSE),\"\")","v":""},{"$f":"IFERROR(VLOOKUP(AT71,'P2'!$B$4:$J$48,9,FALSE),\"\")","v":""},{"$f":"IFERROR(VLOOKUP(AU71,'P2'!$B$4:$J$48,9,FALSE),\"\")","v":""},{"$f":"SUM(Q72:AU72)","v":0}]
[null,27,null,null,null,null,null,null,null,null,null,null,null,null,null,null,null,null,null,null,null,null,null,null,null,null,null,null,null,null,null,null,null,null,null,null,null,null,null,null,null,null,null,null,null,null,null,{"$f":"COUNTA(Q73:AU73)","v":0},{"$f":"AV74","v":0},{"$f":"IFERROR(ROUNDDOWN(AV74/$AT$3,1),\"\")","v":""}]
[null,null,null,null,null,null,null,null,null,null,null,null,null,null,null,null,{"$f":"IFERROR(VLOOKUP(Q73,'P2'!$B$4:$J$48,9,FALSE),\"\")","v":""},{"$f":"IFERROR(VLOOKUP(R73,'P2'!$B$4:$J$48,9,FALSE),\"\")","v":""},{"$f":"IFERROR(VLOOKUP(S73,'P2'!$B$4:$J$48,9,FALSE),\"\")","v":""},{"$f":"IFERROR(VLOOKUP(T73,'P2'!$B$4:$J$48,9,FALSE),\"\")","v":""},{"$f":"IFERROR(VLOOKUP(U73,'P2'!$B$4:$J$48,9,FALSE),\"\")","v":""},{"$f":"IFERROR(VLOOKUP(V73,'P2'!$B$4:$J$48,9,FALSE),\"\")","v":""},{"$f":"IFERROR(VLOOKUP(W73,'P2'!$B$4:$J$48,9,FALSE),\"\")","v":""},{"$f":"IFERROR(VLOOKUP(X73,'P2'!$B$4:$J$48,9,FALSE),\"\")","v":""},{"$f":"IFERROR(VLOOKUP(Y73,'P2'!$B$4:$J$48,9,FALSE),\"\")","v":""},{"$f":"IFERROR(VLOOKUP(Z73,'P2'!$B$4:$J$48,9,FALSE),\"\")","v":""},{"$f":"IFERROR(VLOOKUP(AA73,'P2'!$B$4:$J$48,9,FALSE),\"\")","v":""},{"$f":"IFERROR(VLOOKUP(AB73,'P2'!$B$4:$J$48,9,FALSE),\"\")","v":""},{"$f":"IFERROR(VLOOKUP(AC73,'P2'!$B$4:$J$48,9,FALSE),\"\")","v":""},{"$f":"IFERROR(VLOOKUP(AD73,'P2'!$B$4:$J$48,9,FALSE),\"\")","v":""},{"$f":"IFERROR(VLOOKUP(AE73,'P2'!$B$4:$J$48,9,FALSE),\"\")","v":""},{"$f":"IFERROR(VLOOKUP(AF73,'P2'!$B$4:$J$48,9,FALSE),\"\")","v":""},{"$f":"IFERROR(VLOOKUP(AG73,'P2'!$B$4:$J$48,9,FALSE),\"\")","v":""},{"$f":"IFERROR(VLOOKUP(AH73,'P2'!$B$4:$J$48,9,FALSE),\"\")","v":""},{"$f":"IFERROR(VLOOKUP(AI73,'P2'!$B$4:$J$48,9,FALSE),\"\")","v":""},{"$f":"IFERROR(VLOOKUP(AJ73,'P2'!$B$4:$J$48,9,FALSE),\"\")","v":""},{"$f":"IFERROR(VLOOKUP(AK73,'P2'!$B$4:$J$48,9,FALSE),\"\")","v":""},{"$f":"IFERROR(VLOOKUP(AL73,'P2'!$B$4:$J$48,9,FALSE),\"\")","v":""},{"$f":"IFERROR(VLOOKUP(AM73,'P2'!$B$4:$J$48,9,FALSE),\"\")","v":""},{"$f":"IFERROR(VLOOKUP(AN73,'P2'!$B$4:$J$48,9,FALSE),\"\")","v":""},{"$f":"IFERROR(VLOOKUP(AO73,'P2'!$B$4:$J$48,9,FALSE),\"\")","v":""},{"$f":"IFERROR(VLOOKUP(AP73,'P2'!$B$4:$J$48,9,FALSE),\"\")","v":""},{"$f":"IFERROR(VLOOKUP(AQ73,'P2'!$B$4:$J$48,9,FALSE),\"\")","v":""},{"$f":"IFERROR(VLOOKUP(AR73,'P2'!$B$4:$J$48,9,FALSE),\"\")","v":""},{"$f":"IFERROR(VLOOKUP(AS73,'P2'!$B$4:$J$48,9,FALSE),\"\")","v":""},{"$f":"IFERROR(VLOOKUP(AT73,'P2'!$B$4:$J$48,9,FALSE),\"\")","v":""},{"$f":"IFERROR(VLOOKUP(AU73,'P2'!$B$4:$J$48,9,FALSE),\"\")","v":""},{"$f":"SUM(Q74:AU74)","v":0}]
[null,28,null,null,null,null,null,null,null,null,null,null,null,null,null,null,null,null,null,null,null,null,null,null,null,null,null,null,null,null,null,null,null,null,null,null,null,null,null,null,null,null,null,null,null,null,null,{"$f":"COUNTA(Q75:AU75)","v":0},{"$f":"AV76","v":0},{"$f":"IFERROR(ROUNDDOWN(AV76/$AT$3,1),\"\")","v":""}]
[null,null,null,null,null,null,null,null,null,null,null,null,null,null,null,null,{"$f":"IFERROR(VLOOKUP(Q75,'P2'!$B$4:$J$48,9,FALSE),\"\")","v":""},{"$f":"IFERROR(VLOOKUP(R75,'P2'!$B$4:$J$48,9,FALSE),\"\")","v":""},{"$f":"IFERROR(VLOOKUP(S75,'P2'!$B$4:$J$48,9,FALSE),\"\")","v":""},{"$f":"IFERROR(VLOOKUP(T75,'P2'!$B$4:$J$48,9,FALSE),\"\")","v":""},{"$f":"IFERROR(VLOOKUP(U75,'P2'!$B$4:$J$48,9,FALSE),\"\")","v":""},{"$f":"IFERROR(VLOOKUP(V75,'P2'!$B$4:$J$48,9,FALSE),\"\")","v":""},{"$f":"IFERROR(VLOOKUP(W75,'P2'!$B$4:$J$48,9,FALSE),\"\")","v":""},{"$f":"IFERROR(VLOOKUP(X75,'P2'!$B$4:$J$48,9,FALSE),\"\")","v":""},{"$f":"IFERROR(VLOOKUP(Y75,'P2'!$B$4:$J$48,9,FALSE),\"\")","v":""},{"$f":"IFERROR(VLOOKUP(Z75,'P2'!$B$4:$J$48,9,FALSE),\"\")","v":""},{"$f":"IFERROR(VLOOKUP(AA75,'P2'!$B$4:$J$48,9,FALSE),\"\")","v":""},{"$f":"IFERROR(VLOOKUP(AB75,'P2'!$B$4:$J$48,9,FALSE),\"\")","v":""},{"$f":"IFERROR(VLOOKUP(AC75,'P2'!$B$4:$J$48,9,FALSE),\"\")","v":""},{"$f":"IFERROR(VLOOKUP(AD75,'P2'!$B$4:$J$48,9,FALSE),\"\")","v":""},{"$f":"IFERROR(VLOOKUP(AE75,'P2'!$B$4:$J$48,9,FALSE),\"\")","v":""},{"$f":"IFERROR(VLOOKUP(AF75,'P2'!$B$4:$J$48,9,FALSE),\"\")","v":""},{"$f":"IFERROR(VLOOKUP(AG75,'P2'!$B$4:$J$48,9,FALSE),\"\")","v":""},{"$f":"IFERROR(VLOOKUP(AH75,'P2'!$B$4:$J$48,9,FALSE),\"\")","v":""},{"$f":"IFERROR(VLOOKUP(AI75,'P2'!$B$4:$J$48,9,FALSE),\"\")","v":""},{"$f":"IFERROR(VLOOKUP(AJ75,'P2'!$B$4:$J$48,9,FALSE),\"\")","v":""},{"$f":"IFERROR(VLOOKUP(AK75,'P2'!$B$4:$J$48,9,FALSE),\"\")","v":""},{"$f":"IFERROR(VLOOKUP(AL75,'P2'!$B$4:$J$48,9,FALSE),\"\")","v":""},{"$f":"IFERROR(VLOOKUP(AM75,'P2'!$B$4:$J$48,9,FALSE),\"\")","v":""},{"$f":"IFERROR(VLOOKUP(AN75,'P2'!$B$4:$J$48,9,FALSE),\"\")","v":""},{"$f":"IFERROR(VLOOKUP(AO75,'P2'!$B$4:$J$48,9,FALSE),\"\")","v":""},{"$f":"IFERROR(VLOOKUP(AP75,'P2'!$B$4:$J$48,9,FALSE),\"\")","v":""},{"$f":"IFERROR(VLOOKUP(AQ75,'P2'!$B$4:$J$48,9,FALSE),\"\")","v":""},{"$f":"IFERROR(VLOOKUP(AR75,'P2'!$B$4:$J$48,9,FALSE),\"\")","v":""},{"$f":"IFERROR(VLOOKUP(AS75,'P2'!$B$4:$J$48,9,FALSE),\"\")","v":""},{"$f":"IFERROR(VLOOKUP(AT75,'P2'!$B$4:$J$48,9,FALSE),\"\")","v":""},{"$f":"IFERROR(VLOOKUP(AU75,'P2'!$B$4:$J$48,9,FALSE),\"\")","v":""},{"$f":"SUM(Q76:AU76)","v":0}]
[null,29,null,null,null,null,null,null,null,null,null,null,null,null,null,null,null,null,null,null,null,null,null,null,null,null,null,null,null,null,null,null,null,null,null,null,null,null,null,null,null,null,null,null,null,null,null,{"$f":"COUNTA(Q77:AU77)","v":0},{"$f":"AV78","v":0},{"$f":"IFERROR(ROUNDDOWN(AV78/$AT$3,1),\"\")","v":""}]
[null,null,null,null,null,null,null,null,null,null,null,null,null,null,null,null,{"$f":"IFERROR(VLOOKUP(Q77,'P2'!$B$4:$J$48,9,FALSE),\"\")","v":""},{"$f":"IFERROR(VLOOKUP(R77,'P2'!$B$4:$J$48,9,FALSE),\"\")","v":""},{"$f":"IFERROR(VLOOKUP(S77,'P2'!$B$4:$J$48,9,FALSE),\"\")","v":""},{"$f":"IFERROR(VLOOKUP(T77,'P2'!$B$4:$J$48,9,FALSE),\"\")","v":""},{"$f":"IFERROR(VLOOKUP(U77,'P2'!$B$4:$J$48,9,FALSE),\"\")","v":""},{"$f":"IFERROR(VLOOKUP(V77,'P2'!$B$4:$J$48,9,FALSE),\"\")","v":""},{"$f":"IFERROR(VLOOKUP(W77,'P2'!$B$4:$J$48,9,FALSE),\"\")","v":""},{"$f":"IFERROR(VLOOKUP(X77,'P2'!$B$4:$J$48,9,FALSE),\"\")","v":""},{"$f":"IFERROR(VLOOKUP(Y77,'P2'!$B$4:$J$48,9,FALSE),\"\")","v":""},{"$f":"IFERROR(VLOOKUP(Z77,'P2'!$B$4:$J$48,9,FALSE),\"\")","v":""},{"$f":"IFERROR(VLOOKUP(AA77,'P2'!$B$4:$J$48,9,FALSE),\"\")","v":""},{"$f":"IFERROR(VLOOKUP(AB77,'P2'!$B$4:$J$48,9,FALSE),\"\")","v":""},{"$f":"IFERROR(VLOOKUP(AC77,'P2'!$B$4:$J$48,9,FALSE),\"\")","v":""},{"$f":"IFERROR(VLOOKUP(AD77,'P2'!$B$4:$J$48,9,FALSE),\"\")","v":""},{"$f":"IFERROR(VLOOKUP(AE77,'P2'!$B$4:$J$48,9,FALSE),\"\")","v":""},{"$f":"IFERROR(VLOOKUP(AF77,'P2'!$B$4:$J$48,9,FALSE),\"\")","v":""},{"$f":"IFERROR(VLOOKUP(AG77,'P2'!$B$4:$J$48,9,FALSE),\"\")","v":""},{"$f":"IFERROR(VLOOKUP(AH77,'P2'!$B$4:$J$48,9,FALSE),\"\")","v":""},{"$f":"IFERROR(VLOOKUP(AI77,'P2'!$B$4:$J$48,9,FALSE),\"\")","v":""},{"$f":"IFERROR(VLOOKUP(AJ77,'P2'!$B$4:$J$48,9,FALSE),\"\")","v":""},{"$f":"IFERROR(VLOOKUP(AK77,'P2'!$B$4:$J$48,9,FALSE),\"\")","v":""},{"$f":"IFERROR(VLOOKUP(AL77,'P2'!$B$4:$J$48,9,FALSE),\"\")","v":""},{"$f":"IFERROR(VLOOKUP(AM77,'P2'!$B$4:$J$48,9,FALSE),\"\")","v":""},{"$f":"IFERROR(VLOOKUP(AN77,'P2'!$B$4:$J$48,9,FALSE),\"\")","v":""},{"$f":"IFERROR(VLOOKUP(AO77,'P2'!$B$4:$J$48,9,FALSE),\"\")","v":""},{"$f":"IFERROR(VLOOKUP(AP77,'P2'!$B$4:$J$48,9,FALSE),\"\")","v":""},{"$f":"IFERROR(VLOOKUP(AQ77,'P2'!$B$4:$J$48,9,FALSE),\"\")","v":""},{"$f":"IFERROR(VLOOKUP(AR77,'P2'!$B$4:$J$48,9,FALSE),\"\")","v":""},{"$f":"IFERROR(VLOOKUP(AS77,'P2'!$B$4:$J$48,9,FALSE),\"\")","v":""},{"$f":"IFERROR(VLOOKUP(AT77,'P2'!$B$4:$J$48,9,FALSE),\"\")","v":""},{"$f":"IFERROR(VLOOKUP(AU77,'P2'!$B$4:$J$48,9,FALSE),\"\")","v":""},{"$f":"SUM(Q78:AU78)","v":0}]
[null,30,null,null,null,null,null,null,null,null,null,null,null,null,null,null,null,null,null,null,null,null,null,null,null,null,null,null,null,null,null,null,null,null,null,null,null,null,null,null,null,null,null,null,null,null,null,{"$f":"COUNTA(Q79:AU79)","v":0},{"$f":"AV80","v":0},{"$f":"IFERROR(ROUNDDOWN(AV80/$AT$3,1),\"\")","v":""}]
[null,null,null,null,null,null,null,null,null,null,null,null,null,null,null,null,{"$f":"IFERROR(VLOOKUP(Q79,'P2'!$B$4:$J$48,9,FALSE),\"\")","v":""},{"$f":"IFERROR(VLOOKUP(R79,'P2'!$B$4:$J$48,9,FALSE),\"\")","v":""},{"$f":"IFERROR(VLOOKUP(S79,'P2'!$B$4:$J$48,9,FALSE),\"\")","v":""},{"$f":"IFERROR(VLOOKUP(T79,'P2'!$B$4:$J$48,9,FALSE),\"\")","v":""},{"$f":"IFERROR(VLOOKUP(U79,'P2'!$B$4:$J$48,9,FALSE),\"\")","v":""},{"$f":"IFERROR(VLOOKUP(V79,'P2'!$B$4:$J$48,9,FALSE),\"\")","v":""},{"$f":"IFERROR(VLOOKUP(W79,'P2'!$B$4:$J$48,9,FALSE),\"\")","v":""},{"$f":"IFERROR(VLOOKUP(X79,'P2'!$B$4:$J$48,9,FALSE),\"\")","v":""},{"$f":"IFERROR(VLOOKUP(Y79,'P2'!$B$4:$J$48,9,FALSE),\"\")","v":""},{"$f":"IFERROR(VLOOKUP(Z79,'P2'!$B$4:$J$48,9,FALSE),\"\")","v":""},{"$f":"IFERROR(VLOOKUP(AA79,'P2'!$B$4:$J$48,9,FALSE),\"\")","v":""},{"$f":"IFERROR(VLOOKUP(AB79,'P2'!$B$4:$J$48,9,FALSE),\"\")","v":""},{"$f":"IFERROR(VLOOKUP(AC79,'P2'!$B$4:$J$48,9,FALSE),\"\")","v":""},{"$f":"IFERROR(VLOOKUP(AD79,'P2'!$B$4:$J$48,9,FALSE),\"\")","v":""},{"$f":"IFERROR(VLOOKUP(AE79,'P2'!$B$4:$J$48,9,FALSE),\"\")","v":""},{"$f":"IFERROR(VLOOKUP(AF79,'P2'!$B$4:$J$48,9,FALSE),\"\")","v":""},{"$f":"IFERROR(VLOOKUP(AG79,'P2'!$B$4:$J$48,9,FALSE),\"\")","v":""},{"$f":"IFERROR(VLOOKUP(AH79,'P2'!$B$4:$J$48,9,FALSE),\"\")","v":""},{"$f":"IFERROR(VLOOKUP(AI79,'P2'!$B$4:$J$48,9,FALSE),\"\")","v":""},{"$f":"IFERROR(VLOOKUP(AJ79,'P2'!$B$4:$J$48,9,FALSE),\"\")","v":""},{"$f":"IFERROR(VLOOKUP(AK79,'P2'!$B$4:$J$48,9,FALSE),\"\")","v":""},{"$f":"IFERROR(VLOOKUP(AL79,'P2'!$B$4:$J$48,9,FALSE),\"\")","v":""},{"$f":"IFERROR(VLOOKUP(AM79,'P2'!$B$4:$J$48,9,FALSE),\"\")","v":""},{"$f":"IFERROR(VLOOKUP(AN79,'P2'!$B$4:$J$48,9,FALSE),\"\")","v":""},{"$f":"IFERROR(VLOOKUP(AO79,'P2'!$B$4:$J$48,9,FALSE),\"\")","v":""},{"$f":"IFERROR(VLOOKUP(AP79,'P2'!$B$4:$J$48,9,FALSE),\"\")","v":""},{"$f":"IFERROR(VLOOKUP(AQ79,'P2'!$B$4:$J$48,9,FALSE),\"\")","v":""},{"$f":"IFERROR(VLOOKUP(AR79,'P2'!$B$4:$J$48,9,FALSE),\"\")","v":""},{"$f":"IFERROR(VLOOKUP(AS79,'P2'!$B$4:$J$48,9,FALSE),\"\")","v":""},{"$f":"IFERROR(VLOOKUP(AT79,'P2'!$B$4:$J$48,9,FALSE),\"\")","v":""},{"$f":"IFERROR(VLOOKUP(AU79,'P2'!$B$4:$J$48,9,FALSE),\"\")","v":""},{"$f":"SUM(Q80:AU80)","v":0}]
[null,31,null,null,null,null,null,null,null,null,null,null,null,null,null,null,null,null,null,null,null,null,null,null,null,null,null,null,null,null,null,null,null,null,null,null,null,null,null,null,null,null,null,null,null,null,null,{"$f":"COUNTA(Q81:AU81)","v":0},{"$f":"AV82","v":0},{"$f":"IFERROR(ROUNDDOWN(AV82/$AT$3,1),\"\")","v":""}]
[null,null,null,null,null,null,null,null,null,null,null,null,null,null,null,null,{"$f":"IFERROR(VLOOKUP(Q81,'P2'!$B$4:$J$48,9,FALSE),\"\")","v":""},{"$f":"IFERROR(VLOOKUP(R81,'P2'!$B$4:$J$48,9,FALSE),\"\")","v":""},{"$f":"IFERROR(VLOOKUP(S81,'P2'!$B$4:$J$48,9,FALSE),\"\")","v":""},{"$f":"IFERROR(VLOOKUP(T81,'P2'!$B$4:$J$48,9,FALSE),\"\")","v":""},{"$f":"IFERROR(VLOOKUP(U81,'P2'!$B$4:$J$48,9,FALSE),\"\")","v":""},{"$f":"IFERROR(VLOOKUP(V81,'P2'!$B$4:$J$48,9,FALSE),\"\")","v":""},{"$f":"IFERROR(VLOOKUP(W81,'P2'!$B$4:$J$48,9,FALSE),\"\")","v":""},{"$f":"IFERROR(VLOOKUP(X81,'P2'!$B$4:$J$48,9,FALSE),\"\")","v":""},{"$f":"IFERROR(VLOOKUP(Y81,'P2'!$B$4:$J$48,9,FALSE),\"\")","v":""},{"$f":"IFERROR(VLOOKUP(Z81,'P2'!$B$4:$J$48,9,FALSE),\"\")","v":""},{"$f":"IFERROR(VLOOKUP(AA81,'P2'!$B$4:$J$48,9,FALSE),\"\")","v":""},{"$f":"IFERROR(VLOOKUP(AB81,'P2'!$B$4:$J$48,9,FALSE),\"\")","v":""},{"$f":"IFERROR(VLOOKUP(AC81,'P2'!$B$4:$J$48,9,FALSE),\"\")","v":""},{"$f":"IFERROR(VLOOKUP(AD81,'P2'!$B$4:$J$48,9,FALSE),\"\")","v":""},{"$f":"IFERROR(VLOOKUP(AE81,'P2'!$B$4:$J$48,9,FALSE),\"\")","v":""},{"$f":"IFERROR(VLOOKUP(AF81,'P2'!$B$4:$J$48,9,FALSE),\"\")","v":""},{"$f":"IFERROR(VLOOKUP(AG81,'P2'!$B$4:$J$48,9,FALSE),\"\")","v":""},{"$f":"IFERROR(VLOOKUP(AH81,'P2'!$B$4:$J$48,9,FALSE),\"\")","v":""},{"$f":"IFERROR(VLOOKUP(AI81,'P2'!$B$4:$J$48,9,FALSE),\"\")","v":""},{"$f":"IFERROR(VLOOKUP(AJ81,'P2'!$B$4:$J$48,9,FALSE),\"\")","v":""},{"$f":"IFERROR(VLOOKUP(AK81,'P2'!$B$4:$J$48,9,FALSE),\"\")","v":""},{"$f":"IFERROR(VLOOKUP(AL81,'P2'!$B$4:$J$48,9,FALSE),\"\")","v":""},{"$f":"IFERROR(VLOOKUP(AM81,'P2'!$B$4:$J$48,9,FALSE),\"\")","v":""},{"$f":"IFERROR(VLOOKUP(AN81,'P2'!$B$4:$J$48,9,FALSE),\"\")","v":""},{"$f":"IFERROR(VLOOKUP(AO81,'P2'!$B$4:$J$48,9,FALSE),\"\")","v":""},{"$f":"IFERROR(VLOOKUP(AP81,'P2'!$B$4:$J$48,9,FALSE),\"\")","v":""},{"$f":"IFERROR(VLOOKUP(AQ81,'P2'!$B$4:$J$48,9,FALSE),\"\")","v":""},{"$f":"IFERROR(VLOOKUP(AR81,'P2'!$B$4:$J$48,9,FALSE),\"\")","v":""},{"$f":"IFERROR(VLOOKUP(AS81,'P2'!$B$4:$J$48,9,FALSE),\"\")","v":""},{"$f":"IFERROR(VLOOKUP(AT81,'P2'!$B$4:$J$48,9,FALSE),\"\")","v":""},{"$f":"IFERROR(VLOOKUP(AU81,'P2'!$B$4:$J$48,9,FALSE),\"\")","v":""},{"$f":"SUM(Q82:AU82)","v":0}]
[null,32,null,null,null,null,null,null,null,null,null,null,null,null,null,null,null,null,null,null,null,null,null,null,null,null,null,null,null,null,null,null,null,null,null,null,null,null,null,null,null,null,null,null,null,null,null,{"$f":"COUNTA(Q83:AU83)","v":0},{"$f":"AV84","v":0},{"$f":"IFERROR(ROUNDDOWN(AV84/$AT$3,1),\"\")","v":""}]
[null,null,null,null,null,null,null,null,null,null,null,null,null,null,null,null,{"$f":"IFERROR(VLOOKUP(Q83,'P2'!$B$4:$J$48,9,FALSE),\"\")","v":""},{"$f":"IFERROR(VLOOKUP(R83,'P2'!$B$4:$J$48,9,FALSE),\"\")","v":""},{"$f":"IFERROR(VLOOKUP(S83,'P2'!$B$4:$J$48,9,FALSE),\"\")","v":""},{"$f":"IFERROR(VLOOKUP(T83,'P2'!$B$4:$J$48,9,FALSE),\"\")","v":""},{"$f":"IFERROR(VLOOKUP(U83,'P2'!$B$4:$J$48,9,FALSE),\"\")","v":""},{"$f":"IFERROR(VLOOKUP(V83,'P2'!$B$4:$J$48,9,FALSE),\"\")","v":""},{"$f":"IFERROR(VLOOKUP(W83,'P2'!$B$4:$J$48,9,FALSE),\"\")","v":""},{"$f":"IFERROR(VLOOKUP(X83,'P2'!$B$4:$J$48,9,FALSE),\"\")","v":""},{"$f":"IFERROR(VLOOKUP(Y83,'P2'!$B$4:$J$48,9,FALSE),\"\")","v":""},{"$f":"IFERROR(VLOOKUP(Z83,'P2'!$B$4:$J$48,9,FALSE),\"\")","v":""},{"$f":"IFERROR(VLOOKUP(AA83,'P2'!$B$4:$J$48,9,FALSE),\"\")","v":""},{"$f":"IFERROR(VLOOKUP(AB83,'P2'!$B$4:$J$48,9,FALSE),\"\")","v":""},{"$f":"IFERROR(VLOOKUP(AC83,'P2'!$B$4:$J$48,9,FALSE),\"\")","v":""},{"$f":"IFERROR(VLOOKUP(AD83,'P2'!$B$4:$J$48,9,FALSE),\"\")","v":""},{"$f":"IFERROR(VLOOKUP(AE83,'P2'!$B$4:$J$48,9,FALSE),\"\")","v":""},{"$f":"IFERROR(VLOOKUP(AF83,'P2'!$B$4:$J$48,9,FALSE),\"\")","v":""},{"$f":"IFERROR(VLOOKUP(AG83,'P2'!$B$4:$J$48,9,FALSE),\"\")","v":""},{"$f":"IFERROR(VLOOKUP(AH83,'P2'!$B$4:$J$48,9,FALSE),\"\")","v":""},{"$f":"IFERROR(VLOOKUP(AI83,'P2'!$B$4:$J$48,9,FALSE),\"\")","v":""},{"$f":"IFERROR(VLOOKUP(AJ83,'P2'!$B$4:$J$48,9,FALSE),\"\")","v":""},{"$f":"IFERROR(VLOOKUP(AK83,'P2'!$B$4:$J$48,9,FALSE),\"\")","v":""},{"$f":"IFERROR(VLOOKUP(AL83,'P2'!$B$4:$J$48,9,FALSE),\"\")","v":""},{"$f":"IFERROR(VLOOKUP(AM83,'P2'!$B$4:$J$48,9,FALSE),\"\")","v":""},{"$f":"IFERROR(VLOOKUP(AN83,'P2'!$B$4:$J$48,9,FALSE),\"\")","v":""},{"$f":"IFERROR(VLOOKUP(AO83,'P2'!$B$4:$J$48,9,FALSE),\"\")","v":""},{"$f":"IFERROR(VLOOKUP(AP83,'P2'!$B$4:$J$48,9,FALSE),\"\")","v":""},{"$f":"IFERROR(VLOOKUP(AQ83,'P2'!$B$4:$J$48,9,FALSE),\"\")","v":""},{"$f":"IFERROR(VLOOKUP(AR83,'P2'!$B$4:$J$48,9,FALSE),\"\")","v":""},{"$f":"IFERROR(VLOOKUP(AS83,'P2'!$B$4:$J$48,9,FALSE),\"\")","v":""},{"$f":"IFERROR(VLOOKUP(AT83,'P2'!$B$4:$J$48,9,FALSE),\"\")","v":""},{"$f":"IFERROR(VLOOKUP(AU83,'P2'!$B$4:$J$48,9,FALSE),\"\")","v":""},{"$f":"SUM(Q84:AU84)","v":0}]
[null,33,null,null,null,null,null,null,null,null,null,null,null,null,null,null,null,null,null,null,null,null,null,null,null,null,null,null,null,null,null,null,null,null,null,null,null,null,null,null,null,null,null,null,null,null,null,{"$f":"COUNTA(Q85:AU85)","v":0},{"$f":"AV86","v":0},{"$f":"IFERROR(ROUNDDOWN(AV86/$AT$3,1),\"\")","v":""}]
[null,null,null,null,null,null,null,null,null,null,null,null,null,null,null,null,{"$f":"IFERROR(VLOOKUP(Q85,'P2'!$B$4:$J$48,9,FALSE),\"\")","v":""},{"$f":"IFERROR(VLOOKUP(R85,'P2'!$B$4:$J$48,9,FALSE),\"\")","v":""},{"$f":"IFERROR(VLOOKUP(S85,'P2'!$B$4:$J$48,9,FALSE),\"\")","v":""},{"$f":"IFERROR(VLOOKUP(T85,'P2'!$B$4:$J$48,9,FALSE),\"\")","v":""},{"$f":"IFERROR(VLOOKUP(U85,'P2'!$B$4:$J$48,9,FALSE),\"\")","v":""},{"$f":"IFERROR(VLOOKUP(V85,'P2'!$B$4:$J$48,9,FALSE),\"\")","v":""},{"$f":"IFERROR(VLOOKUP(W85,'P2'!$B$4:$J$48,9,FALSE),\"\")","v":""},{"$f":"IFERROR(VLOOKUP(X85,'P2'!$B$4:$J$48,9,FALSE),\"\")","v":""},{"$f":"IFERROR(VLOOKUP(Y85,'P2'!$B$4:$J$48,9,FALSE),\"\")","v":""},{"$f":"IFERROR(VLOOKUP(Z85,'P2'!$B$4:$J$48,9,FALSE),\"\")","v":""},{"$f":"IFERROR(VLOOKUP(AA85,'P2'!$B$4:$J$48,9,FALSE),\"\")","v":""},{"$f":"IFERROR(VLOOKUP(AB85,'P2'!$B$4:$J$48,9,FALSE),\"\")","v":""},{"$f":"IFERROR(VLOOKUP(AC85,'P2'!$B$4:$J$48,9,FALSE),\"\")","v":""},{"$f":"IFERROR(VLOOKUP(AD85,'P2'!$B$4:$J$48,9,FALSE),\"\")","v":""},{"$f":"IFERROR(VLOOKUP(AE85,'P2'!$B$4:$J$48,9,FALSE),\"\")","v":""},{"$f":"IFERROR(VLOOKUP(AF85,'P2'!$B$4:$J$48,9,FALSE),\"\")","v":""},{"$f":"IFERROR(VLOOKUP(AG85,'P2'!$B$4:$J$48,9,FALSE),\"\")","v":""},{"$f":"IFERROR(VLOOKUP(AH85,'P2'!$B$4:$J$48,9,FALSE),\"\")","v":""},{"$f":"IFERROR(VLOOKUP(AI85,'P2'!$B$4:$J$48,9,FALSE),\"\")","v":""},{"$f":"IFERROR(VLOOKUP(AJ85,'P2'!$B$4:$J$48,9,FALSE),\"\")","v":""},{"$f":"IFERROR(VLOOKUP(AK85,'P2'!$B$4:$J$48,9,FALSE),\"\")","v":""},{"$f":"IFERROR(VLOOKUP(AL85,'P2'!$B$4:$J$48,9,FALSE),\"\")","v":""},{"$f":"IFERROR(VLOOKUP(AM85,'P2'!$B$4:$J$48,9,FALSE),\"\")","v":""},{"$f":"IFERROR(VLOOKUP(AN85,'P2'!$B$4:$J$48,9,FALSE),\"\")","v":""},{"$f":"IFERROR(VLOOKUP(AO85,'P2'!$B$4:$J$48,9,FALSE),\"\")","v":""},{"$f":"IFERROR(VLOOKUP(AP85,'P2'!$B$4:$J$48,9,FALSE),\"\")","v":""},{"$f":"IFERROR(VLOOKUP(AQ85,'P2'!$B$4:$J$48,9,FALSE),\"\")","v":""},{"$f":"IFERROR(VLOOKUP(AR85,'P2'!$B$4:$J$48,9,FALSE),\"\")","v":""},{"$f":"IFERROR(VLOOKUP(AS85,'P2'!$B$4:$J$48,9,FALSE),\"\")","v":""},{"$f":"IFERROR(VLOOKUP(AT85,'P2'!$B$4:$J$48,9,FALSE),\"\")","v":""},{"$f":"IFERROR(VLOOKUP(AU85,'P2'!$B$4:$J$48,9,FALSE),\"\")","v":""},{"$f":"SUM(Q86:AU86)","v":0}]
[null,34,null,null,null,null,null,null,null,null,null,null,null,null,null,null,null,null,null,null,null,null,null,null,null,null,null,null,null,null,null,null,null,null,null,null,null,null,null,null,null,null,null,null,null,null,null,{"$f":"COUNTA(Q87:AU87)","v":0},{"$f":"AV88","v":0},{"$f":"IFERROR(ROUNDDOWN(AV88/$AT$3,1),\"\")","v":""}]
[null,null,null,null,null,null,null,null,null,null,null,null,null,null,null,null,{"$f":"IFERROR(VLOOKUP(Q87,'P2'!$B$4:$J$48,9,FALSE),\"\")","v":""},{"$f":"IFERROR(VLOOKUP(R87,'P2'!$B$4:$J$48,9,FALSE),\"\")","v":""},{"$f":"IFERROR(VLOOKUP(S87,'P2'!$B$4:$J$48,9,FALSE),\"\")","v":""},{"$f":"IFERROR(VLOOKUP(T87,'P2'!$B$4:$J$48,9,FALSE),\"\")","v":""},{"$f":"IFERROR(VLOOKUP(U87,'P2'!$B$4:$J$48,9,FALSE),\"\")","v":""},{"$f":"IFERROR(VLOOKUP(V87,'P2'!$B$4:$J$48,9,FALSE),\"\")","v":""},{"$f":"IFERROR(VLOOKUP(W87,'P2'!$B$4:$J$48,9,FALSE),\"\")","v":""},{"$f":"IFERROR(VLOOKUP(X87,'P2'!$B$4:$J$48,9,FALSE),\"\")","v":""},{"$f":"IFERROR(VLOOKUP(Y87,'P2'!$B$4:$J$48,9,FALSE),\"\")","v":""},{"$f":"IFERROR(VLOOKUP(Z87,'P2'!$B$4:$J$48,9,FALSE),\"\")","v":""},{"$f":"IFERROR(VLOOKUP(AA87,'P2'!$B$4:$J$48,9,FALSE),\"\")","v":""},{"$f":"IFERROR(VLOOKUP(AB87,'P2'!$B$4:$J$48,9,FALSE),\"\")","v":""},{"$f":"IFERROR(VLOOKUP(AC87,'P2'!$B$4:$J$48,9,FALSE),\"\")","v":""},{"$f":"IFERROR(VLOOKUP(AD87,'P2'!$B$4:$J$48,9,FALSE),\"\")","v":""},{"$f":"IFERROR(VLOOKUP(AE87,'P2'!$B$4:$J$48,9,FALSE),\"\")","v":""},{"$f":"IFERROR(VLOOKUP(AF87,'P2'!$B$4:$J$48,9,FALSE),\"\")","v":""},{"$f":"IFERROR(VLOOKUP(AG87,'P2'!$B$4:$J$48,9,FALSE),\"\")","v":""},{"$f":"IFERROR(VLOOKUP(AH87,'P2'!$B$4:$J$48,9,FALSE),\"\")","v":""},{"$f":"IFERROR(VLOOKUP(AI87,'P2'!$B$4:$J$48,9,FALSE),\"\")","v":""},{"$f":"IFERROR(VLOOKUP(AJ87,'P2'!$B$4:$J$48,9,FALSE),\"\")","v":""},{"$f":"IFERROR(VLOOKUP(AK87,'P2'!$B$4:$J$48,9,FALSE),\"\")","v":""},{"$f":"IFERROR(VLOOKUP(AL87,'P2'!$B$4:$J$48,9,FALSE),\"\")","v":""},{"$f":"IFERROR(VLOOKUP(AM87,'P2'!$B$4:$J$48,9,FALSE),\"\")","v":""},{"$f":"IFERROR(VLOOKUP(AN87,'P2'!$B$4:$J$48,9,FALSE),\"\")","v":""},{"$f":"IFERROR(VLOOKUP(AO87,'P2'!$B$4:$J$48,9,FALSE),\"\")","v":""},{"$f":"IFERROR(VLOOKUP(AP87,'P2'!$B$4:$J$48,9,FALSE),\"\")","v":""},{"$f":"IFERROR(VLOOKUP(AQ87,'P2'!$B$4:$J$48,9,FALSE),\"\")","v":""},{"$f":"IFERROR(VLOOKUP(AR87,'P2'!$B$4:$J$48,9,FALSE),\"\")","v":""},{"$f":"IFERROR(VLOOKUP(AS87,'P2'!$B$4:$J$48,9,FALSE),\"\")","v":""},{"$f":"IFERROR(VLOOKUP(AT87,'P2'!$B$4:$J$48,9,FALSE),\"\")","v":""},{"$f":"IFERROR(VLOOKUP(AU87,'P2'!$B$4:$J$48,9,FALSE),\"\")","v":""},{"$f":"SUM(Q88:AU88)","v":0}]
[null,35,null,null,null,null,null,null,null,null,null,null,null,null,null,null,null,null,null,null,null,null,null,null,null,null,null,null,null,null,null,null,null,null,null,null,null,null,null,null,null,null,null,null,null,null,null,{"$f":"COUNTA(Q89:AU89)","v":0},{"$f":"AV90","v":0},{"$f":"IFERROR(ROUNDDOWN(AV90/$AT$3,1),\"\")","v":""}]
[null,null,null,null,null,null,null,null,null,null,null,null,null,null,null,null,{"$f":"IFERROR(VLOOKUP(Q89,'P2'!$B$4:$J$48,9,FALSE),\"\")","v":""},{"$f":"IFERROR(VLOOKUP(R89,'P2'!$B$4:$J$48,9,FALSE),\"\")","v":""},{"$f":"IFERROR(VLOOKUP(S89,'P2'!$B$4:$J$48,9,FALSE),\"\")","v":""},{"$f":"IFERROR(VLOOKUP(T89,'P2'!$B$4:$J$48,9,FALSE),\"\")","v":""},{"$f":"IFERROR(VLOOKUP(U89,'P2'!$B$4:$J$48,9,FALSE),\"\")","v":""},{"$f":"IFERROR(VLOOKUP(V89,'P2'!$B$4:$J$48,9,FALSE),\"\")","v":""},{"$f":"IFERROR(VLOOKUP(W89,'P2'!$B$4:$J$48,9,FALSE),\"\")","v":""},{"$f":"IFERROR(VLOOKUP(X89,'P2'!$B$4:$J$48,9,FALSE),\"\")","v":""},{"$f":"IFERROR(VLOOKUP(Y89,'P2'!$B$4:$J$48,9,FALSE),\"\")","v":""},{"$f":"IFERROR(VLOOKUP(Z89,'P2'!$B$4:$J$48,9,FALSE),\"\")","v":""},{"$f":"IFERROR(VLOOKUP(AA89,'P2'!$B$4:$J$48,9,FALSE),\"\")","v":""},{"$f":"IFERROR(VLOOKUP(AB89,'P2'!$B$4:$J$48,9,FALSE),\"\")","v":""},{"$f":"IFERROR(VLOOKUP(AC89,'P2'!$B$4:$J$48,9,FALSE),\"\")","v":""},{"$f":"IFERROR(VLOOKUP(AD89,'P2'!$B$4:$J$48,9,FALSE),\"\")","v":""},{"$f":"IFERROR(VLOOKUP(AE89,'P2'!$B$4:$J$48,9,FALSE),\"\")","v":""},{"$f":"IFERROR(VLOOKUP(AF89,'P2'!$B$4:$J$48,9,FALSE),\"\")","v":""},{"$f":"IFERROR(VLOOKUP(AG89,'P2'!$B$4:$J$48,9,FALSE),\"\")","v":""},{"$f":"IFERROR(VLOOKUP(AH89,'P2'!$B$4:$J$48,9,FALSE),\"\")","v":""},{"$f":"IFERROR(VLOOKUP(AI89,'P2'!$B$4:$J$48,9,FALSE),\"\")","v":""},{"$f":"IFERROR(VLOOKUP(AJ89,'P2'!$B$4:$J$48,9,FALSE),\"\")","v":""},{"$f":"IFERROR(VLOOKUP(AK89,'P2'!$B$4:$J$48,9,FALSE),\"\")","v":""},{"$f":"IFERROR(VLOOKUP(AL89,'P2'!$B$4:$J$48,9,FALSE),\"\")","v":""},{"$f":"IFERROR(VLOOKUP(AM89,'P2'!$B$4:$J$48,9,FALSE),\"\")","v":""},{"$f":"IFERROR(VLOOKUP(AN89,'P2'!$B$4:$J$48,9,FALSE),\"\")","v":""},{"$f":"IFERROR(VLOOKUP(AO89,'P2'!$B$4:$J$48,9,FALSE),\"\")","v":""},{"$f":"IFERROR(VLOOKUP(AP89,'P2'!$B$4:$J$48,9,FALSE),\"\")","v":""},{"$f":"IFERROR(VLOOKUP(AQ89,'P2'!$B$4:$J$48,9,FALSE),\"\")","v":""},{"$f":"IFERROR(VLOOKUP(AR89,'P2'!$B$4:$J$48,9,FALSE),\"\")","v":""},{"$f":"IFERROR(VLOOKUP(AS89,'P2'!$B$4:$J$48,9,FALSE),\"\")","v":""},{"$f":"IFERROR(VLOOKUP(AT89,'P2'!$B$4:$J$48,9,FALSE),\"\")","v":""},{"$f":"IFERROR(VLOOKUP(AU89,'P2'!$B$4:$J$48,9,FALSE),\"\")","v":""},{"$f":"SUM(Q90:AU90)","v":0}]
[null,36,null,null,null,null,null,null,null,null,null,null,null,null,null,null,null,null,null,null,null,null,null,null,null,null,null,null,null,null,null,null,null,null,null,null,null,null,null,null,null,null,null,null,null,null,null,{"$f":"COUNTA(Q91:AU91)","v":0},{"$f":"AV92","v":0},{"$f":"IFERROR(ROUNDDOWN(AV92/$AT$3,1),\"\")","v":""}]
[null,null,null,null,null,null,null,null,null,null,null,null,null,null,null,null,{"$f":"IFERROR(VLOOKUP(Q91,'P2'!$B$4:$J$48,9,FALSE),\"\")","v":""},{"$f":"IFERROR(VLOOKUP(R91,'P2'!$B$4:$J$48,9,FALSE),\"\")","v":""},{"$f":"IFERROR(VLOOKUP(S91,'P2'!$B$4:$J$48,9,FALSE),\"\")","v":""},{"$f":"IFERROR(VLOOKUP(T91,'P2'!$B$4:$J$48,9,FALSE),\"\")","v":""},{"$f":"IFERROR(VLOOKUP(U91,'P2'!$B$4:$J$48,9,FALSE),\"\")","v":""},{"$f":"IFERROR(VLOOKUP(V91,'P2'!$B$4:$J$48,9,FALSE),\"\")","v":""},{"$f":"IFERROR(VLOOKUP(W91,'P2'!$B$4:$J$48,9,FALSE),\"\")","v":""},{"$f":"IFERROR(VLOOKUP(X91,'P2'!$B$4:$J$48,9,FALSE),\"\")","v":""},{"$f":"IFERROR(VLOOKUP(Y91,'P2'!$B$4:$J$48,9,FALSE),\"\")","v":""},{"$f":"IFERROR(VLOOKUP(Z91,'P2'!$B$4:$J$48,9,FALSE),\"\")","v":""},{"$f":"IFERROR(VLOOKUP(AA91,'P2'!$B$4:$J$48,9,FALSE),\"\")","v":""},{"$f":"IFERROR(VLOOKUP(AB91,'P2'!$B$4:$J$48,9,FALSE),\"\")","v":""},{"$f":"IFERROR(VLOOKUP(AC91,'P2'!$B$4:$J$48,9,FALSE),\"\")","v":""},{"$f":"IFERROR(VLOOKUP(AD91,'P2'!$B$4:$J$48,9,FALSE),\"\")","v":""},{"$f":"IFERROR(VLOOKUP(AE91,'P2'!$B$4:$J$48,9,FALSE),\"\")","v":""},{"$f":"IFERROR(VLOOKUP(AF91,'P2'!$B$4:$J$48,9,FALSE),\"\")","v":""},{"$f":"IFERROR(VLOOKUP(AG91,'P2'!$B$4:$J$48,9,FALSE),\"\")","v":""},{"$f":"IFERROR(VLOOKUP(AH91,'P2'!$B$4:$J$48,9,FALSE),\"\")","v":""},{"$f":"IFERROR(VLOOKUP(AI91,'P2'!$B$4:$J$48,9,FALSE),\"\")","v":""},{"$f":"IFERROR(VLOOKUP(AJ91,'P2'!$B$4:$J$48,9,FALSE),\"\")","v":""},{"$f":"IFERROR(VLOOKUP(AK91,'P2'!$B$4:$J$48,9,FALSE),\"\")","v":""},{"$f":"IFERROR(VLOOKUP(AL91,'P2'!$B$4:$J$48,9,FALSE),\"\")","v":""},{"$f":"IFERROR(VLOOKUP(AM91,'P2'!$B$4:$J$48,9,FALSE),\"\")","v":""},{"$f":"IFERROR(VLOOKUP(AN91,'P2'!$B$4:$J$48,9,FALSE),\"\")","v":""},{"$f":"IFERROR(VLOOKUP(AO91,'P2'!$B$4:$J$48,9,FALSE),\"\")","v":""},{"$f":"IFERROR(VLOOKUP(AP91,'P2'!$B$4:$J$48,9,FALSE),\"\")","v":""},{"$f":"IFERROR(VLOOKUP(AQ91,'P2'!$B$4:$J$48,9,FALSE),\"\")","v":""},{"$f":"IFERROR(VLOOKUP(AR91,'P2'!$B$4:$J$48,9,FALSE),\"\")","v":""},{"$f":"IFERROR(VLOOKUP(AS91,'P2'!$B$4:$J$48,9,FALSE),\"\")","v":""},{"$f":"IFERROR(VLOOKUP(AT91,'P2'!$B$4:$J$48,9,FALSE),\"\")","v":""},{"$f":"IFERROR(VLOOKUP(AU91,'P2'!$B$4:$J$48,9,FALSE),\"\")","v":""},{"$f":"SUM(Q92:AU92)","v":0}]
[null,37,null,null,null,null,null,null,null,null,null,null,null,null,null,null,null,null,null,null,null,null,null,null,null,null,null,null,null,null,null,null,null,null,null,null,null,null,null,null,null,null,null,null,null,null,null,{"$f":"COUNTA(Q93:AU93)","v":0},{"$f":"AV94","v":0},{"$f":"IFERROR(ROUNDDOWN(AV94/$AT$3,1),\"\")","v":""}]
[null,null,null,null,null,null,null,null,null,null,null,null,null,null,null,null,{"$f":"IFERROR(VLOOKUP(Q93,'P2'!$B$4:$J$48,9,FALSE),\"\")","v":""},{"$f":"IFERROR(VLOOKUP(R93,'P2'!$B$4:$J$48,9,FALSE),\"\")","v":""},{"$f":"IFERROR(VLOOKUP(S93,'P2'!$B$4:$J$48,9,FALSE),\"\")","v":""},{"$f":"IFERROR(VLOOKUP(T93,'P2'!$B$4:$J$48,9,FALSE),\"\")","v":""},{"$f":"IFERROR(VLOOKUP(U93,'P2'!$B$4:$J$48,9,FALSE),\"\")","v":""},{"$f":"IFERROR(VLOOKUP(V93,'P2'!$B$4:$J$48,9,FALSE),\"\")","v":""},{"$f":"IFERROR(VLOOKUP(W93,'P2'!$B$4:$J$48,9,FALSE),\"\")","v":""},{"$f":"IFERROR(VLOOKUP(X93,'P2'!$B$4:$J$48,9,FALSE),\"\")","v":""},{"$f":"IFERROR(VLOOKUP(Y93,'P2'!$B$4:$J$48,9,FALSE),\"\")","v":""},{"$f":"IFERROR(VLOOKUP(Z93,'P2'!$B$4:$J$48,9,FALSE),\"\")","v":""},{"$f":"IFERROR(VLOOKUP(AA93,'P2'!$B$4:$J$48,9,FALSE),\"\")","v":""},{"$f":"IFERROR(VLOOKUP(AB93,'P2'!$B$4:$J$48,9,FALSE),\"\")","v":""},{"$f":"IFERROR(VLOOKUP(AC93,'P2'!$B$4:$J$48,9,FALSE),\"\")","v":""},{"$f":"IFERROR(VLOOKUP(AD93,'P2'!$B$4:$J$48,9,FALSE),\"\")","v":""},{"$f":"IFERROR(VLOOKUP(AE93,'P2'!$B$4:$J$48,9,FALSE),\"\")","v":""},{"$f":"IFERROR(VLOOKUP(AF93,'P2'!$B$4:$J$48,9,FALSE),\"\")","v":""},{"$f":"IFERROR(VLOOKUP(AG93,'P2'!$B$4:$J$48,9,FALSE),\"\")","v":""},{"$f":"IFERROR(VLOOKUP(AH93,'P2'!$B$4:$J$48,9,FALSE),\"\")","v":""},{"$f":"IFERROR(VLOOKUP(AI93,'P2'!$B$4:$J$48,9,FALSE),\"\")","v":""},{"$f":"IFERROR(VLOOKUP(AJ93,'P2'!$B$4:$J$48,9,FALSE),\"\")","v":""},{"$f":"IFERROR(VLOOKUP(AK93,'P2'!$B$4:$J$48,9,FALSE),\"\")","v":""},{"$f":"IFERROR(VLOOKUP(AL93,'P2'!$B$4:$J$48,9,FALSE),\"\")","v":""},{"$f":"IFERROR(VLOOKUP(AM93,'P2'!$B$4:$J$48,9,FALSE),\"\")","v":""},{"$f":"IFERROR(VLOOKUP(AN93,'P2'!$B$4:$J$48,9,FALSE),\"\")","v":""},{"$f":"IFERROR(VLOOKUP(AO93,'P2'!$B$4:$J$48,9,FALSE),\"\")","v":""},{"$f":"IFERROR(VLOOKUP(AP93,'P2'!$B$4:$J$48,9,FALSE),\"\")","v":""},{"$f":"IFERROR(VLOOKUP(AQ93,'P2'!$B$4:$J$48,9,FALSE),\"\")","v":""},{"$f":"IFERROR(VLOOKUP(AR93,'P2'!$B$4:$J$48,9,FALSE),\"\")","v":""},{"$f":"IFERROR(VLOOKUP(AS93,'P2'!$B$4:$J$48,9,FALSE),\"\")","v":""},{"$f":"IFERROR(VLOOKUP(AT93,'P2'!$B$4:$J$48,9,FALSE),\"\")","v":""},{"$f":"IFERROR(VLOOKUP(AU93,'P2'!$B$4:$J$48,9,FALSE),\"\")","v":""},{"$f":"SUM(Q94:AU94)","v":0}]
[null,{"$f":"B93+1","v":38},null,null,null,null,null,null,null,null,null,null,null,null,null,null,null,null,null,null,null,null,null,null,null,null,null,null,null,null,null,null,null,null,null,null,null,null,null,null,null,null,null,null,null,null,null,{"$f":"COUNTA(Q95:AU95)","v":0},{"$f":"AV96","v":0},{"$f":"IFERROR(ROUNDDOWN(AV96/$AT$3,1),\"\")","v":""}]
[null,null,null,null,null,null,null,null,null,null,null,null,null,null,null,null,{"$f":"IFERROR(VLOOKUP(Q95,'P2'!$B$4:$J$48,9,FALSE),\"\")","v":""},{"$f":"IFERROR(VLOOKUP(R95,'P2'!$B$4:$J$48,9,FALSE),\"\")","v":""},{"$f":"IFERROR(VLOOKUP(S95,'P2'!$B$4:$J$48,9,FALSE),\"\")","v":""},{"$f":"IFERROR(VLOOKUP(T95,'P2'!$B$4:$J$48,9,FALSE),\"\")","v":""},{"$f":"IFERROR(VLOOKUP(U95,'P2'!$B$4:$J$48,9,FALSE),\"\")","v":""},{"$f":"IFERROR(VLOOKUP(V95,'P2'!$B$4:$J$48,9,FALSE),\"\")","v":""},{"$f":"IFERROR(VLOOKUP(W95,'P2'!$B$4:$J$48,9,FALSE),\"\")","v":""},{"$f":"IFERROR(VLOOKUP(X95,'P2'!$B$4:$J$48,9,FALSE),\"\")","v":""},{"$f":"IFERROR(VLOOKUP(Y95,'P2'!$B$4:$J$48,9,FALSE),\"\")","v":""},{"$f":"IFERROR(VLOOKUP(Z95,'P2'!$B$4:$J$48,9,FALSE),\"\")","v":""},{"$f":"IFERROR(VLOOKUP(AA95,'P2'!$B$4:$J$48,9,FALSE),\"\")","v":""},{"$f":"IFERROR(VLOOKUP(AB95,'P2'!$B$4:$J$48,9,FALSE),\"\")","v":""},{"$f":"IFERROR(VLOOKUP(AC95,'P2'!$B$4:$J$48,9,FALSE),\"\")","v":""},{"$f":"IFERROR(VLOOKUP(AD95,'P2'!$B$4:$J$48,9,FALSE),\"\")","v":""},{"$f":"IFERROR(VLOOKUP(AE95,'P2'!$B$4:$J$48,9,FALSE),\"\")","v":""},{"$f":"IFERROR(VLOOKUP(AF95,'P2'!$B$4:$J$48,9,FALSE),\"\")","v":""},{"$f":"IFERROR(VLOOKUP(AG95,'P2'!$B$4:$J$48,9,FALSE),\"\")","v":""},{"$f":"IFERROR(VLOOKUP(AH95,'P2'!$B$4:$J$48,9,FALSE),\"\")","v":""},{"$f":"IFERROR(VLOOKUP(AI95,'P2'!$B$4:$J$48,9,FALSE),\"\")","v":""},{"$f":"IFERROR(VLOOKUP(AJ95,'P2'!$B$4:$J$48,9,FALSE),\"\")","v":""},{"$f":"IFERROR(VLOOKUP(AK95,'P2'!$B$4:$J$48,9,FALSE),\"\")","v":""},{"$f":"IFERROR(VLOOKUP(AL95,'P2'!$B$4:$J$48,9,FALSE),\"\")","v":""},{"$f":"IFERROR(VLOOKUP(AM95,'P2'!$B$4:$J$48,9,FALSE),\"\")","v":""},{"$f":"IFERROR(VLOOKUP(AN95,'P2'!$B$4:$J$48,9,FALSE),\"\")","v":""},{"$f":"IFERROR(VLOOKUP(AO95,'P2'!$B$4:$J$48,9,FALSE),\"\")","v":""},{"$f":"IFERROR(VLOOKUP(AP95,'P2'!$B$4:$J$48,9,FALSE),\"\")","v":""},{"$f":"IFERROR(VLOOKUP(AQ95,'P2'!$B$4:$J$48,9,FALSE),\"\")","v":""},{"$f":"IFERROR(VLOOKUP(AR95,'P2'!$B$4:$J$48,9,FALSE),\"\")","v":""},{"$f":"IFERROR(VLOOKUP(AS95,'P2'!$B$4:$J$48,9,FALSE),\"\")","v":""},{"$f":"IFERROR(VLOOKUP(AT95,'P2'!$B$4:$J$48,9,FALSE),\"\")","v":""},{"$f":"IFERROR(VLOOKUP(AU95,'P2'!$B$4:$J$48,9,FALSE),\"\")","v":""},{"$f":"SUM(Q96:AU96)","v":0}]
[null,39,null,null,null,null,null,null,null,null,null,null,null,null,null,null,null,null,null,null,null,null,null,null,null,null,null,null,null,null,null,null,null,null,null,null,null,null,null,null,null,null,null,null,null,null,null,{"$f":"COUNTA(Q97:AU97)","v":0},{"$f":"AV98","v":0},{"$f":"IFERROR(ROUNDDOWN(AV98/$AT$3,1),\"\")","v":""}]
[null,null,null,null,null,null,null,null,null,null,null,null,null,null,null,null,{"$f":"IFERROR(VLOOKUP(Q97,'P2'!$B$4:$J$48,9,FALSE),\"\")","v":""},{"$f":"IFERROR(VLOOKUP(R97,'P2'!$B$4:$J$48,9,FALSE),\"\")","v":""},{"$f":"IFERROR(VLOOKUP(S97,'P2'!$B$4:$J$48,9,FALSE),\"\")","v":""},{"$f":"IFERROR(VLOOKUP(T97,'P2'!$B$4:$J$48,9,FALSE),\"\")","v":""},{"$f":"IFERROR(VLOOKUP(U97,'P2'!$B$4:$J$48,9,FALSE),\"\")","v":""},{"$f":"IFERROR(VLOOKUP(V97,'P2'!$B$4:$J$48,9,FALSE),\"\")","v":""},{"$f":"IFERROR(VLOOKUP(W97,'P2'!$B$4:$J$48,9,FALSE),\"\")","v":""},{"$f":"IFERROR(VLOOKUP(X97,'P2'!$B$4:$J$48,9,FALSE),\"\")","v":""},{"$f":"IFERROR(VLOOKUP(Y97,'P2'!$B$4:$J$48,9,FALSE),\"\")","v":""},{"$f":"IFERROR(VLOOKUP(Z97,'P2'!$B$4:$J$48,9,FALSE),\"\")","v":""},{"$f":"IFERROR(VLOOKUP(AA97,'P2'!$B$4:$J$48,9,FALSE),\"\")","v":""},{"$f":"IFERROR(VLOOKUP(AB97,'P2'!$B$4:$J$48,9,FALSE),\"\")","v":""},{"$f":"IFERROR(VLOOKUP(AC97,'P2'!$B$4:$J$48,9,FALSE),\"\")","v":""},{"$f":"IFERROR(VLOOKUP(AD97,'P2'!$B$4:$J$48,9,FALSE),\"\")","v":""},{"$f":"IFERROR(VLOOKUP(AE97,'P2'!$B$4:$J$48,9,FALSE),\"\")","v":""},{"$f":"IFERROR(VLOOKUP(AF97,'P2'!$B$4:$J$48,9,FALSE),\"\")","v":""},{"$f":"IFERROR(VLOOKUP(AG97,'P2'!$B$4:$J$48,9,FALSE),\"\")","v":""},{"$f":"IFERROR(VLOOKUP(AH97,'P2'!$B$4:$J$48,9,FALSE),\"\")","v":""},{"$f":"IFERROR(VLOOKUP(AI97,'P2'!$B$4:$J$48,9,FALSE),\"\")","v":""},{"$f":"IFERROR(VLOOKUP(AJ97,'P2'!$B$4:$J$48,9,FALSE),\"\")","v":""},{"$f":"IFERROR(VLOOKUP(AK97,'P2'!$B$4:$J$48,9,FALSE),\"\")","v":""},{"$f":"IFERROR(VLOOKUP(AL97,'P2'!$B$4:$J$48,9,FALSE),\"\")","v":""},{"$f":"IFERROR(VLOOKUP(AM97,'P2'!$B$4:$J$48,9,FALSE),\"\")","v":""},{"$f":"IFERROR(VLOOKUP(AN97,'P2'!$B$4:$J$48,9,FALSE),\"\")","v":""},{"$f":"IFERROR(VLOOKUP(AO97,'P2'!$B$4:$J$48,9,FALSE),\"\")","v":""},{"$f":"IFERROR(VLOOKUP(AP97,'P2'!$B$4:$J$48,9,FALSE),\"\")","v":""},{"$f":"IFERROR(VLOOKUP(AQ97,'P2'!$B$4:$J$48,9,FALSE),\"\")","v":""},{"$f":"IFERROR(VLOOKUP(AR97,'P2'!$B$4:$J$48,9,FALSE),\"\")","v":""},{"$f":"IFERROR(VLOOKUP(AS97,'P2'!$B$4:$J$48,9,FALSE),\"\")","v":""},{"$f":"IFERROR(VLOOKUP(AT97,'P2'!$B$4:$J$48,9,FALSE),\"\")","v":""},{"$f":"IFERROR(VLOOKUP(AU97,'P2'!$B$4:$J$48,9,FALSE),\"\")","v":""},{"$f":"SUM(Q98:AU98)","v":0}]
[null,40,null,null,null,null,null,null,null,null,null,null,null,null,null,null,null,null,null,null,null,null,null,null,null,null,null,null,null,null,null,null,null,null,null,null,null,null,null,null,null,null,null,null,null,null,null,{"$f":"COUNTA(Q99:AU99)","v":0},{"$f":"AV100","v":0},{"$f":"IFERROR(ROUNDDOWN(AV100/$AT$3,1),\"\")","v":""}]
[null,null,null,null,null,null,null,null,null,null,null,null,null,null,null,null,{"$f":"IFERROR(VLOOKUP(Q99,'P2'!$B$4:$J$48,9,FALSE),\"\")","v":""},{"$f":"IFERROR(VLOOKUP(R99,'P2'!$B$4:$J$48,9,FALSE),\"\")","v":""},{"$f":"IFERROR(VLOOKUP(S99,'P2'!$B$4:$J$48,9,FALSE),\"\")","v":""},{"$f":"IFERROR(VLOOKUP(T99,'P2'!$B$4:$J$48,9,FALSE),\"\")","v":""},{"$f":"IFERROR(VLOOKUP(U99,'P2'!$B$4:$J$48,9,FALSE),\"\")","v":""},{"$f":"IFERROR(VLOOKUP(V99,'P2'!$B$4:$J$48,9,FALSE),\"\")","v":""},{"$f":"IFERROR(VLOOKUP(W99,'P2'!$B$4:$J$48,9,FALSE),\"\")","v":""},{"$f":"IFERROR(VLOOKUP(X99,'P2'!$B$4:$J$48,9,FALSE),\"\")","v":""},{"$f":"IFERROR(VLOOKUP(Y99,'P2'!$B$4:$J$48,9,FALSE),\"\")","v":""},{"$f":"IFERROR(VLOOKUP(Z99,'P2'!$B$4:$J$48,9,FALSE),\"\")","v":""},{"$f":"IFERROR(VLOOKUP(AA99,'P2'!$B$4:$J$48,9,FALSE),\"\")","v":""},{"$f":"IFERROR(VLOOKUP(AB99,'P2'!$B$4:$J$48,9,FALSE),\"\")","v":""},{"$f":"IFERROR(VLOOKUP(AC99,'P2'!$B$4:$J$48,9,FALSE),\"\")","v":""},{"$f":"IFERROR(VLOOKUP(AD99,'P2'!$B$4:$J$48,9,FALSE),\"\")","v":""},{"$f":"IFERROR(VLOOKUP(AE99,'P2'!$B$4:$J$48,9,FALSE),\"\")","v":""},{"$f":"IFERROR(VLOOKUP(AF99,'P2'!$B$4:$J$48,9,FALSE),\"\")","v":""},{"$f":"IFERROR(VLOOKUP(AG99,'P2'!$B$4:$J$48,9,FALSE),\"\")","v":""},{"$f":"IFERROR(VLOOKUP(AH99,'P2'!$B$4:$J$48,9,FALSE),\"\")","v":""},{"$f":"IFERROR(VLOOKUP(AI99,'P2'!$B$4:$J$48,9,FALSE),\"\")","v":""},{"$f":"IFERROR(VLOOKUP(AJ99,'P2'!$B$4:$J$48,9,FALSE),\"\")","v":""},{"$f":"IFERROR(VLOOKUP(AK99,'P2'!$B$4:$J$48,9,FALSE),\"\")","v":""},{"$f":"IFERROR(VLOOKUP(AL99,'P2'!$B$4:$J$48,9,FALSE),\"\")","v":""},{"$f":"IFERROR(VLOOKUP(AM99,'P2'!$B$4:$J$48,9,FALSE),\"\")","v":""},{"$f":"IFERROR(VLOOKUP(AN99,'P2'!$B$4:$J$48,9,FALSE),\"\")","v":""},{"$f":"IFERROR(VLOOKUP(AO99,'P2'!$B$4:$J$48,9,FALSE),\"\")","v":""},{"$f":"IFERROR(VLOOKUP(AP99,'P2'!$B$4:$J$48,9,FALSE),\"\")","v":""},{"$f":"IFERROR(VLOOKUP(AQ99,'P2'!$B$4:$J$48,9,FALSE),\"\")","v":""},{"$f":"IFERROR(VLOOKUP(AR99,'P2'!$B$4:$J$48,9,FALSE),\"\")","v":""},{"$f":"IFERROR(VLOOKUP(AS99,'P2'!$B$4:$J$48,9,FALSE),\"\")","v":""},{"$f":"IFERROR(VLOOKUP(AT99,'P2'!$B$4:$J$48,9,FALSE),\"\")","v":""},{"$f":"IFERROR(VLOOKUP(AU99,'P2'!$B$4:$J$48,9,FALSE),\"\")","v":""},{"$f":"SUM(Q100:AU100)","v":0}]
[]
[]
[null,"(2)　勤務実績　（直近3か月分の実績）",null,null,null,null,null,null,null,null,null,null,null,null,null,null,null,null,"（",{"$f":"$T$3","v":"令和　7"},null,"年",{"$f":"$W$3","v":3},"月分実績",null,"）",null,null,null,null,null,null,null,null,null,null,null,null,null,null,null,null,null,null,null,null,null,null,null,{"$f":"\"3 / \"&COUNTA(C$7,C$57,C$106,C$155,C$204)","v":"3 / 1"}]
[null,null,"職　　種",null,null,null,null,null,"氏　　名",null,null,null,null,"勤務\n形態",null,null,{"$f":"Q$5","v":"2025-03-01"},{"$f":"R$5","v":"2025-03-02"},"2025-03-03","2025-03-04","2025-03-05","2025-03-06","2025-03-07","2025-03-08","2025-03-09","2025-03-10","2025-03-11","2025-03-12","2025-03-13","2025-03-14","2025-03-15","2025-03-16","2025-03-17","2025-03-18","2025-03-19","2025-03-20","2025-03-21","2025-03-22","2025-03-23","2025-03-24","2025-03-25","2025-03-26","2025-03-27","2025-03-28","2025-03-29","2025-03-30","2025-03-31","勤務日数",null,"常勤換算"]
[null,null,null,null,null,null,null,null,null,null,null,null,null,null,null,null,{"$f":"Q$6","v":"土"},{"$f":"R$6","v":"日"},"月","火","水","木","金","土","日","月","火","水","木","金","土","日","月","火","水","木","金","土","日","月","火","水","木","金","土","日","月","勤務時間"]
[null,{"$f":"B99+1","v":41},null,null,null,null,null,null,null,null,null,null,null,null,null,null,null,null,null,null,null,null,null,null,null,null,null,null,null,null,null,null,null,null,null,null,null,null,null,null,null,null,null,null,null,null,null,{"$f":"COUNTA(Q106:AU106)","v":0},{"$f":"AV107","v":0},{"$f":"IFERROR(ROUNDDOWN(AV107/$AT$3,1),\"\")","v":""}]
[null,null,null,null,null,null,null,null,null,null,null,null,null,null,null,null,{"$f":"IFERROR(VLOOKUP(Q106,'P2'!$B$4:$J$48,9,FALSE),\"\")","v":""},{"$f":"IFERROR(VLOOKUP(R106,'P2'!$B$4:$J$48,9,FALSE),\"\")","v":""},{"$f":"IFERROR(VLOOKUP(S106,'P2'!$B$4:$J$48,9,FALSE),\"\")","v":""},{"$f":"IFERROR(VLOOKUP(T106,'P2'!$B$4:$J$48,9,FALSE),\"\")","v":""},{"$f":"IFERROR(VLOOKUP(U106,'P2'!$B$4:$J$48,9,FALSE),\"\")","v":""},{"$f":"IFERROR(VLOOKUP(V106,'P2'!$B$4:$J$48,9,FALSE),\"\")","v":""},{"$f":"IFERROR(VLOOKUP(W106,'P2'!$B$4:$J$48,9,FALSE),\"\")","v":""},{"$f":"IFERROR(VLOOKUP(X106,'P2'!$B$4:$J$48,9,FALSE),\"\")","v":""},{"$f":"IFERROR(VLOOKUP(Y106,'P2'!$B$4:$J$48,9,FALSE),\"\")","v":""},{"$f":"IFERROR(VLOOKUP(Z106,'P2'!$B$4:$J$48,9,FALSE),\"\")","v":""},{"$f":"IFERROR(VLOOKUP(AA106,'P2'!$B$4:$J$48,9,FALSE),\"\")","v":""},{"$f":"IFERROR(VLOOKUP(AB106,'P2'!$B$4:$J$48,9,FALSE),\"\")","v":""},{"$f":"IFERROR(VLOOKUP(AC106,'P2'!$B$4:$J$48,9,FALSE),\"\")","v":""},{"$f":"IFERROR(VLOOKUP(AD106,'P2'!$B$4:$J$48,9,FALSE),\"\")","v":""},{"$f":"IFERROR(VLOOKUP(AE106,'P2'!$B$4:$J$48,9,FALSE),\"\")","v":""},{"$f":"IFERROR(VLOOKUP(AF106,'P2'!$B$4:$J$48,9,FALSE),\"\")","v":""},{"$f":"IFERROR(VLOOKUP(AG106,'P2'!$B$4:$J$48,9,FALSE),\"\")","v":""},{"$f":"IFERROR(VLOOKUP(AH106,'P2'!$B$4:$J$48,9,FALSE),\"\")","v":""},{"$f":"IFERROR(VLOOKUP(AI106,'P2'!$B$4:$J$48,9,FALSE),\"\")","v":""},{"$f":"IFERROR(VLOOKUP(AJ106,'P2'!$B$4:$J$48,9,FALSE),\"\")","v":""},{"$f":"IFERROR(VLOOKUP(AK106,'P2'!$B$4:$J$48,9,FALSE),\"\")","v":""},{"$f":"IFERROR(VLOOKUP(AL106,'P2'!$B$4:$J$48,9,FALSE),\"\")","v":""},{"$f":"IFERROR(VLOOKUP(AM106,'P2'!$B$4:$J$48,9,FALSE),\"\")","v":""},{"$f":"IFERROR(VLOOKUP(AN106,'P2'!$B$4:$J$48,9,FALSE),\"\")","v":""},{"$f":"IFERROR(VLOOKUP(AO106,'P2'!$B$4:$J$48,9,FALSE),\"\")","v":""},{"$f":"IFERROR(VLOOKUP(AP106,'P2'!$B$4:$J$48,9,FALSE),\"\")","v":""},{"$f":"IFERROR(VLOOKUP(AQ106,'P2'!$B$4:$J$48,9,FALSE),\"\")","v":""},{"$f":"IFERROR(VLOOKUP(AR106,'P2'!$B$4:$J$48,9,FALSE),\"\")","v":""},{"$f":"IFERROR(VLOOKUP(AS106,'P2'!$B$4:$J$48,9,FALSE),\"\")","v":""},{"$f":"IFERROR(VLOOKUP(AT106,'P2'!$B$4:$J$48,9,FALSE),\"\")","v":""},{"$f":"IFERROR(VLOOKUP(AU106,'P2'!$B$4:$J$48,9,FALSE),\"\")","v":""},{"$f":"SUM(Q107:AU107)","v":0}]
[null,{"$f":"B106+1","v":42},null,null,null,null,null,null,null,null,null,null,null,null,null,null,null,null,null,null,null,null,null,null,null,null,null,null,null,null,null,null,null,null,null,null,null,null,null,null,null,null,null,null,null,null,null,{"$f":"COUNTA(Q108:AU108)","v":0},{"$f":"AV109","v":0},{"$f":"IFERROR(ROUNDDOWN(AV109/$AT$3,1),\"\")","v":""}]
[null,null,null,null,null,null,null,null,null,null,null,null,null,null,null,null,{"$f":"IFERROR(VLOOKUP(Q108,'P2'!$B$4:$J$48,9,FALSE),\"\")","v":""},{"$f":"IFERROR(VLOOKUP(R108,'P2'!$B$4:$J$48,9,FALSE),\"\")","v":""},{"$f":"IFERROR(VLOOKUP(S108,'P2'!$B$4:$J$48,9,FALSE),\"\")","v":""},{"$f":"IFERROR(VLOOKUP(T108,'P2'!$B$4:$J$48,9,FALSE),\"\")","v":""},{"$f":"IFERROR(VLOOKUP(U108,'P2'!$B$4:$J$48,9,FALSE),\"\")","v":""},{"$f":"IFERROR(VLOOKUP(V108,'P2'!$B$4:$J$48,9,FALSE),\"\")","v":""},{"$f":"IFERROR(VLOOKUP(W108,'P2'!$B$4:$J$48,9,FALSE),\"\")","v":""},{"$f":"IFERROR(VLOOKUP(X108,'P2'!$B$4:$J$48,9,FALSE),\"\")","v":""},{"$f":"IFERROR(VLOOKUP(Y108,'P2'!$B$4:$J$48,9,FALSE),\"\")","v":""},{"$f":"IFERROR(VLOOKUP(Z108,'P2'!$B$4:$J$48,9,FALSE),\"\")","v":""},{"$f":"IFERROR(VLOOKUP(AA108,'P2'!$B$4:$J$48,9,FALSE),\"\")","v":""},{"$f":"IFERROR(VLOOKUP(AB108,'P2'!$B$4:$J$48,9,FALSE),\"\")","v":""},{"$f":"IFERROR(VLOOKUP(AC108,'P2'!$B$4:$J$48,9,FALSE),\"\")","v":""},{"$f":"IFERROR(VLOOKUP(AD108,'P2'!$B$4:$J$48,9,FALSE),\"\")","v":""},{"$f":"IFERROR(VLOOKUP(AE108,'P2'!$B$4:$J$48,9,FALSE),\"\")","v":""},{"$f":"IFERROR(VLOOKUP(AF108,'P2'!$B$4:$J$48,9,FALSE),\"\")","v":""},{"$f":"IFERROR(VLOOKUP(AG108,'P2'!$B$4:$J$48,9,FALSE),\"\")","v":""},{"$f":"IFERROR(VLOOKUP(AH108,'P2'!$B$4:$J$48,9,FALSE),\"\")","v":""},{"$f":"IFERROR(VLOOKUP(AI108,'P2'!$B$4:$J$48,9,FALSE),\"\")","v":""},{"$f":"IFERROR(VLOOKUP(AJ108,'P2'!$B$4:$J$48,9,FALSE),\"\")","v":""},{"$f":"IFERROR(VLOOKUP(AK108,'P2'!$B$4:$J$48,9,FALSE),\"\")","v":""},{"$f":"IFERROR(VLOOKUP(AL108,'P2'!$B$4:$J$48,9,FALSE),\"\")","v":""},{"$f":"IFERROR(VLOOKUP(AM108,'P2'!$B$4:$J$48,9,FALSE),\"\")","v":""},{"$f":"IFERROR(VLOOKUP(AN108,'P2'!$B$4:$J$48,9,FALSE),\"\")","v":""},{"$f":"IFERROR(VLOOKUP(AO108,'P2'!$B$4:$J$48,9,FALSE),\"\")","v":""},{"$f":"IFERROR(VLOOKUP(AP108,'P2'!$B$4:$J$48,9,FALSE),\"\")","v":""},{"$f":"IFERROR(VLOOKUP(AQ108,'P2'!$B$4:$J$48,9,FALSE),\"\")","v":""},{"$f":"IFERROR(VLOOKUP(AR108,'P2'!$B$4:$J$48,9,FALSE),\"\")","v":""},{"$f":"IFERROR(VLOOKUP(AS108,'P2'!$B$4:$J$48,9,FALSE),\"\")","v":""},{"$f":"IFERROR(VLOOKUP(AT108,'P2'!$B$4:$J$48,9,FALSE),\"\")","v":""},{"$f":"IFERROR(VLOOKUP(AU108,'P2'!$B$4:$J$48,9,FALSE),\"\")","v":""},{"$f":"SUM(Q109:AU109)","v":0}]
[null,43,null,null,null,null,null,null,null,null,null,null,null,null,null,null,null,null,null,null,null,null,null,null,null,null,null,null,null,null,null,null,null,null,null,null,null,null,null,null,null,null,null,null,null,null,null,{"$f":"COUNTA(Q110:AU110)","v":0},{"$f":"AV111","v":0},{"$f":"IFERROR(ROUNDDOWN(AV111/$AT$3,1),\"\")","v":""}]
[null,null,null,null,null,null,null,null,null,null,null,null,null,null,null,null,{"$f":"IFERROR(VLOOKUP(Q110,'P2'!$B$4:$J$48,9,FALSE),\"\")","v":""},{"$f":"IFERROR(VLOOKUP(R110,'P2'!$B$4:$J$48,9,FALSE),\"\")","v":""},{"$f":"IFERROR(VLOOKUP(S110,'P2'!$B$4:$J$48,9,FALSE),\"\")","v":""},{"$f":"IFERROR(VLOOKUP(T110,'P2'!$B$4:$J$48,9,FALSE),\"\")","v":""},{"$f":"IFERROR(VLOOKUP(U110,'P2'!$B$4:$J$48,9,FALSE),\"\")","v":""},{"$f":"IFERROR(VLOOKUP(V110,'P2'!$B$4:$J$48,9,FALSE),\"\")","v":""},{"$f":"IFERROR(VLOOKUP(W110,'P2'!$B$4:$J$48,9,FALSE),\"\")","v":""},{"$f":"IFERROR(VLOOKUP(X110,'P2'!$B$4:$J$48,9,FALSE),\"\")","v":""},{"$f":"IFERROR(VLOOKUP(Y110,'P2'!$B$4:$J$48,9,FALSE),\"\")","v":""},{"$f":"IFERROR(VLOOKUP(Z110,'P2'!$B$4:$J$48,9,FALSE),\"\")","v":""},{"$f":"IFERROR(VLOOKUP(AA110,'P2'!$B$4:$J$48,9,FALSE),\"\")","v":""},{"$f":"IFERROR(VLOOKUP(AB110,'P2'!$B$4:$J$48,9,FALSE),\"\")","v":""},{"$f":"IFERROR(VLOOKUP(AC110,'P2'!$B$4:$J$48,9,FALSE),\"\")","v":""},{"$f":"IFERROR(VLOOKUP(AD110,'P2'!$B$4:$J$48,9,FALSE),\"\")","v":""},{"$f":"IFERROR(VLOOKUP(AE110,'P2'!$B$4:$J$48,9,FALSE),\"\")","v":""},{"$f":"IFERROR(VLOOKUP(AF110,'P2'!$B$4:$J$48,9,FALSE),\"\")","v":""},{"$f":"IFERROR(VLOOKUP(AG110,'P2'!$B$4:$J$48,9,FALSE),\"\")","v":""},{"$f":"IFERROR(VLOOKUP(AH110,'P2'!$B$4:$J$48,9,FALSE),\"\")","v":""},{"$f":"IFERROR(VLOOKUP(AI110,'P2'!$B$4:$J$48,9,FALSE),\"\")","v":""},{"$f":"IFERROR(VLOOKUP(AJ110,'P2'!$B$4:$J$48,9,FALSE),\"\")","v":""},{"$f":"IFERROR(VLOOKUP(AK110,'P2'!$B$4:$J$48,9,FALSE),\"\")","v":""},{"$f":"IFERROR(VLOOKUP(AL110,'P2'!$B$4:$J$48,9,FALSE),\"\")","v":""},{"$f":"IFERROR(VLOOKUP(AM110,'P2'!$B$4:$J$48,9,FALSE),\"\")","v":""},{"$f":"IFERROR(VLOOKUP(AN110,'P2'!$B$4:$J$48,9,FALSE),\"\")","v":""},{"$f":"IFERROR(VLOOKUP(AO110,'P2'!$B$4:$J$48,9,FALSE),\"\")","v":""},{"$f":"IFERROR(VLOOKUP(AP110,'P2'!$B$4:$J$48,9,FALSE),\"\")","v":""},{"$f":"IFERROR(VLOOKUP(AQ110,'P2'!$B$4:$J$48,9,FALSE),\"\")","v":""},{"$f":"IFERROR(VLOOKUP(AR110,'P2'!$B$4:$J$48,9,FALSE),\"\")","v":""},{"$f":"IFERROR(VLOOKUP(AS110,'P2'!$B$4:$J$48,9,FALSE),\"\")","v":""},{"$f":"IFERROR(VLOOKUP(AT110,'P2'!$B$4:$J$48,9,FALSE),\"\")","v":""},{"$f":"IFERROR(VLOOKUP(AU110,'P2'!$B$4:$J$48,9,FALSE),\"\")","v":""},{"$f":"SUM(Q111:AU111)","v":0}]
[null,44,null,null,null,null,null,null,null,null,null,null,null,null,null,null,null,null,null,null,null,null,null,null,null,null,null,null,null,null,null,null,null,null,null,null,null,null,null,null,null,null,null,null,null,null,null,{"$f":"COUNTA(Q112:AU112)","v":0},{"$f":"AV113","v":0},{"$f":"IFERROR(ROUNDDOWN(AV113/$AT$3,1),\"\")","v":""}]
[null,null,null,null,null,null,null,null,null,null,null,null,null,null,null,null,{"$f":"IFERROR(VLOOKUP(Q112,'P2'!$B$4:$J$48,9,FALSE),\"\")","v":""},{"$f":"IFERROR(VLOOKUP(R112,'P2'!$B$4:$J$48,9,FALSE),\"\")","v":""},{"$f":"IFERROR(VLOOKUP(S112,'P2'!$B$4:$J$48,9,FALSE),\"\")","v":""},{"$f":"IFERROR(VLOOKUP(T112,'P2'!$B$4:$J$48,9,FALSE),\"\")","v":""},{"$f":"IFERROR(VLOOKUP(U112,'P2'!$B$4:$J$48,9,FALSE),\"\")","v":""},{"$f":"IFERROR(VLOOKUP(V112,'P2'!$B$4:$J$48,9,FALSE),\"\")","v":""},{"$f":"IFERROR(VLOOKUP(W112,'P2'!$B$4:$J$48,9,FALSE),\"\")","v":""},{"$f":"IFERROR(VLOOKUP(X112,'P2'!$B$4:$J$48,9,FALSE),\"\")","v":""},{"$f":"IFERROR(VLOOKUP(Y112,'P2'!$B$4:$J$48,9,FALSE),\"\")","v":""},{"$f":"IFERROR(VLOOKUP(Z112,'P2'!$B$4:$J$48,9,FALSE),\"\")","v":""},{"$f":"IFERROR(VLOOKUP(AA112,'P2'!$B$4:$J$48,9,FALSE),\"\")","v":""},{"$f":"IFERROR(VLOOKUP(AB112,'P2'!$B$4:$J$48,9,FALSE),\"\")","v":""},{"$f":"IFERROR(VLOOKUP(AC112,'P2'!$B$4:$J$48,9,FALSE),\"\")","v":""},{"$f":"IFERROR(VLOOKUP(AD112,'P2'!$B$4:$J$48,9,FALSE),\"\")","v":""},{"$f":"IFERROR(VLOOKUP(AE112,'P2'!$B$4:$J$48,9,FALSE),\"\")","v":""},{"$f":"IFERROR(VLOOKUP(AF112,'P2'!$B$4:$J$48,9,FALSE),\"\")","v":""},{"$f":"IFERROR(VLOOKUP(AG112,'P2'!$B$4:$J$48,9,FALSE),\"\")","v":""},{"$f":"IFERROR(VLOOKUP(AH112,'P2'!$B$4:$J$48,9,FALSE),\"\")","v":""},{"$f":"IFERROR(VLOOKUP(AI112,'P2'!$B$4:$J$48,9,FALSE),\"\")","v":""},{"$f":"IFERROR(VLOOKUP(AJ112,'P2'!$B$4:$J$48,9,FALSE),\"\")","v":""},{"$f":"IFERROR(VLOOKUP(AK112,'P2'!$B$4:$J$48,9,FALSE),\"\")","v":""},{"$f":"IFERROR(VLOOKUP(AL112,'P2'!$B$4:$J$48,9,FALSE),\"\")","v":""},{"$f":"IFERROR(VLOOKUP(AM112,'P2'!$B$4:$J$48,9,FALSE),\"\")","v":""},{"$f":"IFERROR(VLOOKUP(AN112,'P2'!$B$4:$J$48,9,FALSE),\"\")","v":""},{"$f":"IFERROR(VLOOKUP(AO112,'P2'!$B$4:$J$48,9,FALSE),\"\")","v":""},{"$f":"IFERROR(VLOOKUP(AP112,'P2'!$B$4:$J$48,9,FALSE),\"\")","v":""},{"$f":"IFERROR(VLOOKUP(AQ112,'P2'!$B$4:$J$48,9,FALSE),\"\")","v":""},{"$f":"IFERROR(VLOOKUP(AR112,'P2'!$B$4:$J$48,9,FALSE),\"\")","v":""},{"$f":"IFERROR(VLOOKUP(AS112,'P2'!$B$4:$J$48,9,FALSE),\"\")","v":""},{"$f":"IFERROR(VLOOKUP(AT112,'P2'!$B$4:$J$48,9,FALSE),\"\")","v":""},{"$f":"IFERROR(VLOOKUP(AU112,'P2'!$B$4:$J$48,9,FALSE),\"\")","v":""},{"$f":"SUM(Q113:AU113)","v":0}]
[null,45,null,null,null,null,null,null,null,null,null,null,null,null,null,null,null,null,null,null,null,null,null,null,null,null,null,null,null,null,null,null,null,null,null,null,null,null,null,null,null,null,null,null,null,null,null,{"$f":"COUNTA(Q114:AU114)","v":0},{"$f":"AV115","v":0},{"$f":"IFERROR(ROUNDDOWN(AV115/$AT$3,1),\"\")","v":""}]
[null,null,null,null,null,null,null,null,null,null,null,null,null,null,null,null,{"$f":"IFERROR(VLOOKUP(Q114,'P2'!$B$4:$J$48,9,FALSE),\"\")","v":""},{"$f":"IFERROR(VLOOKUP(R114,'P2'!$B$4:$J$48,9,FALSE),\"\")","v":""},{"$f":"IFERROR(VLOOKUP(S114,'P2'!$B$4:$J$48,9,FALSE),\"\")","v":""},{"$f":"IFERROR(VLOOKUP(T114,'P2'!$B$4:$J$48,9,FALSE),\"\")","v":""},{"$f":"IFERROR(VLOOKUP(U114,'P2'!$B$4:$J$48,9,FALSE),\"\")","v":""},{"$f":"IFERROR(VLOOKUP(V114,'P2'!$B$4:$J$48,9,FALSE),\"\")","v":""},{"$f":"IFERROR(VLOOKUP(W114,'P2'!$B$4:$J$48,9,FALSE),\"\")","v":""},{"$f":"IFERROR(VLOOKUP(X114,'P2'!$B$4:$J$48,9,FALSE),\"\")","v":""},{"$f":"IFERROR(VLOOKUP(Y114,'P2'!$B$4:$J$48,9,FALSE),\"\")","v":""},{"$f":"IFERROR(VLOOKUP(Z114,'P2'!$B$4:$J$48,9,FALSE),\"\")","v":""},{"$f":"IFERROR(VLOOKUP(AA114,'P2'!$B$4:$J$48,9,FALSE),\"\")","v":""},{"$f":"IFERROR(VLOOKUP(AB114,'P2'!$B$4:$J$48,9,FALSE),\"\")","v":""},{"$f":"IFERROR(VLOOKUP(AC114,'P2'!$B$4:$J$48,9,FALSE),\"\")","v":""},{"$f":"IFERROR(VLOOKUP(AD114,'P2'!$B$4:$J$48,9,FALSE),\"\")","v":""},{"$f":"IFERROR(VLOOKUP(AE114,'P2'!$B$4:$J$48,9,FALSE),\"\")","v":""},{"$f":"IFERROR(VLOOKUP(AF114,'P2'!$B$4:$J$48,9,FALSE),\"\")","v":""},{"$f":"IFERROR(VLOOKUP(AG114,'P2'!$B$4:$J$48,9,FALSE),\"\")","v":""},{"$f":"IFERROR(VLOOKUP(AH114,'P2'!$B$4:$J$48,9,FALSE),\"\")","v":""},{"$f":"IFERROR(VLOOKUP(AI114,'P2'!$B$4:$J$48,9,FALSE),\"\")","v":""},{"$f":"IFERROR(VLOOKUP(AJ114,'P2'!$B$4:$J$48,9,FALSE),\"\")","v":""},{"$f":"IFERROR(VLOOKUP(AK114,'P2'!$B$4:$J$48,9,FALSE),\"\")","v":""},{"$f":"IFERROR(VLOOKUP(AL114,'P2'!$B$4:$J$48,9,FALSE),\"\")","v":""},{"$f":"IFERROR(VLOOKUP(AM114,'P2'!$B$4:$J$48,9,FALSE),\"\")","v":""},{"$f":"IFERROR(VLOOKUP(AN114,'P2'!$B$4:$J$48,9,FALSE),\"\")","v":""},{"$f":"IFERROR(VLOOKUP(AO114,'P2'!$B$4:$J$48,9,FALSE),\"\")","v":""},{"$f":"IFERROR(VLOOKUP(AP114,'P2'!$B$4:$J$48,9,FALSE),\"\")","v":""},{"$f":"IFERROR(VLOOKUP(AQ114,'P2'!$B$4:$J$48,9,FALSE),\"\")","v":""},{"$f":"IFERROR(VLOOKUP(AR114,'P2'!$B$4:$J$48,9,FALSE),\"\")","v":""},{"$f":"IFERROR(VLOOKUP(AS114,'P2'!$B$4:$J$48,9,FALSE),\"\")","v":""},{"$f":"IFERROR(VLOOKUP(AT114,'P2'!$B$4:$J$48,9,FALSE),\"\")","v":""},{"$f":"IFERROR(VLOOKUP(AU114,'P2'!$B$4:$J$48,9,FALSE),\"\")","v":""},{"$f":"SUM(Q115:AU115)","v":0}]
[null,46,null,null,null,null,null,null,null,null,null,null,null,null,null,null,null,null,null,null,null,null,null,null,null,null,null,null,null,null,null,null,null,null,null,null,null,null,null,null,null,null,null,null,null,null,null,{"$f":"COUNTA(Q116:AU116)","v":0},{"$f":"AV117","v":0},{"$f":"IFERROR(ROUNDDOWN(AV117/$AT$3,1),\"\")","v":""}]
[null,null,null,null,null,null,null,null,null,null,null,null,null,null,null,null,{"$f":"IFERROR(VLOOKUP(Q116,'P2'!$B$4:$J$48,9,FALSE),\"\")","v":""},{"$f":"IFERROR(VLOOKUP(R116,'P2'!$B$4:$J$48,9,FALSE),\"\")","v":""},{"$f":"IFERROR(VLOOKUP(S116,'P2'!$B$4:$J$48,9,FALSE),\"\")","v":""},{"$f":"IFERROR(VLOOKUP(T116,'P2'!$B$4:$J$48,9,FALSE),\"\")","v":""},{"$f":"IFERROR(VLOOKUP(U116,'P2'!$B$4:$J$48,9,FALSE),\"\")","v":""},{"$f":"IFERROR(VLOOKUP(V116,'P2'!$B$4:$J$48,9,FALSE),\"\")","v":""},{"$f":"IFERROR(VLOOKUP(W116,'P2'!$B$4:$J$48,9,FALSE),\"\")","v":""},{"$f":"IFERROR(VLOOKUP(X116,'P2'!$B$4:$J$48,9,FALSE),\"\")","v":""},{"$f":"IFERROR(VLOOKUP(Y116,'P2'!$B$4:$J$48,9,FALSE),\"\")","v":""},{"$f":"IFERROR(VLOOKUP(Z116,'P2'!$B$4:$J$48,9,FALSE),\"\")","v":""},{"$f":"IFERROR(VLOOKUP(AA116,'P2'!$B$4:$J$48,9,FALSE),\"\")","v":""},{"$f":"IFERROR(VLOOKUP(AB116,'P2'!$B$4:$J$48,9,FALSE),\"\")","v":""},{"$f":"IFERROR(VLOOKUP(AC116,'P2'!$B$4:$J$48,9,FALSE),\"\")","v":""},{"$f":"IFERROR(VLOOKUP(AD116,'P2'!$B$4:$J$48,9,FALSE),\"\")","v":""},{"$f":"IFERROR(VLOOKUP(AE116,'P2'!$B$4:$J$48,9,FALSE),\"\")","v":""},{"$f":"IFERROR(VLOOKUP(AF116,'P2'!$B$4:$J$48,9,FALSE),\"\")","v":""},{"$f":"IFERROR(VLOOKUP(AG116,'P2'!$B$4:$J$48,9,FALSE),\"\")","v":""},{"$f":"IFERROR(VLOOKUP(AH116,'P2'!$B$4:$J$48,9,FALSE),\"\")","v":""},{"$f":"IFERROR(VLOOKUP(AI116,'P2'!$B$4:$J$48,9,FALSE),\"\")","v":""},{"$f":"IFERROR(VLOOKUP(AJ116,'P2'!$B$4:$J$48,9,FALSE),\"\")","v":""},{"$f":"IFERROR(VLOOKUP(AK116,'P2'!$B$4:$J$48,9,FALSE),\"\")","v":""},{"$f":"IFERROR(VLOOKUP(AL116,'P2'!$B$4:$J$48,9,FALSE),\"\")","v":""},{"$f":"IFERROR(VLOOKUP(AM116,'P2'!$B$4:$J$48,9,FALSE),\"\")","v":""},{"$f":"IFERROR(VLOOKUP(AN116,'P2'!$B$4:$J$48,9,FALSE),\"\")","v":""},{"$f":"IFERROR(VLOOKUP(AO116,'P2'!$B$4:$J$48,9,FALSE),\"\")","v":""},{"$f":"IFERROR(VLOOKUP(AP116,'P2'!$B$4:$J$48,9,FALSE),\"\")","v":""},{"$f":"IFERROR(VLOOKUP(AQ116,'P2'!$B$4:$J$48,9,FALSE),\"\")","v":""},{"$f":"IFERROR(VLOOKUP(AR116,'P2'!$B$4:$J$48,9,FALSE),\"\")","v":""},{"$f":"IFERROR(VLOOKUP(AS116,'P2'!$B$4:$J$48,9,FALSE),\"\")","v":""},{"$f":"IFERROR(VLOOKUP(AT116,'P2'!$B$4:$J$48,9,FALSE),\"\")","v":""},{"$f":"IFERROR(VLOOKUP(AU116,'P2'!$B$4:$J$48,9,FALSE),\"\")","v":""},{"$f":"SUM(Q117:AU117)","v":0}]
[null,47,null,null,null,null,null,null,null,null,null,null,null,null,null,null,null,null,null,null,null,null,null,null,null,null,null,null,null,null,null,null,null,null,null,null,null,null,null,null,null,null,null,null,null,null,null,{"$f":"COUNTA(Q118:AU118)","v":0},{"$f":"AV119","v":0},{"$f":"IFERROR(ROUNDDOWN(AV119/$AT$3,1),\"\")","v":""}]
[null,null,null,null,null,null,null,null,null,null,null,null,null,null,null,null,{"$f":"IFERROR(VLOOKUP(Q118,'P2'!$B$4:$J$48,9,FALSE),\"\")","v":""},{"$f":"IFERROR(VLOOKUP(R118,'P2'!$B$4:$J$48,9,FALSE),\"\")","v":""},{"$f":"IFERROR(VLOOKUP(S118,'P2'!$B$4:$J$48,9,FALSE),\"\")","v":""},{"$f":"IFERROR(VLOOKUP(T118,'P2'!$B$4:$J$48,9,FALSE),\"\")","v":""},{"$f":"IFERROR(VLOOKUP(U118,'P2'!$B$4:$J$48,9,FALSE),\"\")","v":""},{"$f":"IFERROR(VLOOKUP(V118,'P2'!$B$4:$J$48,9,FALSE),\"\")","v":""},{"$f":"IFERROR(VLOOKUP(W118,'P2'!$B$4:$J$48,9,FALSE),\"\")","v":""},{"$f":"IFERROR(VLOOKUP(X118,'P2'!$B$4:$J$48,9,FALSE),\"\")","v":""},{"$f":"IFERROR(VLOOKUP(Y118,'P2'!$B$4:$J$48,9,FALSE),\"\")","v":""},{"$f":"IFERROR(VLOOKUP(Z118,'P2'!$B$4:$J$48,9,FALSE),\"\")","v":""},{"$f":"IFERROR(VLOOKUP(AA118,'P2'!$B$4:$J$48,9,FALSE),\"\")","v":""},{"$f":"IFERROR(VLOOKUP(AB118,'P2'!$B$4:$J$48,9,FALSE),\"\")","v":""},{"$f":"IFERROR(VLOOKUP(AC118,'P2'!$B$4:$J$48,9,FALSE),\"\")","v":""},{"$f":"IFERROR(VLOOKUP(AD118,'P2'!$B$4:$J$48,9,FALSE),\"\")","v":""},{"$f":"IFERROR(VLOOKUP(AE118,'P2'!$B$4:$J$48,9,FALSE),\"\")","v":""},{"$f":"IFERROR(VLOOKUP(AF118,'P2'!$B$4:$J$48,9,FALSE),\"\")","v":""},{"$f":"IFERROR(VLOOKUP(AG118,'P2'!$B$4:$J$48,9,FALSE),\"\")","v":""},{"$f":"IFERROR(VLOOKUP(AH118,'P2'!$B$4:$J$48,9,FALSE),\"\")","v":""},{"$f":"IFERROR(VLOOKUP(AI118,'P2'!$B$4:$J$48,9,FALSE),\"\")","v":""},{"$f":"IFERROR(VLOOKUP(AJ118,'P2'!$B$4:$J$48,9,FALSE),\"\")","v":""},{"$f":"IFERROR(VLOOKUP(AK118,'P2'!$B$4:$J$48,9,FALSE),\"\")","v":""},{"$f":"IFERROR(VLOOKUP(AL118,'P2'!$B$4:$J$48,9,FALSE),\"\")","v":""},{"$f":"IFERROR(VLOOKUP(AM118,'P2'!$B$4:$J$48,9,FALSE),\"\")","v":""},{"$f":"IFERROR(VLOOKUP(AN118,'P2'!$B$4:$J$48,9,FALSE),\"\")","v":""},{"$f":"IFERROR(VLOOKUP(AO118,'P2'!$B$4:$J$48,9,FALSE),\"\")","v":""},{"$f":"IFERROR(VLOOKUP(AP118,'P2'!$B$4:$J$48,9,FALSE),\"\")","v":""},{"$f":"IFERROR(VLOOKUP(AQ118,'P2'!$B$4:$J$48,9,FALSE),\"\")","v":""},{"$f":"IFERROR(VLOOKUP(AR118,'P2'!$B$4:$J$48,9,FALSE),\"\")","v":""},{"$f":"IFERROR(VLOOKUP(AS118,'P2'!$B$4:$J$48,9,FALSE),\"\")","v":""},{"$f":"IFERROR(VLOOKUP(AT118,'P2'!$B$4:$J$48,9,FALSE),\"\")","v":""},{"$f":"IFERROR(VLOOKUP(AU118,'P2'!$B$4:$J$48,9,FALSE),\"\")","v":""},{"$f":"SUM(Q119:AU119)","v":0}]
[null,48,null,null,null,null,null,null,null,null,null,null,null,null,null,null,null,null,null,null,null,null,null,null,null,null,null,null,null,null,null,null,null,null,null,null,null,null,null,null,null,null,null,null,null,null,null,{"$f":"COUNTA(Q120:AU120)","v":0},{"$f":"AV121","v":0},{"$f":"IFERROR(ROUNDDOWN(AV121/$AT$3,1),\"\")","v":""}]
[null,null,null,null,null,null,null,null,null,null,null,null,null,null,null,null,{"$f":"IFERROR(VLOOKUP(Q120,'P2'!$B$4:$J$48,9,FALSE),\"\")","v":""},{"$f":"IFERROR(VLOOKUP(R120,'P2'!$B$4:$J$48,9,FALSE),\"\")","v":""},{"$f":"IFERROR(VLOOKUP(S120,'P2'!$B$4:$J$48,9,FALSE),\"\")","v":""},{"$f":"IFERROR(VLOOKUP(T120,'P2'!$B$4:$J$48,9,FALSE),\"\")","v":""},{"$f":"IFERROR(VLOOKUP(U120,'P2'!$B$4:$J$48,9,FALSE),\"\")","v":""},{"$f":"IFERROR(VLOOKUP(V120,'P2'!$B$4:$J$48,9,FALSE),\"\")","v":""},{"$f":"IFERROR(VLOOKUP(W120,'P2'!$B$4:$J$48,9,FALSE),\"\")","v":""},{"$f":"IFERROR(VLOOKUP(X120,'P2'!$B$4:$J$48,9,FALSE),\"\")","v":""},{"$f":"IFERROR(VLOOKUP(Y120,'P2'!$B$4:$J$48,9,FALSE),\"\")","v":""},{"$f":"IFERROR(VLOOKUP(Z120,'P2'!$B$4:$J$48,9,FALSE),\"\")","v":""},{"$f":"IFERROR(VLOOKUP(AA120,'P2'!$B$4:$J$48,9,FALSE),\"\")","v":""},{"$f":"IFERROR(VLOOKUP(AB120,'P2'!$B$4:$J$48,9,FALSE),\"\")","v":""},{"$f":"IFERROR(VLOOKUP(AC120,'P2'!$B$4:$J$48,9,FALSE),\"\")","v":""},{"$f":"IFERROR(VLOOKUP(AD120,'P2'!$B$4:$J$48,9,FALSE),\"\")","v":""},{"$f":"IFERROR(VLOOKUP(AE120,'P2'!$B$4:$J$48,9,FALSE),\"\")","v":""},{"$f":"IFERROR(VLOOKUP(AF120,'P2'!$B$4:$J$48,9,FALSE),\"\")","v":""},{"$f":"IFERROR(VLOOKUP(AG120,'P2'!$B$4:$J$48,9,FALSE),\"\")","v":""},{"$f":"IFERROR(VLOOKUP(AH120,'P2'!$B$4:$J$48,9,FALSE),\"\")","v":""},{"$f":"IFERROR(VLOOKUP(AI120,'P2'!$B$4:$J$48,9,FALSE),\"\")","v":""},{"$f":"IFERROR(VLOOKUP(AJ120,'P2'!$B$4:$J$48,9,FALSE),\"\")","v":""},{"$f":"IFERROR(VLOOKUP(AK120,'P2'!$B$4:$J$48,9,FALSE),\"\")","v":""},{"$f":"IFERROR(VLOOKUP(AL120,'P2'!$B$4:$J$48,9,FALSE),\"\")","v":""},{"$f":"IFERROR(VLOOKUP(AM120,'P2'!$B$4:$J$48,9,FALSE),\"\")","v":""},{"$f":"IFERROR(VLOOKUP(AN120,'P2'!$B$4:$J$48,9,FALSE),\"\")","v":""},{"$f":"IFERROR(VLOOKUP(AO120,'P2'!$B$4:$J$48,9,FALSE),\"\")","v":""},{"$f":"IFERROR(VLOOKUP(AP120,'P2'!$B$4:$J$48,9,FALSE),\"\")","v":""},{"$f":"IFERROR(VLOOKUP(AQ120,'P2'!$B$4:$J$48,9,FALSE),\"\")","v":""},{"$f":"IFERROR(VLOOKUP(AR120,'P2'!$B$4:$J$48,9,FALSE),\"\")","v":""},{"$f":"IFERROR(VLOOKUP(AS120,'P2'!$B$4:$J$48,9,FALSE),\"\")","v":""},{"$f":"IFERROR(VLOOKUP(AT120,'P2'!$B$4:$J$48,9,FALSE),\"\")","v":""},{"$f":"IFERROR(VLOOKUP(AU120,'P2'!$B$4:$J$48,9,FALSE),\"\")","v":""},{"$f":"SUM(Q121:AU121)","v":0}]
[null,49,null,null,null,null,null,null,null,null,null,null,null,null,null,null,null,null,null,null,null,null,null,null,null,null,null,null,null,null,null,null,null,null,null,null,null,null,null,null,null,null,null,null,null,null,null,{"$f":"COUNTA(Q122:AU122)","v":0},{"$f":"AV123","v":0},{"$f":"IFERROR(ROUNDDOWN(AV123/$AT$3,1),\"\")","v":""}]
[null,null,null,null,null,null,null,null,null,null,null,null,null,null,null,null,{"$f":"IFERROR(VLOOKUP(Q122,'P2'!$B$4:$J$48,9,FALSE),\"\")","v":""},{"$f":"IFERROR(VLOOKUP(R122,'P2'!$B$4:$J$48,9,FALSE),\"\")","v":""},{"$f":"IFERROR(VLOOKUP(S122,'P2'!$B$4:$J$48,9,FALSE),\"\")","v":""},{"$f":"IFERROR(VLOOKUP(T122,'P2'!$B$4:$J$48,9,FALSE),\"\")","v":""},{"$f":"IFERROR(VLOOKUP(U122,'P2'!$B$4:$J$48,9,FALSE),\"\")","v":""},{"$f":"IFERROR(VLOOKUP(V122,'P2'!$B$4:$J$48,9,FALSE),\"\")","v":""},{"$f":"IFERROR(VLOOKUP(W122,'P2'!$B$4:$J$48,9,FALSE),\"\")","v":""},{"$f":"IFERROR(VLOOKUP(X122,'P2'!$B$4:$J$48,9,FALSE),\"\")","v":""},{"$f":"IFERROR(VLOOKUP(Y122,'P2'!$B$4:$J$48,9,FALSE),\"\")","v":""},{"$f":"IFERROR(VLOOKUP(Z122,'P2'!$B$4:$J$48,9,FALSE),\"\")","v":""},{"$f":"IFERROR(VLOOKUP(AA122,'P2'!$B$4:$J$48,9,FALSE),\"\")","v":""},{"$f":"IFERROR(VLOOKUP(AB122,'P2'!$B$4:$J$48,9,FALSE),\"\")","v":""},{"$f":"IFERROR(VLOOKUP(AC122,'P2'!$B$4:$J$48,9,FALSE),\"\")","v":""},{"$f":"IFERROR(VLOOKUP(AD122,'P2'!$B$4:$J$48,9,FALSE),\"\")","v":""},{"$f":"IFERROR(VLOOKUP(AE122,'P2'!$B$4:$J$48,9,FALSE),\"\")","v":""},{"$f":"IFERROR(VLOOKUP(AF122,'P2'!$B$4:$J$48,9,FALSE),\"\")","v":""},{"$f":"IFERROR(VLOOKUP(AG122,'P2'!$B$4:$J$48,9,FALSE),\"\")","v":""},{"$f":"IFERROR(VLOOKUP(AH122,'P2'!$B$4:$J$48,9,FALSE),\"\")","v":""},{"$f":"IFERROR(VLOOKUP(AI122,'P2'!$B$4:$J$48,9,FALSE),\"\")","v":""},{"$f":"IFERROR(VLOOKUP(AJ122,'P2'!$B$4:$J$48,9,FALSE),\"\")","v":""},{"$f":"IFERROR(VLOOKUP(AK122,'P2'!$B$4:$J$48,9,FALSE),\"\")","v":""},{"$f":"IFERROR(VLOOKUP(AL122,'P2'!$B$4:$J$48,9,FALSE),\"\")","v":""},{"$f":"IFERROR(VLOOKUP(AM122,'P2'!$B$4:$J$48,9,FALSE),\"\")","v":""},{"$f":"IFERROR(VLOOKUP(AN122,'P2'!$B$4:$J$48,9,FALSE),\"\")","v":""},{"$f":"IFERROR(VLOOKUP(AO122,'P2'!$B$4:$J$48,9,FALSE),\"\")","v":""},{"$f":"IFERROR(VLOOKUP(AP122,'P2'!$B$4:$J$48,9,FALSE),\"\")","v":""},{"$f":"IFERROR(VLOOKUP(AQ122,'P2'!$B$4:$J$48,9,FALSE),\"\")","v":""},{"$f":"IFERROR(VLOOKUP(AR122,'P2'!$B$4:$J$48,9,FALSE),\"\")","v":""},{"$f":"IFERROR(VLOOKUP(AS122,'P2'!$B$4:$J$48,9,FALSE),\"\")","v":""},{"$f":"IFERROR(VLOOKUP(AT122,'P2'!$B$4:$J$48,9,FALSE),\"\")","v":""},{"$f":"IFERROR(VLOOKUP(AU122,'P2'!$B$4:$J$48,9,FALSE),\"\")","v":""},{"$f":"SUM(Q123:AU123)","v":0}]
[null,50,null,null,null,null,null,null,null,null,null,null,null,null,null,null,null,null,null,null,null,null,null,null,null,null,null,null,null,null,null,null,null,null,null,null,null,null,null,null,null,null,null,null,null,null,null,{"$f":"COUNTA(Q124:AU124)","v":0},{"$f":"AV125","v":0},{"$f":"IFERROR(ROUNDDOWN(AV125/$AT$3,1),\"\")","v":""}]
[null,null,null,null,null,null,null,null,null,null,null,null,null,null,null,null,{"$f":"IFERROR(VLOOKUP(Q124,'P2'!$B$4:$J$48,9,FALSE),\"\")","v":""},{"$f":"IFERROR(VLOOKUP(R124,'P2'!$B$4:$J$48,9,FALSE),\"\")","v":""},{"$f":"IFERROR(VLOOKUP(S124,'P2'!$B$4:$J$48,9,FALSE),\"\")","v":""},{"$f":"IFERROR(VLOOKUP(T124,'P2'!$B$4:$J$48,9,FALSE),\"\")","v":""},{"$f":"IFERROR(VLOOKUP(U124,'P2'!$B$4:$J$48,9,FALSE),\"\")","v":""},{"$f":"IFERROR(VLOOKUP(V124,'P2'!$B$4:$J$48,9,FALSE),\"\")","v":""},{"$f":"IFERROR(VLOOKUP(W124,'P2'!$B$4:$J$48,9,FALSE),\"\")","v":""},{"$f":"IFERROR(VLOOKUP(X124,'P2'!$B$4:$J$48,9,FALSE),\"\")","v":""},{"$f":"IFERROR(VLOOKUP(Y124,'P2'!$B$4:$J$48,9,FALSE),\"\")","v":""},{"$f":"IFERROR(VLOOKUP(Z124,'P2'!$B$4:$J$48,9,FALSE),\"\")","v":""},{"$f":"IFERROR(VLOOKUP(AA124,'P2'!$B$4:$J$48,9,FALSE),\"\")","v":""},{"$f":"IFERROR(VLOOKUP(AB124,'P2'!$B$4:$J$48,9,FALSE),\"\")","v":""},{"$f":"IFERROR(VLOOKUP(AC124,'P2'!$B$4:$J$48,9,FALSE),\"\")","v":""},{"$f":"IFERROR(VLOOKUP(AD124,'P2'!$B$4:$J$48,9,FALSE),\"\")","v":""},{"$f":"IFERROR(VLOOKUP(AE124,'P2'!$B$4:$J$48,9,FALSE),\"\")","v":""},{"$f":"IFERROR(VLOOKUP(AF124,'P2'!$B$4:$J$48,9,FALSE),\"\")","v":""},{"$f":"IFERROR(VLOOKUP(AG124,'P2'!$B$4:$J$48,9,FALSE),\"\")","v":""},{"$f":"IFERROR(VLOOKUP(AH124,'P2'!$B$4:$J$48,9,FALSE),\"\")","v":""},{"$f":"IFERROR(VLOOKUP(AI124,'P2'!$B$4:$J$48,9,FALSE),\"\")","v":""},{"$f":"IFERROR(VLOOKUP(AJ124,'P2'!$B$4:$J$48,9,FALSE),\"\")","v":""},{"$f":"IFERROR(VLOOKUP(AK124,'P2'!$B$4:$J$48,9,FALSE),\"\")","v":""},{"$f":"IFERROR(VLOOKUP(AL124,'P2'!$B$4:$J$48,9,FALSE),\"\")","v":""},{"$f":"IFERROR(VLOOKUP(AM124,'P2'!$B$4:$J$48,9,FALSE),\"\")","v":""},{"$f":"IFERROR(VLOOKUP(AN124,'P2'!$B$4:$J$48,9,FALSE),\"\")","v":""},{"$f":"IFERROR(VLOOKUP(AO124,'P2'!$B$4:$J$48,9,FALSE),\"\")","v":""},{"$f":"IFERROR(VLOOKUP(AP124,'P2'!$B$4:$J$48,9,FALSE),\"\")","v":""},{"$f":"IFERROR(VLOOKUP(AQ124,'P2'!$B$4:$J$48,9,FALSE),\"\")","v":""},{"$f":"IFERROR(VLOOKUP(AR124,'P2'!$B$4:$J$48,9,FALSE),\"\")","v":""},{"$f":"IFERROR(VLOOKUP(AS124,'P2'!$B$4:$J$48,9,FALSE),\"\")","v":""},{"$f":"IFERROR(VLOOKUP(AT124,'P2'!$B$4:$J$48,9,FALSE),\"\")","v":""},{"$f":"IFERROR(VLOOKUP(AU124,'P2'!$B$4:$J$48,9,FALSE),\"\")","v":""},{"$f":"SUM(Q125:AU125)","v":0}]
[null,51,null,null,null,null,null,null,null,null,null,null,null,null,null,null,null,null,null,null,null,null,null,null,null,null,null,null,null,null,null,null,null,null,null,null,null,null,null,null,null,null,null,null,null,null,null,{"$f":"COUNTA(Q126:AU126)","v":0},{"$f":"AV127","v":0},{"$f":"IFERROR(ROUNDDOWN(AV127/$AT$3,1),\"\")","v":""}]
[null,null,null,null,null,null,null,null,null,null,null,null,null,null,null,null,{"$f":"IFERROR(VLOOKUP(Q126,'P2'!$B$4:$J$48,9,FALSE),\"\")","v":""},{"$f":"IFERROR(VLOOKUP(R126,'P2'!$B$4:$J$48,9,FALSE),\"\")","v":""},{"$f":"IFERROR(VLOOKUP(S126,'P2'!$B$4:$J$48,9,FALSE),\"\")","v":""},{"$f":"IFERROR(VLOOKUP(T126,'P2'!$B$4:$J$48,9,FALSE),\"\")","v":""},{"$f":"IFERROR(VLOOKUP(U126,'P2'!$B$4:$J$48,9,FALSE),\"\")","v":""},{"$f":"IFERROR(VLOOKUP(V126,'P2'!$B$4:$J$48,9,FALSE),\"\")","v":""},{"$f":"IFERROR(VLOOKUP(W126,'P2'!$B$4:$J$48,9,FALSE),\"\")","v":""},{"$f":"IFERROR(VLOOKUP(X126,'P2'!$B$4:$J$48,9,FALSE),\"\")","v":""},{"$f":"IFERROR(VLOOKUP(Y126,'P2'!$B$4:$J$48,9,FALSE),\"\")","v":""},{"$f":"IFERROR(VLOOKUP(Z126,'P2'!$B$4:$J$48,9,FALSE),\"\")","v":""},{"$f":"IFERROR(VLOOKUP(AA126,'P2'!$B$4:$J$48,9,FALSE),\"\")","v":""},{"$f":"IFERROR(VLOOKUP(AB126,'P2'!$B$4:$J$48,9,FALSE),\"\")","v":""},{"$f":"IFERROR(VLOOKUP(AC126,'P2'!$B$4:$J$48,9,FALSE),\"\")","v":""},{"$f":"IFERROR(VLOOKUP(AD126,'P2'!$B$4:$J$48,9,FALSE),\"\")","v":""},{"$f":"IFERROR(VLOOKUP(AE126,'P2'!$B$4:$J$48,9,FALSE),\"\")","v":""},{"$f":"IFERROR(VLOOKUP(AF126,'P2'!$B$4:$J$48,9,FALSE),\"\")","v":""},{"$f":"IFERROR(VLOOKUP(AG126,'P2'!$B$4:$J$48,9,FALSE),\"\")","v":""},{"$f":"IFERROR(VLOOKUP(AH126,'P2'!$B$4:$J$48,9,FALSE),\"\")","v":""},{"$f":"IFERROR(VLOOKUP(AI126,'P2'!$B$4:$J$48,9,FALSE),\"\")","v":""},{"$f":"IFERROR(VLOOKUP(AJ126,'P2'!$B$4:$J$48,9,FALSE),\"\")","v":""},{"$f":"IFERROR(VLOOKUP(AK126,'P2'!$B$4:$J$48,9,FALSE),\"\")","v":""},{"$f":"IFERROR(VLOOKUP(AL126,'P2'!$B$4:$J$48,9,FALSE),\"\")","v":""},{"$f":"IFERROR(VLOOKUP(AM126,'P2'!$B$4:$J$48,9,FALSE),\"\")","v":""},{"$f":"IFERROR(VLOOKUP(AN126,'P2'!$B$4:$J$48,9,FALSE),\"\")","v":""},{"$f":"IFERROR(VLOOKUP(AO126,'P2'!$B$4:$J$48,9,FALSE),\"\")","v":""},{"$f":"IFERROR(VLOOKUP(AP126,'P2'!$B$4:$J$48,9,FALSE),\"\")","v":""},{"$f":"IFERROR(VLOOKUP(AQ126,'P2'!$B$4:$J$48,9,FALSE),\"\")","v":""},{"$f":"IFERROR(VLOOKUP(AR126,'P2'!$B$4:$J$48,9,FALSE),\"\")","v":""},{"$f":"IFERROR(VLOOKUP(AS126,'P2'!$B$4:$J$48,9,FALSE),\"\")","v":""},{"$f":"IFERROR(VLOOKUP(AT126,'P2'!$B$4:$J$48,9,FALSE),\"\")","v":""},{"$f":"IFERROR(VLOOKUP(AU126,'P2'!$B$4:$J$48,9,FALSE),\"\")","v":""},{"$f":"SUM(Q127:AU127)","v":0}]
[null,52,null,null,null,null,null,null,null,null,null,null,null,null,null,null,null,null,null,null,null,null,null,null,null,null,null,null,null,null,null,null,null,null,null,null,null,null,null,null,null,null,null,null,null,null,null,{"$f":"COUNTA(Q128:AU128)","v":0},{"$f":"AV129","v":0},{"$f":"IFERROR(ROUNDDOWN(AV129/$AT$3,1),\"\")","v":""}]
[null,null,null,null,null,null,null,null,null,null,null,null,null,null,null,null,{"$f":"IFERROR(VLOOKUP(Q128,'P2'!$B$4:$J$48,9,FALSE),\"\")","v":""},{"$f":"IFERROR(VLOOKUP(R128,'P2'!$B$4:$J$48,9,FALSE),\"\")","v":""},{"$f":"IFERROR(VLOOKUP(S128,'P2'!$B$4:$J$48,9,FALSE),\"\")","v":""},{"$f":"IFERROR(VLOOKUP(T128,'P2'!$B$4:$J$48,9,FALSE),\"\")","v":""},{"$f":"IFERROR(VLOOKUP(U128,'P2'!$B$4:$J$48,9,FALSE),\"\")","v":""},{"$f":"IFERROR(VLOOKUP(V128,'P2'!$B$4:$J$48,9,FALSE),\"\")","v":""},{"$f":"IFERROR(VLOOKUP(W128,'P2'!$B$4:$J$48,9,FALSE),\"\")","v":""},{"$f":"IFERROR(VLOOKUP(X128,'P2'!$B$4:$J$48,9,FALSE),\"\")","v":""},{"$f":"IFERROR(VLOOKUP(Y128,'P2'!$B$4:$J$48,9,FALSE),\"\")","v":""},{"$f":"IFERROR(VLOOKUP(Z128,'P2'!$B$4:$J$48,9,FALSE),\"\")","v":""},{"$f":"IFERROR(VLOOKUP(AA128,'P2'!$B$4:$J$48,9,FALSE),\"\")","v":""},{"$f":"IFERROR(VLOOKUP(AB128,'P2'!$B$4:$J$48,9,FALSE),\"\")","v":""},{"$f":"IFERROR(VLOOKUP(AC128,'P2'!$B$4:$J$48,9,FALSE),\"\")","v":""},{"$f":"IFERROR(VLOOKUP(AD128,'P2'!$B$4:$J$48,9,FALSE),\"\")","v":""},{"$f":"IFERROR(VLOOKUP(AE128,'P2'!$B$4:$J$48,9,FALSE),\"\")","v":""},{"$f":"IFERROR(VLOOKUP(AF128,'P2'!$B$4:$J$48,9,FALSE),\"\")","v":""},{"$f":"IFERROR(VLOOKUP(AG128,'P2'!$B$4:$J$48,9,FALSE),\"\")","v":""},{"$f":"IFERROR(VLOOKUP(AH128,'P2'!$B$4:$J$48,9,FALSE),\"\")","v":""},{"$f":"IFERROR(VLOOKUP(AI128,'P2'!$B$4:$J$48,9,FALSE),\"\")","v":""},{"$f":"IFERROR(VLOOKUP(AJ128,'P2'!$B$4:$J$48,9,FALSE),\"\")","v":""},{"$f":"IFERROR(VLOOKUP(AK128,'P2'!$B$4:$J$48,9,FALSE),\"\")","v":""},{"$f":"IFERROR(VLOOKUP(AL128,'P2'!$B$4:$J$48,9,FALSE),\"\")","v":""},{"$f":"IFERROR(VLOOKUP(AM128,'P2'!$B$4:$J$48,9,FALSE),\"\")","v":""},{"$f":"IFERROR(VLOOKUP(AN128,'P2'!$B$4:$J$48,9,FALSE),\"\")","v":""},{"$f":"IFERROR(VLOOKUP(AO128,'P2'!$B$4:$J$48,9,FALSE),\"\")","v":""},{"$f":"IFERROR(VLOOKUP(AP128,'P2'!$B$4:$J$48,9,FALSE),\"\")","v":""},{"$f":"IFERROR(VLOOKUP(AQ128,'P2'!$B$4:$J$48,9,FALSE),\"\")","v":""},{"$f":"IFERROR(VLOOKUP(AR128,'P2'!$B$4:$J$48,9,FALSE),\"\")","v":""},{"$f":"IFERROR(VLOOKUP(AS128,'P2'!$B$4:$J$48,9,FALSE),\"\")","v":""},{"$f":"IFERROR(VLOOKUP(AT128,'P2'!$B$4:$J$48,9,FALSE),\"\")","v":""},{"$f":"IFERROR(VLOOKUP(AU128,'P2'!$B$4:$J$48,9,FALSE),\"\")","v":""},{"$f":"SUM(Q129:AU129)","v":0}]
[null,53,null,null,null,null,null,null,null,null,null,null,null,null,null,null,null,null,null,null,null,null,null,null,null,null,null,null,null,null,null,null,null,null,null,null,null,null,null,null,null,null,null,null,null,null,null,{"$f":"COUNTA(Q130:AU130)","v":0},{"$f":"AV131","v":0},{"$f":"IFERROR(ROUNDDOWN(AV131/$AT$3,1),\"\")","v":""}]
[null,null,null,null,null,null,null,null,null,null,null,null,null,null,null,null,{"$f":"IFERROR(VLOOKUP(Q130,'P2'!$B$4:$J$48,9,FALSE),\"\")","v":""},{"$f":"IFERROR(VLOOKUP(R130,'P2'!$B$4:$J$48,9,FALSE),\"\")","v":""},{"$f":"IFERROR(VLOOKUP(S130,'P2'!$B$4:$J$48,9,FALSE),\"\")","v":""},{"$f":"IFERROR(VLOOKUP(T130,'P2'!$B$4:$J$48,9,FALSE),\"\")","v":""},{"$f":"IFERROR(VLOOKUP(U130,'P2'!$B$4:$J$48,9,FALSE),\"\")","v":""},{"$f":"IFERROR(VLOOKUP(V130,'P2'!$B$4:$J$48,9,FALSE),\"\")","v":""},{"$f":"IFERROR(VLOOKUP(W130,'P2'!$B$4:$J$48,9,FALSE),\"\")","v":""},{"$f":"IFERROR(VLOOKUP(X130,'P2'!$B$4:$J$48,9,FALSE),\"\")","v":""},{"$f":"IFERROR(VLOOKUP(Y130,'P2'!$B$4:$J$48,9,FALSE),\"\")","v":""},{"$f":"IFERROR(VLOOKUP(Z130,'P2'!$B$4:$J$48,9,FALSE),\"\")","v":""},{"$f":"IFERROR(VLOOKUP(AA130,'P2'!$B$4:$J$48,9,FALSE),\"\")","v":""},{"$f":"IFERROR(VLOOKUP(AB130,'P2'!$B$4:$J$48,9,FALSE),\"\")","v":""},{"$f":"IFERROR(VLOOKUP(AC130,'P2'!$B$4:$J$48,9,FALSE),\"\")","v":""},{"$f":"IFERROR(VLOOKUP(AD130,'P2'!$B$4:$J$48,9,FALSE),\"\")","v":""},{"$f":"IFERROR(VLOOKUP(AE130,'P2'!$B$4:$J$48,9,FALSE),\"\")","v":""},{"$f":"IFERROR(VLOOKUP(AF130,'P2'!$B$4:$J$48,9,FALSE),\"\")","v":""},{"$f":"IFERROR(VLOOKUP(AG130,'P2'!$B$4:$J$48,9,FALSE),\"\")","v":""},{"$f":"IFERROR(VLOOKUP(AH130,'P2'!$B$4:$J$48,9,FALSE),\"\")","v":""},{"$f":"IFERROR(VLOOKUP(AI130,'P2'!$B$4:$J$48,9,FALSE),\"\")","v":""},{"$f":"IFERROR(VLOOKUP(AJ130,'P2'!$B$4:$J$48,9,FALSE),\"\")","v":""},{"$f":"IFERROR(VLOOKUP(AK130,'P2'!$B$4:$J$48,9,FALSE),\"\")","v":""},{"$f":"IFERROR(VLOOKUP(AL130,'P2'!$B$4:$J$48,9,FALSE),\"\")","v":""},{"$f":"IFERROR(VLOOKUP(AM130,'P2'!$B$4:$J$48,9,FALSE),\"\")","v":""},{"$f":"IFERROR(VLOOKUP(AN130,'P2'!$B$4:$J$48,9,FALSE),\"\")","v":""},{"$f":"IFERROR(VLOOKUP(AO130,'P2'!$B$4:$J$48,9,FALSE),\"\")","v":""},{"$f":"IFERROR(VLOOKUP(AP130,'P2'!$B$4:$J$48,9,FALSE),\"\")","v":""},{"$f":"IFERROR(VLOOKUP(AQ130,'P2'!$B$4:$J$48,9,FALSE),\"\")","v":""},{"$f":"IFERROR(VLOOKUP(AR130,'P2'!$B$4:$J$48,9,FALSE),\"\")","v":""},{"$f":"IFERROR(VLOOKUP(AS130,'P2'!$B$4:$J$48,9,FALSE),\"\")","v":""},{"$f":"IFERROR(VLOOKUP(AT130,'P2'!$B$4:$J$48,9,FALSE),\"\")","v":""},{"$f":"IFERROR(VLOOKUP(AU130,'P2'!$B$4:$J$48,9,FALSE),\"\")","v":""},{"$f":"SUM(Q131:AU131)","v":0}]
[null,54,null,null,null,null,null,null,null,null,null,null,null,null,null,null,null,null,null,null,null,null,null,null,null,null,null,null,null,null,null,null,null,null,null,null,null,null,null,null,null,null,null,null,null,null,null,{"$f":"COUNTA(Q132:AU132)","v":0},{"$f":"AV133","v":0},{"$f":"IFERROR(ROUNDDOWN(AV133/$AT$3,1),\"\")","v":""}]
[null,null,null,null,null,null,null,null,null,null,null,null,null,null,null,null,{"$f":"IFERROR(VLOOKUP(Q132,'P2'!$B$4:$J$48,9,FALSE),\"\")","v":""},{"$f":"IFERROR(VLOOKUP(R132,'P2'!$B$4:$J$48,9,FALSE),\"\")","v":""},{"$f":"IFERROR(VLOOKUP(S132,'P2'!$B$4:$J$48,9,FALSE),\"\")","v":""},{"$f":"IFERROR(VLOOKUP(T132,'P2'!$B$4:$J$48,9,FALSE),\"\")","v":""},{"$f":"IFERROR(VLOOKUP(U132,'P2'!$B$4:$J$48,9,FALSE),\"\")","v":""},{"$f":"IFERROR(VLOOKUP(V132,'P2'!$B$4:$J$48,9,FALSE),\"\")","v":""},{"$f":"IFERROR(VLOOKUP(W132,'P2'!$B$4:$J$48,9,FALSE),\"\")","v":""},{"$f":"IFERROR(VLOOKUP(X132,'P2'!$B$4:$J$48,9,FALSE),\"\")","v":""},{"$f":"IFERROR(VLOOKUP(Y132,'P2'!$B$4:$J$48,9,FALSE),\"\")","v":""},{"$f":"IFERROR(VLOOKUP(Z132,'P2'!$B$4:$J$48,9,FALSE),\"\")","v":""},{"$f":"IFERROR(VLOOKUP(AA132,'P2'!$B$4:$J$48,9,FALSE),\"\")","v":""},{"$f":"IFERROR(VLOOKUP(AB132,'P2'!$B$4:$J$48,9,FALSE),\"\")","v":""},{"$f":"IFERROR(VLOOKUP(AC132,'P2'!$B$4:$J$48,9,FALSE),\"\")","v":""},{"$f":"IFERROR(VLOOKUP(AD132,'P2'!$B$4:$J$48,9,FALSE),\"\")","v":""},{"$f":"IFERROR(VLOOKUP(AE132,'P2'!$B$4:$J$48,9,FALSE),\"\")","v":""},{"$f":"IFERROR(VLOOKUP(AF132,'P2'!$B$4:$J$48,9,FALSE),\"\")","v":""},{"$f":"IFERROR(VLOOKUP(AG132,'P2'!$B$4:$J$48,9,FALSE),\"\")","v":""},{"$f":"IFERROR(VLOOKUP(AH132,'P2'!$B$4:$J$48,9,FALSE),\"\")","v":""},{"$f":"IFERROR(VLOOKUP(AI132,'P2'!$B$4:$J$48,9,FALSE),\"\")","v":""},{"$f":"IFERROR(VLOOKUP(AJ132,'P2'!$B$4:$J$48,9,FALSE),\"\")","v":""},{"$f":"IFERROR(VLOOKUP(AK132,'P2'!$B$4:$J$48,9,FALSE),\"\")","v":""},{"$f":"IFERROR(VLOOKUP(AL132,'P2'!$B$4:$J$48,9,FALSE),\"\")","v":""},{"$f":"IFERROR(VLOOKUP(AM132,'P2'!$B$4:$J$48,9,FALSE),\"\")","v":""},{"$f":"IFERROR(VLOOKUP(AN132,'P2'!$B$4:$J$48,9,FALSE),\"\")","v":""},{"$f":"IFERROR(VLOOKUP(AO132,'P2'!$B$4:$J$48,9,FALSE),\"\")","v":""},{"$f":"IFERROR(VLOOKUP(AP132,'P2'!$B$4:$J$48,9,FALSE),\"\")","v":""},{"$f":"IFERROR(VLOOKUP(AQ132,'P2'!$B$4:$J$48,9,FALSE),\"\")","v":""},{"$f":"IFERROR(VLOOKUP(AR132,'P2'!$B$4:$J$48,9,FALSE),\"\")","v":""},{"$f":"IFERROR(VLOOKUP(AS132,'P2'!$B$4:$J$48,9,FALSE),\"\")","v":""},{"$f":"IFERROR(VLOOKUP(AT132,'P2'!$B$4:$J$48,9,FALSE),\"\")","v":""},{"$f":"IFERROR(VLOOKUP(AU132,'P2'!$B$4:$J$48,9,FALSE),\"\")","v":""},{"$f":"SUM(Q133:AU133)","v":0}]
[null,55,null,null,null,null,null,null,null,null,null,null,null,null,null,null,null,null,null,null,null,null,null,null,null,null,null,null,null,null,null,null,null,null,null,null,null,null,null,null,null,null,null,null,null,null,null,{"$f":"COUNTA(Q134:AU134)","v":0},{"$f":"AV135","v":0},{"$f":"IFERROR(ROUNDDOWN(AV135/$AT$3,1),\"\")","v":""}]
[null,null,null,null,null,null,null,null,null,null,null,null,null,null,null,null,{"$f":"IFERROR(VLOOKUP(Q134,'P2'!$B$4:$J$48,9,FALSE),\"\")","v":""},{"$f":"IFERROR(VLOOKUP(R134,'P2'!$B$4:$J$48,9,FALSE),\"\")","v":""},{"$f":"IFERROR(VLOOKUP(S134,'P2'!$B$4:$J$48,9,FALSE),\"\")","v":""},{"$f":"IFERROR(VLOOKUP(T134,'P2'!$B$4:$J$48,9,FALSE),\"\")","v":""},{"$f":"IFERROR(VLOOKUP(U134,'P2'!$B$4:$J$48,9,FALSE),\"\")","v":""},{"$f":"IFERROR(VLOOKUP(V134,'P2'!$B$4:$J$48,9,FALSE),\"\")","v":""},{"$f":"IFERROR(VLOOKUP(W134,'P2'!$B$4:$J$48,9,FALSE),\"\")","v":""},{"$f":"IFERROR(VLOOKUP(X134,'P2'!$B$4:$J$48,9,FALSE),\"\")","v":""},{"$f":"IFERROR(VLOOKUP(Y134,'P2'!$B$4:$J$48,9,FALSE),\"\")","v":""},{"$f":"IFERROR(VLOOKUP(Z134,'P2'!$B$4:$J$48,9,FALSE),\"\")","v":""},{"$f":"IFERROR(VLOOKUP(AA134,'P2'!$B$4:$J$48,9,FALSE),\"\")","v":""},{"$f":"IFERROR(VLOOKUP(AB134,'P2'!$B$4:$J$48,9,FALSE),\"\")","v":""},{"$f":"IFERROR(VLOOKUP(AC134,'P2'!$B$4:$J$48,9,FALSE),\"\")","v":""},{"$f":"IFERROR(VLOOKUP(AD134,'P2'!$B$4:$J$48,9,FALSE),\"\")","v":""},{"$f":"IFERROR(VLOOKUP(AE134,'P2'!$B$4:$J$48,9,FALSE),\"\")","v":""},{"$f":"IFERROR(VLOOKUP(AF134,'P2'!$B$4:$J$48,9,FALSE),\"\")","v":""},{"$f":"IFERROR(VLOOKUP(AG134,'P2'!$B$4:$J$48,9,FALSE),\"\")","v":""},{"$f":"IFERROR(VLOOKUP(AH134,'P2'!$B$4:$J$48,9,FALSE),\"\")","v":""},{"$f":"IFERROR(VLOOKUP(AI134,'P2'!$B$4:$J$48,9,FALSE),\"\")","v":""},{"$f":"IFERROR(VLOOKUP(AJ134,'P2'!$B$4:$J$48,9,FALSE),\"\")","v":""},{"$f":"IFERROR(VLOOKUP(AK134,'P2'!$B$4:$J$48,9,FALSE),\"\")","v":""},{"$f":"IFERROR(VLOOKUP(AL134,'P2'!$B$4:$J$48,9,FALSE),\"\")","v":""},{"$f":"IFERROR(VLOOKUP(AM134,'P2'!$B$4:$J$48,9,FALSE),\"\")","v":""},{"$f":"IFERROR(VLOOKUP(AN134,'P2'!$B$4:$J$48,9,FALSE),\"\")","v":""},{"$f":"IFERROR(VLOOKUP(AO134,'P2'!$B$4:$J$48,9,FALSE),\"\")","v":""},{"$f":"IFERROR(VLOOKUP(AP134,'P2'!$B$4:$J$48,9,FALSE),\"\")","v":""},{"$f":"IFERROR(VLOOKUP(AQ134,'P2'!$B$4:$J$48,9,FALSE),\"\")","v":""},{"$f":"IFERROR(VLOOKUP(AR134,'P2'!$B$4:$J$48,9,FALSE),\"\")","v":""},{"$f":"IFERROR(VLOOKUP(AS134,'P2'!$B$4:$J$48,9,FALSE),\"\")","v":""},{"$f":"IFERROR(VLOOKUP(AT134,'P2'!$B$4:$J$48,9,FALSE),\"\")","v":""},{"$f":"IFERROR(VLOOKUP(AU134,'P2'!$B$4:$J$48,9,FALSE),\"\")","v":""},{"$f":"SUM(Q135:AU135)","v":0}]
[null,56,null,null,null,null,null,null,null,null,null,null,null,null,null,null,null,null,null,null,null,null,null,null,null,null,null,null,null,null,null,null,null,null,null,null,null,null,null,null,null,null,null,null,null,null,null,{"$f":"COUNTA(Q136:AU136)","v":0},{"$f":"AV137","v":0},{"$f":"IFERROR(ROUNDDOWN(AV137/$AT$3,1),\"\")","v":""}]
[null,null,null,null,null,null,null,null,null,null,null,null,null,null,null,null,{"$f":"IFERROR(VLOOKUP(Q136,'P2'!$B$4:$J$48,9,FALSE),\"\")","v":""},{"$f":"IFERROR(VLOOKUP(R136,'P2'!$B$4:$J$48,9,FALSE),\"\")","v":""},{"$f":"IFERROR(VLOOKUP(S136,'P2'!$B$4:$J$48,9,FALSE),\"\")","v":""},{"$f":"IFERROR(VLOOKUP(T136,'P2'!$B$4:$J$48,9,FALSE),\"\")","v":""},{"$f":"IFERROR(VLOOKUP(U136,'P2'!$B$4:$J$48,9,FALSE),\"\")","v":""},{"$f":"IFERROR(VLOOKUP(V136,'P2'!$B$4:$J$48,9,FALSE),\"\")","v":""},{"$f":"IFERROR(VLOOKUP(W136,'P2'!$B$4:$J$48,9,FALSE),\"\")","v":""},{"$f":"IFERROR(VLOOKUP(X136,'P2'!$B$4:$J$48,9,FALSE),\"\")","v":""},{"$f":"IFERROR(VLOOKUP(Y136,'P2'!$B$4:$J$48,9,FALSE),\"\")","v":""},{"$f":"IFERROR(VLOOKUP(Z136,'P2'!$B$4:$J$48,9,FALSE),\"\")","v":""},{"$f":"IFERROR(VLOOKUP(AA136,'P2'!$B$4:$J$48,9,FALSE),\"\")","v":""},{"$f":"IFERROR(VLOOKUP(AB136,'P2'!$B$4:$J$48,9,FALSE),\"\")","v":""},{"$f":"IFERROR(VLOOKUP(AC136,'P2'!$B$4:$J$48,9,FALSE),\"\")","v":""},{"$f":"IFERROR(VLOOKUP(AD136,'P2'!$B$4:$J$48,9,FALSE),\"\")","v":""},{"$f":"IFERROR(VLOOKUP(AE136,'P2'!$B$4:$J$48,9,FALSE),\"\")","v":""},{"$f":"IFERROR(VLOOKUP(AF136,'P2'!$B$4:$J$48,9,FALSE),\"\")","v":""},{"$f":"IFERROR(VLOOKUP(AG136,'P2'!$B$4:$J$48,9,FALSE),\"\")","v":""},{"$f":"IFERROR(VLOOKUP(AH136,'P2'!$B$4:$J$48,9,FALSE),\"\")","v":""},{"$f":"IFERROR(VLOOKUP(AI136,'P2'!$B$4:$J$48,9,FALSE),\"\")","v":""},{"$f":"IFERROR(VLOOKUP(AJ136,'P2'!$B$4:$J$48,9,FALSE),\"\")","v":""},{"$f":"IFERROR(VLOOKUP(AK136,'P2'!$B$4:$J$48,9,FALSE),\"\")","v":""},{"$f":"IFERROR(VLOOKUP(AL136,'P2'!$B$4:$J$48,9,FALSE),\"\")","v":""},{"$f":"IFERROR(VLOOKUP(AM136,'P2'!$B$4:$J$48,9,FALSE),\"\")","v":""},{"$f":"IFERROR(VLOOKUP(AN136,'P2'!$B$4:$J$48,9,FALSE),\"\")","v":""},{"$f":"IFERROR(VLOOKUP(AO136,'P2'!$B$4:$J$48,9,FALSE),\"\")","v":""},{"$f":"IFERROR(VLOOKUP(AP136,'P2'!$B$4:$J$48,9,FALSE),\"\")","v":""},{"$f":"IFERROR(VLOOKUP(AQ136,'P2'!$B$4:$J$48,9,FALSE),\"\")","v":""},{"$f":"IFERROR(VLOOKUP(AR136,'P2'!$B$4:$J$48,9,FALSE),\"\")","v":""},{"$f":"IFERROR(VLOOKUP(AS136,'P2'!$B$4:$J$48,9,FALSE),\"\")","v":""},{"$f":"IFERROR(VLOOKUP(AT136,'P2'!$B$4:$J$48,9,FALSE),\"\")","v":""},{"$f":"IFERROR(VLOOKUP(AU136,'P2'!$B$4:$J$48,9,FALSE),\"\")","v":""},{"$f":"SUM(Q137:AU137)","v":0}]
[null,57,null,null,null,null,null,null,null,null,null,null,null,null,null,null,null,null,null,null,null,null,null,null,null,null,null,null,null,null,null,null,null,null,null,null,null,null,null,null,null,null,null,null,null,null,null,{"$f":"COUNTA(Q138:AU138)","v":0},{"$f":"AV139","v":0},{"$f":"IFERROR(ROUNDDOWN(AV139/$AT$3,1),\"\")","v":""}]
[null,null,null,null,null,null,null,null,null,null,null,null,null,null,null,null,{"$f":"IFERROR(VLOOKUP(Q138,'P2'!$B$4:$J$48,9,FALSE),\"\")","v":""},{"$f":"IFERROR(VLOOKUP(R138,'P2'!$B$4:$J$48,9,FALSE),\"\")","v":""},{"$f":"IFERROR(VLOOKUP(S138,'P2'!$B$4:$J$48,9,FALSE),\"\")","v":""},{"$f":"IFERROR(VLOOKUP(T138,'P2'!$B$4:$J$48,9,FALSE),\"\")","v":""},{"$f":"IFERROR(VLOOKUP(U138,'P2'!$B$4:$J$48,9,FALSE),\"\")","v":""},{"$f":"IFERROR(VLOOKUP(V138,'P2'!$B$4:$J$48,9,FALSE),\"\")","v":""},{"$f":"IFERROR(VLOOKUP(W138,'P2'!$B$4:$J$48,9,FALSE),\"\")","v":""},{"$f":"IFERROR(VLOOKUP(X138,'P2'!$B$4:$J$48,9,FALSE),\"\")","v":""},{"$f":"IFERROR(VLOOKUP(Y138,'P2'!$B$4:$J$48,9,FALSE),\"\")","v":""},{"$f":"IFERROR(VLOOKUP(Z138,'P2'!$B$4:$J$48,9,FALSE),\"\")","v":""},{"$f":"IFERROR(VLOOKUP(AA138,'P2'!$B$4:$J$48,9,FALSE),\"\")","v":""},{"$f":"IFERROR(VLOOKUP(AB138,'P2'!$B$4:$J$48,9,FALSE),\"\")","v":""},{"$f":"IFERROR(VLOOKUP(AC138,'P2'!$B$4:$J$48,9,FALSE),\"\")","v":""},{"$f":"IFERROR(VLOOKUP(AD138,'P2'!$B$4:$J$48,9,FALSE),\"\")","v":""},{"$f":"IFERROR(VLOOKUP(AE138,'P2'!$B$4:$J$48,9,FALSE),\"\")","v":""},{"$f":"IFERROR(VLOOKUP(AF138,'P2'!$B$4:$J$48,9,FALSE),\"\")","v":""},{"$f":"IFERROR(VLOOKUP(AG138,'P2'!$B$4:$J$48,9,FALSE),\"\")","v":""},{"$f":"IFERROR(VLOOKUP(AH138,'P2'!$B$4:$J$48,9,FALSE),\"\")","v":""},{"$f":"IFERROR(VLOOKUP(AI138,'P2'!$B$4:$J$48,9,FALSE),\"\")","v":""},{"$f":"IFERROR(VLOOKUP(AJ138,'P2'!$B$4:$J$48,9,FALSE),\"\")","v":""},{"$f":"IFERROR(VLOOKUP(AK138,'P2'!$B$4:$J$48,9,FALSE),\"\")","v":""},{"$f":"IFERROR(VLOOKUP(AL138,'P2'!$B$4:$J$48,9,FALSE),\"\")","v":""},{"$f":"IFERROR(VLOOKUP(AM138,'P2'!$B$4:$J$48,9,FALSE),\"\")","v":""},{"$f":"IFERROR(VLOOKUP(AN138,'P2'!$B$4:$J$48,9,FALSE),\"\")","v":""},{"$f":"IFERROR(VLOOKUP(AO138,'P2'!$B$4:$J$48,9,FALSE),\"\")","v":""},{"$f":"IFERROR(VLOOKUP(AP138,'P2'!$B$4:$J$48,9,FALSE),\"\")","v":""},{"$f":"IFERROR(VLOOKUP(AQ138,'P2'!$B$4:$J$48,9,FALSE),\"\")","v":""},{"$f":"IFERROR(VLOOKUP(AR138,'P2'!$B$4:$J$48,9,FALSE),\"\")","v":""},{"$f":"IFERROR(VLOOKUP(AS138,'P2'!$B$4:$J$48,9,FALSE),\"\")","v":""},{"$f":"IFERROR(VLOOKUP(AT138,'P2'!$B$4:$J$48,9,FALSE),\"\")","v":""},{"$f":"IFERROR(VLOOKUP(AU138,'P2'!$B$4:$J$48,9,FALSE),\"\")","v":""},{"$f":"SUM(Q139:AU139)","v":0}]
[null,58,null,null,null,null,null,null,null,null,null,null,null,null,null,null,null,null,null,null,null,null,null,null,null,null,null,null,null,null,null,null,null,null,null,null,null,null,null,null,null,null,null,null,null,null,null,{"$f":"COUNTA(Q140:AU140)","v":0},{"$f":"AV141","v":0},{"$f":"IFERROR(ROUNDDOWN(AV141/$AT$3,1),\"\")","v":""}]
[null,null,null,null,null,null,null,null,null,null,null,null,null,null,null,null,{"$f":"IFERROR(VLOOKUP(Q140,'P2'!$B$4:$J$48,9,FALSE),\"\")","v":""},{"$f":"IFERROR(VLOOKUP(R140,'P2'!$B$4:$J$48,9,FALSE),\"\")","v":""},{"$f":"IFERROR(VLOOKUP(S140,'P2'!$B$4:$J$48,9,FALSE),\"\")","v":""},{"$f":"IFERROR(VLOOKUP(T140,'P2'!$B$4:$J$48,9,FALSE),\"\")","v":""},{"$f":"IFERROR(VLOOKUP(U140,'P2'!$B$4:$J$48,9,FALSE),\"\")","v":""},{"$f":"IFERROR(VLOOKUP(V140,'P2'!$B$4:$J$48,9,FALSE),\"\")","v":""},{"$f":"IFERROR(VLOOKUP(W140,'P2'!$B$4:$J$48,9,FALSE),\"\")","v":""},{"$f":"IFERROR(VLOOKUP(X140,'P2'!$B$4:$J$48,9,FALSE),\"\")","v":""},{"$f":"IFERROR(VLOOKUP(Y140,'P2'!$B$4:$J$48,9,FALSE),\"\")","v":""},{"$f":"IFERROR(VLOOKUP(Z140,'P2'!$B$4:$J$48,9,FALSE),\"\")","v":""},{"$f":"IFERROR(VLOOKUP(AA140,'P2'!$B$4:$J$48,9,FALSE),\"\")","v":""},{"$f":"IFERROR(VLOOKUP(AB140,'P2'!$B$4:$J$48,9,FALSE),\"\")","v":""},{"$f":"IFERROR(VLOOKUP(AC140,'P2'!$B$4:$J$48,9,FALSE),\"\")","v":""},{"$f":"IFERROR(VLOOKUP(AD140,'P2'!$B$4:$J$48,9,FALSE),\"\")","v":""},{"$f":"IFERROR(VLOOKUP(AE140,'P2'!$B$4:$J$48,9,FALSE),\"\")","v":""},{"$f":"IFERROR(VLOOKUP(AF140,'P2'!$B$4:$J$48,9,FALSE),\"\")","v":""},{"$f":"IFERROR(VLOOKUP(AG140,'P2'!$B$4:$J$48,9,FALSE),\"\")","v":""},{"$f":"IFERROR(VLOOKUP(AH140,'P2'!$B$4:$J$48,9,FALSE),\"\")","v":""},{"$f":"IFERROR(VLOOKUP(AI140,'P2'!$B$4:$J$48,9,FALSE),\"\")","v":""},{"$f":"IFERROR(VLOOKUP(AJ140,'P2'!$B$4:$J$48,9,FALSE),\"\")","v":""},{"$f":"IFERROR(VLOOKUP(AK140,'P2'!$B$4:$J$48,9,FALSE),\"\")","v":""},{"$f":"IFERROR(VLOOKUP(AL140,'P2'!$B$4:$J$48,9,FALSE),\"\")","v":""},{"$f":"IFERROR(VLOOKUP(AM140,'P2'!$B$4:$J$48,9,FALSE),\"\")","v":""},{"$f":"IFERROR(VLOOKUP(AN140,'P2'!$B$4:$J$48,9,FALSE),\"\")","v":""},{"$f":"IFERROR(VLOOKUP(AO140,'P2'!$B$4:$J$48,9,FALSE),\"\")","v":""},{"$f":"IFERROR(VLOOKUP(AP140,'P2'!$B$4:$J$48,9,FALSE),\"\")","v":""},{"$f":"IFERROR(VLOOKUP(AQ140,'P2'!$B$4:$J$48,9,FALSE),\"\")","v":""},{"$f":"IFERROR(VLOOKUP(AR140,'P2'!$B$4:$J$48,9,FALSE),\"\")","v":""},{"$f":"IFERROR(VLOOKUP(AS140,'P2'!$B$4:$J$48,9,FALSE),\"\")","v":""},{"$f":"IFERROR(VLOOKUP(AT140,'P2'!$B$4:$J$48,9,FALSE),\"\")","v":""},{"$f":"IFERROR(VLOOKUP(AU140,'P2'!$B$4:$J$48,9,FALSE),\"\")","v":""},{"$f":"SUM(Q141:AU141)","v":0}]
[null,59,null,null,null,null,null,null,null,null,null,null,null,null,null,null,null,null,null,null,null,null,null,null,null,null,null,null,null,null,null,null,null,null,null,null,null,null,null,null,null,null,null,null,null,null,null,{"$f":"COUNTA(Q142:AU142)","v":0},{"$f":"AV143","v":0},{"$f":"IFERROR(ROUNDDOWN(AV143/$AT$3,1),\"\")","v":""}]
[null,null,null,null,null,null,null,null,null,null,null,null,null,null,null,null,{"$f":"IFERROR(VLOOKUP(Q142,'P2'!$B$4:$J$48,9,FALSE),\"\")","v":""},{"$f":"IFERROR(VLOOKUP(R142,'P2'!$B$4:$J$48,9,FALSE),\"\")","v":""},{"$f":"IFERROR(VLOOKUP(S142,'P2'!$B$4:$J$48,9,FALSE),\"\")","v":""},{"$f":"IFERROR(VLOOKUP(T142,'P2'!$B$4:$J$48,9,FALSE),\"\")","v":""},{"$f":"IFERROR(VLOOKUP(U142,'P2'!$B$4:$J$48,9,FALSE),\"\")","v":""},{"$f":"IFERROR(VLOOKUP(V142,'P2'!$B$4:$J$48,9,FALSE),\"\")","v":""},{"$f":"IFERROR(VLOOKUP(W142,'P2'!$B$4:$J$48,9,FALSE),\"\")","v":""},{"$f":"IFERROR(VLOOKUP(X142,'P2'!$B$4:$J$48,9,FALSE),\"\")","v":""},{"$f":"IFERROR(VLOOKUP(Y142,'P2'!$B$4:$J$48,9,FALSE),\"\")","v":""},{"$f":"IFERROR(VLOOKUP(Z142,'P2'!$B$4:$J$48,9,FALSE),\"\")","v":""},{"$f":"IFERROR(VLOOKUP(AA142,'P2'!$B$4:$J$48,9,FALSE),\"\")","v":""},{"$f":"IFERROR(VLOOKUP(AB142,'P2'!$B$4:$J$48,9,FALSE),\"\")","v":""},{"$f":"IFERROR(VLOOKUP(AC142,'P2'!$B$4:$J$48,9,FALSE),\"\")","v":""},{"$f":"IFERROR(VLOOKUP(AD142,'P2'!$B$4:$J$48,9,FALSE),\"\")","v":""},{"$f":"IFERROR(VLOOKUP(AE142,'P2'!$B$4:$J$48,9,FALSE),\"\")","v":""},{"$f":"IFERROR(VLOOKUP(AF142,'P2'!$B$4:$J$48,9,FALSE),\"\")","v":""},{"$f":"IFERROR(VLOOKUP(AG142,'P2'!$B$4:$J$48,9,FALSE),\"\")","v":""},{"$f":"IFERROR(VLOOKUP(AH142,'P2'!$B$4:$J$48,9,FALSE),\"\")","v":""},{"$f":"IFERROR(VLOOKUP(AI142,'P2'!$B$4:$J$48,9,FALSE),\"\")","v":""},{"$f":"IFERROR(VLOOKUP(AJ142,'P2'!$B$4:$J$48,9,FALSE),\"\")","v":""},{"$f":"IFERROR(VLOOKUP(AK142,'P2'!$B$4:$J$48,9,FALSE),\"\")","v":""},{"$f":"IFERROR(VLOOKUP(AL142,'P2'!$B$4:$J$48,9,FALSE),\"\")","v":""},{"$f":"IFERROR(VLOOKUP(AM142,'P2'!$B$4:$J$48,9,FALSE),\"\")","v":""},{"$f":"IFERROR(VLOOKUP(AN142,'P2'!$B$4:$J$48,9,FALSE),\"\")","v":""},{"$f":"IFERROR(VLOOKUP(AO142,'P2'!$B$4:$J$48,9,FALSE),\"\")","v":""},{"$f":"IFERROR(VLOOKUP(AP142,'P2'!$B$4:$J$48,9,FALSE),\"\")","v":""},{"$f":"IFERROR(VLOOKUP(AQ142,'P2'!$B$4:$J$48,9,FALSE),\"\")","v":""},{"$f":"IFERROR(VLOOKUP(AR142,'P2'!$B$4:$J$48,9,FALSE),\"\")","v":""},{"$f":"IFERROR(VLOOKUP(AS142,'P2'!$B$4:$J$48,9,FALSE),\"\")","v":""},{"$f":"IFERROR(VLOOKUP(AT142,'P2'!$B$4:$J$48,9,FALSE),\"\")","v":""},{"$f":"IFERROR(VLOOKUP(AU142,'P2'!$B$4:$J$48,9,FALSE),\"\")","v":""},{"$f":"SUM(Q143:AU143)","v":0}]
[null,60,null,null,null,null,null,null,null,null,null,null,null,null,null,null,null,null,null,null,null,null,null,null,null,null,null,null,null,null,null,null,null,null,null,null,null,null,null,null,null,null,null,null,null,null,null,{"$f":"COUNTA(Q144:AU144)","v":0},{"$f":"AV145","v":0},{"$f":"IFERROR(ROUNDDOWN(AV145/$AT$3,1),\"\")","v":""}]
[null,null,null,null,null,null,null,null,null,null,null,null,null,null,null,null,{"$f":"IFERROR(VLOOKUP(Q144,'P2'!$B$4:$J$48,9,FALSE),\"\")","v":""},{"$f":"IFERROR(VLOOKUP(R144,'P2'!$B$4:$J$48,9,FALSE),\"\")","v":""},{"$f":"IFERROR(VLOOKUP(S144,'P2'!$B$4:$J$48,9,FALSE),\"\")","v":""},{"$f":"IFERROR(VLOOKUP(T144,'P2'!$B$4:$J$48,9,FALSE),\"\")","v":""},{"$f":"IFERROR(VLOOKUP(U144,'P2'!$B$4:$J$48,9,FALSE),\"\")","v":""},{"$f":"IFERROR(VLOOKUP(V144,'P2'!$B$4:$J$48,9,FALSE),\"\")","v":""},{"$f":"IFERROR(VLOOKUP(W144,'P2'!$B$4:$J$48,9,FALSE),\"\")","v":""},{"$f":"IFERROR(VLOOKUP(X144,'P2'!$B$4:$J$48,9,FALSE),\"\")","v":""},{"$f":"IFERROR(VLOOKUP(Y144,'P2'!$B$4:$J$48,9,FALSE),\"\")","v":""},{"$f":"IFERROR(VLOOKUP(Z144,'P2'!$B$4:$J$48,9,FALSE),\"\")","v":""},{"$f":"IFERROR(VLOOKUP(AA144,'P2'!$B$4:$J$48,9,FALSE),\"\")","v":""},{"$f":"IFERROR(VLOOKUP(AB144,'P2'!$B$4:$J$48,9,FALSE),\"\")","v":""},{"$f":"IFERROR(VLOOKUP(AC144,'P2'!$B$4:$J$48,9,FALSE),\"\")","v":""},{"$f":"IFERROR(VLOOKUP(AD144,'P2'!$B$4:$J$48,9,FALSE),\"\")","v":""},{"$f":"IFERROR(VLOOKUP(AE144,'P2'!$B$4:$J$48,9,FALSE),\"\")","v":""},{"$f":"IFERROR(VLOOKUP(AF144,'P2'!$B$4:$J$48,9,FALSE),\"\")","v":""},{"$f":"IFERROR(VLOOKUP(AG144,'P2'!$B$4:$J$48,9,FALSE),\"\")","v":""},{"$f":"IFERROR(VLOOKUP(AH144,'P2'!$B$4:$J$48,9,FALSE),\"\")","v":""},{"$f":"IFERROR(VLOOKUP(AI144,'P2'!$B$4:$J$48,9,FALSE),\"\")","v":""},{"$f":"IFERROR(VLOOKUP(AJ144,'P2'!$B$4:$J$48,9,FALSE),\"\")","v":""},{"$f":"IFERROR(VLOOKUP(AK144,'P2'!$B$4:$J$48,9,FALSE),\"\")","v":""},{"$f":"IFERROR(VLOOKUP(AL144,'P2'!$B$4:$J$48,9,FALSE),\"\")","v":""},{"$f":"IFERROR(VLOOKUP(AM144,'P2'!$B$4:$J$48,9,FALSE),\"\")","v":""},{"$f":"IFERROR(VLOOKUP(AN144,'P2'!$B$4:$J$48,9,FALSE),\"\")","v":""},{"$f":"IFERROR(VLOOKUP(AO144,'P2'!$B$4:$J$48,9,FALSE),\"\")","v":""},{"$f":"IFERROR(VLOOKUP(AP144,'P2'!$B$4:$J$48,9,FALSE),\"\")","v":""},{"$f":"IFERROR(VLOOKUP(AQ144,'P2'!$B$4:$J$48,9,FALSE),\"\")","v":""},{"$f":"IFERROR(VLOOKUP(AR144,'P2'!$B$4:$J$48,9,FALSE),\"\")","v":""},{"$f":"IFERROR(VLOOKUP(AS144,'P2'!$B$4:$J$48,9,FALSE),\"\")","v":""},{"$f":"IFERROR(VLOOKUP(AT144,'P2'!$B$4:$J$48,9,FALSE),\"\")","v":""},{"$f":"IFERROR(VLOOKUP(AU144,'P2'!$B$4:$J$48,9,FALSE),\"\")","v":""},{"$f":"SUM(Q145:AU145)","v":0}]
[null,61,null,null,null,null,null,null,null,null,null,null,null,null,null,null,null,null,null,null,null,null,null,null,null,null,null,null,null,null,null,null,null,null,null,null,null,null,null,null,null,null,null,null,null,null,null,{"$f":"COUNTA(Q146:AU146)","v":0},{"$f":"AV147","v":0},{"$f":"IFERROR(ROUNDDOWN(AV147/$AT$3,1),\"\")","v":""}]
[null,null,null,null,null,null,null,null,null,null,null,null,null,null,null,null,{"$f":"IFERROR(VLOOKUP(Q146,'P2'!$B$4:$J$48,9,FALSE),\"\")","v":""},{"$f":"IFERROR(VLOOKUP(R146,'P2'!$B$4:$J$48,9,FALSE),\"\")","v":""},{"$f":"IFERROR(VLOOKUP(S146,'P2'!$B$4:$J$48,9,FALSE),\"\")","v":""},{"$f":"IFERROR(VLOOKUP(T146,'P2'!$B$4:$J$48,9,FALSE),\"\")","v":""},{"$f":"IFERROR(VLOOKUP(U146,'P2'!$B$4:$J$48,9,FALSE),\"\")","v":""},{"$f":"IFERROR(VLOOKUP(V146,'P2'!$B$4:$J$48,9,FALSE),\"\")","v":""},{"$f":"IFERROR(VLOOKUP(W146,'P2'!$B$4:$J$48,9,FALSE),\"\")","v":""},{"$f":"IFERROR(VLOOKUP(X146,'P2'!$B$4:$J$48,9,FALSE),\"\")","v":""},{"$f":"IFERROR(VLOOKUP(Y146,'P2'!$B$4:$J$48,9,FALSE),\"\")","v":""},{"$f":"IFERROR(VLOOKUP(Z146,'P2'!$B$4:$J$48,9,FALSE),\"\")","v":""},{"$f":"IFERROR(VLOOKUP(AA146,'P2'!$B$4:$J$48,9,FALSE),\"\")","v":""},{"$f":"IFERROR(VLOOKUP(AB146,'P2'!$B$4:$J$48,9,FALSE),\"\")","v":""},{"$f":"IFERROR(VLOOKUP(AC146,'P2'!$B$4:$J$48,9,FALSE),\"\")","v":""},{"$f":"IFERROR(VLOOKUP(AD146,'P2'!$B$4:$J$48,9,FALSE),\"\")","v":""},{"$f":"IFERROR(VLOOKUP(AE146,'P2'!$B$4:$J$48,9,FALSE),\"\")","v":""},{"$f":"IFERROR(VLOOKUP(AF146,'P2'!$B$4:$J$48,9,FALSE),\"\")","v":""},{"$f":"IFERROR(VLOOKUP(AG146,'P2'!$B$4:$J$48,9,FALSE),\"\")","v":""},{"$f":"IFERROR(VLOOKUP(AH146,'P2'!$B$4:$J$48,9,FALSE),\"\")","v":""},{"$f":"IFERROR(VLOOKUP(AI146,'P2'!$B$4:$J$48,9,FALSE),\"\")","v":""},{"$f":"IFERROR(VLOOKUP(AJ146,'P2'!$B$4:$J$48,9,FALSE),\"\")","v":""},{"$f":"IFERROR(VLOOKUP(AK146,'P2'!$B$4:$J$48,9,FALSE),\"\")","v":""},{"$f":"IFERROR(VLOOKUP(AL146,'P2'!$B$4:$J$48,9,FALSE),\"\")","v":""},{"$f":"IFERROR(VLOOKUP(AM146,'P2'!$B$4:$J$48,9,FALSE),\"\")","v":""},{"$f":"IFERROR(VLOOKUP(AN146,'P2'!$B$4:$J$48,9,FALSE),\"\")","v":""},{"$f":"IFERROR(VLOOKUP(AO146,'P2'!$B$4:$J$48,9,FALSE),\"\")","v":""},{"$f":"IFERROR(VLOOKUP(AP146,'P2'!$B$4:$J$48,9,FALSE),\"\")","v":""},{"$f":"IFERROR(VLOOKUP(AQ146,'P2'!$B$4:$J$48,9,FALSE),\"\")","v":""},{"$f":"IFERROR(VLOOKUP(AR146,'P2'!$B$4:$J$48,9,FALSE),\"\")","v":""},{"$f":"IFERROR(VLOOKUP(AS146,'P2'!$B$4:$J$48,9,FALSE),\"\")","v":""},{"$f":"IFERROR(VLOOKUP(AT146,'P2'!$B$4:$J$48,9,FALSE),\"\")","v":""},{"$f":"IFERROR(VLOOKUP(AU146,'P2'!$B$4:$J$48,9,FALSE),\"\")","v":""},{"$f":"SUM(Q147:AU147)","v":0}]
[null,62,null,null,null,null,null,null,null,null,null,null,null,null,null,null,null,null,null,null,null,null,null,null,null,null,null,null,null,null,null,null,null,null,null,null,null,null,null,null,null,null,null,null,null,null,null,{"$f":"COUNTA(Q148:AU148)","v":0},{"$f":"AV149","v":0},{"$f":"IFERROR(ROUNDDOWN(AV149/$AT$3,1),\"\")","v":""}]
[null,null,null,null,null,null,null,null,null,null,null,null,null,null,null,null,{"$f":"IFERROR(VLOOKUP(Q148,'P2'!$B$4:$J$48,9,FALSE),\"\")","v":""},{"$f":"IFERROR(VLOOKUP(R148,'P2'!$B$4:$J$48,9,FALSE),\"\")","v":""},{"$f":"IFERROR(VLOOKUP(S148,'P2'!$B$4:$J$48,9,FALSE),\"\")","v":""},{"$f":"IFERROR(VLOOKUP(T148,'P2'!$B$4:$J$48,9,FALSE),\"\")","v":""},{"$f":"IFERROR(VLOOKUP(U148,'P2'!$B$4:$J$48,9,FALSE),\"\")","v":""},{"$f":"IFERROR(VLOOKUP(V148,'P2'!$B$4:$J$48,9,FALSE),\"\")","v":""},{"$f":"IFERROR(VLOOKUP(W148,'P2'!$B$4:$J$48,9,FALSE),\"\")","v":""},{"$f":"IFERROR(VLOOKUP(X148,'P2'!$B$4:$J$48,9,FALSE),\"\")","v":""},{"$f":"IFERROR(VLOOKUP(Y148,'P2'!$B$4:$J$48,9,FALSE),\"\")","v":""},{"$f":"IFERROR(VLOOKUP(Z148,'P2'!$B$4:$J$48,9,FALSE),\"\")","v":""},{"$f":"IFERROR(VLOOKUP(AA148,'P2'!$B$4:$J$48,9,FALSE),\"\")","v":""},{"$f":"IFERROR(VLOOKUP(AB148,'P2'!$B$4:$J$48,9,FALSE),\"\")","v":""},{"$f":"IFERROR(VLOOKUP(AC148,'P2'!$B$4:$J$48,9,FALSE),\"\")","v":""},{"$f":"IFERROR(VLOOKUP(AD148,'P2'!$B$4:$J$48,9,FALSE),\"\")","v":""},{"$f":"IFERROR(VLOOKUP(AE148,'P2'!$B$4:$J$48,9,FALSE),\"\")","v":""},{"$f":"IFERROR(VLOOKUP(AF148,'P2'!$B$4:$J$48,9,FALSE),\"\")","v":""},{"$f":"IFERROR(VLOOKUP(AG148,'P2'!$B$4:$J$48,9,FALSE),\"\")","v":""},{"$f":"IFERROR(VLOOKUP(AH148,'P2'!$B$4:$J$48,9,FALSE),\"\")","v":""},{"$f":"IFERROR(VLOOKUP(AI148,'P2'!$B$4:$J$48,9,FALSE),\"\")","v":""},{"$f":"IFERROR(VLOOKUP(AJ148,'P2'!$B$4:$J$48,9,FALSE),\"\")","v":""},{"$f":"IFERROR(VLOOKUP(AK148,'P2'!$B$4:$J$48,9,FALSE),\"\")","v":""},{"$f":"IFERROR(VLOOKUP(AL148,'P2'!$B$4:$J$48,9,FALSE),\"\")","v":""},{"$f":"IFERROR(VLOOKUP(AM148,'P2'!$B$4:$J$48,9,FALSE),\"\")","v":""},{"$f":"IFERROR(VLOOKUP(AN148,'P2'!$B$4:$J$48,9,FALSE),\"\")","v":""},{"$f":"IFERROR(VLOOKUP(AO148,'P2'!$B$4:$J$48,9,FALSE),\"\")","v":""},{"$f":"IFERROR(VLOOKUP(AP148,'P2'!$B$4:$J$48,9,FALSE),\"\")","v":""},{"$f":"IFERROR(VLOOKUP(AQ148,'P2'!$B$4:$J$48,9,FALSE),\"\")","v":""},{"$f":"IFERROR(VLOOKUP(AR148,'P2'!$B$4:$J$48,9,FALSE),\"\")","v":""},{"$f":"IFERROR(VLOOKUP(AS148,'P2'!$B$4:$J$48,9,FALSE),\"\")","v":""},{"$f":"IFERROR(VLOOKUP(AT148,'P2'!$B$4:$J$48,9,FALSE),\"\")","v":""},{"$f":"IFERROR(VLOOKUP(AU148,'P2'!$B$4:$J$48,9,FALSE),\"\")","v":""},{"$f":"SUM(Q149:AU149)","v":0}]
[]
[]
[null,"(2)　勤務実績　（直近3か月分の実績）",null,null,null,null,null,null,null,null,null,null,null,null,null,null,null,null,"（",{"$f":"$T$3","v":"令和　7"},null,"年",{"$f":"$W$3","v":3},"月分実績",null,"）",null,null,null,null,null,null,null,null,null,null,null,null,null,null,null,null,null,null,null,null,null,null,null,{"$f":"\"4 / \"&COUNTA(C$7,C$57,C$106,C$155,C$204)","v":"4 / 1"}]
[null,null,"職　　種",null,null,null,null,null,"氏　　名",null,null,null,null,"勤務\n形態",null,null,{"$f":"Q$5","v":"2025-03-01"},{"$f":"R$5","v":"2025-03-02"},"2025-03-03","2025-03-04","2025-03-05","2025-03-06","2025-03-07","2025-03-08","2025-03-09","2025-03-10","2025-03-11","2025-03-12","2025-03-13","2025-03-14","2025-03-15","2025-03-16","2025-03-17","2025-03-18","2025-03-19","2025-03-20","2025-03-21","2025-03-22","2025-03-23","2025-03-24","2025-03-25","2025-03-26","2025-03-27","2025-03-28","2025-03-29","2025-03-30","2025-03-31","勤務日数",null,"常勤換算"]
[null,null,null,null,null,null,null,null,null,null,null,null,null,null,null,null,{"$f":"Q$6","v":"土"},{"$f":"R$6","v":"日"},"月","火","水","木","金","土","日","月","火","水","木","金","土","日","月","火","水","木","金","土","日","月","火","水","木","金","土","日","月","勤務時間"]
[null,{"$f":"B148+1","v":63},null,null,null,null,null,null,null,null,null,null,null,null,null,null,null,null,null,null,null,null,null,null,null,null,null,null,null,null,null,null,null,null,null,null,null,null,null,null,null,null,null,null,null,null,null,{"$f":"COUNTA(Q155:AU155)","v":0},{"$f":"AV156","v":0},{"$f":"IFERROR(ROUNDDOWN(AV156/$AT$3,1),\"\")","v":""}]
[null,null,null,null,null,null,null,null,null,null,null,null,null,null,null,null,{"$f":"IFERROR(VLOOKUP(Q155,'P2'!$B$4:$J$48,9,FALSE),\"\")","v":""},{"$f":"IFERROR(VLOOKUP(R155,'P2'!$B$4:$J$48,9,FALSE),\"\")","v":""},{"$f":"IFERROR(VLOOKUP(S155,'P2'!$B$4:$J$48,9,FALSE),\"\")","v":""},{"$f":"IFERROR(VLOOKUP(T155,'P2'!$B$4:$J$48,9,FALSE),\"\")","v":""},{"$f":"IFERROR(VLOOKUP(U155,'P2'!$B$4:$J$48,9,FALSE),\"\")","v":""},{"$f":"IFERROR(VLOOKUP(V155,'P2'!$B$4:$J$48,9,FALSE),\"\")","v":""},{"$f":"IFERROR(VLOOKUP(W155,'P2'!$B$4:$J$48,9,FALSE),\"\")","v":""},{"$f":"IFERROR(VLOOKUP(X155,'P2'!$B$4:$J$48,9,FALSE),\"\")","v":""},{"$f":"IFERROR(VLOOKUP(Y155,'P2'!$B$4:$J$48,9,FALSE),\"\")","v":""},{"$f":"IFERROR(VLOOKUP(Z155,'P2'!$B$4:$J$48,9,FALSE),\"\")","v":""},{"$f":"IFERROR(VLOOKUP(AA155,'P2'!$B$4:$J$48,9,FALSE),\"\")","v":""},{"$f":"IFERROR(VLOOKUP(AB155,'P2'!$B$4:$J$48,9,FALSE),\"\")","v":""},{"$f":"IFERROR(VLOOKUP(AC155,'P2'!$B$4:$J$48,9,FALSE),\"\")","v":""},{"$f":"IFERROR(VLOOKUP(AD155,'P2'!$B$4:$J$48,9,FALSE),\"\")","v":""},{"$f":"IFERROR(VLOOKUP(AE155,'P2'!$B$4:$J$48,9,FALSE),\"\")","v":""},{"$f":"IFERROR(VLOOKUP(AF155,'P2'!$B$4:$J$48,9,FALSE),\"\")","v":""},{"$f":"IFERROR(VLOOKUP(AG155,'P2'!$B$4:$J$48,9,FALSE),\"\")","v":""},{"$f":"IFERROR(VLOOKUP(AH155,'P2'!$B$4:$J$48,9,FALSE),\"\")","v":""},{"$f":"IFERROR(VLOOKUP(AI155,'P2'!$B$4:$J$48,9,FALSE),\"\")","v":""},{"$f":"IFERROR(VLOOKUP(AJ155,'P2'!$B$4:$J$48,9,FALSE),\"\")","v":""},{"$f":"IFERROR(VLOOKUP(AK155,'P2'!$B$4:$J$48,9,FALSE),\"\")","v":""},{"$f":"IFERROR(VLOOKUP(AL155,'P2'!$B$4:$J$48,9,FALSE),\"\")","v":""},{"$f":"IFERROR(VLOOKUP(AM155,'P2'!$B$4:$J$48,9,FALSE),\"\")","v":""},{"$f":"IFERROR(VLOOKUP(AN155,'P2'!$B$4:$J$48,9,FALSE),\"\")","v":""},{"$f":"IFERROR(VLOOKUP(AO155,'P2'!$B$4:$J$48,9,FALSE),\"\")","v":""},{"$f":"IFERROR(VLOOKUP(AP155,'P2'!$B$4:$J$48,9,FALSE),\"\")","v":""},{"$f":"IFERROR(VLOOKUP(AQ155,'P2'!$B$4:$J$48,9,FALSE),\"\")","v":""},{"$f":"IFERROR(VLOOKUP(AR155,'P2'!$B$4:$J$48,9,FALSE),\"\")","v":""},{"$f":"IFERROR(VLOOKUP(AS155,'P2'!$B$4:$J$48,9,FALSE),\"\")","v":""},{"$f":"IFERROR(VLOOKUP(AT155,'P2'!$B$4:$J$48,9,FALSE),\"\")","v":""},{"$f":"IFERROR(VLOOKUP(AU155,'P2'!$B$4:$J$48,9,FALSE),\"\")","v":""},{"$f":"SUM(Q156:AU156)","v":0}]
[null,{"$f":"B155+1","v":64},null,null,null,null,null,null,null,null,null,null,null,null,null,null,null,null,null,null,null,null,null,null,null,null,null,null,null,null,null,null,null,null,null,null,null,null,null,null,null,null,null,null,null,null,null,{"$f":"COUNTA(Q157:AU157)","v":0},{"$f":"AV158","v":0},{"$f":"IFERROR(ROUNDDOWN(AV158/$AT$3,1),\"\")","v":""}]
[null,null,null,null,null,null,null,null,null,null,null,null,null,null,null,null,{"$f":"IFERROR(VLOOKUP(Q157,'P2'!$B$4:$J$48,9,FALSE),\"\")","v":""},{"$f":"IFERROR(VLOOKUP(R157,'P2'!$B$4:$J$48,9,FALSE),\"\")","v":""},{"$f":"IFERROR(VLOOKUP(S157,'P2'!$B$4:$J$48,9,FALSE),\"\")","v":""},{"$f":"IFERROR(VLOOKUP(T157,'P2'!$B$4:$J$48,9,FALSE),\"\")","v":""},{"$f":"IFERROR(VLOOKUP(U157,'P2'!$B$4:$J$48,9,FALSE),\"\")","v":""},{"$f":"IFERROR(VLOOKUP(V157,'P2'!$B$4:$J$48,9,FALSE),\"\")","v":""},{"$f":"IFERROR(VLOOKUP(W157,'P2'!$B$4:$J$48,9,FALSE),\"\")","v":""},{"$f":"IFERROR(VLOOKUP(X157,'P2'!$B$4:$J$48,9,FALSE),\"\")","v":""},{"$f":"IFERROR(VLOOKUP(Y157,'P2'!$B$4:$J$48,9,FALSE),\"\")","v":""},{"$f":"IFERROR(VLOOKUP(Z157,'P2'!$B$4:$J$48,9,FALSE),\"\")","v":""},{"$f":"IFERROR(VLOOKUP(AA157,'P2'!$B$4:$J$48,9,FALSE),\"\")","v":""},{"$f":"IFERROR(VLOOKUP(AB157,'P2'!$B$4:$J$48,9,FALSE),\"\")","v":""},{"$f":"IFERROR(VLOOKUP(AC157,'P2'!$B$4:$J$48,9,FALSE),\"\")","v":""},{"$f":"IFERROR(VLOOKUP(AD157,'P2'!$B$4:$J$48,9,FALSE),\"\")","v":""},{"$f":"IFERROR(VLOOKUP(AE157,'P2'!$B$4:$J$48,9,FALSE),\"\")","v":""},{"$f":"IFERROR(VLOOKUP(AF157,'P2'!$B$4:$J$48,9,FALSE),\"\")","v":""},{"$f":"IFERROR(VLOOKUP(AG157,'P2'!$B$4:$J$48,9,FALSE),\"\")","v":""},{"$f":"IFERROR(VLOOKUP(AH157,'P2'!$B$4:$J$48,9,FALSE),\"\")","v":""},{"$f":"IFERROR(VLOOKUP(AI157,'P2'!$B$4:$J$48,9,FALSE),\"\")","v":""},{"$f":"IFERROR(VLOOKUP(AJ157,'P2'!$B$4:$J$48,9,FALSE),\"\")","v":""},{"$f":"IFERROR(VLOOKUP(AK157,'P2'!$B$4:$J$48,9,FALSE),\"\")","v":""},{"$f":"IFERROR(VLOOKUP(AL157,'P2'!$B$4:$J$48,9,FALSE),\"\")","v":""},{"$f":"IFERROR(VLOOKUP(AM157,'P2'!$B$4:$J$48,9,FALSE),\"\")","v":""},{"$f":"IFERROR(VLOOKUP(AN157,'P2'!$B$4:$J$48,9,FALSE),\"\")","v":""},{"$f":"IFERROR(VLOOKUP(AO157,'P2'!$B$4:$J$48,9,FALSE),\"\")","v":""},{"$f":"IFERROR(VLOOKUP(AP157,'P2'!$B$4:$J$48,9,FALSE),\"\")","v":""},{"$f":"IFERROR(VLOOKUP(AQ157,'P2'!$B$4:$J$48,9,FALSE),\"\")","v":""},{"$f":"IFERROR(VLOOKUP(AR157,'P2'!$B$4:$J$48,9,FALSE),\"\")","v":""},{"$f":"IFERROR(VLOOKUP(AS157,'P2'!$B$4:$J$48,9,FALSE),\"\")","v":""},{"$f":"IFERROR(VLOOKUP(AT157,'P2'!$B$4:$J$48,9,FALSE),\"\")","v":""},{"$f":"IFERROR(VLOOKUP(AU157,'P2'!$B$4:$J$48,9,FALSE),\"\")","v":""},{"$f":"SUM(Q158:AU158)","v":0}]
[null,65,null,null,null,null,null,null,null,null,null,null,null,null,null,null,null,null,null,null,null,null,null,null,null,null,null,null,null,null,null,null,null,null,null,null,null,null,null,null,null,null,null,null,null,null,null,{"$f":"COUNTA(Q159:AU159)","v":0},{"$f":"AV160","v":0},{"$f":"IFERROR(ROUNDDOWN(AV160/$AT$3,1),\"\")","v":""}]
[null,null,null,null,null,null,null,null,null,null,null,null,null,null,null,null,{"$f":"IFERROR(VLOOKUP(Q159,'P2'!$B$4:$J$48,9,FALSE),\"\")","v":""},{"$f":"IFERROR(VLOOKUP(R159,'P2'!$B$4:$J$48,9,FALSE),\"\")","v":""},{"$f":"IFERROR(VLOOKUP(S159,'P2'!$B$4:$J$48,9,FALSE),\"\")","v":""},{"$f":"IFERROR(VLOOKUP(T159,'P2'!$B$4:$J$48,9,FALSE),\"\")","v":""},{"$f":"IFERROR(VLOOKUP(U159,'P2'!$B$4:$J$48,9,FALSE),\"\")","v":""},{"$f":"IFERROR(VLOOKUP(V159,'P2'!$B$4:$J$48,9,FALSE),\"\")","v":""},{"$f":"IFERROR(VLOOKUP(W159,'P2'!$B$4:$J$48,9,FALSE),\"\")","v":""},{"$f":"IFERROR(VLOOKUP(X159,'P2'!$B$4:$J$48,9,FALSE),\"\")","v":""},{"$f":"IFERROR(VLOOKUP(Y159,'P2'!$B$4:$J$48,9,FALSE),\"\")","v":""},{"$f":"IFERROR(VLOOKUP(Z159,'P2'!$B$4:$J$48,9,FALSE),\"\")","v":""},{"$f":"IFERROR(VLOOKUP(AA159,'P2'!$B$4:$J$48,9,FALSE),\"\")","v":""},{"$f":"IFERROR(VLOOKUP(AB159,'P2'!$B$4:$J$48,9,FALSE),\"\")","v":""},{"$f":"IFERROR(VLOOKUP(AC159,'P2'!$B$4:$J$48,9,FALSE),\"\")","v":""},{"$f":"IFERROR(VLOOKUP(AD159,'P2'!$B$4:$J$48,9,FALSE),\"\")","v":""},{"$f":"IFERROR(VLOOKUP(AE159,'P2'!$B$4:$J$48,9,FALSE),\"\")","v":""},{"$f":"IFERROR(VLOOKUP(AF159,'P2'!$B$4:$J$48,9,FALSE),\"\")","v":""},{"$f":"IFERROR(VLOOKUP(AG159,'P2'!$B$4:$J$48,9,FALSE),\"\")","v":""},{"$f":"IFERROR(VLOOKUP(AH159,'P2'!$B$4:$J$48,9,FALSE),\"\")","v":""},{"$f":"IFERROR(VLOOKUP(AI159,'P2'!$B$4:$J$48,9,FALSE),\"\")","v":""},{"$f":"IFERROR(VLOOKUP(AJ159,'P2'!$B$4:$J$48,9,FALSE),\"\")","v":""},{"$f":"IFERROR(VLOOKUP(AK159,'P2'!$B$4:$J$48,9,FALSE),\"\")","v":""},{"$f":"IFERROR(VLOOKUP(AL159,'P2'!$B$4:$J$48,9,FALSE),\"\")","v":""},{"$f":"IFERROR(VLOOKUP(AM159,'P2'!$B$4:$J$48,9,FALSE),\"\")","v":""},{"$f":"IFERROR(VLOOKUP(AN159,'P2'!$B$4:$J$48,9,FALSE),\"\")","v":""},{"$f":"IFERROR(VLOOKUP(AO159,'P2'!$B$4:$J$48,9,FALSE),\"\")","v":""},{"$f":"IFERROR(VLOOKUP(AP159,'P2'!$B$4:$J$48,9,FALSE),\"\")","v":""},{"$f":"IFERROR(VLOOKUP(AQ159,'P2'!$B$4:$J$48,9,FALSE),\"\")","v":""},{"$f":"IFERROR(VLOOKUP(AR159,'P2'!$B$4:$J$48,9,FALSE),\"\")","v":""},{"$f":"IFERROR(VLOOKUP(AS159,'P2'!$B$4:$J$48,9,FALSE),\"\")","v":""},{"$f":"IFERROR(VLOOKUP(AT159,'P2'!$B$4:$J$48,9,FALSE),\"\")","v":""},{"$f":"IFERROR(VLOOKUP(AU159,'P2'!$B$4:$J$48,9,FALSE),\"\")","v":""},{"$f":"SUM(Q160:AU160)","v":0}]
[null,66,null,null,null,null,null,null,null,null,null,null,null,null,null,null,null,null,null,null,null,null,null,null,null,null,null,null,null,null,null,null,null,null,null,null,null,null,null,null,null,null,null,null,null,null,null,{"$f":"COUNTA(Q161:AU161)","v":0},{"$f":"AV162","v":0},{"$f":"IFERROR(ROUNDDOWN(AV162/$AT$3,1),\"\")","v":""}]
[null,null,null,null,null,null,null,null,null,null,null,null,null,null,null,null,{"$f":"IFERROR(VLOOKUP(Q161,'P2'!$B$4:$J$48,9,FALSE),\"\")","v":""},{"$f":"IFERROR(VLOOKUP(R161,'P2'!$B$4:$J$48,9,FALSE),\"\")","v":""},{"$f":"IFERROR(VLOOKUP(S161,'P2'!$B$4:$J$48,9,FALSE),\"\")","v":""},{"$f":"IFERROR(VLOOKUP(T161,'P2'!$B$4:$J$48,9,FALSE),\"\")","v":""},{"$f":"IFERROR(VLOOKUP(U161,'P2'!$B$4:$J$48,9,FALSE),\"\")","v":""},{"$f":"IFERROR(VLOOKUP(V161,'P2'!$B$4:$J$48,9,FALSE),\"\")","v":""},{"$f":"IFERROR(VLOOKUP(W161,'P2'!$B$4:$J$48,9,FALSE),\"\")","v":""},{"$f":"IFERROR(VLOOKUP(X161,'P2'!$B$4:$J$48,9,FALSE),\"\")","v":""},{"$f":"IFERROR(VLOOKUP(Y161,'P2'!$B$4:$J$48,9,FALSE),\"\")","v":""},{"$f":"IFERROR(VLOOKUP(Z161,'P2'!$B$4:$J$48,9,FALSE),\"\")","v":""},{"$f":"IFERROR(VLOOKUP(AA161,'P2'!$B$4:$J$48,9,FALSE),\"\")","v":""},{"$f":"IFERROR(VLOOKUP(AB161,'P2'!$B$4:$J$48,9,FALSE),\"\")","v":""},{"$f":"IFERROR(VLOOKUP(AC161,'P2'!$B$4:$J$48,9,FALSE),\"\")","v":""},{"$f":"IFERROR(VLOOKUP(AD161,'P2'!$B$4:$J$48,9,FALSE),\"\")","v":""},{"$f":"IFERROR(VLOOKUP(AE161,'P2'!$B$4:$J$48,9,FALSE),\"\")","v":""},{"$f":"IFERROR(VLOOKUP(AF161,'P2'!$B$4:$J$48,9,FALSE),\"\")","v":""},{"$f":"IFERROR(VLOOKUP(AG161,'P2'!$B$4:$J$48,9,FALSE),\"\")","v":""},{"$f":"IFERROR(VLOOKUP(AH161,'P2'!$B$4:$J$48,9,FALSE),\"\")","v":""},{"$f":"IFERROR(VLOOKUP(AI161,'P2'!$B$4:$J$48,9,FALSE),\"\")","v":""},{"$f":"IFERROR(VLOOKUP(AJ161,'P2'!$B$4:$J$48,9,FALSE),\"\")","v":""},{"$f":"IFERROR(VLOOKUP(AK161,'P2'!$B$4:$J$48,9,FALSE),\"\")","v":""},{"$f":"IFERROR(VLOOKUP(AL161,'P2'!$B$4:$J$48,9,FALSE),\"\")","v":""},{"$f":"IFERROR(VLOOKUP(AM161,'P2'!$B$4:$J$48,9,FALSE),\"\")","v":""},{"$f":"IFERROR(VLOOKUP(AN161,'P2'!$B$4:$J$48,9,FALSE),\"\")","v":""},{"$f":"IFERROR(VLOOKUP(AO161,'P2'!$B$4:$J$48,9,FALSE),\"\")","v":""},{"$f":"IFERROR(VLOOKUP(AP161,'P2'!$B$4:$J$48,9,FALSE),\"\")","v":""},{"$f":"IFERROR(VLOOKUP(AQ161,'P2'!$B$4:$J$48,9,FALSE),\"\")","v":""},{"$f":"IFERROR(VLOOKUP(AR161,'P2'!$B$4:$J$48,9,FALSE),\"\")","v":""},{"$f":"IFERROR(VLOOKUP(AS161,'P2'!$B$4:$J$48,9,FALSE),\"\")","v":""},{"$f":"IFERROR(VLOOKUP(AT161,'P2'!$B$4:$J$48,9,FALSE),\"\")","v":""},{"$f":"IFERROR(VLOOKUP(AU161,'P2'!$B$4:$J$48,9,FALSE),\"\")","v":""},{"$f":"SUM(Q162:AU162)","v":0}]
[null,67,null,null,null,null,null,null,null,null,null,null,null,null,null,null,null,null,null,null,null,null,null,null,null,null,null,null,null,null,null,null,null,null,null,null,null,null,null,null,null,null,null,null,null,null,null,{"$f":"COUNTA(Q163:AU163)","v":0},{"$f":"AV164","v":0},{"$f":"IFERROR(ROUNDDOWN(AV164/$AT$3,1),\"\")","v":""}]
[null,null,null,null,null,null,null,null,null,null,null,null,null,null,null,null,{"$f":"IFERROR(VLOOKUP(Q163,'P2'!$B$4:$J$48,9,FALSE),\"\")","v":""},{"$f":"IFERROR(VLOOKUP(R163,'P2'!$B$4:$J$48,9,FALSE),\"\")","v":""},{"$f":"IFERROR(VLOOKUP(S163,'P2'!$B$4:$J$48,9,FALSE),\"\")","v":""},{"$f":"IFERROR(VLOOKUP(T163,'P2'!$B$4:$J$48,9,FALSE),\"\")","v":""},{"$f":"IFERROR(VLOOKUP(U163,'P2'!$B$4:$J$48,9,FALSE),\"\")","v":""},{"$f":"IFERROR(VLOOKUP(V163,'P2'!$B$4:$J$48,9,FALSE),\"\")","v":""},{"$f":"IFERROR(VLOOKUP(W163,'P2'!$B$4:$J$48,9,FALSE),\"\")","v":""},{"$f":"IFERROR(VLOOKUP(X163,'P2'!$B$4:$J$48,9,FALSE),\"\")","v":""},{"$f":"IFERROR(VLOOKUP(Y163,'P2'!$B$4:$J$48,9,FALSE),\"\")","v":""},{"$f":"IFERROR(VLOOKUP(Z163,'P2'!$B$4:$J$48,9,FALSE),\"\")","v":""},{"$f":"IFERROR(VLOOKUP(AA163,'P2'!$B$4:$J$48,9,FALSE),\"\")","v":""},{"$f":"IFERROR(VLOOKUP(AB163,'P2'!$B$4:$J$48,9,FALSE),\"\")","v":""},{"$f":"IFERROR(VLOOKUP(AC163,'P2'!$B$4:$J$48,9,FALSE),\"\")","v":""},{"$f":"IFERROR(VLOOKUP(AD163,'P2'!$B$4:$J$48,9,FALSE),\"\")","v":""},{"$f":"IFERROR(VLOOKUP(AE163,'P2'!$B$4:$J$48,9,FALSE),\"\")","v":""},{"$f":"IFERROR(VLOOKUP(AF163,'P2'!$B$4:$J$48,9,FALSE),\"\")","v":""},{"$f":"IFERROR(VLOOKUP(AG163,'P2'!$B$4:$J$48,9,FALSE),\"\")","v":""},{"$f":"IFERROR(VLOOKUP(AH163,'P2'!$B$4:$J$48,9,FALSE),\"\")","v":""},{"$f":"IFERROR(VLOOKUP(AI163,'P2'!$B$4:$J$48,9,FALSE),\"\")","v":""},{"$f":"IFERROR(VLOOKUP(AJ163,'P2'!$B$4:$J$48,9,FALSE),\"\")","v":""},{"$f":"IFERROR(VLOOKUP(AK163,'P2'!$B$4:$J$48,9,FALSE),\"\")","v":""},{"$f":"IFERROR(VLOOKUP(AL163,'P2'!$B$4:$J$48,9,FALSE),\"\")","v":""},{"$f":"IFERROR(VLOOKUP(AM163,'P2'!$B$4:$J$48,9,FALSE),\"\")","v":""},{"$f":"IFERROR(VLOOKUP(AN163,'P2'!$B$4:$J$48,9,FALSE),\"\")","v":""},{"$f":"IFERROR(VLOOKUP(AO163,'P2'!$B$4:$J$48,9,FALSE),\"\")","v":""},{"$f":"IFERROR(VLOOKUP(AP163,'P2'!$B$4:$J$48,9,FALSE),\"\")","v":""},{"$f":"IFERROR(VLOOKUP(AQ163,'P2'!$B$4:$J$48,9,FALSE),\"\")","v":""},{"$f":"IFERROR(VLOOKUP(AR163,'P2'!$B$4:$J$48,9,FALSE),\"\")","v":""},{"$f":"IFERROR(VLOOKUP(AS163,'P2'!$B$4:$J$48,9,FALSE),\"\")","v":""},{"$f":"IFERROR(VLOOKUP(AT163,'P2'!$B$4:$J$48,9,FALSE),\"\")","v":""},{"$f":"IFERROR(VLOOKUP(AU163,'P2'!$B$4:$J$48,9,FALSE),\"\")","v":""},{"$f":"SUM(Q164:AU164)","v":0}]
[null,68,null,null,null,null,null,null,null,null,null,null,null,null,null,null,null,null,null,null,null,null,null,null,null,null,null,null,null,null,null,null,null,null,null,null,null,null,null,null,null,null,null,null,null,null,null,{"$f":"COUNTA(Q165:AU165)","v":0},{"$f":"AV166","v":0},{"$f":"IFERROR(ROUNDDOWN(AV166/$AT$3,1),\"\")","v":""}]
[null,null,null,null,null,null,null,null,null,null,null,null,null,null,null,null,{"$f":"IFERROR(VLOOKUP(Q165,'P2'!$B$4:$J$48,9,FALSE),\"\")","v":""},{"$f":"IFERROR(VLOOKUP(R165,'P2'!$B$4:$J$48,9,FALSE),\"\")","v":""},{"$f":"IFERROR(VLOOKUP(S165,'P2'!$B$4:$J$48,9,FALSE),\"\")","v":""},{"$f":"IFERROR(VLOOKUP(T165,'P2'!$B$4:$J$48,9,FALSE),\"\")","v":""},{"$f":"IFERROR(VLOOKUP(U165,'P2'!$B$4:$J$48,9,FALSE),\"\")","v":""},{"$f":"IFERROR(VLOOKUP(V165,'P2'!$B$4:$J$48,9,FALSE),\"\")","v":""},{"$f":"IFERROR(VLOOKUP(W165,'P2'!$B$4:$J$48,9,FALSE),\"\")","v":""},{"$f":"IFERROR(VLOOKUP(X165,'P2'!$B$4:$J$48,9,FALSE),\"\")","v":""},{"$f":"IFERROR(VLOOKUP(Y165,'P2'!$B$4:$J$48,9,FALSE),\"\")","v":""},{"$f":"IFERROR(VLOOKUP(Z165,'P2'!$B$4:$J$48,9,FALSE),\"\")","v":""},{"$f":"IFERROR(VLOOKUP(AA165,'P2'!$B$4:$J$48,9,FALSE),\"\")","v":""},{"$f":"IFERROR(VLOOKUP(AB165,'P2'!$B$4:$J$48,9,FALSE),\"\")","v":""},{"$f":"IFERROR(VLOOKUP(AC165,'P2'!$B$4:$J$48,9,FALSE),\"\")","v":""},{"$f":"IFERROR(VLOOKUP(AD165,'P2'!$B$4:$J$48,9,FALSE),\"\")","v":""},{"$f":"IFERROR(VLOOKUP(AE165,'P2'!$B$4:$J$48,9,FALSE),\"\")","v":""},{"$f":"IFERROR(VLOOKUP(AF165,'P2'!$B$4:$J$48,9,FALSE),\"\")","v":""},{"$f":"IFERROR(VLOOKUP(AG165,'P2'!$B$4:$J$48,9,FALSE),\"\")","v":""},{"$f":"IFERROR(VLOOKUP(AH165,'P2'!$B$4:$J$48,9,FALSE),\"\")","v":""},{"$f":"IFERROR(VLOOKUP(AI165,'P2'!$B$4:$J$48,9,FALSE),\"\")","v":""},{"$f":"IFERROR(VLOOKUP(AJ165,'P2'!$B$4:$J$48,9,FALSE),\"\")","v":""},{"$f":"IFERROR(VLOOKUP(AK165,'P2'!$B$4:$J$48,9,FALSE),\"\")","v":""},{"$f":"IFERROR(VLOOKUP(AL165,'P2'!$B$4:$J$48,9,FALSE),\"\")","v":""},{"$f":"IFERROR(VLOOKUP(AM165,'P2'!$B$4:$J$48,9,FALSE),\"\")","v":""},{"$f":"IFERROR(VLOOKUP(AN165,'P2'!$B$4:$J$48,9,FALSE),\"\")","v":""},{"$f":"IFERROR(VLOOKUP(AO165,'P2'!$B$4:$J$48,9,FALSE),\"\")","v":""},{"$f":"IFERROR(VLOOKUP(AP165,'P2'!$B$4:$J$48,9,FALSE),\"\")","v":""},{"$f":"IFERROR(VLOOKUP(AQ165,'P2'!$B$4:$J$48,9,FALSE),\"\")","v":""},{"$f":"IFERROR(VLOOKUP(AR165,'P2'!$B$4:$J$48,9,FALSE),\"\")","v":""},{"$f":"IFERROR(VLOOKUP(AS165,'P2'!$B$4:$J$48,9,FALSE),\"\")","v":""},{"$f":"IFERROR(VLOOKUP(AT165,'P2'!$B$4:$J$48,9,FALSE),\"\")","v":""},{"$f":"IFERROR(VLOOKUP(AU165,'P2'!$B$4:$J$48,9,FALSE),\"\")","v":""},{"$f":"SUM(Q166:AU166)","v":0}]
[null,69,null,null,null,null,null,null,null,null,null,null,null,null,null,null,null,null,null,null,null,null,null,null,null,null,null,null,null,null,null,null,null,null,null,null,null,null,null,null,null,null,null,null,null,null,null,{"$f":"COUNTA(Q167:AU167)","v":0},{"$f":"AV168","v":0},{"$f":"IFERROR(ROUNDDOWN(AV168/$AT$3,1),\"\")","v":""}]
[null,null,null,null,null,null,null,null,null,null,null,null,null,null,null,null,{"$f":"IFERROR(VLOOKUP(Q167,'P2'!$B$4:$J$48,9,FALSE),\"\")","v":""},{"$f":"IFERROR(VLOOKUP(R167,'P2'!$B$4:$J$48,9,FALSE),\"\")","v":""},{"$f":"IFERROR(VLOOKUP(S167,'P2'!$B$4:$J$48,9,FALSE),\"\")","v":""},{"$f":"IFERROR(VLOOKUP(T167,'P2'!$B$4:$J$48,9,FALSE),\"\")","v":""},{"$f":"IFERROR(VLOOKUP(U167,'P2'!$B$4:$J$48,9,FALSE),\"\")","v":""},{"$f":"IFERROR(VLOOKUP(V167,'P2'!$B$4:$J$48,9,FALSE),\"\")","v":""},{"$f":"IFERROR(VLOOKUP(W167,'P2'!$B$4:$J$48,9,FALSE),\"\")","v":""},{"$f":"IFERROR(VLOOKUP(X167,'P2'!$B$4:$J$48,9,FALSE),\"\")","v":""},{"$f":"IFERROR(VLOOKUP(Y167,'P2'!$B$4:$J$48,9,FALSE),\"\")","v":""},{"$f":"IFERROR(VLOOKUP(Z167,'P2'!$B$4:$J$48,9,FALSE),\"\")","v":""},{"$f":"IFERROR(VLOOKUP(AA167,'P2'!$B$4:$J$48,9,FALSE),\"\")","v":""},{"$f":"IFERROR(VLOOKUP(AB167,'P2'!$B$4:$J$48,9,FALSE),\"\")","v":""},{"$f":"IFERROR(VLOOKUP(AC167,'P2'!$B$4:$J$48,9,FALSE),\"\")","v":""},{"$f":"IFERROR(VLOOKUP(AD167,'P2'!$B$4:$J$48,9,FALSE),\"\")","v":""},{"$f":"IFERROR(VLOOKUP(AE167,'P2'!$B$4:$J$48,9,FALSE),\"\")","v":""},{"$f":"IFERROR(VLOOKUP(AF167,'P2'!$B$4:$J$48,9,FALSE),\"\")","v":""},{"$f":"IFERROR(VLOOKUP(AG167,'P2'!$B$4:$J$48,9,FALSE),\"\")","v":""},{"$f":"IFERROR(VLOOKUP(AH167,'P2'!$B$4:$J$48,9,FALSE),\"\")","v":""},{"$f":"IFERROR(VLOOKUP(AI167,'P2'!$B$4:$J$48,9,FALSE),\"\")","v":""},{"$f":"IFERROR(VLOOKUP(AJ167,'P2'!$B$4:$J$48,9,FALSE),\"\")","v":""},{"$f":"IFERROR(VLOOKUP(AK167,'P2'!$B$4:$J$48,9,FALSE),\"\")","v":""},{"$f":"IFERROR(VLOOKUP(AL167,'P2'!$B$4:$J$48,9,FALSE),\"\")","v":""},{"$f":"IFERROR(VLOOKUP(AM167,'P2'!$B$4:$J$48,9,FALSE),\"\")","v":""},{"$f":"IFERROR(VLOOKUP(AN167,'P2'!$B$4:$J$48,9,FALSE),\"\")","v":""},{"$f":"IFERROR(VLOOKUP(AO167,'P2'!$B$4:$J$48,9,FALSE),\"\")","v":""},{"$f":"IFERROR(VLOOKUP(AP167,'P2'!$B$4:$J$48,9,FALSE),\"\")","v":""},{"$f":"IFERROR(VLOOKUP(AQ167,'P2'!$B$4:$J$48,9,FALSE),\"\")","v":""},{"$f":"IFERROR(VLOOKUP(AR167,'P2'!$B$4:$J$48,9,FALSE),\"\")","v":""},{"$f":"IFERROR(VLOOKUP(AS167,'P2'!$B$4:$J$48,9,FALSE),\"\")","v":""},{"$f":"IFERROR(VLOOKUP(AT167,'P2'!$B$4:$J$48,9,FALSE),\"\")","v":""},{"$f":"IFERROR(VLOOKUP(AU167,'P2'!$B$4:$J$48,9,FALSE),\"\")","v":""},{"$f":"SUM(Q168:AU168)","v":0}]
[null,70,null,null,null,null,null,null,null,null,null,null,null,null,null,null,null,null,null,null,null,null,null,null,null,null,null,null,null,null,null,null,null,null,null,null,null,null,null,null,null,null,null,null,null,null,null,{"$f":"COUNTA(Q169:AU169)","v":0},{"$f":"AV170","v":0},{"$f":"IFERROR(ROUNDDOWN(AV170/$AT$3,1),\"\")","v":""}]
[null,null,null,null,null,null,null,null,null,null,null,null,null,null,null,null,{"$f":"IFERROR(VLOOKUP(Q169,'P2'!$B$4:$J$48,9,FALSE),\"\")","v":""},{"$f":"IFERROR(VLOOKUP(R169,'P2'!$B$4:$J$48,9,FALSE),\"\")","v":""},{"$f":"IFERROR(VLOOKUP(S169,'P2'!$B$4:$J$48,9,FALSE),\"\")","v":""},{"$f":"IFERROR(VLOOKUP(T169,'P2'!$B$4:$J$48,9,FALSE),\"\")","v":""},{"$f":"IFERROR(VLOOKUP(U169,'P2'!$B$4:$J$48,9,FALSE),\"\")","v":""},{"$f":"IFERROR(VLOOKUP(V169,'P2'!$B$4:$J$48,9,FALSE),\"\")","v":""},{"$f":"IFERROR(VLOOKUP(W169,'P2'!$B$4:$J$48,9,FALSE),\"\")","v":""},{"$f":"IFERROR(VLOOKUP(X169,'P2'!$B$4:$J$48,9,FALSE),\"\")","v":""},{"$f":"IFERROR(VLOOKUP(Y169,'P2'!$B$4:$J$48,9,FALSE),\"\")","v":""},{"$f":"IFERROR(VLOOKUP(Z169,'P2'!$B$4:$J$48,9,FALSE),\"\")","v":""},{"$f":"IFERROR(VLOOKUP(AA169,'P2'!$B$4:$J$48,9,FALSE),\"\")","v":""},{"$f":"IFERROR(VLOOKUP(AB169,'P2'!$B$4:$J$48,9,FALSE),\"\")","v":""},{"$f":"IFERROR(VLOOKUP(AC169,'P2'!$B$4:$J$48,9,FALSE),\"\")","v":""},{"$f":"IFERROR(VLOOKUP(AD169,'P2'!$B$4:$J$48,9,FALSE),\"\")","v":""},{"$f":"IFERROR(VLOOKUP(AE169,'P2'!$B$4:$J$48,9,FALSE),\"\")","v":""},{"$f":"IFERROR(VLOOKUP(AF169,'P2'!$B$4:$J$48,9,FALSE),\"\")","v":""},{"$f":"IFERROR(VLOOKUP(AG169,'P2'!$B$4:$J$48,9,FALSE),\"\")","v":""},{"$f":"IFERROR(VLOOKUP(AH169,'P2'!$B$4:$J$48,9,FALSE),\"\")","v":""},{"$f":"IFERROR(VLOOKUP(AI169,'P2'!$B$4:$J$48,9,FALSE),\"\")","v":""},{"$f":"IFERROR(VLOOKUP(AJ169,'P2'!$B$4:$J$48,9,FALSE),\"\")","v":""},{"$f":"IFERROR(VLOOKUP(AK169,'P2'!$B$4:$J$48,9,FALSE),\"\")","v":""},{"$f":"IFERROR(VLOOKUP(AL169,'P2'!$B$4:$J$48,9,FALSE),\"\")","v":""},{"$f":"IFERROR(VLOOKUP(AM169,'P2'!$B$4:$J$48,9,FALSE),\"\")","v":""},{"$f":"IFERROR(VLOOKUP(AN169,'P2'!$B$4:$J$48,9,FALSE),\"\")","v":""},{"$f":"IFERROR(VLOOKUP(AO169,'P2'!$B$4:$J$48,9,FALSE),\"\")","v":""},{"$f":"IFERROR(VLOOKUP(AP169,'P2'!$B$4:$J$48,9,FALSE),\"\")","v":""},{"$f":"IFERROR(VLOOKUP(AQ169,'P2'!$B$4:$J$48,9,FALSE),\"\")","v":""},{"$f":"IFERROR(VLOOKUP(AR169,'P2'!$B$4:$J$48,9,FALSE),\"\")","v":""},{"$f":"IFERROR(VLOOKUP(AS169,'P2'!$B$4:$J$48,9,FALSE),\"\")","v":""},{"$f":"IFERROR(VLOOKUP(AT169,'P2'!$B$4:$J$48,9,FALSE),\"\")","v":""},{"$f":"IFERROR(VLOOKUP(AU169,'P2'!$B$4:$J$48,9,FALSE),\"\")","v":""},{"$f":"SUM(Q170:AU170)","v":0}]
[null,71,null,null,null,null,null,null,null,null,null,null,null,null,null,null,null,null,null,null,null,null,null,null,null,null,null,null,null,null,null,null,null,null,null,null,null,null,null,null,null,null,null,null,null,null,null,{"$f":"COUNTA(Q171:AU171)","v":0},{"$f":"AV172","v":0},{"$f":"IFERROR(ROUNDDOWN(AV172/$AT$3,1),\"\")","v":""}]
[null,null,null,null,null,null,null,null,null,null,null,null,null,null,null,null,{"$f":"IFERROR(VLOOKUP(Q171,'P2'!$B$4:$J$48,9,FALSE),\"\")","v":""},{"$f":"IFERROR(VLOOKUP(R171,'P2'!$B$4:$J$48,9,FALSE),\"\")","v":""},{"$f":"IFERROR(VLOOKUP(S171,'P2'!$B$4:$J$48,9,FALSE),\"\")","v":""},{"$f":"IFERROR(VLOOKUP(T171,'P2'!$B$4:$J$48,9,FALSE),\"\")","v":""},{"$f":"IFERROR(VLOOKUP(U171,'P2'!$B$4:$J$48,9,FALSE),\"\")","v":""},{"$f":"IFERROR(VLOOKUP(V171,'P2'!$B$4:$J$48,9,FALSE),\"\")","v":""},{"$f":"IFERROR(VLOOKUP(W171,'P2'!$B$4:$J$48,9,FALSE),\"\")","v":""},{"$f":"IFERROR(VLOOKUP(X171,'P2'!$B$4:$J$48,9,FALSE),\"\")","v":""},{"$f":"IFERROR(VLOOKUP(Y171,'P2'!$B$4:$J$48,9,FALSE),\"\")","v":""},{"$f":"IFERROR(VLOOKUP(Z171,'P2'!$B$4:$J$48,9,FALSE),\"\")","v":""},{"$f":"IFERROR(VLOOKUP(AA171,'P2'!$B$4:$J$48,9,FALSE),\"\")","v":""},{"$f":"IFERROR(VLOOKUP(AB171,'P2'!$B$4:$J$48,9,FALSE),\"\")","v":""},{"$f":"IFERROR(VLOOKUP(AC171,'P2'!$B$4:$J$48,9,FALSE),\"\")","v":""},{"$f":"IFERROR(VLOOKUP(AD171,'P2'!$B$4:$J$48,9,FALSE),\"\")","v":""},{"$f":"IFERROR(VLOOKUP(AE171,'P2'!$B$4:$J$48,9,FALSE),\"\")","v":""},{"$f":"IFERROR(VLOOKUP(AF171,'P2'!$B$4:$J$48,9,FALSE),\"\")","v":""},{"$f":"IFERROR(VLOOKUP(AG171,'P2'!$B$4:$J$48,9,FALSE),\"\")","v":""},{"$f":"IFERROR(VLOOKUP(AH171,'P2'!$B$4:$J$48,9,FALSE),\"\")","v":""},{"$f":"IFERROR(VLOOKUP(AI171,'P2'!$B$4:$J$48,9,FALSE),\"\")","v":""},{"$f":"IFERROR(VLOOKUP(AJ171,'P2'!$B$4:$J$48,9,FALSE),\"\")","v":""},{"$f":"IFERROR(VLOOKUP(AK171,'P2'!$B$4:$J$48,9,FALSE),\"\")","v":""},{"$f":"IFERROR(VLOOKUP(AL171,'P2'!$B$4:$J$48,9,FALSE),\"\")","v":""},{"$f":"IFERROR(VLOOKUP(AM171,'P2'!$B$4:$J$48,9,FALSE),\"\")","v":""},{"$f":"IFERROR(VLOOKUP(AN171,'P2'!$B$4:$J$48,9,FALSE),\"\")","v":""},{"$f":"IFERROR(VLOOKUP(AO171,'P2'!$B$4:$J$48,9,FALSE),\"\")","v":""},{"$f":"IFERROR(VLOOKUP(AP171,'P2'!$B$4:$J$48,9,FALSE),\"\")","v":""},{"$f":"IFERROR(VLOOKUP(AQ171,'P2'!$B$4:$J$48,9,FALSE),\"\")","v":""},{"$f":"IFERROR(VLOOKUP(AR171,'P2'!$B$4:$J$48,9,FALSE),\"\")","v":""},{"$f":"IFERROR(VLOOKUP(AS171,'P2'!$B$4:$J$48,9,FALSE),\"\")","v":""},{"$f":"IFERROR(VLOOKUP(AT171,'P2'!$B$4:$J$48,9,FALSE),\"\")","v":""},{"$f":"IFERROR(VLOOKUP(AU171,'P2'!$B$4:$J$48,9,FALSE),\"\")","v":""},{"$f":"SUM(Q172:AU172)","v":0}]
[null,72,null,null,null,null,null,null,null,null,null,null,null,null,null,null,null,null,null,null,null,null,null,null,null,null,null,null,null,null,null,null,null,null,null,null,null,null,null,null,null,null,null,null,null,null,null,{"$f":"COUNTA(Q173:AU173)","v":0},{"$f":"AV174","v":0},{"$f":"IFERROR(ROUNDDOWN(AV174/$AT$3,1),\"\")","v":""}]
[null,null,null,null,null,null,null,null,null,null,null,null,null,null,null,null,{"$f":"IFERROR(VLOOKUP(Q173,'P2'!$B$4:$J$48,9,FALSE),\"\")","v":""},{"$f":"IFERROR(VLOOKUP(R173,'P2'!$B$4:$J$48,9,FALSE),\"\")","v":""},{"$f":"IFERROR(VLOOKUP(S173,'P2'!$B$4:$J$48,9,FALSE),\"\")","v":""},{"$f":"IFERROR(VLOOKUP(T173,'P2'!$B$4:$J$48,9,FALSE),\"\")","v":""},{"$f":"IFERROR(VLOOKUP(U173,'P2'!$B$4:$J$48,9,FALSE),\"\")","v":""},{"$f":"IFERROR(VLOOKUP(V173,'P2'!$B$4:$J$48,9,FALSE),\"\")","v":""},{"$f":"IFERROR(VLOOKUP(W173,'P2'!$B$4:$J$48,9,FALSE),\"\")","v":""},{"$f":"IFERROR(VLOOKUP(X173,'P2'!$B$4:$J$48,9,FALSE),\"\")","v":""},{"$f":"IFERROR(VLOOKUP(Y173,'P2'!$B$4:$J$48,9,FALSE),\"\")","v":""},{"$f":"IFERROR(VLOOKUP(Z173,'P2'!$B$4:$J$48,9,FALSE),\"\")","v":""},{"$f":"IFERROR(VLOOKUP(AA173,'P2'!$B$4:$J$48,9,FALSE),\"\")","v":""},{"$f":"IFERROR(VLOOKUP(AB173,'P2'!$B$4:$J$48,9,FALSE),\"\")","v":""},{"$f":"IFERROR(VLOOKUP(AC173,'P2'!$B$4:$J$48,9,FALSE),\"\")","v":""},{"$f":"IFERROR(VLOOKUP(AD173,'P2'!$B$4:$J$48,9,FALSE),\"\")","v":""},{"$f":"IFERROR(VLOOKUP(AE173,'P2'!$B$4:$J$48,9,FALSE),\"\")","v":""},{"$f":"IFERROR(VLOOKUP(AF173,'P2'!$B$4:$J$48,9,FALSE),\"\")","v":""},{"$f":"IFERROR(VLOOKUP(AG173,'P2'!$B$4:$J$48,9,FALSE),\"\")","v":""},{"$f":"IFERROR(VLOOKUP(AH173,'P2'!$B$4:$J$48,9,FALSE),\"\")","v":""},{"$f":"IFERROR(VLOOKUP(AI173,'P2'!$B$4:$J$48,9,FALSE),\"\")","v":""},{"$f":"IFERROR(VLOOKUP(AJ173,'P2'!$B$4:$J$48,9,FALSE),\"\")","v":""},{"$f":"IFERROR(VLOOKUP(AK173,'P2'!$B$4:$J$48,9,FALSE),\"\")","v":""},{"$f":"IFERROR(VLOOKUP(AL173,'P2'!$B$4:$J$48,9,FALSE),\"\")","v":""},{"$f":"IFERROR(VLOOKUP(AM173,'P2'!$B$4:$J$48,9,FALSE),\"\")","v":""},{"$f":"IFERROR(VLOOKUP(AN173,'P2'!$B$4:$J$48,9,FALSE),\"\")","v":""},{"$f":"IFERROR(VLOOKUP(AO173,'P2'!$B$4:$J$48,9,FALSE),\"\")","v":""},{"$f":"IFERROR(VLOOKUP(AP173,'P2'!$B$4:$J$48,9,FALSE),\"\")","v":""},{"$f":"IFERROR(VLOOKUP(AQ173,'P2'!$B$4:$J$48,9,FALSE),\"\")","v":""},{"$f":"IFERROR(VLOOKUP(AR173,'P2'!$B$4:$J$48,9,FALSE),\"\")","v":""},{"$f":"IFERROR(VLOOKUP(AS173,'P2'!$B$4:$J$48,9,FALSE),\"\")","v":""},{"$f":"IFERROR(VLOOKUP(AT173,'P2'!$B$4:$J$48,9,FALSE),\"\")","v":""},{"$f":"IFERROR(VLOOKUP(AU173,'P2'!$B$4:$J$48,9,FALSE),\"\")","v":""},{"$f":"SUM(Q174:AU174)","v":0}]
[null,73,null,null,null,null,null,null,null,null,null,null,null,null,null,null,null,null,null,null,null,null,null,null,null,null,null,null,null,null,null,null,null,null,null,null,null,null,null,null,null,null,null,null,null,null,null,{"$f":"COUNTA(Q175:AU175)","v":0},{"$f":"AV176","v":0},{"$f":"IFERROR(ROUNDDOWN(AV176/$AT$3,1),\"\")","v":""}]
[null,null,null,null,null,null,null,null,null,null,null,null,null,null,null,null,{"$f":"IFERROR(VLOOKUP(Q175,'P2'!$B$4:$J$48,9,FALSE),\"\")","v":""},{"$f":"IFERROR(VLOOKUP(R175,'P2'!$B$4:$J$48,9,FALSE),\"\")","v":""},{"$f":"IFERROR(VLOOKUP(S175,'P2'!$B$4:$J$48,9,FALSE),\"\")","v":""},{"$f":"IFERROR(VLOOKUP(T175,'P2'!$B$4:$J$48,9,FALSE),\"\")","v":""},{"$f":"IFERROR(VLOOKUP(U175,'P2'!$B$4:$J$48,9,FALSE),\"\")","v":""},{"$f":"IFERROR(VLOOKUP(V175,'P2'!$B$4:$J$48,9,FALSE),\"\")","v":""},{"$f":"IFERROR(VLOOKUP(W175,'P2'!$B$4:$J$48,9,FALSE),\"\")","v":""},{"$f":"IFERROR(VLOOKUP(X175,'P2'!$B$4:$J$48,9,FALSE),\"\")","v":""},{"$f":"IFERROR(VLOOKUP(Y175,'P2'!$B$4:$J$48,9,FALSE),\"\")","v":""},{"$f":"IFERROR(VLOOKUP(Z175,'P2'!$B$4:$J$48,9,FALSE),\"\")","v":""},{"$f":"IFERROR(VLOOKUP(AA175,'P2'!$B$4:$J$48,9,FALSE),\"\")","v":""},{"$f":"IFERROR(VLOOKUP(AB175,'P2'!$B$4:$J$48,9,FALSE),\"\")","v":""},{"$f":"IFERROR(VLOOKUP(AC175,'P2'!$B$4:$J$48,9,FALSE),\"\")","v":""},{"$f":"IFERROR(VLOOKUP(AD175,'P2'!$B$4:$J$48,9,FALSE),\"\")","v":""},{"$f":"IFERROR(VLOOKUP(AE175,'P2'!$B$4:$J$48,9,FALSE),\"\")","v":""},{"$f":"IFERROR(VLOOKUP(AF175,'P2'!$B$4:$J$48,9,FALSE),\"\")","v":""},{"$f":"IFERROR(VLOOKUP(AG175,'P2'!$B$4:$J$48,9,FALSE),\"\")","v":""},{"$f":"IFERROR(VLOOKUP(AH175,'P2'!$B$4:$J$48,9,FALSE),\"\")","v":""},{"$f":"IFERROR(VLOOKUP(AI175,'P2'!$B$4:$J$48,9,FALSE),\"\")","v":""},{"$f":"IFERROR(VLOOKUP(AJ175,'P2'!$B$4:$J$48,9,FALSE),\"\")","v":""},{"$f":"IFERROR(VLOOKUP(AK175,'P2'!$B$4:$J$48,9,FALSE),\"\")","v":""},{"$f":"IFERROR(VLOOKUP(AL175,'P2'!$B$4:$J$48,9,FALSE),\"\")","v":""},{"$f":"IFERROR(VLOOKUP(AM175,'P2'!$B$4:$J$48,9,FALSE),\"\")","v":""},{"$f":"IFERROR(VLOOKUP(AN175,'P2'!$B$4:$J$48,9,FALSE),\"\")","v":""},{"$f":"IFERROR(VLOOKUP(AO175,'P2'!$B$4:$J$48,9,FALSE),\"\")","v":""},{"$f":"IFERROR(VLOOKUP(AP175,'P2'!$B$4:$J$48,9,FALSE),\"\")","v":""},{"$f":"IFERROR(VLOOKUP(AQ175,'P2'!$B$4:$J$48,9,FALSE),\"\")","v":""},{"$f":"IFERROR(VLOOKUP(AR175,'P2'!$B$4:$J$48,9,FALSE),\"\")","v":""},{"$f":"IFERROR(VLOOKUP(AS175,'P2'!$B$4:$J$48,9,FALSE),\"\")","v":""},{"$f":"IFERROR(VLOOKUP(AT175,'P2'!$B$4:$J$48,9,FALSE),\"\")","v":""},{"$f":"IFERROR(VLOOKUP(AU175,'P2'!$B$4:$J$48,9,FALSE),\"\")","v":""},{"$f":"SUM(Q176:AU176)","v":0}]
[null,74,null,null,null,null,null,null,null,null,null,null,null,null,null,null,null,null,null,null,null,null,null,null,null,null,null,null,null,null,null,null,null,null,null,null,null,null,null,null,null,null,null,null,null,null,null,{"$f":"COUNTA(Q177:AU177)","v":0},{"$f":"AV178","v":0},{"$f":"IFERROR(ROUNDDOWN(AV178/$AT$3,1),\"\")","v":""}]
[null,null,null,null,null,null,null,null,null,null,null,null,null,null,null,null,{"$f":"IFERROR(VLOOKUP(Q177,'P2'!$B$4:$J$48,9,FALSE),\"\")","v":""},{"$f":"IFERROR(VLOOKUP(R177,'P2'!$B$4:$J$48,9,FALSE),\"\")","v":""},{"$f":"IFERROR(VLOOKUP(S177,'P2'!$B$4:$J$48,9,FALSE),\"\")","v":""},{"$f":"IFERROR(VLOOKUP(T177,'P2'!$B$4:$J$48,9,FALSE),\"\")","v":""},{"$f":"IFERROR(VLOOKUP(U177,'P2'!$B$4:$J$48,9,FALSE),\"\")","v":""},{"$f":"IFERROR(VLOOKUP(V177,'P2'!$B$4:$J$48,9,FALSE),\"\")","v":""},{"$f":"IFERROR(VLOOKUP(W177,'P2'!$B$4:$J$48,9,FALSE),\"\")","v":""},{"$f":"IFERROR(VLOOKUP(X177,'P2'!$B$4:$J$48,9,FALSE),\"\")","v":""},{"$f":"IFERROR(VLOOKUP(Y177,'P2'!$B$4:$J$48,9,FALSE),\"\")","v":""},{"$f":"IFERROR(VLOOKUP(Z177,'P2'!$B$4:$J$48,9,FALSE),\"\")","v":""},{"$f":"IFERROR(VLOOKUP(AA177,'P2'!$B$4:$J$48,9,FALSE),\"\")","v":""},{"$f":"IFERROR(VLOOKUP(AB177,'P2'!$B$4:$J$48,9,FALSE),\"\")","v":""},{"$f":"IFERROR(VLOOKUP(AC177,'P2'!$B$4:$J$48,9,FALSE),\"\")","v":""},{"$f":"IFERROR(VLOOKUP(AD177,'P2'!$B$4:$J$48,9,FALSE),\"\")","v":""},{"$f":"IFERROR(VLOOKUP(AE177,'P2'!$B$4:$J$48,9,FALSE),\"\")","v":""},{"$f":"IFERROR(VLOOKUP(AF177,'P2'!$B$4:$J$48,9,FALSE),\"\")","v":""},{"$f":"IFERROR(VLOOKUP(AG177,'P2'!$B$4:$J$48,9,FALSE),\"\")","v":""},{"$f":"IFERROR(VLOOKUP(AH177,'P2'!$B$4:$J$48,9,FALSE),\"\")","v":""},{"$f":"IFERROR(VLOOKUP(AI177,'P2'!$B$4:$J$48,9,FALSE),\"\")","v":""},{"$f":"IFERROR(VLOOKUP(AJ177,'P2'!$B$4:$J$48,9,FALSE),\"\")","v":""},{"$f":"IFERROR(VLOOKUP(AK177,'P2'!$B$4:$J$48,9,FALSE),\"\")","v":""},{"$f":"IFERROR(VLOOKUP(AL177,'P2'!$B$4:$J$48,9,FALSE),\"\")","v":""},{"$f":"IFERROR(VLOOKUP(AM177,'P2'!$B$4:$J$48,9,FALSE),\"\")","v":""},{"$f":"IFERROR(VLOOKUP(AN177,'P2'!$B$4:$J$48,9,FALSE),\"\")","v":""},{"$f":"IFERROR(VLOOKUP(AO177,'P2'!$B$4:$J$48,9,FALSE),\"\")","v":""},{"$f":"IFERROR(VLOOKUP(AP177,'P2'!$B$4:$J$48,9,FALSE),\"\")","v":""},{"$f":"IFERROR(VLOOKUP(AQ177,'P2'!$B$4:$J$48,9,FALSE),\"\")","v":""},{"$f":"IFERROR(VLOOKUP(AR177,'P2'!$B$4:$J$48,9,FALSE),\"\")","v":""},{"$f":"IFERROR(VLOOKUP(AS177,'P2'!$B$4:$J$48,9,FALSE),\"\")","v":""},{"$f":"IFERROR(VLOOKUP(AT177,'P2'!$B$4:$J$48,9,FALSE),\"\")","v":""},{"$f":"IFERROR(VLOOKUP(AU177,'P2'!$B$4:$J$48,9,FALSE),\"\")","v":""},{"$f":"SUM(Q178:AU178)","v":0}]
[null,75,null,null,null,null,null,null,null,null,null,null,null,null,null,null,null,null,null,null,null,null,null,null,null,null,null,null,null,null,null,null,null,null,null,null,null,null,null,null,null,null,null,null,null,null,null,{"$f":"COUNTA(Q179:AU179)","v":0},{"$f":"AV180","v":0},{"$f":"IFERROR(ROUNDDOWN(AV180/$AT$3,1),\"\")","v":""}]
[null,null,null,null,null,null,null,null,null,null,null,null,null,null,null,null,{"$f":"IFERROR(VLOOKUP(Q179,'P2'!$B$4:$J$48,9,FALSE),\"\")","v":""},{"$f":"IFERROR(VLOOKUP(R179,'P2'!$B$4:$J$48,9,FALSE),\"\")","v":""},{"$f":"IFERROR(VLOOKUP(S179,'P2'!$B$4:$J$48,9,FALSE),\"\")","v":""},{"$f":"IFERROR(VLOOKUP(T179,'P2'!$B$4:$J$48,9,FALSE),\"\")","v":""},{"$f":"IFERROR(VLOOKUP(U179,'P2'!$B$4:$J$48,9,FALSE),\"\")","v":""},{"$f":"IFERROR(VLOOKUP(V179,'P2'!$B$4:$J$48,9,FALSE),\"\")","v":""},{"$f":"IFERROR(VLOOKUP(W179,'P2'!$B$4:$J$48,9,FALSE),\"\")","v":""},{"$f":"IFERROR(VLOOKUP(X179,'P2'!$B$4:$J$48,9,FALSE),\"\")","v":""},{"$f":"IFERROR(VLOOKUP(Y179,'P2'!$B$4:$J$48,9,FALSE),\"\")","v":""},{"$f":"IFERROR(VLOOKUP(Z179,'P2'!$B$4:$J$48,9,FALSE),\"\")","v":""},{"$f":"IFERROR(VLOOKUP(AA179,'P2'!$B$4:$J$48,9,FALSE),\"\")","v":""},{"$f":"IFERROR(VLOOKUP(AB179,'P2'!$B$4:$J$48,9,FALSE),\"\")","v":""},{"$f":"IFERROR(VLOOKUP(AC179,'P2'!$B$4:$J$48,9,FALSE),\"\")","v":""},{"$f":"IFERROR(VLOOKUP(AD179,'P2'!$B$4:$J$48,9,FALSE),\"\")","v":""},{"$f":"IFERROR(VLOOKUP(AE179,'P2'!$B$4:$J$48,9,FALSE),\"\")","v":""},{"$f":"IFERROR(VLOOKUP(AF179,'P2'!$B$4:$J$48,9,FALSE),\"\")","v":""},{"$f":"IFERROR(VLOOKUP(AG179,'P2'!$B$4:$J$48,9,FALSE),\"\")","v":""},{"$f":"IFERROR(VLOOKUP(AH179,'P2'!$B$4:$J$48,9,FALSE),\"\")","v":""},{"$f":"IFERROR(VLOOKUP(AI179,'P2'!$B$4:$J$48,9,FALSE),\"\")","v":""},{"$f":"IFERROR(VLOOKUP(AJ179,'P2'!$B$4:$J$48,9,FALSE),\"\")","v":""},{"$f":"IFERROR(VLOOKUP(AK179,'P2'!$B$4:$J$48,9,FALSE),\"\")","v":""},{"$f":"IFERROR(VLOOKUP(AL179,'P2'!$B$4:$J$48,9,FALSE),\"\")","v":""},{"$f":"IFERROR(VLOOKUP(AM179,'P2'!$B$4:$J$48,9,FALSE),\"\")","v":""},{"$f":"IFERROR(VLOOKUP(AN179,'P2'!$B$4:$J$48,9,FALSE),\"\")","v":""},{"$f":"IFERROR(VLOOKUP(AO179,'P2'!$B$4:$J$48,9,FALSE),\"\")","v":""},{"$f":"IFERROR(VLOOKUP(AP179,'P2'!$B$4:$J$48,9,FALSE),\"\")","v":""},{"$f":"IFERROR(VLOOKUP(AQ179,'P2'!$B$4:$J$48,9,FALSE),\"\")","v":""},{"$f":"IFERROR(VLOOKUP(AR179,'P2'!$B$4:$J$48,9,FALSE),\"\")","v":""},{"$f":"IFERROR(VLOOKUP(AS179,'P2'!$B$4:$J$48,9,FALSE),\"\")","v":""},{"$f":"IFERROR(VLOOKUP(AT179,'P2'!$B$4:$J$48,9,FALSE),\"\")","v":""},{"$f":"IFERROR(VLOOKUP(AU179,'P2'!$B$4:$J$48,9,FALSE),\"\")","v":""},{"$f":"SUM(Q180:AU180)","v":0}]
[null,76,null,null,null,null,null,null,null,null,null,null,null,null,null,null,null,null,null,null,null,null,null,null,null,null,null,null,null,null,null,null,null,null,null,null,null,null,null,null,null,null,null,null,null,null,null,{"$f":"COUNTA(Q181:AU181)","v":0},{"$f":"AV182","v":0},{"$f":"IFERROR(ROUNDDOWN(AV182/$AT$3,1),\"\")","v":""}]
[null,null,null,null,null,null,null,null,null,null,null,null,null,null,null,null,{"$f":"IFERROR(VLOOKUP(Q181,'P2'!$B$4:$J$48,9,FALSE),\"\")","v":""},{"$f":"IFERROR(VLOOKUP(R181,'P2'!$B$4:$J$48,9,FALSE),\"\")","v":""},{"$f":"IFERROR(VLOOKUP(S181,'P2'!$B$4:$J$48,9,FALSE),\"\")","v":""},{"$f":"IFERROR(VLOOKUP(T181,'P2'!$B$4:$J$48,9,FALSE),\"\")","v":""},{"$f":"IFERROR(VLOOKUP(U181,'P2'!$B$4:$J$48,9,FALSE),\"\")","v":""},{"$f":"IFERROR(VLOOKUP(V181,'P2'!$B$4:$J$48,9,FALSE),\"\")","v":""},{"$f":"IFERROR(VLOOKUP(W181,'P2'!$B$4:$J$48,9,FALSE),\"\")","v":""},{"$f":"IFERROR(VLOOKUP(X181,'P2'!$B$4:$J$48,9,FALSE),\"\")","v":""},{"$f":"IFERROR(VLOOKUP(Y181,'P2'!$B$4:$J$48,9,FALSE),\"\")","v":""},{"$f":"IFERROR(VLOOKUP(Z181,'P2'!$B$4:$J$48,9,FALSE),\"\")","v":""},{"$f":"IFERROR(VLOOKUP(AA181,'P2'!$B$4:$J$48,9,FALSE),\"\")","v":""},{"$f":"IFERROR(VLOOKUP(AB181,'P2'!$B$4:$J$48,9,FALSE),\"\")","v":""},{"$f":"IFERROR(VLOOKUP(AC181,'P2'!$B$4:$J$48,9,FALSE),\"\")","v":""},{"$f":"IFERROR(VLOOKUP(AD181,'P2'!$B$4:$J$48,9,FALSE),\"\")","v":""},{"$f":"IFERROR(VLOOKUP(AE181,'P2'!$B$4:$J$48,9,FALSE),\"\")","v":""},{"$f":"IFERROR(VLOOKUP(AF181,'P2'!$B$4:$J$48,9,FALSE),\"\")","v":""},{"$f":"IFERROR(VLOOKUP(AG181,'P2'!$B$4:$J$48,9,FALSE),\"\")","v":""},{"$f":"IFERROR(VLOOKUP(AH181,'P2'!$B$4:$J$48,9,FALSE),\"\")","v":""},{"$f":"IFERROR(VLOOKUP(AI181,'P2'!$B$4:$J$48,9,FALSE),\"\")","v":""},{"$f":"IFERROR(VLOOKUP(AJ181,'P2'!$B$4:$J$48,9,FALSE),\"\")","v":""},{"$f":"IFERROR(VLOOKUP(AK181,'P2'!$B$4:$J$48,9,FALSE),\"\")","v":""},{"$f":"IFERROR(VLOOKUP(AL181,'P2'!$B$4:$J$48,9,FALSE),\"\")","v":""},{"$f":"IFERROR(VLOOKUP(AM181,'P2'!$B$4:$J$48,9,FALSE),\"\")","v":""},{"$f":"IFERROR(VLOOKUP(AN181,'P2'!$B$4:$J$48,9,FALSE),\"\")","v":""},{"$f":"IFERROR(VLOOKUP(AO181,'P2'!$B$4:$J$48,9,FALSE),\"\")","v":""},{"$f":"IFERROR(VLOOKUP(AP181,'P2'!$B$4:$J$48,9,FALSE),\"\")","v":""},{"$f":"IFERROR(VLOOKUP(AQ181,'P2'!$B$4:$J$48,9,FALSE),\"\")","v":""},{"$f":"IFERROR(VLOOKUP(AR181,'P2'!$B$4:$J$48,9,FALSE),\"\")","v":""},{"$f":"IFERROR(VLOOKUP(AS181,'P2'!$B$4:$J$48,9,FALSE),\"\")","v":""},{"$f":"IFERROR(VLOOKUP(AT181,'P2'!$B$4:$J$48,9,FALSE),\"\")","v":""},{"$f":"IFERROR(VLOOKUP(AU181,'P2'!$B$4:$J$48,9,FALSE),\"\")","v":""},{"$f":"SUM(Q182:AU182)","v":0}]
[null,77,null,null,null,null,null,null,null,null,null,null,null,null,null,null,null,null,null,null,null,null,null,null,null,null,null,null,null,null,null,null,null,null,null,null,null,null,null,null,null,null,null,null,null,null,null,{"$f":"COUNTA(Q183:AU183)","v":0},{"$f":"AV184","v":0},{"$f":"IFERROR(ROUNDDOWN(AV184/$AT$3,1),\"\")","v":""}]
[null,null,null,null,null,null,null,null,null,null,null,null,null,null,null,null,{"$f":"IFERROR(VLOOKUP(Q183,'P2'!$B$4:$J$48,9,FALSE),\"\")","v":""},{"$f":"IFERROR(VLOOKUP(R183,'P2'!$B$4:$J$48,9,FALSE),\"\")","v":""},{"$f":"IFERROR(VLOOKUP(S183,'P2'!$B$4:$J$48,9,FALSE),\"\")","v":""},{"$f":"IFERROR(VLOOKUP(T183,'P2'!$B$4:$J$48,9,FALSE),\"\")","v":""},{"$f":"IFERROR(VLOOKUP(U183,'P2'!$B$4:$J$48,9,FALSE),\"\")","v":""},{"$f":"IFERROR(VLOOKUP(V183,'P2'!$B$4:$J$48,9,FALSE),\"\")","v":""},{"$f":"IFERROR(VLOOKUP(W183,'P2'!$B$4:$J$48,9,FALSE),\"\")","v":""},{"$f":"IFERROR(VLOOKUP(X183,'P2'!$B$4:$J$48,9,FALSE),\"\")","v":""},{"$f":"IFERROR(VLOOKUP(Y183,'P2'!$B$4:$J$48,9,FALSE),\"\")","v":""},{"$f":"IFERROR(VLOOKUP(Z183,'P2'!$B$4:$J$48,9,FALSE),\"\")","v":""},{"$f":"IFERROR(VLOOKUP(AA183,'P2'!$B$4:$J$48,9,FALSE),\"\")","v":""},{"$f":"IFERROR(VLOOKUP(AB183,'P2'!$B$4:$J$48,9,FALSE),\"\")","v":""},{"$f":"IFERROR(VLOOKUP(AC183,'P2'!$B$4:$J$48,9,FALSE),\"\")","v":""},{"$f":"IFERROR(VLOOKUP(AD183,'P2'!$B$4:$J$48,9,FALSE),\"\")","v":""},{"$f":"IFERROR(VLOOKUP(AE183,'P2'!$B$4:$J$48,9,FALSE),\"\")","v":""},{"$f":"IFERROR(VLOOKUP(AF183,'P2'!$B$4:$J$48,9,FALSE),\"\")","v":""},{"$f":"IFERROR(VLOOKUP(AG183,'P2'!$B$4:$J$48,9,FALSE),\"\")","v":""},{"$f":"IFERROR(VLOOKUP(AH183,'P2'!$B$4:$J$48,9,FALSE),\"\")","v":""},{"$f":"IFERROR(VLOOKUP(AI183,'P2'!$B$4:$J$48,9,FALSE),\"\")","v":""},{"$f":"IFERROR(VLOOKUP(AJ183,'P2'!$B$4:$J$48,9,FALSE),\"\")","v":""},{"$f":"IFERROR(VLOOKUP(AK183,'P2'!$B$4:$J$48,9,FALSE),\"\")","v":""},{"$f":"IFERROR(VLOOKUP(AL183,'P2'!$B$4:$J$48,9,FALSE),\"\")","v":""},{"$f":"IFERROR(VLOOKUP(AM183,'P2'!$B$4:$J$48,9,FALSE),\"\")","v":""},{"$f":"IFERROR(VLOOKUP(AN183,'P2'!$B$4:$J$48,9,FALSE),\"\")","v":""},{"$f":"IFERROR(VLOOKUP(AO183,'P2'!$B$4:$J$48,9,FALSE),\"\")","v":""},{"$f":"IFERROR(VLOOKUP(AP183,'P2'!$B$4:$J$48,9,FALSE),\"\")","v":""},{"$f":"IFERROR(VLOOKUP(AQ183,'P2'!$B$4:$J$48,9,FALSE),\"\")","v":""},{"$f":"IFERROR(VLOOKUP(AR183,'P2'!$B$4:$J$48,9,FALSE),\"\")","v":""},{"$f":"IFERROR(VLOOKUP(AS183,'P2'!$B$4:$J$48,9,FALSE),\"\")","v":""},{"$f":"IFERROR(VLOOKUP(AT183,'P2'!$B$4:$J$48,9,FALSE),\"\")","v":""},{"$f":"IFERROR(VLOOKUP(AU183,'P2'!$B$4:$J$48,9,FALSE),\"\")","v":""},{"$f":"SUM(Q184:AU184)","v":0}]
[null,78,null,null,null,null,null,null,null,null,null,null,null,null,null,null,null,null,null,null,null,null,null,null,null,null,null,null,null,null,null,null,null,null,null,null,null,null,null,null,null,null,null,null,null,null,null,{"$f":"COUNTA(Q185:AU185)","v":0},{"$f":"AV186","v":0},{"$f":"IFERROR(ROUNDDOWN(AV186/$AT$3,1),\"\")","v":""}]
[null,null,null,null,null,null,null,null,null,null,null,null,null,null,null,null,{"$f":"IFERROR(VLOOKUP(Q185,'P2'!$B$4:$J$48,9,FALSE),\"\")","v":""},{"$f":"IFERROR(VLOOKUP(R185,'P2'!$B$4:$J$48,9,FALSE),\"\")","v":""},{"$f":"IFERROR(VLOOKUP(S185,'P2'!$B$4:$J$48,9,FALSE),\"\")","v":""},{"$f":"IFERROR(VLOOKUP(T185,'P2'!$B$4:$J$48,9,FALSE),\"\")","v":""},{"$f":"IFERROR(VLOOKUP(U185,'P2'!$B$4:$J$48,9,FALSE),\"\")","v":""},{"$f":"IFERROR(VLOOKUP(V185,'P2'!$B$4:$J$48,9,FALSE),\"\")","v":""},{"$f":"IFERROR(VLOOKUP(W185,'P2'!$B$4:$J$48,9,FALSE),\"\")","v":""},{"$f":"IFERROR(VLOOKUP(X185,'P2'!$B$4:$J$48,9,FALSE),\"\")","v":""},{"$f":"IFERROR(VLOOKUP(Y185,'P2'!$B$4:$J$48,9,FALSE),\"\")","v":""},{"$f":"IFERROR(VLOOKUP(Z185,'P2'!$B$4:$J$48,9,FALSE),\"\")","v":""},{"$f":"IFERROR(VLOOKUP(AA185,'P2'!$B$4:$J$48,9,FALSE),\"\")","v":""},{"$f":"IFERROR(VLOOKUP(AB185,'P2'!$B$4:$J$48,9,FALSE),\"\")","v":""},{"$f":"IFERROR(VLOOKUP(AC185,'P2'!$B$4:$J$48,9,FALSE),\"\")","v":""},{"$f":"IFERROR(VLOOKUP(AD185,'P2'!$B$4:$J$48,9,FALSE),\"\")","v":""},{"$f":"IFERROR(VLOOKUP(AE185,'P2'!$B$4:$J$48,9,FALSE),\"\")","v":""},{"$f":"IFERROR(VLOOKUP(AF185,'P2'!$B$4:$J$48,9,FALSE),\"\")","v":""},{"$f":"IFERROR(VLOOKUP(AG185,'P2'!$B$4:$J$48,9,FALSE),\"\")","v":""},{"$f":"IFERROR(VLOOKUP(AH185,'P2'!$B$4:$J$48,9,FALSE),\"\")","v":""},{"$f":"IFERROR(VLOOKUP(AI185,'P2'!$B$4:$J$48,9,FALSE),\"\")","v":""},{"$f":"IFERROR(VLOOKUP(AJ185,'P2'!$B$4:$J$48,9,FALSE),\"\")","v":""},{"$f":"IFERROR(VLOOKUP(AK185,'P2'!$B$4:$J$48,9,FALSE),\"\")","v":""},{"$f":"IFERROR(VLOOKUP(AL185,'P2'!$B$4:$J$48,9,FALSE),\"\")","v":""},{"$f":"IFERROR(VLOOKUP(AM185,'P2'!$B$4:$J$48,9,FALSE),\"\")","v":""},{"$f":"IFERROR(VLOOKUP(AN185,'P2'!$B$4:$J$48,9,FALSE),\"\")","v":""},{"$f":"IFERROR(VLOOKUP(AO185,'P2'!$B$4:$J$48,9,FALSE),\"\")","v":""},{"$f":"IFERROR(VLOOKUP(AP185,'P2'!$B$4:$J$48,9,FALSE),\"\")","v":""},{"$f":"IFERROR(VLOOKUP(AQ185,'P2'!$B$4:$J$48,9,FALSE),\"\")","v":""},{"$f":"IFERROR(VLOOKUP(AR185,'P2'!$B$4:$J$48,9,FALSE),\"\")","v":""},{"$f":"IFERROR(VLOOKUP(AS185,'P2'!$B$4:$J$48,9,FALSE),\"\")","v":""},{"$f":"IFERROR(VLOOKUP(AT185,'P2'!$B$4:$J$48,9,FALSE),\"\")","v":""},{"$f":"IFERROR(VLOOKUP(AU185,'P2'!$B$4:$J$48,9,FALSE),\"\")","v":""},{"$f":"SUM(Q186:AU186)","v":0}]
[null,79,null,null,null,null,null,null,null,null,null,null,null,null,null,null,null,null,null,null,null,null,null,null,null,null,null,null,null,null,null,null,null,null,null,null,null,null,null,null,null,null,null,null,null,null,null,{"$f":"COUNTA(Q187:AU187)","v":0},{"$f":"AV188","v":0},{"$f":"IFERROR(ROUNDDOWN(AV188/$AT$3,1),\"\")","v":""}]
[null,null,null,null,null,null,null,null,null,null,null,null,null,null,null,null,{"$f":"IFERROR(VLOOKUP(Q187,'P2'!$B$4:$J$48,9,FALSE),\"\")","v":""},{"$f":"IFERROR(VLOOKUP(R187,'P2'!$B$4:$J$48,9,FALSE),\"\")","v":""},{"$f":"IFERROR(VLOOKUP(S187,'P2'!$B$4:$J$48,9,FALSE),\"\")","v":""},{"$f":"IFERROR(VLOOKUP(T187,'P2'!$B$4:$J$48,9,FALSE),\"\")","v":""},{"$f":"IFERROR(VLOOKUP(U187,'P2'!$B$4:$J$48,9,FALSE),\"\")","v":""},{"$f":"IFERROR(VLOOKUP(V187,'P2'!$B$4:$J$48,9,FALSE),\"\")","v":""},{"$f":"IFERROR(VLOOKUP(W187,'P2'!$B$4:$J$48,9,FALSE),\"\")","v":""},{"$f":"IFERROR(VLOOKUP(X187,'P2'!$B$4:$J$48,9,FALSE),\"\")","v":""},{"$f":"IFERROR(VLOOKUP(Y187,'P2'!$B$4:$J$48,9,FALSE),\"\")","v":""},{"$f":"IFERROR(VLOOKUP(Z187,'P2'!$B$4:$J$48,9,FALSE),\"\")","v":""},{"$f":"IFERROR(VLOOKUP(AA187,'P2'!$B$4:$J$48,9,FALSE),\"\")","v":""},{"$f":"IFERROR(VLOOKUP(AB187,'P2'!$B$4:$J$48,9,FALSE),\"\")","v":""},{"$f":"IFERROR(VLOOKUP(AC187,'P2'!$B$4:$J$48,9,FALSE),\"\")","v":""},{"$f":"IFERROR(VLOOKUP(AD187,'P2'!$B$4:$J$48,9,FALSE),\"\")","v":""},{"$f":"IFERROR(VLOOKUP(AE187,'P2'!$B$4:$J$48,9,FALSE),\"\")","v":""},{"$f":"IFERROR(VLOOKUP(AF187,'P2'!$B$4:$J$48,9,FALSE),\"\")","v":""},{"$f":"IFERROR(VLOOKUP(AG187,'P2'!$B$4:$J$48,9,FALSE),\"\")","v":""},{"$f":"IFERROR(VLOOKUP(AH187,'P2'!$B$4:$J$48,9,FALSE),\"\")","v":""},{"$f":"IFERROR(VLOOKUP(AI187,'P2'!$B$4:$J$48,9,FALSE),\"\")","v":""},{"$f":"IFERROR(VLOOKUP(AJ187,'P2'!$B$4:$J$48,9,FALSE),\"\")","v":""},{"$f":"IFERROR(VLOOKUP(AK187,'P2'!$B$4:$J$48,9,FALSE),\"\")","v":""},{"$f":"IFERROR(VLOOKUP(AL187,'P2'!$B$4:$J$48,9,FALSE),\"\")","v":""},{"$f":"IFERROR(VLOOKUP(AM187,'P2'!$B$4:$J$48,9,FALSE),\"\")","v":""},{"$f":"IFERROR(VLOOKUP(AN187,'P2'!$B$4:$J$48,9,FALSE),\"\")","v":""},{"$f":"IFERROR(VLOOKUP(AO187,'P2'!$B$4:$J$48,9,FALSE),\"\")","v":""},{"$f":"IFERROR(VLOOKUP(AP187,'P2'!$B$4:$J$48,9,FALSE),\"\")","v":""},{"$f":"IFERROR(VLOOKUP(AQ187,'P2'!$B$4:$J$48,9,FALSE),\"\")","v":""},{"$f":"IFERROR(VLOOKUP(AR187,'P2'!$B$4:$J$48,9,FALSE),\"\")","v":""},{"$f":"IFERROR(VLOOKUP(AS187,'P2'!$B$4:$J$48,9,FALSE),\"\")","v":""},{"$f":"IFERROR(VLOOKUP(AT187,'P2'!$B$4:$J$48,9,FALSE),\"\")","v":""},{"$f":"IFERROR(VLOOKUP(AU187,'P2'!$B$4:$J$48,9,FALSE),\"\")","v":""},{"$f":"SUM(Q188:AU188)","v":0}]
[null,80,null,null,null,null,null,null,null,null,null,null,null,null,null,null,null,null,null,null,null,null,null,null,null,null,null,null,null,null,null,null,null,null,null,null,null,null,null,null,null,null,null,null,null,null,null,{"$f":"COUNTA(Q189:AU189)","v":0},{"$f":"AV190","v":0},{"$f":"IFERROR(ROUNDDOWN(AV190/$AT$3,1),\"\")","v":""}]
[null,null,null,null,null,null,null,null,null,null,null,null,null,null,null,null,{"$f":"IFERROR(VLOOKUP(Q189,'P2'!$B$4:$J$48,9,FALSE),\"\")","v":""},{"$f":"IFERROR(VLOOKUP(R189,'P2'!$B$4:$J$48,9,FALSE),\"\")","v":""},{"$f":"IFERROR(VLOOKUP(S189,'P2'!$B$4:$J$48,9,FALSE),\"\")","v":""},{"$f":"IFERROR(VLOOKUP(T189,'P2'!$B$4:$J$48,9,FALSE),\"\")","v":""},{"$f":"IFERROR(VLOOKUP(U189,'P2'!$B$4:$J$48,9,FALSE),\"\")","v":""},{"$f":"IFERROR(VLOOKUP(V189,'P2'!$B$4:$J$48,9,FALSE),\"\")","v":""},{"$f":"IFERROR(VLOOKUP(W189,'P2'!$B$4:$J$48,9,FALSE),\"\")","v":""},{"$f":"IFERROR(VLOOKUP(X189,'P2'!$B$4:$J$48,9,FALSE),\"\")","v":""},{"$f":"IFERROR(VLOOKUP(Y189,'P2'!$B$4:$J$48,9,FALSE),\"\")","v":""},{"$f":"IFERROR(VLOOKUP(Z189,'P2'!$B$4:$J$48,9,FALSE),\"\")","v":""},{"$f":"IFERROR(VLOOKUP(AA189,'P2'!$B$4:$J$48,9,FALSE),\"\")","v":""},{"$f":"IFERROR(VLOOKUP(AB189,'P2'!$B$4:$J$48,9,FALSE),\"\")","v":""},{"$f":"IFERROR(VLOOKUP(AC189,'P2'!$B$4:$J$48,9,FALSE),\"\")","v":""},{"$f":"IFERROR(VLOOKUP(AD189,'P2'!$B$4:$J$48,9,FALSE),\"\")","v":""},{"$f":"IFERROR(VLOOKUP(AE189,'P2'!$B$4:$J$48,9,FALSE),\"\")","v":""},{"$f":"IFERROR(VLOOKUP(AF189,'P2'!$B$4:$J$48,9,FALSE),\"\")","v":""},{"$f":"IFERROR(VLOOKUP(AG189,'P2'!$B$4:$J$48,9,FALSE),\"\")","v":""},{"$f":"IFERROR(VLOOKUP(AH189,'P2'!$B$4:$J$48,9,FALSE),\"\")","v":""},{"$f":"IFERROR(VLOOKUP(AI189,'P2'!$B$4:$J$48,9,FALSE),\"\")","v":""},{"$f":"IFERROR(VLOOKUP(AJ189,'P2'!$B$4:$J$48,9,FALSE),\"\")","v":""},{"$f":"IFERROR(VLOOKUP(AK189,'P2'!$B$4:$J$48,9,FALSE),\"\")","v":""},{"$f":"IFERROR(VLOOKUP(AL189,'P2'!$B$4:$J$48,9,FALSE),\"\")","v":""},{"$f":"IFERROR(VLOOKUP(AM189,'P2'!$B$4:$J$48,9,FALSE),\"\")","v":""},{"$f":"IFERROR(VLOOKUP(AN189,'P2'!$B$4:$J$48,9,FALSE),\"\")","v":""},{"$f":"IFERROR(VLOOKUP(AO189,'P2'!$B$4:$J$48,9,FALSE),\"\")","v":""},{"$f":"IFERROR(VLOOKUP(AP189,'P2'!$B$4:$J$48,9,FALSE),\"\")","v":""},{"$f":"IFERROR(VLOOKUP(AQ189,'P2'!$B$4:$J$48,9,FALSE),\"\")","v":""},{"$f":"IFERROR(VLOOKUP(AR189,'P2'!$B$4:$J$48,9,FALSE),\"\")","v":""},{"$f":"IFERROR(VLOOKUP(AS189,'P2'!$B$4:$J$48,9,FALSE),\"\")","v":""},{"$f":"IFERROR(VLOOKUP(AT189,'P2'!$B$4:$J$48,9,FALSE),\"\")","v":""},{"$f":"IFERROR(VLOOKUP(AU189,'P2'!$B$4:$J$48,9,FALSE),\"\")","v":""},{"$f":"SUM(Q190:AU190)","v":0}]
[null,81,null,null,null,null,null,null,null,null,null,null,null,null,null,null,null,null,null,null,null,null,null,null,null,null,null,null,null,null,null,null,null,null,null,null,null,null,null,null,null,null,null,null,null,null,null,{"$f":"COUNTA(Q191:AU191)","v":0},{"$f":"AV192","v":0},{"$f":"IFERROR(ROUNDDOWN(AV192/$AT$3,1),\"\")","v":""}]
[null,null,null,null,null,null,null,null,null,null,null,null,null,null,null,null,{"$f":"IFERROR(VLOOKUP(Q191,'P2'!$B$4:$J$48,9,FALSE),\"\")","v":""},{"$f":"IFERROR(VLOOKUP(R191,'P2'!$B$4:$J$48,9,FALSE),\"\")","v":""},{"$f":"IFERROR(VLOOKUP(S191,'P2'!$B$4:$J$48,9,FALSE),\"\")","v":""},{"$f":"IFERROR(VLOOKUP(T191,'P2'!$B$4:$J$48,9,FALSE),\"\")","v":""},{"$f":"IFERROR(VLOOKUP(U191,'P2'!$B$4:$J$48,9,FALSE),\"\")","v":""},{"$f":"IFERROR(VLOOKUP(V191,'P2'!$B$4:$J$48,9,FALSE),\"\")","v":""},{"$f":"IFERROR(VLOOKUP(W191,'P2'!$B$4:$J$48,9,FALSE),\"\")","v":""},{"$f":"IFERROR(VLOOKUP(X191,'P2'!$B$4:$J$48,9,FALSE),\"\")","v":""},{"$f":"IFERROR(VLOOKUP(Y191,'P2'!$B$4:$J$48,9,FALSE),\"\")","v":""},{"$f":"IFERROR(VLOOKUP(Z191,'P2'!$B$4:$J$48,9,FALSE),\"\")","v":""},{"$f":"IFERROR(VLOOKUP(AA191,'P2'!$B$4:$J$48,9,FALSE),\"\")","v":""},{"$f":"IFERROR(VLOOKUP(AB191,'P2'!$B$4:$J$48,9,FALSE),\"\")","v":""},{"$f":"IFERROR(VLOOKUP(AC191,'P2'!$B$4:$J$48,9,FALSE),\"\")","v":""},{"$f":"IFERROR(VLOOKUP(AD191,'P2'!$B$4:$J$48,9,FALSE),\"\")","v":""},{"$f":"IFERROR(VLOOKUP(AE191,'P2'!$B$4:$J$48,9,FALSE),\"\")","v":""},{"$f":"IFERROR(VLOOKUP(AF191,'P2'!$B$4:$J$48,9,FALSE),\"\")","v":""},{"$f":"IFERROR(VLOOKUP(AG191,'P2'!$B$4:$J$48,9,FALSE),\"\")","v":""},{"$f":"IFERROR(VLOOKUP(AH191,'P2'!$B$4:$J$48,9,FALSE),\"\")","v":""},{"$f":"IFERROR(VLOOKUP(AI191,'P2'!$B$4:$J$48,9,FALSE),\"\")","v":""},{"$f":"IFERROR(VLOOKUP(AJ191,'P2'!$B$4:$J$48,9,FALSE),\"\")","v":""},{"$f":"IFERROR(VLOOKUP(AK191,'P2'!$B$4:$J$48,9,FALSE),\"\")","v":""},{"$f":"IFERROR(VLOOKUP(AL191,'P2'!$B$4:$J$48,9,FALSE),\"\")","v":""},{"$f":"IFERROR(VLOOKUP(AM191,'P2'!$B$4:$J$48,9,FALSE),\"\")","v":""},{"$f":"IFERROR(VLOOKUP(AN191,'P2'!$B$4:$J$48,9,FALSE),\"\")","v":""},{"$f":"IFERROR(VLOOKUP(AO191,'P2'!$B$4:$J$48,9,FALSE),\"\")","v":""},{"$f":"IFERROR(VLOOKUP(AP191,'P2'!$B$4:$J$48,9,FALSE),\"\")","v":""},{"$f":"IFERROR(VLOOKUP(AQ191,'P2'!$B$4:$J$48,9,FALSE),\"\")","v":""},{"$f":"IFERROR(VLOOKUP(AR191,'P2'!$B$4:$J$48,9,FALSE),\"\")","v":""},{"$f":"IFERROR(VLOOKUP(AS191,'P2'!$B$4:$J$48,9,FALSE),\"\")","v":""},{"$f":"IFERROR(VLOOKUP(AT191,'P2'!$B$4:$J$48,9,FALSE),\"\")","v":""},{"$f":"IFERROR(VLOOKUP(AU191,'P2'!$B$4:$J$48,9,FALSE),\"\")","v":""},{"$f":"SUM(Q192:AU192)","v":0}]
[null,82,null,null,null,null,null,null,null,null,null,null,null,null,null,null,null,null,null,null,null,null,null,null,null,null,null,null,null,null,null,null,null,null,null,null,null,null,null,null,null,null,null,null,null,null,null,{"$f":"COUNTA(Q193:AU193)","v":0},{"$f":"AV194","v":0},{"$f":"IFERROR(ROUNDDOWN(AV194/$AT$3,1),\"\")","v":""}]
[null,null,null,null,null,null,null,null,null,null,null,null,null,null,null,null,{"$f":"IFERROR(VLOOKUP(Q193,'P2'!$B$4:$J$48,9,FALSE),\"\")","v":""},{"$f":"IFERROR(VLOOKUP(R193,'P2'!$B$4:$J$48,9,FALSE),\"\")","v":""},{"$f":"IFERROR(VLOOKUP(S193,'P2'!$B$4:$J$48,9,FALSE),\"\")","v":""},{"$f":"IFERROR(VLOOKUP(T193,'P2'!$B$4:$J$48,9,FALSE),\"\")","v":""},{"$f":"IFERROR(VLOOKUP(U193,'P2'!$B$4:$J$48,9,FALSE),\"\")","v":""},{"$f":"IFERROR(VLOOKUP(V193,'P2'!$B$4:$J$48,9,FALSE),\"\")","v":""},{"$f":"IFERROR(VLOOKUP(W193,'P2'!$B$4:$J$48,9,FALSE),\"\")","v":""},{"$f":"IFERROR(VLOOKUP(X193,'P2'!$B$4:$J$48,9,FALSE),\"\")","v":""},{"$f":"IFERROR(VLOOKUP(Y193,'P2'!$B$4:$J$48,9,FALSE),\"\")","v":""},{"$f":"IFERROR(VLOOKUP(Z193,'P2'!$B$4:$J$48,9,FALSE),\"\")","v":""},{"$f":"IFERROR(VLOOKUP(AA193,'P2'!$B$4:$J$48,9,FALSE),\"\")","v":""},{"$f":"IFERROR(VLOOKUP(AB193,'P2'!$B$4:$J$48,9,FALSE),\"\")","v":""},{"$f":"IFERROR(VLOOKUP(AC193,'P2'!$B$4:$J$48,9,FALSE),\"\")","v":""},{"$f":"IFERROR(VLOOKUP(AD193,'P2'!$B$4:$J$48,9,FALSE),\"\")","v":""},{"$f":"IFERROR(VLOOKUP(AE193,'P2'!$B$4:$J$48,9,FALSE),\"\")","v":""},{"$f":"IFERROR(VLOOKUP(AF193,'P2'!$B$4:$J$48,9,FALSE),\"\")","v":""},{"$f":"IFERROR(VLOOKUP(AG193,'P2'!$B$4:$J$48,9,FALSE),\"\")","v":""},{"$f":"IFERROR(VLOOKUP(AH193,'P2'!$B$4:$J$48,9,FALSE),\"\")","v":""},{"$f":"IFERROR(VLOOKUP(AI193,'P2'!$B$4:$J$48,9,FALSE),\"\")","v":""},{"$f":"IFERROR(VLOOKUP(AJ193,'P2'!$B$4:$J$48,9,FALSE),\"\")","v":""},{"$f":"IFERROR(VLOOKUP(AK193,'P2'!$B$4:$J$48,9,FALSE),\"\")","v":""},{"$f":"IFERROR(VLOOKUP(AL193,'P2'!$B$4:$J$48,9,FALSE),\"\")","v":""},{"$f":"IFERROR(VLOOKUP(AM193,'P2'!$B$4:$J$48,9,FALSE),\"\")","v":""},{"$f":"IFERROR(VLOOKUP(AN193,'P2'!$B$4:$J$48,9,FALSE),\"\")","v":""},{"$f":"IFERROR(VLOOKUP(AO193,'P2'!$B$4:$J$48,9,FALSE),\"\")","v":""},{"$f":"IFERROR(VLOOKUP(AP193,'P2'!$B$4:$J$48,9,FALSE),\"\")","v":""},{"$f":"IFERROR(VLOOKUP(AQ193,'P2'!$B$4:$J$48,9,FALSE),\"\")","v":""},{"$f":"IFERROR(VLOOKUP(AR193,'P2'!$B$4:$J$48,9,FALSE),\"\")","v":""},{"$f":"IFERROR(VLOOKUP(AS193,'P2'!$B$4:$J$48,9,FALSE),\"\")","v":""},{"$f":"IFERROR(VLOOKUP(AT193,'P2'!$B$4:$J$48,9,FALSE),\"\")","v":""},{"$f":"IFERROR(VLOOKUP(AU193,'P2'!$B$4:$J$48,9,FALSE),\"\")","v":""},{"$f":"SUM(Q194:AU194)","v":0}]
[null,83,null,null,null,null,null,null,null,null,null,null,null,null,null,null,null,null,null,null,null,null,null,null,null,null,null,null,null,null,null,null,null,null,null,null,null,null,null,null,null,null,null,null,null,null,null,{"$f":"COUNTA(Q195:AU195)","v":0},{"$f":"AV196","v":0},{"$f":"IFERROR(ROUNDDOWN(AV196/$AT$3,1),\"\")","v":""}]
[null,null,null,null,null,null,null,null,null,null,null,null,null,null,null,null,{"$f":"IFERROR(VLOOKUP(Q195,'P2'!$B$4:$J$48,9,FALSE),\"\")","v":""},{"$f":"IFERROR(VLOOKUP(R195,'P2'!$B$4:$J$48,9,FALSE),\"\")","v":""},{"$f":"IFERROR(VLOOKUP(S195,'P2'!$B$4:$J$48,9,FALSE),\"\")","v":""},{"$f":"IFERROR(VLOOKUP(T195,'P2'!$B$4:$J$48,9,FALSE),\"\")","v":""},{"$f":"IFERROR(VLOOKUP(U195,'P2'!$B$4:$J$48,9,FALSE),\"\")","v":""},{"$f":"IFERROR(VLOOKUP(V195,'P2'!$B$4:$J$48,9,FALSE),\"\")","v":""},{"$f":"IFERROR(VLOOKUP(W195,'P2'!$B$4:$J$48,9,FALSE),\"\")","v":""},{"$f":"IFERROR(VLOOKUP(X195,'P2'!$B$4:$J$48,9,FALSE),\"\")","v":""},{"$f":"IFERROR(VLOOKUP(Y195,'P2'!$B$4:$J$48,9,FALSE),\"\")","v":""},{"$f":"IFERROR(VLOOKUP(Z195,'P2'!$B$4:$J$48,9,FALSE),\"\")","v":""},{"$f":"IFERROR(VLOOKUP(AA195,'P2'!$B$4:$J$48,9,FALSE),\"\")","v":""},{"$f":"IFERROR(VLOOKUP(AB195,'P2'!$B$4:$J$48,9,FALSE),\"\")","v":""},{"$f":"IFERROR(VLOOKUP(AC195,'P2'!$B$4:$J$48,9,FALSE),\"\")","v":""},{"$f":"IFERROR(VLOOKUP(AD195,'P2'!$B$4:$J$48,9,FALSE),\"\")","v":""},{"$f":"IFERROR(VLOOKUP(AE195,'P2'!$B$4:$J$48,9,FALSE),\"\")","v":""},{"$f":"IFERROR(VLOOKUP(AF195,'P2'!$B$4:$J$48,9,FALSE),\"\")","v":""},{"$f":"IFERROR(VLOOKUP(AG195,'P2'!$B$4:$J$48,9,FALSE),\"\")","v":""},{"$f":"IFERROR(VLOOKUP(AH195,'P2'!$B$4:$J$48,9,FALSE),\"\")","v":""},{"$f":"IFERROR(VLOOKUP(AI195,'P2'!$B$4:$J$48,9,FALSE),\"\")","v":""},{"$f":"IFERROR(VLOOKUP(AJ195,'P2'!$B$4:$J$48,9,FALSE),\"\")","v":""},{"$f":"IFERROR(VLOOKUP(AK195,'P2'!$B$4:$J$48,9,FALSE),\"\")","v":""},{"$f":"IFERROR(VLOOKUP(AL195,'P2'!$B$4:$J$48,9,FALSE),\"\")","v":""},{"$f":"IFERROR(VLOOKUP(AM195,'P2'!$B$4:$J$48,9,FALSE),\"\")","v":""},{"$f":"IFERROR(VLOOKUP(AN195,'P2'!$B$4:$J$48,9,FALSE),\"\")","v":""},{"$f":"IFERROR(VLOOKUP(AO195,'P2'!$B$4:$J$48,9,FALSE),\"\")","v":""},{"$f":"IFERROR(VLOOKUP(AP195,'P2'!$B$4:$J$48,9,FALSE),\"\")","v":""},{"$f":"IFERROR(VLOOKUP(AQ195,'P2'!$B$4:$J$48,9,FALSE),\"\")","v":""},{"$f":"IFERROR(VLOOKUP(AR195,'P2'!$B$4:$J$48,9,FALSE),\"\")","v":""},{"$f":"IFERROR(VLOOKUP(AS195,'P2'!$B$4:$J$48,9,FALSE),\"\")","v":""},{"$f":"IFERROR(VLOOKUP(AT195,'P2'!$B$4:$J$48,9,FALSE),\"\")","v":""},{"$f":"IFERROR(VLOOKUP(AU195,'P2'!$B$4:$J$48,9,FALSE),\"\")","v":""},{"$f":"SUM(Q196:AU196)","v":0}]
[null,84,null,null,null,null,null,null,null,null,null,null,null,null,null,null,null,null,null,null,null,null,null,null,null,null,null,null,null,null,null,null,null,null,null,null,null,null,null,null,null,null,null,null,null,null,null,{"$f":"COUNTA(Q197:AU197)","v":0},{"$f":"AV198","v":0},{"$f":"IFERROR(ROUNDDOWN(AV198/$AT$3,1),\"\")","v":""}]
[null,null,null,null,null,null,null,null,null,null,null,null,null,null,null,null,{"$f":"IFERROR(VLOOKUP(Q197,'P2'!$B$4:$J$48,9,FALSE),\"\")","v":""},{"$f":"IFERROR(VLOOKUP(R197,'P2'!$B$4:$J$48,9,FALSE),\"\")","v":""},{"$f":"IFERROR(VLOOKUP(S197,'P2'!$B$4:$J$48,9,FALSE),\"\")","v":""},{"$f":"IFERROR(VLOOKUP(T197,'P2'!$B$4:$J$48,9,FALSE),\"\")","v":""},{"$f":"IFERROR(VLOOKUP(U197,'P2'!$B$4:$J$48,9,FALSE),\"\")","v":""},{"$f":"IFERROR(VLOOKUP(V197,'P2'!$B$4:$J$48,9,FALSE),\"\")","v":""},{"$f":"IFERROR(VLOOKUP(W197,'P2'!$B$4:$J$48,9,FALSE),\"\")","v":""},{"$f":"IFERROR(VLOOKUP(X197,'P2'!$B$4:$J$48,9,FALSE),\"\")","v":""},{"$f":"IFERROR(VLOOKUP(Y197,'P2'!$B$4:$J$48,9,FALSE),\"\")","v":""},{"$f":"IFERROR(VLOOKUP(Z197,'P2'!$B$4:$J$48,9,FALSE),\"\")","v":""},{"$f":"IFERROR(VLOOKUP(AA197,'P2'!$B$4:$J$48,9,FALSE),\"\")","v":""},{"$f":"IFERROR(VLOOKUP(AB197,'P2'!$B$4:$J$48,9,FALSE),\"\")","v":""},{"$f":"IFERROR(VLOOKUP(AC197,'P2'!$B$4:$J$48,9,FALSE),\"\")","v":""},{"$f":"IFERROR(VLOOKUP(AD197,'P2'!$B$4:$J$48,9,FALSE),\"\")","v":""},{"$f":"IFERROR(VLOOKUP(AE197,'P2'!$B$4:$J$48,9,FALSE),\"\")","v":""},{"$f":"IFERROR(VLOOKUP(AF197,'P2'!$B$4:$J$48,9,FALSE),\"\")","v":""},{"$f":"IFERROR(VLOOKUP(AG197,'P2'!$B$4:$J$48,9,FALSE),\"\")","v":""},{"$f":"IFERROR(VLOOKUP(AH197,'P2'!$B$4:$J$48,9,FALSE),\"\")","v":""},{"$f":"IFERROR(VLOOKUP(AI197,'P2'!$B$4:$J$48,9,FALSE),\"\")","v":""},{"$f":"IFERROR(VLOOKUP(AJ197,'P2'!$B$4:$J$48,9,FALSE),\"\")","v":""},{"$f":"IFERROR(VLOOKUP(AK197,'P2'!$B$4:$J$48,9,FALSE),\"\")","v":""},{"$f":"IFERROR(VLOOKUP(AL197,'P2'!$B$4:$J$48,9,FALSE),\"\")","v":""},{"$f":"IFERROR(VLOOKUP(AM197,'P2'!$B$4:$J$48,9,FALSE),\"\")","v":""},{"$f":"IFERROR(VLOOKUP(AN197,'P2'!$B$4:$J$48,9,FALSE),\"\")","v":""},{"$f":"IFERROR(VLOOKUP(AO197,'P2'!$B$4:$J$48,9,FALSE),\"\")","v":""},{"$f":"IFERROR(VLOOKUP(AP197,'P2'!$B$4:$J$48,9,FALSE),\"\")","v":""},{"$f":"IFERROR(VLOOKUP(AQ197,'P2'!$B$4:$J$48,9,FALSE),\"\")","v":""},{"$f":"IFERROR(VLOOKUP(AR197,'P2'!$B$4:$J$48,9,FALSE),\"\")","v":""},{"$f":"IFERROR(VLOOKUP(AS197,'P2'!$B$4:$J$48,9,FALSE),\"\")","v":""},{"$f":"IFERROR(VLOOKUP(AT197,'P2'!$B$4:$J$48,9,FALSE),\"\")","v":""},{"$f":"IFERROR(VLOOKUP(AU197,'P2'!$B$4:$J$48,9,FALSE),\"\")","v":""},{"$f":"SUM(Q198:AU198)","v":0}]
[]
[]
[null,"(2)　勤務実績　（直近3か月分の実績）",null,null,null,null,null,null,null,null,null,null,null,null,null,null,null,null,"（",{"$f":"$T$3","v":"令和　7"},null,"年",{"$f":"$W$3","v":3},"月分実績",null,"）",null,null,null,null,null,null,null,null,null,null,null,null,null,null,null,null,null,null,null,null,null,null,null,{"$f":"\"5 / \"&COUNTA(C$7,C$57,C$106,C$155,C$204)","v":"5 / 1"}]
[null,null,"職　　種",null,null,null,null,null,"氏　　名",null,null,null,null,"勤務\n形態",null,null,{"$f":"Q$5","v":"2025-03-01"},{"$f":"R$5","v":"2025-03-02"},"2025-03-03","2025-03-04","2025-03-05","2025-03-06","2025-03-07","2025-03-08","2025-03-09","2025-03-10","2025-03-11","2025-03-12","2025-03-13","2025-03-14","2025-03-15","2025-03-16","2025-03-17","2025-03-18","2025-03-19","2025-03-20","2025-03-21","2025-03-22","2025-03-23","2025-03-24","2025-03-25","2025-03-26","2025-03-27","2025-03-28","2025-03-29","2025-03-30","2025-03-31","勤務日数",null,"常勤換算"]
[null,null,null,null,null,null,null,null,null,null,null,null,null,null,null,null,{"$f":"Q$6","v":"土"},{"$f":"R$6","v":"日"},"月","火","水","木","金","土","日","月","火","水","木","金","土","日","月","火","水","木","金","土","日","月","火","水","木","金","土","日","月","勤務時間"]
[null,{"$f":"B197+1","v":85},null,null,null,null,null,null,null,null,null,null,null,null,null,null,null,null,null,null,null,null,null,null,null,null,null,null,null,null,null,null,null,null,null,null,null,null,null,null,null,null,null,null,null,null,null,{"$f":"COUNTA(Q204:AU204)","v":0},{"$f":"AV205","v":0},{"$f":"IFERROR(ROUNDDOWN(AV205/$AT$3,1),\"\")","v":""}]
[null,null,null,null,null,null,null,null,null,null,null,null,null,null,null,null,{"$f":"IFERROR(VLOOKUP(Q204,'P2'!$B$4:$J$48,9,FALSE),\"\")","v":""},{"$f":"IFERROR(VLOOKUP(R204,'P2'!$B$4:$J$48,9,FALSE),\"\")","v":""},{"$f":"IFERROR(VLOOKUP(S204,'P2'!$B$4:$J$48,9,FALSE),\"\")","v":""},{"$f":"IFERROR(VLOOKUP(T204,'P2'!$B$4:$J$48,9,FALSE),\"\")","v":""},{"$f":"IFERROR(VLOOKUP(U204,'P2'!$B$4:$J$48,9,FALSE),\"\")","v":""},{"$f":"IFERROR(VLOOKUP(V204,'P2'!$B$4:$J$48,9,FALSE),\"\")","v":""},{"$f":"IFERROR(VLOOKUP(W204,'P2'!$B$4:$J$48,9,FALSE),\"\")","v":""},{"$f":"IFERROR(VLOOKUP(X204,'P2'!$B$4:$J$48,9,FALSE),\"\")","v":""},{"$f":"IFERROR(VLOOKUP(Y204,'P2'!$B$4:$J$48,9,FALSE),\"\")","v":""},{"$f":"IFERROR(VLOOKUP(Z204,'P2'!$B$4:$J$48,9,FALSE),\"\")","v":""},{"$f":"IFERROR(VLOOKUP(AA204,'P2'!$B$4:$J$48,9,FALSE),\"\")","v":""},{"$f":"IFERROR(VLOOKUP(AB204,'P2'!$B$4:$J$48,9,FALSE),\"\")","v":""},{"$f":"IFERROR(VLOOKUP(AC204,'P2'!$B$4:$J$48,9,FALSE),\"\")","v":""},{"$f":"IFERROR(VLOOKUP(AD204,'P2'!$B$4:$J$48,9,FALSE),\"\")","v":""},{"$f":"IFERROR(VLOOKUP(AE204,'P2'!$B$4:$J$48,9,FALSE),\"\")","v":""},{"$f":"IFERROR(VLOOKUP(AF204,'P2'!$B$4:$J$48,9,FALSE),\"\")","v":""},{"$f":"IFERROR(VLOOKUP(AG204,'P2'!$B$4:$J$48,9,FALSE),\"\")","v":""},{"$f":"IFERROR(VLOOKUP(AH204,'P2'!$B$4:$J$48,9,FALSE),\"\")","v":""},{"$f":"IFERROR(VLOOKUP(AI204,'P2'!$B$4:$J$48,9,FALSE),\"\")","v":""},{"$f":"IFERROR(VLOOKUP(AJ204,'P2'!$B$4:$J$48,9,FALSE),\"\")","v":""},{"$f":"IFERROR(VLOOKUP(AK204,'P2'!$B$4:$J$48,9,FALSE),\"\")","v":""},{"$f":"IFERROR(VLOOKUP(AL204,'P2'!$B$4:$J$48,9,FALSE),\"\")","v":""},{"$f":"IFERROR(VLOOKUP(AM204,'P2'!$B$4:$J$48,9,FALSE),\"\")","v":""},{"$f":"IFERROR(VLOOKUP(AN204,'P2'!$B$4:$J$48,9,FALSE),\"\")","v":""},{"$f":"IFERROR(VLOOKUP(AO204,'P2'!$B$4:$J$48,9,FALSE),\"\")","v":""},{"$f":"IFERROR(VLOOKUP(AP204,'P2'!$B$4:$J$48,9,FALSE),\"\")","v":""},{"$f":"IFERROR(VLOOKUP(AQ204,'P2'!$B$4:$J$48,9,FALSE),\"\")","v":""},{"$f":"IFERROR(VLOOKUP(AR204,'P2'!$B$4:$J$48,9,FALSE),\"\")","v":""},{"$f":"IFERROR(VLOOKUP(AS204,'P2'!$B$4:$J$48,9,FALSE),\"\")","v":""},{"$f":"IFERROR(VLOOKUP(AT204,'P2'!$B$4:$J$48,9,FALSE),\"\")","v":""},{"$f":"IFERROR(VLOOKUP(AU204,'P2'!$B$4:$J$48,9,FALSE),\"\")","v":""},{"$f":"SUM(Q205:AU205)","v":0}]
[null,{"$f":"B204+1","v":86},null,null,null,null,null,null,null,null,null,null,null,null,null,null,null,null,null,null,null,null,null,null,null,null,null,null,null,null,null,null,null,null,null,null,null,null,null,null,null,null,null,null,null,null,null,{"$f":"COUNTA(Q206:AU206)","v":0},{"$f":"AV207","v":0},{"$f":"IFERROR(ROUNDDOWN(AV207/$AT$3,1),\"\")","v":""}]
[null,null,null,null,null,null,null,null,null,null,null,null,null,null,null,null,{"$f":"IFERROR(VLOOKUP(Q206,'P2'!$B$4:$J$48,9,FALSE),\"\")","v":""},{"$f":"IFERROR(VLOOKUP(R206,'P2'!$B$4:$J$48,9,FALSE),\"\")","v":""},{"$f":"IFERROR(VLOOKUP(S206,'P2'!$B$4:$J$48,9,FALSE),\"\")","v":""},{"$f":"IFERROR(VLOOKUP(T206,'P2'!$B$4:$J$48,9,FALSE),\"\")","v":""},{"$f":"IFERROR(VLOOKUP(U206,'P2'!$B$4:$J$48,9,FALSE),\"\")","v":""},{"$f":"IFERROR(VLOOKUP(V206,'P2'!$B$4:$J$48,9,FALSE),\"\")","v":""},{"$f":"IFERROR(VLOOKUP(W206,'P2'!$B$4:$J$48,9,FALSE),\"\")","v":""},{"$f":"IFERROR(VLOOKUP(X206,'P2'!$B$4:$J$48,9,FALSE),\"\")","v":""},{"$f":"IFERROR(VLOOKUP(Y206,'P2'!$B$4:$J$48,9,FALSE),\"\")","v":""},{"$f":"IFERROR(VLOOKUP(Z206,'P2'!$B$4:$J$48,9,FALSE),\"\")","v":""},{"$f":"IFERROR(VLOOKUP(AA206,'P2'!$B$4:$J$48,9,FALSE),\"\")","v":""},{"$f":"IFERROR(VLOOKUP(AB206,'P2'!$B$4:$J$48,9,FALSE),\"\")","v":""},{"$f":"IFERROR(VLOOKUP(AC206,'P2'!$B$4:$J$48,9,FALSE),\"\")","v":""},{"$f":"IFERROR(VLOOKUP(AD206,'P2'!$B$4:$J$48,9,FALSE),\"\")","v":""},{"$f":"IFERROR(VLOOKUP(AE206,'P2'!$B$4:$J$48,9,FALSE),\"\")","v":""},{"$f":"IFERROR(VLOOKUP(AF206,'P2'!$B$4:$J$48,9,FALSE),\"\")","v":""},{"$f":"IFERROR(VLOOKUP(AG206,'P2'!$B$4:$J$48,9,FALSE),\"\")","v":""},{"$f":"IFERROR(VLOOKUP(AH206,'P2'!$B$4:$J$48,9,FALSE),\"\")","v":""},{"$f":"IFERROR(VLOOKUP(AI206,'P2'!$B$4:$J$48,9,FALSE),\"\")","v":""},{"$f":"IFERROR(VLOOKUP(AJ206,'P2'!$B$4:$J$48,9,FALSE),\"\")","v":""},{"$f":"IFERROR(VLOOKUP(AK206,'P2'!$B$4:$J$48,9,FALSE),\"\")","v":""},{"$f":"IFERROR(VLOOKUP(AL206,'P2'!$B$4:$J$48,9,FALSE),\"\")","v":""},{"$f":"IFERROR(VLOOKUP(AM206,'P2'!$B$4:$J$48,9,FALSE),\"\")","v":""},{"$f":"IFERROR(VLOOKUP(AN206,'P2'!$B$4:$J$48,9,FALSE),\"\")","v":""},{"$f":"IFERROR(VLOOKUP(AO206,'P2'!$B$4:$J$48,9,FALSE),\"\")","v":""},{"$f":"IFERROR(VLOOKUP(AP206,'P2'!$B$4:$J$48,9,FALSE),\"\")","v":""},{"$f":"IFERROR(VLOOKUP(AQ206,'P2'!$B$4:$J$48,9,FALSE),\"\")","v":""},{"$f":"IFERROR(VLOOKUP(AR206,'P2'!$B$4:$J$48,9,FALSE),\"\")","v":""},{"$f":"IFERROR(VLOOKUP(AS206,'P2'!$B$4:$J$48,9,FALSE),\"\")","v":""},{"$f":"IFERROR(VLOOKUP(AT206,'P2'!$B$4:$J$48,9,FALSE),\"\")","v":""},{"$f":"IFERROR(VLOOKUP(AU206,'P2'!$B$4:$J$48,9,FALSE),\"\")","v":""},{"$f":"SUM(Q207:AU207)","v":0}]
[null,87,null,null,null,null,null,null,null,null,null,null,null,null,null,null,null,null,null,null,null,null,null,null,null,null,null,null,null,null,null,null,null,null,null,null,null,null,null,null,null,null,null,null,null,null,null,{"$f":"COUNTA(Q208:AU208)","v":0},{"$f":"AV209","v":0},{"$f":"IFERROR(ROUNDDOWN(AV209/$AT$3,1),\"\")","v":""}]
[null,null,null,null,null,null,null,null,null,null,null,null,null,null,null,null,{"$f":"IFERROR(VLOOKUP(Q208,'P2'!$B$4:$J$48,9,FALSE),\"\")","v":""},{"$f":"IFERROR(VLOOKUP(R208,'P2'!$B$4:$J$48,9,FALSE),\"\")","v":""},{"$f":"IFERROR(VLOOKUP(S208,'P2'!$B$4:$J$48,9,FALSE),\"\")","v":""},{"$f":"IFERROR(VLOOKUP(T208,'P2'!$B$4:$J$48,9,FALSE),\"\")","v":""},{"$f":"IFERROR(VLOOKUP(U208,'P2'!$B$4:$J$48,9,FALSE),\"\")","v":""},{"$f":"IFERROR(VLOOKUP(V208,'P2'!$B$4:$J$48,9,FALSE),\"\")","v":""},{"$f":"IFERROR(VLOOKUP(W208,'P2'!$B$4:$J$48,9,FALSE),\"\")","v":""},{"$f":"IFERROR(VLOOKUP(X208,'P2'!$B$4:$J$48,9,FALSE),\"\")","v":""},{"$f":"IFERROR(VLOOKUP(Y208,'P2'!$B$4:$J$48,9,FALSE),\"\")","v":""},{"$f":"IFERROR(VLOOKUP(Z208,'P2'!$B$4:$J$48,9,FALSE),\"\")","v":""},{"$f":"IFERROR(VLOOKUP(AA208,'P2'!$B$4:$J$48,9,FALSE),\"\")","v":""},{"$f":"IFERROR(VLOOKUP(AB208,'P2'!$B$4:$J$48,9,FALSE),\"\")","v":""},{"$f":"IFERROR(VLOOKUP(AC208,'P2'!$B$4:$J$48,9,FALSE),\"\")","v":""},{"$f":"IFERROR(VLOOKUP(AD208,'P2'!$B$4:$J$48,9,FALSE),\"\")","v":""},{"$f":"IFERROR(VLOOKUP(AE208,'P2'!$B$4:$J$48,9,FALSE),\"\")","v":""},{"$f":"IFERROR(VLOOKUP(AF208,'P2'!$B$4:$J$48,9,FALSE),\"\")","v":""},{"$f":"IFERROR(VLOOKUP(AG208,'P2'!$B$4:$J$48,9,FALSE),\"\")","v":""},{"$f":"IFERROR(VLOOKUP(AH208,'P2'!$B$4:$J$48,9,FALSE),\"\")","v":""},{"$f":"IFERROR(VLOOKUP(AI208,'P2'!$B$4:$J$48,9,FALSE),\"\")","v":""},{"$f":"IFERROR(VLOOKUP(AJ208,'P2'!$B$4:$J$48,9,FALSE),\"\")","v":""},{"$f":"IFERROR(VLOOKUP(AK208,'P2'!$B$4:$J$48,9,FALSE),\"\")","v":""},{"$f":"IFERROR(VLOOKUP(AL208,'P2'!$B$4:$J$48,9,FALSE),\"\")","v":""},{"$f":"IFERROR(VLOOKUP(AM208,'P2'!$B$4:$J$48,9,FALSE),\"\")","v":""},{"$f":"IFERROR(VLOOKUP(AN208,'P2'!$B$4:$J$48,9,FALSE),\"\")","v":""},{"$f":"IFERROR(VLOOKUP(AO208,'P2'!$B$4:$J$48,9,FALSE),\"\")","v":""},{"$f":"IFERROR(VLOOKUP(AP208,'P2'!$B$4:$J$48,9,FALSE),\"\")","v":""},{"$f":"IFERROR(VLOOKUP(AQ208,'P2'!$B$4:$J$48,9,FALSE),\"\")","v":""},{"$f":"IFERROR(VLOOKUP(AR208,'P2'!$B$4:$J$48,9,FALSE),\"\")","v":""},{"$f":"IFERROR(VLOOKUP(AS208,'P2'!$B$4:$J$48,9,FALSE),\"\")","v":""},{"$f":"IFERROR(VLOOKUP(AT208,'P2'!$B$4:$J$48,9,FALSE),\"\")","v":""},{"$f":"IFERROR(VLOOKUP(AU208,'P2'!$B$4:$J$48,9,FALSE),\"\")","v":""},{"$f":"SUM(Q209:AU209)","v":0}]
[null,88,null,null,null,null,null,null,null,null,null,null,null,null,null,null,null,null,null,null,null,null,null,null,null,null,null,null,null,null,null,null,null,null,null,null,null,null,null,null,null,null,null,null,null,null,null,{"$f":"COUNTA(Q210:AU210)","v":0},{"$f":"AV211","v":0},{"$f":"IFERROR(ROUNDDOWN(AV211/$AT$3,1),\"\")","v":""}]
[null,null,null,null,null,null,null,null,null,null,null,null,null,null,null,null,{"$f":"IFERROR(VLOOKUP(Q210,'P2'!$B$4:$J$48,9,FALSE),\"\")","v":""},{"$f":"IFERROR(VLOOKUP(R210,'P2'!$B$4:$J$48,9,FALSE),\"\")","v":""},{"$f":"IFERROR(VLOOKUP(S210,'P2'!$B$4:$J$48,9,FALSE),\"\")","v":""},{"$f":"IFERROR(VLOOKUP(T210,'P2'!$B$4:$J$48,9,FALSE),\"\")","v":""},{"$f":"IFERROR(VLOOKUP(U210,'P2'!$B$4:$J$48,9,FALSE),\"\")","v":""},{"$f":"IFERROR(VLOOKUP(V210,'P2'!$B$4:$J$48,9,FALSE),\"\")","v":""},{"$f":"IFERROR(VLOOKUP(W210,'P2'!$B$4:$J$48,9,FALSE),\"\")","v":""},{"$f":"IFERROR(VLOOKUP(X210,'P2'!$B$4:$J$48,9,FALSE),\"\")","v":""},{"$f":"IFERROR(VLOOKUP(Y210,'P2'!$B$4:$J$48,9,FALSE),\"\")","v":""},{"$f":"IFERROR(VLOOKUP(Z210,'P2'!$B$4:$J$48,9,FALSE),\"\")","v":""},{"$f":"IFERROR(VLOOKUP(AA210,'P2'!$B$4:$J$48,9,FALSE),\"\")","v":""},{"$f":"IFERROR(VLOOKUP(AB210,'P2'!$B$4:$J$48,9,FALSE),\"\")","v":""},{"$f":"IFERROR(VLOOKUP(AC210,'P2'!$B$4:$J$48,9,FALSE),\"\")","v":""},{"$f":"IFERROR(VLOOKUP(AD210,'P2'!$B$4:$J$48,9,FALSE),\"\")","v":""},{"$f":"IFERROR(VLOOKUP(AE210,'P2'!$B$4:$J$48,9,FALSE),\"\")","v":""},{"$f":"IFERROR(VLOOKUP(AF210,'P2'!$B$4:$J$48,9,FALSE),\"\")","v":""},{"$f":"IFERROR(VLOOKUP(AG210,'P2'!$B$4:$J$48,9,FALSE),\"\")","v":""},{"$f":"IFERROR(VLOOKUP(AH210,'P2'!$B$4:$J$48,9,FALSE),\"\")","v":""},{"$f":"IFERROR(VLOOKUP(AI210,'P2'!$B$4:$J$48,9,FALSE),\"\")","v":""},{"$f":"IFERROR(VLOOKUP(AJ210,'P2'!$B$4:$J$48,9,FALSE),\"\")","v":""},{"$f":"IFERROR(VLOOKUP(AK210,'P2'!$B$4:$J$48,9,FALSE),\"\")","v":""},{"$f":"IFERROR(VLOOKUP(AL210,'P2'!$B$4:$J$48,9,FALSE),\"\")","v":""},{"$f":"IFERROR(VLOOKUP(AM210,'P2'!$B$4:$J$48,9,FALSE),\"\")","v":""},{"$f":"IFERROR(VLOOKUP(AN210,'P2'!$B$4:$J$48,9,FALSE),\"\")","v":""},{"$f":"IFERROR(VLOOKUP(AO210,'P2'!$B$4:$J$48,9,FALSE),\"\")","v":""},{"$f":"IFERROR(VLOOKUP(AP210,'P2'!$B$4:$J$48,9,FALSE),\"\")","v":""},{"$f":"IFERROR(VLOOKUP(AQ210,'P2'!$B$4:$J$48,9,FALSE),\"\")","v":""},{"$f":"IFERROR(VLOOKUP(AR210,'P2'!$B$4:$J$48,9,FALSE),\"\")","v":""},{"$f":"IFERROR(VLOOKUP(AS210,'P2'!$B$4:$J$48,9,FALSE),\"\")","v":""},{"$f":"IFERROR(VLOOKUP(AT210,'P2'!$B$4:$J$48,9,FALSE),\"\")","v":""},{"$f":"IFERROR(VLOOKUP(AU210,'P2'!$B$4:$J$48,9,FALSE),\"\")","v":""},{"$f":"SUM(Q211:AU211)","v":0}]
[null,89,null,null,null,null,null,null,null,null,null,null,null,null,null,null,null,null,null,null,null,null,null,null,null,null,null,null,null,null,null,null,null,null,null,null,null,null,null,null,null,null,null,null,null,null,null,{"$f":"COUNTA(Q212:AU212)","v":0},{"$f":"AV213","v":0},{"$f":"IFERROR(ROUNDDOWN(AV213/$AT$3,1),\"\")","v":""}]
[null,null,null,null,null,null,null,null,null,null,null,null,null,null,null,null,{"$f":"IFERROR(VLOOKUP(Q212,'P2'!$B$4:$J$48,9,FALSE),\"\")","v":""},{"$f":"IFERROR(VLOOKUP(R212,'P2'!$B$4:$J$48,9,FALSE),\"\")","v":""},{"$f":"IFERROR(VLOOKUP(S212,'P2'!$B$4:$J$48,9,FALSE),\"\")","v":""},{"$f":"IFERROR(VLOOKUP(T212,'P2'!$B$4:$J$48,9,FALSE),\"\")","v":""},{"$f":"IFERROR(VLOOKUP(U212,'P2'!$B$4:$J$48,9,FALSE),\"\")","v":""},{"$f":"IFERROR(VLOOKUP(V212,'P2'!$B$4:$J$48,9,FALSE),\"\")","v":""},{"$f":"IFERROR(VLOOKUP(W212,'P2'!$B$4:$J$48,9,FALSE),\"\")","v":""},{"$f":"IFERROR(VLOOKUP(X212,'P2'!$B$4:$J$48,9,FALSE),\"\")","v":""},{"$f":"IFERROR(VLOOKUP(Y212,'P2'!$B$4:$J$48,9,FALSE),\"\")","v":""},{"$f":"IFERROR(VLOOKUP(Z212,'P2'!$B$4:$J$48,9,FALSE),\"\")","v":""},{"$f":"IFERROR(VLOOKUP(AA212,'P2'!$B$4:$J$48,9,FALSE),\"\")","v":""},{"$f":"IFERROR(VLOOKUP(AB212,'P2'!$B$4:$J$48,9,FALSE),\"\")","v":""},{"$f":"IFERROR(VLOOKUP(AC212,'P2'!$B$4:$J$48,9,FALSE),\"\")","v":""},{"$f":"IFERROR(VLOOKUP(AD212,'P2'!$B$4:$J$48,9,FALSE),\"\")","v":""},{"$f":"IFERROR(VLOOKUP(AE212,'P2'!$B$4:$J$48,9,FALSE),\"\")","v":""},{"$f":"IFERROR(VLOOKUP(AF212,'P2'!$B$4:$J$48,9,FALSE),\"\")","v":""},{"$f":"IFERROR(VLOOKUP(AG212,'P2'!$B$4:$J$48,9,FALSE),\"\")","v":""},{"$f":"IFERROR(VLOOKUP(AH212,'P2'!$B$4:$J$48,9,FALSE),\"\")","v":""},{"$f":"IFERROR(VLOOKUP(AI212,'P2'!$B$4:$J$48,9,FALSE),\"\")","v":""},{"$f":"IFERROR(VLOOKUP(AJ212,'P2'!$B$4:$J$48,9,FALSE),\"\")","v":""},{"$f":"IFERROR(VLOOKUP(AK212,'P2'!$B$4:$J$48,9,FALSE),\"\")","v":""},{"$f":"IFERROR(VLOOKUP(AL212,'P2'!$B$4:$J$48,9,FALSE),\"\")","v":""},{"$f":"IFERROR(VLOOKUP(AM212,'P2'!$B$4:$J$48,9,FALSE),\"\")","v":""},{"$f":"IFERROR(VLOOKUP(AN212,'P2'!$B$4:$J$48,9,FALSE),\"\")","v":""},{"$f":"IFERROR(VLOOKUP(AO212,'P2'!$B$4:$J$48,9,FALSE),\"\")","v":""},{"$f":"IFERROR(VLOOKUP(AP212,'P2'!$B$4:$J$48,9,FALSE),\"\")","v":""},{"$f":"IFERROR(VLOOKUP(AQ212,'P2'!$B$4:$J$48,9,FALSE),\"\")","v":""},{"$f":"IFERROR(VLOOKUP(AR212,'P2'!$B$4:$J$48,9,FALSE),\"\")","v":""},{"$f":"IFERROR(VLOOKUP(AS212,'P2'!$B$4:$J$48,9,FALSE),\"\")","v":""},{"$f":"IFERROR(VLOOKUP(AT212,'P2'!$B$4:$J$48,9,FALSE),\"\")","v":""},{"$f":"IFERROR(VLOOKUP(AU212,'P2'!$B$4:$J$48,9,FALSE),\"\")","v":""},{"$f":"SUM(Q213:AU213)","v":0}]
[null,90,null,null,null,null,null,null,null,null,null,null,null,null,null,null,null,null,null,null,null,null,null,null,null,null,null,null,null,null,null,null,null,null,null,null,null,null,null,null,null,null,null,null,null,null,null,{"$f":"COUNTA(Q214:AU214)","v":0},{"$f":"AV215","v":0},{"$f":"IFERROR(ROUNDDOWN(AV215/$AT$3,1),\"\")","v":""}]
[null,null,null,null,null,null,null,null,null,null,null,null,null,null,null,null,{"$f":"IFERROR(VLOOKUP(Q214,'P2'!$B$4:$J$48,9,FALSE),\"\")","v":""},{"$f":"IFERROR(VLOOKUP(R214,'P2'!$B$4:$J$48,9,FALSE),\"\")","v":""},{"$f":"IFERROR(VLOOKUP(S214,'P2'!$B$4:$J$48,9,FALSE),\"\")","v":""},{"$f":"IFERROR(VLOOKUP(T214,'P2'!$B$4:$J$48,9,FALSE),\"\")","v":""},{"$f":"IFERROR(VLOOKUP(U214,'P2'!$B$4:$J$48,9,FALSE),\"\")","v":""},{"$f":"IFERROR(VLOOKUP(V214,'P2'!$B$4:$J$48,9,FALSE),\"\")","v":""},{"$f":"IFERROR(VLOOKUP(W214,'P2'!$B$4:$J$48,9,FALSE),\"\")","v":""},{"$f":"IFERROR(VLOOKUP(X214,'P2'!$B$4:$J$48,9,FALSE),\"\")","v":""},{"$f":"IFERROR(VLOOKUP(Y214,'P2'!$B$4:$J$48,9,FALSE),\"\")","v":""},{"$f":"IFERROR(VLOOKUP(Z214,'P2'!$B$4:$J$48,9,FALSE),\"\")","v":""},{"$f":"IFERROR(VLOOKUP(AA214,'P2'!$B$4:$J$48,9,FALSE),\"\")","v":""},{"$f":"IFERROR(VLOOKUP(AB214,'P2'!$B$4:$J$48,9,FALSE),\"\")","v":""},{"$f":"IFERROR(VLOOKUP(AC214,'P2'!$B$4:$J$48,9,FALSE),\"\")","v":""},{"$f":"IFERROR(VLOOKUP(AD214,'P2'!$B$4:$J$48,9,FALSE),\"\")","v":""},{"$f":"IFERROR(VLOOKUP(AE214,'P2'!$B$4:$J$48,9,FALSE),\"\")","v":""},{"$f":"IFERROR(VLOOKUP(AF214,'P2'!$B$4:$J$48,9,FALSE),\"\")","v":""},{"$f":"IFERROR(VLOOKUP(AG214,'P2'!$B$4:$J$48,9,FALSE),\"\")","v":""},{"$f":"IFERROR(VLOOKUP(AH214,'P2'!$B$4:$J$48,9,FALSE),\"\")","v":""},{"$f":"IFERROR(VLOOKUP(AI214,'P2'!$B$4:$J$48,9,FALSE),\"\")","v":""},{"$f":"IFERROR(VLOOKUP(AJ214,'P2'!$B$4:$J$48,9,FALSE),\"\")","v":""},{"$f":"IFERROR(VLOOKUP(AK214,'P2'!$B$4:$J$48,9,FALSE),\"\")","v":""},{"$f":"IFERROR(VLOOKUP(AL214,'P2'!$B$4:$J$48,9,FALSE),\"\")","v":""},{"$f":"IFERROR(VLOOKUP(AM214,'P2'!$B$4:$J$48,9,FALSE),\"\")","v":""},{"$f":"IFERROR(VLOOKUP(AN214,'P2'!$B$4:$J$48,9,FALSE),\"\")","v":""},{"$f":"IFERROR(VLOOKUP(AO214,'P2'!$B$4:$J$48,9,FALSE),\"\")","v":""},{"$f":"IFERROR(VLOOKUP(AP214,'P2'!$B$4:$J$48,9,FALSE),\"\")","v":""},{"$f":"IFERROR(VLOOKUP(AQ214,'P2'!$B$4:$J$48,9,FALSE),\"\")","v":""},{"$f":"IFERROR(VLOOKUP(AR214,'P2'!$B$4:$J$48,9,FALSE),\"\")","v":""},{"$f":"IFERROR(VLOOKUP(AS214,'P2'!$B$4:$J$48,9,FALSE),\"\")","v":""},{"$f":"IFERROR(VLOOKUP(AT214,'P2'!$B$4:$J$48,9,FALSE),\"\")","v":""},{"$f":"IFERROR(VLOOKUP(AU214,'P2'!$B$4:$J$48,9,FALSE),\"\")","v":""},{"$f":"SUM(Q215:AU215)","v":0}]
[null,91,null,null,null,null,null,null,null,null,null,null,null,null,null,null,null,null,null,null,null,null,null,null,null,null,null,null,null,null,null,null,null,null,null,null,null,null,null,null,null,null,null,null,null,null,null,{"$f":"COUNTA(Q216:AU216)","v":0},{"$f":"AV217","v":0},{"$f":"IFERROR(ROUNDDOWN(AV217/$AT$3,1),\"\")","v":""}]
[null,null,null,null,null,null,null,null,null,null,null,null,null,null,null,null,{"$f":"IFERROR(VLOOKUP(Q216,'P2'!$B$4:$J$48,9,FALSE),\"\")","v":""},{"$f":"IFERROR(VLOOKUP(R216,'P2'!$B$4:$J$48,9,FALSE),\"\")","v":""},{"$f":"IFERROR(VLOOKUP(S216,'P2'!$B$4:$J$48,9,FALSE),\"\")","v":""},{"$f":"IFERROR(VLOOKUP(T216,'P2'!$B$4:$J$48,9,FALSE),\"\")","v":""},{"$f":"IFERROR(VLOOKUP(U216,'P2'!$B$4:$J$48,9,FALSE),\"\")","v":""},{"$f":"IFERROR(VLOOKUP(V216,'P2'!$B$4:$J$48,9,FALSE),\"\")","v":""},{"$f":"IFERROR(VLOOKUP(W216,'P2'!$B$4:$J$48,9,FALSE),\"\")","v":""},{"$f":"IFERROR(VLOOKUP(X216,'P2'!$B$4:$J$48,9,FALSE),\"\")","v":""},{"$f":"IFERROR(VLOOKUP(Y216,'P2'!$B$4:$J$48,9,FALSE),\"\")","v":""},{"$f":"IFERROR(VLOOKUP(Z216,'P2'!$B$4:$J$48,9,FALSE),\"\")","v":""},{"$f":"IFERROR(VLOOKUP(AA216,'P2'!$B$4:$J$48,9,FALSE),\"\")","v":""},{"$f":"IFERROR(VLOOKUP(AB216,'P2'!$B$4:$J$48,9,FALSE),\"\")","v":""},{"$f":"IFERROR(VLOOKUP(AC216,'P2'!$B$4:$J$48,9,FALSE),\"\")","v":""},{"$f":"IFERROR(VLOOKUP(AD216,'P2'!$B$4:$J$48,9,FALSE),\"\")","v":""},{"$f":"IFERROR(VLOOKUP(AE216,'P2'!$B$4:$J$48,9,FALSE),\"\")","v":""},{"$f":"IFERROR(VLOOKUP(AF216,'P2'!$B$4:$J$48,9,FALSE),\"\")","v":""},{"$f":"IFERROR(VLOOKUP(AG216,'P2'!$B$4:$J$48,9,FALSE),\"\")","v":""},{"$f":"IFERROR(VLOOKUP(AH216,'P2'!$B$4:$J$48,9,FALSE),\"\")","v":""},{"$f":"IFERROR(VLOOKUP(AI216,'P2'!$B$4:$J$48,9,FALSE),\"\")","v":""},{"$f":"IFERROR(VLOOKUP(AJ216,'P2'!$B$4:$J$48,9,FALSE),\"\")","v":""},{"$f":"IFERROR(VLOOKUP(AK216,'P2'!$B$4:$J$48,9,FALSE),\"\")","v":""},{"$f":"IFERROR(VLOOKUP(AL216,'P2'!$B$4:$J$48,9,FALSE),\"\")","v":""},{"$f":"IFERROR(VLOOKUP(AM216,'P2'!$B$4:$J$48,9,FALSE),\"\")","v":""},{"$f":"IFERROR(VLOOKUP(AN216,'P2'!$B$4:$J$48,9,FALSE),\"\")","v":""},{"$f":"IFERROR(VLOOKUP(AO216,'P2'!$B$4:$J$48,9,FALSE),\"\")","v":""},{"$f":"IFERROR(VLOOKUP(AP216,'P2'!$B$4:$J$48,9,FALSE),\"\")","v":""},{"$f":"IFERROR(VLOOKUP(AQ216,'P2'!$B$4:$J$48,9,FALSE),\"\")","v":""},{"$f":"IFERROR(VLOOKUP(AR216,'P2'!$B$4:$J$48,9,FALSE),\"\")","v":""},{"$f":"IFERROR(VLOOKUP(AS216,'P2'!$B$4:$J$48,9,FALSE),\"\")","v":""},{"$f":"IFERROR(VLOOKUP(AT216,'P2'!$B$4:$J$48,9,FALSE),\"\")","v":""},{"$f":"IFERROR(VLOOKUP(AU216,'P2'!$B$4:$J$48,9,FALSE),\"\")","v":""},{"$f":"SUM(Q217:AU217)","v":0}]
[null,92,null,null,null,null,null,null,null,null,null,null,null,null,null,null,null,null,null,null,null,null,null,null,null,null,null,null,null,null,null,null,null,null,null,null,null,null,null,null,null,null,null,null,null,null,null,{"$f":"COUNTA(Q218:AU218)","v":0},{"$f":"AV219","v":0},{"$f":"IFERROR(ROUNDDOWN(AV219/$AT$3,1),\"\")","v":""}]
[null,null,null,null,null,null,null,null,null,null,null,null,null,null,null,null,{"$f":"IFERROR(VLOOKUP(Q218,'P2'!$B$4:$J$48,9,FALSE),\"\")","v":""},{"$f":"IFERROR(VLOOKUP(R218,'P2'!$B$4:$J$48,9,FALSE),\"\")","v":""},{"$f":"IFERROR(VLOOKUP(S218,'P2'!$B$4:$J$48,9,FALSE),\"\")","v":""},{"$f":"IFERROR(VLOOKUP(T218,'P2'!$B$4:$J$48,9,FALSE),\"\")","v":""},{"$f":"IFERROR(VLOOKUP(U218,'P2'!$B$4:$J$48,9,FALSE),\"\")","v":""},{"$f":"IFERROR(VLOOKUP(V218,'P2'!$B$4:$J$48,9,FALSE),\"\")","v":""},{"$f":"IFERROR(VLOOKUP(W218,'P2'!$B$4:$J$48,9,FALSE),\"\")","v":""},{"$f":"IFERROR(VLOOKUP(X218,'P2'!$B$4:$J$48,9,FALSE),\"\")","v":""},{"$f":"IFERROR(VLOOKUP(Y218,'P2'!$B$4:$J$48,9,FALSE),\"\")","v":""},{"$f":"IFERROR(VLOOKUP(Z218,'P2'!$B$4:$J$48,9,FALSE),\"\")","v":""},{"$f":"IFERROR(VLOOKUP(AA218,'P2'!$B$4:$J$48,9,FALSE),\"\")","v":""},{"$f":"IFERROR(VLOOKUP(AB218,'P2'!$B$4:$J$48,9,FALSE),\"\")","v":""},{"$f":"IFERROR(VLOOKUP(AC218,'P2'!$B$4:$J$48,9,FALSE),\"\")","v":""},{"$f":"IFERROR(VLOOKUP(AD218,'P2'!$B$4:$J$48,9,FALSE),\"\")","v":""},{"$f":"IFERROR(VLOOKUP(AE218,'P2'!$B$4:$J$48,9,FALSE),\"\")","v":""},{"$f":"IFERROR(VLOOKUP(AF218,'P2'!$B$4:$J$48,9,FALSE),\"\")","v":""},{"$f":"IFERROR(VLOOKUP(AG218,'P2'!$B$4:$J$48,9,FALSE),\"\")","v":""},{"$f":"IFERROR(VLOOKUP(AH218,'P2'!$B$4:$J$48,9,FALSE),\"\")","v":""},{"$f":"IFERROR(VLOOKUP(AI218,'P2'!$B$4:$J$48,9,FALSE),\"\")","v":""},{"$f":"IFERROR(VLOOKUP(AJ218,'P2'!$B$4:$J$48,9,FALSE),\"\")","v":""},{"$f":"IFERROR(VLOOKUP(AK218,'P2'!$B$4:$J$48,9,FALSE),\"\")","v":""},{"$f":"IFERROR(VLOOKUP(AL218,'P2'!$B$4:$J$48,9,FALSE),\"\")","v":""},{"$f":"IFERROR(VLOOKUP(AM218,'P2'!$B$4:$J$48,9,FALSE),\"\")","v":""},{"$f":"IFERROR(VLOOKUP(AN218,'P2'!$B$4:$J$48,9,FALSE),\"\")","v":""},{"$f":"IFERROR(VLOOKUP(AO218,'P2'!$B$4:$J$48,9,FALSE),\"\")","v":""},{"$f":"IFERROR(VLOOKUP(AP218,'P2'!$B$4:$J$48,9,FALSE),\"\")","v":""},{"$f":"IFERROR(VLOOKUP(AQ218,'P2'!$B$4:$J$48,9,FALSE),\"\")","v":""},{"$f":"IFERROR(VLOOKUP(AR218,'P2'!$B$4:$J$48,9,FALSE),\"\")","v":""},{"$f":"IFERROR(VLOOKUP(AS218,'P2'!$B$4:$J$48,9,FALSE),\"\")","v":""},{"$f":"IFERROR(VLOOKUP(AT218,'P2'!$B$4:$J$48,9,FALSE),\"\")","v":""},{"$f":"IFERROR(VLOOKUP(AU218,'P2'!$B$4:$J$48,9,FALSE),\"\")","v":""},{"$f":"SUM(Q219:AU219)","v":0}]
[null,93,null,null,null,null,null,null,null,null,null,null,null,null,null,null,null,null,null,null,null,null,null,null,null,null,null,null,null,null,null,null,null,null,null,null,null,null,null,null,null,null,null,null,null,null,null,{"$f":"COUNTA(Q220:AU220)","v":0},{"$f":"AV221","v":0},{"$f":"IFERROR(ROUNDDOWN(AV221/$AT$3,1),\"\")","v":""}]
[null,null,null,null,null,null,null,null,null,null,null,null,null,null,null,null,{"$f":"IFERROR(VLOOKUP(Q220,'P2'!$B$4:$J$48,9,FALSE),\"\")","v":""},{"$f":"IFERROR(VLOOKUP(R220,'P2'!$B$4:$J$48,9,FALSE),\"\")","v":""},{"$f":"IFERROR(VLOOKUP(S220,'P2'!$B$4:$J$48,9,FALSE),\"\")","v":""},{"$f":"IFERROR(VLOOKUP(T220,'P2'!$B$4:$J$48,9,FALSE),\"\")","v":""},{"$f":"IFERROR(VLOOKUP(U220,'P2'!$B$4:$J$48,9,FALSE),\"\")","v":""},{"$f":"IFERROR(VLOOKUP(V220,'P2'!$B$4:$J$48,9,FALSE),\"\")","v":""},{"$f":"IFERROR(VLOOKUP(W220,'P2'!$B$4:$J$48,9,FALSE),\"\")","v":""},{"$f":"IFERROR(VLOOKUP(X220,'P2'!$B$4:$J$48,9,FALSE),\"\")","v":""},{"$f":"IFERROR(VLOOKUP(Y220,'P2'!$B$4:$J$48,9,FALSE),\"\")","v":""},{"$f":"IFERROR(VLOOKUP(Z220,'P2'!$B$4:$J$48,9,FALSE),\"\")","v":""},{"$f":"IFERROR(VLOOKUP(AA220,'P2'!$B$4:$J$48,9,FALSE),\"\")","v":""},{"$f":"IFERROR(VLOOKUP(AB220,'P2'!$B$4:$J$48,9,FALSE),\"\")","v":""},{"$f":"IFERROR(VLOOKUP(AC220,'P2'!$B$4:$J$48,9,FALSE),\"\")","v":""},{"$f":"IFERROR(VLOOKUP(AD220,'P2'!$B$4:$J$48,9,FALSE),\"\")","v":""},{"$f":"IFERROR(VLOOKUP(AE220,'P2'!$B$4:$J$48,9,FALSE),\"\")","v":""},{"$f":"IFERROR(VLOOKUP(AF220,'P2'!$B$4:$J$48,9,FALSE),\"\")","v":""},{"$f":"IFERROR(VLOOKUP(AG220,'P2'!$B$4:$J$48,9,FALSE),\"\")","v":""},{"$f":"IFERROR(VLOOKUP(AH220,'P2'!$B$4:$J$48,9,FALSE),\"\")","v":""},{"$f":"IFERROR(VLOOKUP(AI220,'P2'!$B$4:$J$48,9,FALSE),\"\")","v":""},{"$f":"IFERROR(VLOOKUP(AJ220,'P2'!$B$4:$J$48,9,FALSE),\"\")","v":""},{"$f":"IFERROR(VLOOKUP(AK220,'P2'!$B$4:$J$48,9,FALSE),\"\")","v":""},{"$f":"IFERROR(VLOOKUP(AL220,'P2'!$B$4:$J$48,9,FALSE),\"\")","v":""},{"$f":"IFERROR(VLOOKUP(AM220,'P2'!$B$4:$J$48,9,FALSE),\"\")","v":""},{"$f":"IFERROR(VLOOKUP(AN220,'P2'!$B$4:$J$48,9,FALSE),\"\")","v":""},{"$f":"IFERROR(VLOOKUP(AO220,'P2'!$B$4:$J$48,9,FALSE),\"\")","v":""},{"$f":"IFERROR(VLOOKUP(AP220,'P2'!$B$4:$J$48,9,FALSE),\"\")","v":""},{"$f":"IFERROR(VLOOKUP(AQ220,'P2'!$B$4:$J$48,9,FALSE),\"\")","v":""},{"$f":"IFERROR(VLOOKUP(AR220,'P2'!$B$4:$J$48,9,FALSE),\"\")","v":""},{"$f":"IFERROR(VLOOKUP(AS220,'P2'!$B$4:$J$48,9,FALSE),\"\")","v":""},{"$f":"IFERROR(VLOOKUP(AT220,'P2'!$B$4:$J$48,9,FALSE),\"\")","v":""},{"$f":"IFERROR(VLOOKUP(AU220,'P2'!$B$4:$J$48,9,FALSE),\"\")","v":""},{"$f":"SUM(Q221:AU221)","v":0}]
[null,94,null,null,null,null,null,null,null,null,null,null,null,null,null,null,null,null,null,null,null,null,null,null,null,null,null,null,null,null,null,null,null,null,null,null,null,null,null,null,null,null,null,null,null,null,null,{"$f":"COUNTA(Q222:AU222)","v":0},{"$f":"AV223","v":0},{"$f":"IFERROR(ROUNDDOWN(AV223/$AT$3,1),\"\")","v":""}]
[null,null,null,null,null,null,null,null,null,null,null,null,null,null,null,null,{"$f":"IFERROR(VLOOKUP(Q222,'P2'!$B$4:$J$48,9,FALSE),\"\")","v":""},{"$f":"IFERROR(VLOOKUP(R222,'P2'!$B$4:$J$48,9,FALSE),\"\")","v":""},{"$f":"IFERROR(VLOOKUP(S222,'P2'!$B$4:$J$48,9,FALSE),\"\")","v":""},{"$f":"IFERROR(VLOOKUP(T222,'P2'!$B$4:$J$48,9,FALSE),\"\")","v":""},{"$f":"IFERROR(VLOOKUP(U222,'P2'!$B$4:$J$48,9,FALSE),\"\")","v":""},{"$f":"IFERROR(VLOOKUP(V222,'P2'!$B$4:$J$48,9,FALSE),\"\")","v":""},{"$f":"IFERROR(VLOOKUP(W222,'P2'!$B$4:$J$48,9,FALSE),\"\")","v":""},{"$f":"IFERROR(VLOOKUP(X222,'P2'!$B$4:$J$48,9,FALSE),\"\")","v":""},{"$f":"IFERROR(VLOOKUP(Y222,'P2'!$B$4:$J$48,9,FALSE),\"\")","v":""},{"$f":"IFERROR(VLOOKUP(Z222,'P2'!$B$4:$J$48,9,FALSE),\"\")","v":""},{"$f":"IFERROR(VLOOKUP(AA222,'P2'!$B$4:$J$48,9,FALSE),\"\")","v":""},{"$f":"IFERROR(VLOOKUP(AB222,'P2'!$B$4:$J$48,9,FALSE),\"\")","v":""},{"$f":"IFERROR(VLOOKUP(AC222,'P2'!$B$4:$J$48,9,FALSE),\"\")","v":""},{"$f":"IFERROR(VLOOKUP(AD222,'P2'!$B$4:$J$48,9,FALSE),\"\")","v":""},{"$f":"IFERROR(VLOOKUP(AE222,'P2'!$B$4:$J$48,9,FALSE),\"\")","v":""},{"$f":"IFERROR(VLOOKUP(AF222,'P2'!$B$4:$J$48,9,FALSE),\"\")","v":""},{"$f":"IFERROR(VLOOKUP(AG222,'P2'!$B$4:$J$48,9,FALSE),\"\")","v":""},{"$f":"IFERROR(VLOOKUP(AH222,'P2'!$B$4:$J$48,9,FALSE),\"\")","v":""},{"$f":"IFERROR(VLOOKUP(AI222,'P2'!$B$4:$J$48,9,FALSE),\"\")","v":""},{"$f":"IFERROR(VLOOKUP(AJ222,'P2'!$B$4:$J$48,9,FALSE),\"\")","v":""},{"$f":"IFERROR(VLOOKUP(AK222,'P2'!$B$4:$J$48,9,FALSE),\"\")","v":""},{"$f":"IFERROR(VLOOKUP(AL222,'P2'!$B$4:$J$48,9,FALSE),\"\")","v":""},{"$f":"IFERROR(VLOOKUP(AM222,'P2'!$B$4:$J$48,9,FALSE),\"\")","v":""},{"$f":"IFERROR(VLOOKUP(AN222,'P2'!$B$4:$J$48,9,FALSE),\"\")","v":""},{"$f":"IFERROR(VLOOKUP(AO222,'P2'!$B$4:$J$48,9,FALSE),\"\")","v":""},{"$f":"IFERROR(VLOOKUP(AP222,'P2'!$B$4:$J$48,9,FALSE),\"\")","v":""},{"$f":"IFERROR(VLOOKUP(AQ222,'P2'!$B$4:$J$48,9,FALSE),\"\")","v":""},{"$f":"IFERROR(VLOOKUP(AR222,'P2'!$B$4:$J$48,9,FALSE),\"\")","v":""},{"$f":"IFERROR(VLOOKUP(AS222,'P2'!$B$4:$J$48,9,FALSE),\"\")","v":""},{"$f":"IFERROR(VLOOKUP(AT222,'P2'!$B$4:$J$48,9,FALSE),\"\")","v":""},{"$f":"IFERROR(VLOOKUP(AU222,'P2'!$B$4:$J$48,9,FALSE),\"\")","v":""},{"$f":"SUM(Q223:AU223)","v":0}]
[null,95,null,null,null,null,null,null,null,null,null,null,null,null,null,null,null,null,null,null,null,null,null,null,null,null,null,null,null,null,null,null,null,null,null,null,null,null,null,null,null,null,null,null,null,null,null,{"$f":"COUNTA(Q224:AU224)","v":0},{"$f":"AV225","v":0},{"$f":"IFERROR(ROUNDDOWN(AV225/$AT$3,1),\"\")","v":""}]
[null,null,null,null,null,null,null,null,null,null,null,null,null,null,null,null,{"$f":"IFERROR(VLOOKUP(Q224,'P2'!$B$4:$J$48,9,FALSE),\"\")","v":""},{"$f":"IFERROR(VLOOKUP(R224,'P2'!$B$4:$J$48,9,FALSE),\"\")","v":""},{"$f":"IFERROR(VLOOKUP(S224,'P2'!$B$4:$J$48,9,FALSE),\"\")","v":""},{"$f":"IFERROR(VLOOKUP(T224,'P2'!$B$4:$J$48,9,FALSE),\"\")","v":""},{"$f":"IFERROR(VLOOKUP(U224,'P2'!$B$4:$J$48,9,FALSE),\"\")","v":""},{"$f":"IFERROR(VLOOKUP(V224,'P2'!$B$4:$J$48,9,FALSE),\"\")","v":""},{"$f":"IFERROR(VLOOKUP(W224,'P2'!$B$4:$J$48,9,FALSE),\"\")","v":""},{"$f":"IFERROR(VLOOKUP(X224,'P2'!$B$4:$J$48,9,FALSE),\"\")","v":""},{"$f":"IFERROR(VLOOKUP(Y224,'P2'!$B$4:$J$48,9,FALSE),\"\")","v":""},{"$f":"IFERROR(VLOOKUP(Z224,'P2'!$B$4:$J$48,9,FALSE),\"\")","v":""},{"$f":"IFERROR(VLOOKUP(AA224,'P2'!$B$4:$J$48,9,FALSE),\"\")","v":""},{"$f":"IFERROR(VLOOKUP(AB224,'P2'!$B$4:$J$48,9,FALSE),\"\")","v":""},{"$f":"IFERROR(VLOOKUP(AC224,'P2'!$B$4:$J$48,9,FALSE),\"\")","v":""},{"$f":"IFERROR(VLOOKUP(AD224,'P2'!$B$4:$J$48,9,FALSE),\"\")","v":""},{"$f":"IFERROR(VLOOKUP(AE224,'P2'!$B$4:$J$48,9,FALSE),\"\")","v":""},{"$f":"IFERROR(VLOOKUP(AF224,'P2'!$B$4:$J$48,9,FALSE),\"\")","v":""},{"$f":"IFERROR(VLOOKUP(AG224,'P2'!$B$4:$J$48,9,FALSE),\"\")","v":""},{"$f":"IFERROR(VLOOKUP(AH224,'P2'!$B$4:$J$48,9,FALSE),\"\")","v":""},{"$f":"IFERROR(VLOOKUP(AI224,'P2'!$B$4:$J$48,9,FALSE),\"\")","v":""},{"$f":"IFERROR(VLOOKUP(AJ224,'P2'!$B$4:$J$48,9,FALSE),\"\")","v":""},{"$f":"IFERROR(VLOOKUP(AK224,'P2'!$B$4:$J$48,9,FALSE),\"\")","v":""},{"$f":"IFERROR(VLOOKUP(AL224,'P2'!$B$4:$J$48,9,FALSE),\"\")","v":""},{"$f":"IFERROR(VLOOKUP(AM224,'P2'!$B$4:$J$48,9,FALSE),\"\")","v":""},{"$f":"IFERROR(VLOOKUP(AN224,'P2'!$B$4:$J$48,9,FALSE),\"\")","v":""},{"$f":"IFERROR(VLOOKUP(AO224,'P2'!$B$4:$J$48,9,FALSE),\"\")","v":""},{"$f":"IFERROR(VLOOKUP(AP224,'P2'!$B$4:$J$48,9,FALSE),\"\")","v":""},{"$f":"IFERROR(VLOOKUP(AQ224,'P2'!$B$4:$J$48,9,FALSE),\"\")","v":""},{"$f":"IFERROR(VLOOKUP(AR224,'P2'!$B$4:$J$48,9,FALSE),\"\")","v":""},{"$f":"IFERROR(VLOOKUP(AS224,'P2'!$B$4:$J$48,9,FALSE),\"\")","v":""},{"$f":"IFERROR(VLOOKUP(AT224,'P2'!$B$4:$J$48,9,FALSE),\"\")","v":""},{"$f":"IFERROR(VLOOKUP(AU224,'P2'!$B$4:$J$48,9,FALSE),\"\")","v":""},{"$f":"SUM(Q225:AU225)","v":0}]
[null,96,null,null,null,null,null,null,null,null,null,null,null,null,null,null,null,null,null,null,null,null,null,null,null,null,null,null,null,null,null,null,null,null,null,null,null,null,null,null,null,null,null,null,null,null,null,{"$f":"COUNTA(Q226:AU226)","v":0},{"$f":"AV227","v":0},{"$f":"IFERROR(ROUNDDOWN(AV227/$AT$3,1),\"\")","v":""}]
[null,null,null,null,null,null,null,null,null,null,null,null,null,null,null,null,{"$f":"IFERROR(VLOOKUP(Q226,'P2'!$B$4:$J$48,9,FALSE),\"\")","v":""},{"$f":"IFERROR(VLOOKUP(R226,'P2'!$B$4:$J$48,9,FALSE),\"\")","v":""},{"$f":"IFERROR(VLOOKUP(S226,'P2'!$B$4:$J$48,9,FALSE),\"\")","v":""},{"$f":"IFERROR(VLOOKUP(T226,'P2'!$B$4:$J$48,9,FALSE),\"\")","v":""},{"$f":"IFERROR(VLOOKUP(U226,'P2'!$B$4:$J$48,9,FALSE),\"\")","v":""},{"$f":"IFERROR(VLOOKUP(V226,'P2'!$B$4:$J$48,9,FALSE),\"\")","v":""},{"$f":"IFERROR(VLOOKUP(W226,'P2'!$B$4:$J$48,9,FALSE),\"\")","v":""},{"$f":"IFERROR(VLOOKUP(X226,'P2'!$B$4:$J$48,9,FALSE),\"\")","v":""},{"$f":"IFERROR(VLOOKUP(Y226,'P2'!$B$4:$J$48,9,FALSE),\"\")","v":""},{"$f":"IFERROR(VLOOKUP(Z226,'P2'!$B$4:$J$48,9,FALSE),\"\")","v":""},{"$f":"IFERROR(VLOOKUP(AA226,'P2'!$B$4:$J$48,9,FALSE),\"\")","v":""},{"$f":"IFERROR(VLOOKUP(AB226,'P2'!$B$4:$J$48,9,FALSE),\"\")","v":""},{"$f":"IFERROR(VLOOKUP(AC226,'P2'!$B$4:$J$48,9,FALSE),\"\")","v":""},{"$f":"IFERROR(VLOOKUP(AD226,'P2'!$B$4:$J$48,9,FALSE),\"\")","v":""},{"$f":"IFERROR(VLOOKUP(AE226,'P2'!$B$4:$J$48,9,FALSE),\"\")","v":""},{"$f":"IFERROR(VLOOKUP(AF226,'P2'!$B$4:$J$48,9,FALSE),\"\")","v":""},{"$f":"IFERROR(VLOOKUP(AG226,'P2'!$B$4:$J$48,9,FALSE),\"\")","v":""},{"$f":"IFERROR(VLOOKUP(AH226,'P2'!$B$4:$J$48,9,FALSE),\"\")","v":""},{"$f":"IFERROR(VLOOKUP(AI226,'P2'!$B$4:$J$48,9,FALSE),\"\")","v":""},{"$f":"IFERROR(VLOOKUP(AJ226,'P2'!$B$4:$J$48,9,FALSE),\"\")","v":""},{"$f":"IFERROR(VLOOKUP(AK226,'P2'!$B$4:$J$48,9,FALSE),\"\")","v":""},{"$f":"IFERROR(VLOOKUP(AL226,'P2'!$B$4:$J$48,9,FALSE),\"\")","v":""},{"$f":"IFERROR(VLOOKUP(AM226,'P2'!$B$4:$J$48,9,FALSE),\"\")","v":""},{"$f":"IFERROR(VLOOKUP(AN226,'P2'!$B$4:$J$48,9,FALSE),\"\")","v":""},{"$f":"IFERROR(VLOOKUP(AO226,'P2'!$B$4:$J$48,9,FALSE),\"\")","v":""},{"$f":"IFERROR(VLOOKUP(AP226,'P2'!$B$4:$J$48,9,FALSE),\"\")","v":""},{"$f":"IFERROR(VLOOKUP(AQ226,'P2'!$B$4:$J$48,9,FALSE),\"\")","v":""},{"$f":"IFERROR(VLOOKUP(AR226,'P2'!$B$4:$J$48,9,FALSE),\"\")","v":""},{"$f":"IFERROR(VLOOKUP(AS226,'P2'!$B$4:$J$48,9,FALSE),\"\")","v":""},{"$f":"IFERROR(VLOOKUP(AT226,'P2'!$B$4:$J$48,9,FALSE),\"\")","v":""},{"$f":"IFERROR(VLOOKUP(AU226,'P2'!$B$4:$J$48,9,FALSE),\"\")","v":""},{"$f":"SUM(Q227:AU227)","v":0}]
[null,97,null,null,null,null,null,null,null,null,null,null,null,null,null,null,null,null,null,null,null,null,null,null,null,null,null,null,null,null,null,null,null,null,null,null,null,null,null,null,null,null,null,null,null,null,null,{"$f":"COUNTA(Q228:AU228)","v":0},{"$f":"AV229","v":0},{"$f":"IFERROR(ROUNDDOWN(AV229/$AT$3,1),\"\")","v":""}]
[null,null,null,null,null,null,null,null,null,null,null,null,null,null,null,null,{"$f":"IFERROR(VLOOKUP(Q228,'P2'!$B$4:$J$48,9,FALSE),\"\")","v":""},{"$f":"IFERROR(VLOOKUP(R228,'P2'!$B$4:$J$48,9,FALSE),\"\")","v":""},{"$f":"IFERROR(VLOOKUP(S228,'P2'!$B$4:$J$48,9,FALSE),\"\")","v":""},{"$f":"IFERROR(VLOOKUP(T228,'P2'!$B$4:$J$48,9,FALSE),\"\")","v":""},{"$f":"IFERROR(VLOOKUP(U228,'P2'!$B$4:$J$48,9,FALSE),\"\")","v":""},{"$f":"IFERROR(VLOOKUP(V228,'P2'!$B$4:$J$48,9,FALSE),\"\")","v":""},{"$f":"IFERROR(VLOOKUP(W228,'P2'!$B$4:$J$48,9,FALSE),\"\")","v":""},{"$f":"IFERROR(VLOOKUP(X228,'P2'!$B$4:$J$48,9,FALSE),\"\")","v":""},{"$f":"IFERROR(VLOOKUP(Y228,'P2'!$B$4:$J$48,9,FALSE),\"\")","v":""},{"$f":"IFERROR(VLOOKUP(Z228,'P2'!$B$4:$J$48,9,FALSE),\"\")","v":""},{"$f":"IFERROR(VLOOKUP(AA228,'P2'!$B$4:$J$48,9,FALSE),\"\")","v":""},{"$f":"IFERROR(VLOOKUP(AB228,'P2'!$B$4:$J$48,9,FALSE),\"\")","v":""},{"$f":"IFERROR(VLOOKUP(AC228,'P2'!$B$4:$J$48,9,FALSE),\"\")","v":""},{"$f":"IFERROR(VLOOKUP(AD228,'P2'!$B$4:$J$48,9,FALSE),\"\")","v":""},{"$f":"IFERROR(VLOOKUP(AE228,'P2'!$B$4:$J$48,9,FALSE),\"\")","v":""},{"$f":"IFERROR(VLOOKUP(AF228,'P2'!$B$4:$J$48,9,FALSE),\"\")","v":""},{"$f":"IFERROR(VLOOKUP(AG228,'P2'!$B$4:$J$48,9,FALSE),\"\")","v":""},{"$f":"IFERROR(VLOOKUP(AH228,'P2'!$B$4:$J$48,9,FALSE),\"\")","v":""},{"$f":"IFERROR(VLOOKUP(AI228,'P2'!$B$4:$J$48,9,FALSE),\"\")","v":""},{"$f":"IFERROR(VLOOKUP(AJ228,'P2'!$B$4:$J$48,9,FALSE),\"\")","v":""},{"$f":"IFERROR(VLOOKUP(AK228,'P2'!$B$4:$J$48,9,FALSE),\"\")","v":""},{"$f":"IFERROR(VLOOKUP(AL228,'P2'!$B$4:$J$48,9,FALSE),\"\")","v":""},{"$f":"IFERROR(VLOOKUP(AM228,'P2'!$B$4:$J$48,9,FALSE),\"\")","v":""},{"$f":"IFERROR(VLOOKUP(AN228,'P2'!$B$4:$J$48,9,FALSE),\"\")","v":""},{"$f":"IFERROR(VLOOKUP(AO228,'P2'!$B$4:$J$48,9,FALSE),\"\")","v":""},{"$f":"IFERROR(VLOOKUP(AP228,'P2'!$B$4:$J$48,9,FALSE),\"\")","v":""},{"$f":"IFERROR(VLOOKUP(AQ228,'P2'!$B$4:$J$48,9,FALSE),\"\")","v":""},{"$f":"IFERROR(VLOOKUP(AR228,'P2'!$B$4:$J$48,9,FALSE),\"\")","v":""},{"$f":"IFERROR(VLOOKUP(AS228,'P2'!$B$4:$J$48,9,FALSE),\"\")","v":""},{"$f":"IFERROR(VLOOKUP(AT228,'P2'!$B$4:$J$48,9,FALSE),\"\")","v":""},{"$f":"IFERROR(VLOOKUP(AU228,'P2'!$B$4:$J$48,9,FALSE),\"\")","v":""},{"$f":"SUM(Q229:AU229)","v":0}]
[null,98,null,null,null,null,null,null,null,null,null,null,null,null,null,null,null,null,null,null,null,null,null,null,null,null,null,null,null,null,null,null,null,null,null,null,null,null,null,null,null,null,null,null,null,null,null,{"$f":"COUNTA(Q230:AU230)","v":0},{"$f":"AV231","v":0},{"$f":"IFERROR(ROUNDDOWN(AV231/$AT$3,1),\"\")","v":""}]
[null,null,null,null,null,null,null,null,null,null,null,null,null,null,null,null,{"$f":"IFERROR(VLOOKUP(Q230,'P2'!$B$4:$J$48,9,FALSE),\"\")","v":""},{"$f":"IFERROR(VLOOKUP(R230,'P2'!$B$4:$J$48,9,FALSE),\"\")","v":""},{"$f":"IFERROR(VLOOKUP(S230,'P2'!$B$4:$J$48,9,FALSE),\"\")","v":""},{"$f":"IFERROR(VLOOKUP(T230,'P2'!$B$4:$J$48,9,FALSE),\"\")","v":""},{"$f":"IFERROR(VLOOKUP(U230,'P2'!$B$4:$J$48,9,FALSE),\"\")","v":""},{"$f":"IFERROR(VLOOKUP(V230,'P2'!$B$4:$J$48,9,FALSE),\"\")","v":""},{"$f":"IFERROR(VLOOKUP(W230,'P2'!$B$4:$J$48,9,FALSE),\"\")","v":""},{"$f":"IFERROR(VLOOKUP(X230,'P2'!$B$4:$J$48,9,FALSE),\"\")","v":""},{"$f":"IFERROR(VLOOKUP(Y230,'P2'!$B$4:$J$48,9,FALSE),\"\")","v":""},{"$f":"IFERROR(VLOOKUP(Z230,'P2'!$B$4:$J$48,9,FALSE),\"\")","v":""},{"$f":"IFERROR(VLOOKUP(AA230,'P2'!$B$4:$J$48,9,FALSE),\"\")","v":""},{"$f":"IFERROR(VLOOKUP(AB230,'P2'!$B$4:$J$48,9,FALSE),\"\")","v":""},{"$f":"IFERROR(VLOOKUP(AC230,'P2'!$B$4:$J$48,9,FALSE),\"\")","v":""},{"$f":"IFERROR(VLOOKUP(AD230,'P2'!$B$4:$J$48,9,FALSE),\"\")","v":""},{"$f":"IFERROR(VLOOKUP(AE230,'P2'!$B$4:$J$48,9,FALSE),\"\")","v":""},{"$f":"IFERROR(VLOOKUP(AF230,'P2'!$B$4:$J$48,9,FALSE),\"\")","v":""},{"$f":"IFERROR(VLOOKUP(AG230,'P2'!$B$4:$J$48,9,FALSE),\"\")","v":""},{"$f":"IFERROR(VLOOKUP(AH230,'P2'!$B$4:$J$48,9,FALSE),\"\")","v":""},{"$f":"IFERROR(VLOOKUP(AI230,'P2'!$B$4:$J$48,9,FALSE),\"\")","v":""},{"$f":"IFERROR(VLOOKUP(AJ230,'P2'!$B$4:$J$48,9,FALSE),\"\")","v":""},{"$f":"IFERROR(VLOOKUP(AK230,'P2'!$B$4:$J$48,9,FALSE),\"\")","v":""},{"$f":"IFERROR(VLOOKUP(AL230,'P2'!$B$4:$J$48,9,FALSE),\"\")","v":""},{"$f":"IFERROR(VLOOKUP(AM230,'P2'!$B$4:$J$48,9,FALSE),\"\")","v":""},{"$f":"IFERROR(VLOOKUP(AN230,'P2'!$B$4:$J$48,9,FALSE),\"\")","v":""},{"$f":"IFERROR(VLOOKUP(AO230,'P2'!$B$4:$J$48,9,FALSE),\"\")","v":""},{"$f":"IFERROR(VLOOKUP(AP230,'P2'!$B$4:$J$48,9,FALSE),\"\")","v":""},{"$f":"IFERROR(VLOOKUP(AQ230,'P2'!$B$4:$J$48,9,FALSE),\"\")","v":""},{"$f":"IFERROR(VLOOKUP(AR230,'P2'!$B$4:$J$48,9,FALSE),\"\")","v":""},{"$f":"IFERROR(VLOOKUP(AS230,'P2'!$B$4:$J$48,9,FALSE),\"\")","v":""},{"$f":"IFERROR(VLOOKUP(AT230,'P2'!$B$4:$J$48,9,FALSE),\"\")","v":""},{"$f":"IFERROR(VLOOKUP(AU230,'P2'!$B$4:$J$48,9,FALSE),\"\")","v":""},{"$f":"SUM(Q231:AU231)","v":0}]
[null,99,null,null,null,null,null,null,null,null,null,null,null,null,null,null,null,null,null,null,null,null,null,null,null,null,null,null,null,null,null,null,null,null,null,null,null,null,null,null,null,null,null,null,null,null,null,{"$f":"COUNTA(Q232:AU232)","v":0},{"$f":"AV233","v":0},{"$f":"IFERROR(ROUNDDOWN(AV233/$AT$3,1),\"\")","v":""}]
[null,null,null,null,null,null,null,null,null,null,null,null,null,null,null,null,{"$f":"IFERROR(VLOOKUP(Q232,'P2'!$B$4:$J$48,9,FALSE),\"\")","v":""},{"$f":"IFERROR(VLOOKUP(R232,'P2'!$B$4:$J$48,9,FALSE),\"\")","v":""},{"$f":"IFERROR(VLOOKUP(S232,'P2'!$B$4:$J$48,9,FALSE),\"\")","v":""},{"$f":"IFERROR(VLOOKUP(T232,'P2'!$B$4:$J$48,9,FALSE),\"\")","v":""},{"$f":"IFERROR(VLOOKUP(U232,'P2'!$B$4:$J$48,9,FALSE),\"\")","v":""},{"$f":"IFERROR(VLOOKUP(V232,'P2'!$B$4:$J$48,9,FALSE),\"\")","v":""},{"$f":"IFERROR(VLOOKUP(W232,'P2'!$B$4:$J$48,9,FALSE),\"\")","v":""},{"$f":"IFERROR(VLOOKUP(X232,'P2'!$B$4:$J$48,9,FALSE),\"\")","v":""},{"$f":"IFERROR(VLOOKUP(Y232,'P2'!$B$4:$J$48,9,FALSE),\"\")","v":""},{"$f":"IFERROR(VLOOKUP(Z232,'P2'!$B$4:$J$48,9,FALSE),\"\")","v":""},{"$f":"IFERROR(VLOOKUP(AA232,'P2'!$B$4:$J$48,9,FALSE),\"\")","v":""},{"$f":"IFERROR(VLOOKUP(AB232,'P2'!$B$4:$J$48,9,FALSE),\"\")","v":""},{"$f":"IFERROR(VLOOKUP(AC232,'P2'!$B$4:$J$48,9,FALSE),\"\")","v":""},{"$f":"IFERROR(VLOOKUP(AD232,'P2'!$B$4:$J$48,9,FALSE),\"\")","v":""},{"$f":"IFERROR(VLOOKUP(AE232,'P2'!$B$4:$J$48,9,FALSE),\"\")","v":""},{"$f":"IFERROR(VLOOKUP(AF232,'P2'!$B$4:$J$48,9,FALSE),\"\")","v":""},{"$f":"IFERROR(VLOOKUP(AG232,'P2'!$B$4:$J$48,9,FALSE),\"\")","v":""},{"$f":"IFERROR(VLOOKUP(AH232,'P2'!$B$4:$J$48,9,FALSE),\"\")","v":""},{"$f":"IFERROR(VLOOKUP(AI232,'P2'!$B$4:$J$48,9,FALSE),\"\")","v":""},{"$f":"IFERROR(VLOOKUP(AJ232,'P2'!$B$4:$J$48,9,FALSE),\"\")","v":""},{"$f":"IFERROR(VLOOKUP(AK232,'P2'!$B$4:$J$48,9,FALSE),\"\")","v":""},{"$f":"IFERROR(VLOOKUP(AL232,'P2'!$B$4:$J$48,9,FALSE),\"\")","v":""},{"$f":"IFERROR(VLOOKUP(AM232,'P2'!$B$4:$J$48,9,FALSE),\"\")","v":""},{"$f":"IFERROR(VLOOKUP(AN232,'P2'!$B$4:$J$48,9,FALSE),\"\")","v":""},{"$f":"IFERROR(VLOOKUP(AO232,'P2'!$B$4:$J$48,9,FALSE),\"\")","v":""},{"$f":"IFERROR(VLOOKUP(AP232,'P2'!$B$4:$J$48,9,FALSE),\"\")","v":""},{"$f":"IFERROR(VLOOKUP(AQ232,'P2'!$B$4:$J$48,9,FALSE),\"\")","v":""},{"$f":"IFERROR(VLOOKUP(AR232,'P2'!$B$4:$J$48,9,FALSE),\"\")","v":""},{"$f":"IFERROR(VLOOKUP(AS232,'P2'!$B$4:$J$48,9,FALSE),\"\")","v":""},{"$f":"IFERROR(VLOOKUP(AT232,'P2'!$B$4:$J$48,9,FALSE),\"\")","v":""},{"$f":"IFERROR(VLOOKUP(AU232,'P2'!$B$4:$J$48,9,FALSE),\"\")","v":""},{"$f":"SUM(Q233:AU233)","v":0}]
[null,100,null,null,null,null,null,null,null,null,null,null,null,null,null,null,null,null,null,null,null,null,null,null,null,null,null,null,null,null,null,null,null,null,null,null,null,null,null,null,null,null,null,null,null,null,null,{"$f":"COUNTA(Q234:AU234)","v":0},{"$f":"AV235","v":0},{"$f":"IFERROR(ROUNDDOWN(AV235/$AT$3,1),\"\")","v":""}]
[null,null,null,null,null,null,null,null,null,null,null,null,null,null,null,null,{"$f":"IFERROR(VLOOKUP(Q234,'P2'!$B$4:$J$48,9,FALSE),\"\")","v":""},{"$f":"IFERROR(VLOOKUP(R234,'P2'!$B$4:$J$48,9,FALSE),\"\")","v":""},{"$f":"IFERROR(VLOOKUP(S234,'P2'!$B$4:$J$48,9,FALSE),\"\")","v":""},{"$f":"IFERROR(VLOOKUP(T234,'P2'!$B$4:$J$48,9,FALSE),\"\")","v":""},{"$f":"IFERROR(VLOOKUP(U234,'P2'!$B$4:$J$48,9,FALSE),\"\")","v":""},{"$f":"IFERROR(VLOOKUP(V234,'P2'!$B$4:$J$48,9,FALSE),\"\")","v":""},{"$f":"IFERROR(VLOOKUP(W234,'P2'!$B$4:$J$48,9,FALSE),\"\")","v":""},{"$f":"IFERROR(VLOOKUP(X234,'P2'!$B$4:$J$48,9,FALSE),\"\")","v":""},{"$f":"IFERROR(VLOOKUP(Y234,'P2'!$B$4:$J$48,9,FALSE),\"\")","v":""},{"$f":"IFERROR(VLOOKUP(Z234,'P2'!$B$4:$J$48,9,FALSE),\"\")","v":""},{"$f":"IFERROR(VLOOKUP(AA234,'P2'!$B$4:$J$48,9,FALSE),\"\")","v":""},{"$f":"IFERROR(VLOOKUP(AB234,'P2'!$B$4:$J$48,9,FALSE),\"\")","v":""},{"$f":"IFERROR(VLOOKUP(AC234,'P2'!$B$4:$J$48,9,FALSE),\"\")","v":""},{"$f":"IFERROR(VLOOKUP(AD234,'P2'!$B$4:$J$48,9,FALSE),\"\")","v":""},{"$f":"IFERROR(VLOOKUP(AE234,'P2'!$B$4:$J$48,9,FALSE),\"\")","v":""},{"$f":"IFERROR(VLOOKUP(AF234,'P2'!$B$4:$J$48,9,FALSE),\"\")","v":""},{"$f":"IFERROR(VLOOKUP(AG234,'P2'!$B$4:$J$48,9,FALSE),\"\")","v":""},{"$f":"IFERROR(VLOOKUP(AH234,'P2'!$B$4:$J$48,9,FALSE),\"\")","v":""},{"$f":"IFERROR(VLOOKUP(AI234,'P2'!$B$4:$J$48,9,FALSE),\"\")","v":""},{"$f":"IFERROR(VLOOKUP(AJ234,'P2'!$B$4:$J$48,9,FALSE),\"\")","v":""},{"$f":"IFERROR(VLOOKUP(AK234,'P2'!$B$4:$J$48,9,FALSE),\"\")","v":""},{"$f":"IFERROR(VLOOKUP(AL234,'P2'!$B$4:$J$48,9,FALSE),\"\")","v":""},{"$f":"IFERROR(VLOOKUP(AM234,'P2'!$B$4:$J$48,9,FALSE),\"\")","v":""},{"$f":"IFERROR(VLOOKUP(AN234,'P2'!$B$4:$J$48,9,FALSE),\"\")","v":""},{"$f":"IFERROR(VLOOKUP(AO234,'P2'!$B$4:$J$48,9,FALSE),\"\")","v":""},{"$f":"IFERROR(VLOOKUP(AP234,'P2'!$B$4:$J$48,9,FALSE),\"\")","v":""},{"$f":"IFERROR(VLOOKUP(AQ234,'P2'!$B$4:$J$48,9,FALSE),\"\")","v":""},{"$f":"IFERROR(VLOOKUP(AR234,'P2'!$B$4:$J$48,9,FALSE),\"\")","v":""},{"$f":"IFERROR(VLOOKUP(AS234,'P2'!$B$4:$J$48,9,FALSE),\"\")","v":""},{"$f":"IFERROR(VLOOKUP(AT234,'P2'!$B$4:$J$48,9,FALSE),\"\")","v":""},{"$f":"IFERROR(VLOOKUP(AU234,'P2'!$B$4:$J$48,9,FALSE),\"\")","v":""},{"$f":"SUM(Q235:AU235)","v":0}]
[null,101,null,null,null,null,null,null,null,null,null,null,null,null,null,null,null,null,null,null,null,null,null,null,null,null,null,null,null,null,null,null,null,null,null,null,null,null,null,null,null,null,null,null,null,null,null,{"$f":"COUNTA(Q236:AU236)","v":0},{"$f":"AV237","v":0},{"$f":"IFERROR(ROUNDDOWN(AV237/$AT$3,1),\"\")","v":""}]
[null,null,null,null,null,null,null,null,null,null,null,null,null,null,null,null,{"$f":"IFERROR(VLOOKUP(Q236,'P2'!$B$4:$J$48,9,FALSE),\"\")","v":""},{"$f":"IFERROR(VLOOKUP(R236,'P2'!$B$4:$J$48,9,FALSE),\"\")","v":""},{"$f":"IFERROR(VLOOKUP(S236,'P2'!$B$4:$J$48,9,FALSE),\"\")","v":""},{"$f":"IFERROR(VLOOKUP(T236,'P2'!$B$4:$J$48,9,FALSE),\"\")","v":""},{"$f":"IFERROR(VLOOKUP(U236,'P2'!$B$4:$J$48,9,FALSE),\"\")","v":""},{"$f":"IFERROR(VLOOKUP(V236,'P2'!$B$4:$J$48,9,FALSE),\"\")","v":""},{"$f":"IFERROR(VLOOKUP(W236,'P2'!$B$4:$J$48,9,FALSE),\"\")","v":""},{"$f":"IFERROR(VLOOKUP(X236,'P2'!$B$4:$J$48,9,FALSE),\"\")","v":""},{"$f":"IFERROR(VLOOKUP(Y236,'P2'!$B$4:$J$48,9,FALSE),\"\")","v":""},{"$f":"IFERROR(VLOOKUP(Z236,'P2'!$B$4:$J$48,9,FALSE),\"\")","v":""},{"$f":"IFERROR(VLOOKUP(AA236,'P2'!$B$4:$J$48,9,FALSE),\"\")","v":""},{"$f":"IFERROR(VLOOKUP(AB236,'P2'!$B$4:$J$48,9,FALSE),\"\")","v":""},{"$f":"IFERROR(VLOOKUP(AC236,'P2'!$B$4:$J$48,9,FALSE),\"\")","v":""},{"$f":"IFERROR(VLOOKUP(AD236,'P2'!$B$4:$J$48,9,FALSE),\"\")","v":""},{"$f":"IFERROR(VLOOKUP(AE236,'P2'!$B$4:$J$48,9,FALSE),\"\")","v":""},{"$f":"IFERROR(VLOOKUP(AF236,'P2'!$B$4:$J$48,9,FALSE),\"\")","v":""},{"$f":"IFERROR(VLOOKUP(AG236,'P2'!$B$4:$J$48,9,FALSE),\"\")","v":""},{"$f":"IFERROR(VLOOKUP(AH236,'P2'!$B$4:$J$48,9,FALSE),\"\")","v":""},{"$f":"IFERROR(VLOOKUP(AI236,'P2'!$B$4:$J$48,9,FALSE),\"\")","v":""},{"$f":"IFERROR(VLOOKUP(AJ236,'P2'!$B$4:$J$48,9,FALSE),\"\")","v":""},{"$f":"IFERROR(VLOOKUP(AK236,'P2'!$B$4:$J$48,9,FALSE),\"\")","v":""},{"$f":"IFERROR(VLOOKUP(AL236,'P2'!$B$4:$J$48,9,FALSE),\"\")","v":""},{"$f":"IFERROR(VLOOKUP(AM236,'P2'!$B$4:$J$48,9,FALSE),\"\")","v":""},{"$f":"IFERROR(VLOOKUP(AN236,'P2'!$B$4:$J$48,9,FALSE),\"\")","v":""},{"$f":"IFERROR(VLOOKUP(AO236,'P2'!$B$4:$J$48,9,FALSE),\"\")","v":""},{"$f":"IFERROR(VLOOKUP(AP236,'P2'!$B$4:$J$48,9,FALSE),\"\")","v":""},{"$f":"IFERROR(VLOOKUP(AQ236,'P2'!$B$4:$J$48,9,FALSE),\"\")","v":""},{"$f":"IFERROR(VLOOKUP(AR236,'P2'!$B$4:$J$48,9,FALSE),\"\")","v":""},{"$f":"IFERROR(VLOOKUP(AS236,'P2'!$B$4:$J$48,9,FALSE),\"\")","v":""},{"$f":"IFERROR(VLOOKUP(AT236,'P2'!$B$4:$J$48,9,FALSE),\"\")","v":""},{"$f":"IFERROR(VLOOKUP(AU236,'P2'!$B$4:$J$48,9,FALSE),\"\")","v":""},{"$f":"SUM(Q237:AU237)","v":0}]
[null,102,null,null,null,null,null,null,null,null,null,null,null,null,null,null,null,null,null,null,null,null,null,null,null,null,null,null,null,null,null,null,null,null,null,null,null,null,null,null,null,null,null,null,null,null,null,{"$f":"COUNTA(Q238:AU238)","v":0},{"$f":"AV239","v":0},{"$f":"IFERROR(ROUNDDOWN(AV239/$AT$3,1),\"\")","v":""}]
[null,null,null,null,null,null,null,null,null,null,null,null,null,null,null,null,{"$f":"IFERROR(VLOOKUP(Q238,'P2'!$B$4:$J$48,9,FALSE),\"\")","v":""},{"$f":"IFERROR(VLOOKUP(R238,'P2'!$B$4:$J$48,9,FALSE),\"\")","v":""},{"$f":"IFERROR(VLOOKUP(S238,'P2'!$B$4:$J$48,9,FALSE),\"\")","v":""},{"$f":"IFERROR(VLOOKUP(T238,'P2'!$B$4:$J$48,9,FALSE),\"\")","v":""},{"$f":"IFERROR(VLOOKUP(U238,'P2'!$B$4:$J$48,9,FALSE),\"\")","v":""},{"$f":"IFERROR(VLOOKUP(V238,'P2'!$B$4:$J$48,9,FALSE),\"\")","v":""},{"$f":"IFERROR(VLOOKUP(W238,'P2'!$B$4:$J$48,9,FALSE),\"\")","v":""},{"$f":"IFERROR(VLOOKUP(X238,'P2'!$B$4:$J$48,9,FALSE),\"\")","v":""},{"$f":"IFERROR(VLOOKUP(Y238,'P2'!$B$4:$J$48,9,FALSE),\"\")","v":""},{"$f":"IFERROR(VLOOKUP(Z238,'P2'!$B$4:$J$48,9,FALSE),\"\")","v":""},{"$f":"IFERROR(VLOOKUP(AA238,'P2'!$B$4:$J$48,9,FALSE),\"\")","v":""},{"$f":"IFERROR(VLOOKUP(AB238,'P2'!$B$4:$J$48,9,FALSE),\"\")","v":""},{"$f":"IFERROR(VLOOKUP(AC238,'P2'!$B$4:$J$48,9,FALSE),\"\")","v":""},{"$f":"IFERROR(VLOOKUP(AD238,'P2'!$B$4:$J$48,9,FALSE),\"\")","v":""},{"$f":"IFERROR(VLOOKUP(AE238,'P2'!$B$4:$J$48,9,FALSE),\"\")","v":""},{"$f":"IFERROR(VLOOKUP(AF238,'P2'!$B$4:$J$48,9,FALSE),\"\")","v":""},{"$f":"IFERROR(VLOOKUP(AG238,'P2'!$B$4:$J$48,9,FALSE),\"\")","v":""},{"$f":"IFERROR(VLOOKUP(AH238,'P2'!$B$4:$J$48,9,FALSE),\"\")","v":""},{"$f":"IFERROR(VLOOKUP(AI238,'P2'!$B$4:$J$48,9,FALSE),\"\")","v":""},{"$f":"IFERROR(VLOOKUP(AJ238,'P2'!$B$4:$J$48,9,FALSE),\"\")","v":""},{"$f":"IFERROR(VLOOKUP(AK238,'P2'!$B$4:$J$48,9,FALSE),\"\")","v":""},{"$f":"IFERROR(VLOOKUP(AL238,'P2'!$B$4:$J$48,9,FALSE),\"\")","v":""},{"$f":"IFERROR(VLOOKUP(AM238,'P2'!$B$4:$J$48,9,FALSE),\"\")","v":""},{"$f":"IFERROR(VLOOKUP(AN238,'P2'!$B$4:$J$48,9,FALSE),\"\")","v":""},{"$f":"IFERROR(VLOOKUP(AO238,'P2'!$B$4:$J$48,9,FALSE),\"\")","v":""},{"$f":"IFERROR(VLOOKUP(AP238,'P2'!$B$4:$J$48,9,FALSE),\"\")","v":""},{"$f":"IFERROR(VLOOKUP(AQ238,'P2'!$B$4:$J$48,9,FALSE),\"\")","v":""},{"$f":"IFERROR(VLOOKUP(AR238,'P2'!$B$4:$J$48,9,FALSE),\"\")","v":""},{"$f":"IFERROR(VLOOKUP(AS238,'P2'!$B$4:$J$48,9,FALSE),\"\")","v":""},{"$f":"IFERROR(VLOOKUP(AT238,'P2'!$B$4:$J$48,9,FALSE),\"\")","v":""},{"$f":"IFERROR(VLOOKUP(AU238,'P2'!$B$4:$J$48,9,FALSE),\"\")","v":""},{"$f":"SUM(Q239:AU239)","v":0}]
[null,103,null,null,null,null,null,null,null,null,null,null,null,null,null,null,null,null,null,null,null,null,null,null,null,null,null,null,null,null,null,null,null,null,null,null,null,null,null,null,null,null,null,null,null,null,null,{"$f":"COUNTA(Q240:AU240)","v":0},{"$f":"AV241","v":0},{"$f":"IFERROR(ROUNDDOWN(AV241/$AT$3,1),\"\")","v":""}]
[null,null,null,null,null,null,null,null,null,null,null,null,null,null,null,null,{"$f":"IFERROR(VLOOKUP(Q240,'P2'!$B$4:$J$48,9,FALSE),\"\")","v":""},{"$f":"IFERROR(VLOOKUP(R240,'P2'!$B$4:$J$48,9,FALSE),\"\")","v":""},{"$f":"IFERROR(VLOOKUP(S240,'P2'!$B$4:$J$48,9,FALSE),\"\")","v":""},{"$f":"IFERROR(VLOOKUP(T240,'P2'!$B$4:$J$48,9,FALSE),\"\")","v":""},{"$f":"IFERROR(VLOOKUP(U240,'P2'!$B$4:$J$48,9,FALSE),\"\")","v":""},{"$f":"IFERROR(VLOOKUP(V240,'P2'!$B$4:$J$48,9,FALSE),\"\")","v":""},{"$f":"IFERROR(VLOOKUP(W240,'P2'!$B$4:$J$48,9,FALSE),\"\")","v":""},{"$f":"IFERROR(VLOOKUP(X240,'P2'!$B$4:$J$48,9,FALSE),\"\")","v":""},{"$f":"IFERROR(VLOOKUP(Y240,'P2'!$B$4:$J$48,9,FALSE),\"\")","v":""},{"$f":"IFERROR(VLOOKUP(Z240,'P2'!$B$4:$J$48,9,FALSE),\"\")","v":""},{"$f":"IFERROR(VLOOKUP(AA240,'P2'!$B$4:$J$48,9,FALSE),\"\")","v":""},{"$f":"IFERROR(VLOOKUP(AB240,'P2'!$B$4:$J$48,9,FALSE),\"\")","v":""},{"$f":"IFERROR(VLOOKUP(AC240,'P2'!$B$4:$J$48,9,FALSE),\"\")","v":""},{"$f":"IFERROR(VLOOKUP(AD240,'P2'!$B$4:$J$48,9,FALSE),\"\")","v":""},{"$f":"IFERROR(VLOOKUP(AE240,'P2'!$B$4:$J$48,9,FALSE),\"\")","v":""},{"$f":"IFERROR(VLOOKUP(AF240,'P2'!$B$4:$J$48,9,FALSE),\"\")","v":""},{"$f":"IFERROR(VLOOKUP(AG240,'P2'!$B$4:$J$48,9,FALSE),\"\")","v":""},{"$f":"IFERROR(VLOOKUP(AH240,'P2'!$B$4:$J$48,9,FALSE),\"\")","v":""},{"$f":"IFERROR(VLOOKUP(AI240,'P2'!$B$4:$J$48,9,FALSE),\"\")","v":""},{"$f":"IFERROR(VLOOKUP(AJ240,'P2'!$B$4:$J$48,9,FALSE),\"\")","v":""},{"$f":"IFERROR(VLOOKUP(AK240,'P2'!$B$4:$J$48,9,FALSE),\"\")","v":""},{"$f":"IFERROR(VLOOKUP(AL240,'P2'!$B$4:$J$48,9,FALSE),\"\")","v":""},{"$f":"IFERROR(VLOOKUP(AM240,'P2'!$B$4:$J$48,9,FALSE),\"\")","v":""},{"$f":"IFERROR(VLOOKUP(AN240,'P2'!$B$4:$J$48,9,FALSE),\"\")","v":""},{"$f":"IFERROR(VLOOKUP(AO240,'P2'!$B$4:$J$48,9,FALSE),\"\")","v":""},{"$f":"IFERROR(VLOOKUP(AP240,'P2'!$B$4:$J$48,9,FALSE),\"\")","v":""},{"$f":"IFERROR(VLOOKUP(AQ240,'P2'!$B$4:$J$48,9,FALSE),\"\")","v":""},{"$f":"IFERROR(VLOOKUP(AR240,'P2'!$B$4:$J$48,9,FALSE),\"\")","v":""},{"$f":"IFERROR(VLOOKUP(AS240,'P2'!$B$4:$J$48,9,FALSE),\"\")","v":""},{"$f":"IFERROR(VLOOKUP(AT240,'P2'!$B$4:$J$48,9,FALSE),\"\")","v":""},{"$f":"IFERROR(VLOOKUP(AU240,'P2'!$B$4:$J$48,9,FALSE),\"\")","v":""},{"$f":"SUM(Q241:AU241)","v":0}]
[null,104,null,null,null,null,null,null,null,null,null,null,null,null,null,null,null,null,null,null,null,null,null,null,null,null,null,null,null,null,null,null,null,null,null,null,null,null,null,null,null,null,null,null,null,null,null,{"$f":"COUNTA(Q242:AU242)","v":0},{"$f":"AV243","v":0},{"$f":"IFERROR(ROUNDDOWN(AV243/$AT$3,1),\"\")","v":""}]
[null,null,null,null,null,null,null,null,null,null,null,null,null,null,null,null,{"$f":"IFERROR(VLOOKUP(Q242,'P2'!$B$4:$J$48,9,FALSE),\"\")","v":""},{"$f":"IFERROR(VLOOKUP(R242,'P2'!$B$4:$J$48,9,FALSE),\"\")","v":""},{"$f":"IFERROR(VLOOKUP(S242,'P2'!$B$4:$J$48,9,FALSE),\"\")","v":""},{"$f":"IFERROR(VLOOKUP(T242,'P2'!$B$4:$J$48,9,FALSE),\"\")","v":""},{"$f":"IFERROR(VLOOKUP(U242,'P2'!$B$4:$J$48,9,FALSE),\"\")","v":""},{"$f":"IFERROR(VLOOKUP(V242,'P2'!$B$4:$J$48,9,FALSE),\"\")","v":""},{"$f":"IFERROR(VLOOKUP(W242,'P2'!$B$4:$J$48,9,FALSE),\"\")","v":""},{"$f":"IFERROR(VLOOKUP(X242,'P2'!$B$4:$J$48,9,FALSE),\"\")","v":""},{"$f":"IFERROR(VLOOKUP(Y242,'P2'!$B$4:$J$48,9,FALSE),\"\")","v":""},{"$f":"IFERROR(VLOOKUP(Z242,'P2'!$B$4:$J$48,9,FALSE),\"\")","v":""},{"$f":"IFERROR(VLOOKUP(AA242,'P2'!$B$4:$J$48,9,FALSE),\"\")","v":""},{"$f":"IFERROR(VLOOKUP(AB242,'P2'!$B$4:$J$48,9,FALSE),\"\")","v":""},{"$f":"IFERROR(VLOOKUP(AC242,'P2'!$B$4:$J$48,9,FALSE),\"\")","v":""},{"$f":"IFERROR(VLOOKUP(AD242,'P2'!$B$4:$J$48,9,FALSE),\"\")","v":""},{"$f":"IFERROR(VLOOKUP(AE242,'P2'!$B$4:$J$48,9,FALSE),\"\")","v":""},{"$f":"IFERROR(VLOOKUP(AF242,'P2'!$B$4:$J$48,9,FALSE),\"\")","v":""},{"$f":"IFERROR(VLOOKUP(AG242,'P2'!$B$4:$J$48,9,FALSE),\"\")","v":""},{"$f":"IFERROR(VLOOKUP(AH242,'P2'!$B$4:$J$48,9,FALSE),\"\")","v":""},{"$f":"IFERROR(VLOOKUP(AI242,'P2'!$B$4:$J$48,9,FALSE),\"\")","v":""},{"$f":"IFERROR(VLOOKUP(AJ242,'P2'!$B$4:$J$48,9,FALSE),\"\")","v":""},{"$f":"IFERROR(VLOOKUP(AK242,'P2'!$B$4:$J$48,9,FALSE),\"\")","v":""},{"$f":"IFERROR(VLOOKUP(AL242,'P2'!$B$4:$J$48,9,FALSE),\"\")","v":""},{"$f":"IFERROR(VLOOKUP(AM242,'P2'!$B$4:$J$48,9,FALSE),\"\")","v":""},{"$f":"IFERROR(VLOOKUP(AN242,'P2'!$B$4:$J$48,9,FALSE),\"\")","v":""},{"$f":"IFERROR(VLOOKUP(AO242,'P2'!$B$4:$J$48,9,FALSE),\"\")","v":""},{"$f":"IFERROR(VLOOKUP(AP242,'P2'!$B$4:$J$48,9,FALSE),\"\")","v":""},{"$f":"IFERROR(VLOOKUP(AQ242,'P2'!$B$4:$J$48,9,FALSE),\"\")","v":""},{"$f":"IFERROR(VLOOKUP(AR242,'P2'!$B$4:$J$48,9,FALSE),\"\")","v":""},{"$f":"IFERROR(VLOOKUP(AS242,'P2'!$B$4:$J$48,9,FALSE),\"\")","v":""},{"$f":"IFERROR(VLOOKUP(AT242,'P2'!$B$4:$J$48,9,FALSE),\"\")","v":""},{"$f":"IFERROR(VLOOKUP(AU242,'P2'!$B$4:$J$48,9,FALSE),\"\")","v":""},{"$f":"SUM(Q243:AU243)","v":0}]
[null,105,null,null,null,null,null,null,null,null,null,null,null,null,null,null,null,null,null,null,null,null,null,null,null,null,null,null,null,null,null,null,null,null,null,null,null,null,null,null,null,null,null,null,null,null,null,{"$f":"COUNTA(Q244:AU244)","v":0},{"$f":"AV245","v":0},{"$f":"IFERROR(ROUNDDOWN(AV245/$AT$3,1),\"\")","v":""}]
[null,null,null,null,null,null,null,null,null,null,null,null,null,null,null,null,{"$f":"IFERROR(VLOOKUP(Q244,'P2'!$B$4:$J$48,9,FALSE),\"\")","v":""},{"$f":"IFERROR(VLOOKUP(R244,'P2'!$B$4:$J$48,9,FALSE),\"\")","v":""},{"$f":"IFERROR(VLOOKUP(S244,'P2'!$B$4:$J$48,9,FALSE),\"\")","v":""},{"$f":"IFERROR(VLOOKUP(T244,'P2'!$B$4:$J$48,9,FALSE),\"\")","v":""},{"$f":"IFERROR(VLOOKUP(U244,'P2'!$B$4:$J$48,9,FALSE),\"\")","v":""},{"$f":"IFERROR(VLOOKUP(V244,'P2'!$B$4:$J$48,9,FALSE),\"\")","v":""},{"$f":"IFERROR(VLOOKUP(W244,'P2'!$B$4:$J$48,9,FALSE),\"\")","v":""},{"$f":"IFERROR(VLOOKUP(X244,'P2'!$B$4:$J$48,9,FALSE),\"\")","v":""},{"$f":"IFERROR(VLOOKUP(Y244,'P2'!$B$4:$J$48,9,FALSE),\"\")","v":""},{"$f":"IFERROR(VLOOKUP(Z244,'P2'!$B$4:$J$48,9,FALSE),\"\")","v":""},{"$f":"IFERROR(VLOOKUP(AA244,'P2'!$B$4:$J$48,9,FALSE),\"\")","v":""},{"$f":"IFERROR(VLOOKUP(AB244,'P2'!$B$4:$J$48,9,FALSE),\"\")","v":""},{"$f":"IFERROR(VLOOKUP(AC244,'P2'!$B$4:$J$48,9,FALSE),\"\")","v":""},{"$f":"IFERROR(VLOOKUP(AD244,'P2'!$B$4:$J$48,9,FALSE),\"\")","v":""},{"$f":"IFERROR(VLOOKUP(AE244,'P2'!$B$4:$J$48,9,FALSE),\"\")","v":""},{"$f":"IFERROR(VLOOKUP(AF244,'P2'!$B$4:$J$48,9,FALSE),\"\")","v":""},{"$f":"IFERROR(VLOOKUP(AG244,'P2'!$B$4:$J$48,9,FALSE),\"\")","v":""},{"$f":"IFERROR(VLOOKUP(AH244,'P2'!$B$4:$J$48,9,FALSE),\"\")","v":""},{"$f":"IFERROR(VLOOKUP(AI244,'P2'!$B$4:$J$48,9,FALSE),\"\")","v":""},{"$f":"IFERROR(VLOOKUP(AJ244,'P2'!$B$4:$J$48,9,FALSE),\"\")","v":""},{"$f":"IFERROR(VLOOKUP(AK244,'P2'!$B$4:$J$48,9,FALSE),\"\")","v":""},{"$f":"IFERROR(VLOOKUP(AL244,'P2'!$B$4:$J$48,9,FALSE),\"\")","v":""},{"$f":"IFERROR(VLOOKUP(AM244,'P2'!$B$4:$J$48,9,FALSE),\"\")","v":""},{"$f":"IFERROR(VLOOKUP(AN244,'P2'!$B$4:$J$48,9,FALSE),\"\")","v":""},{"$f":"IFERROR(VLOOKUP(AO244,'P2'!$B$4:$J$48,9,FALSE),\"\")","v":""},{"$f":"IFERROR(VLOOKUP(AP244,'P2'!$B$4:$J$48,9,FALSE),\"\")","v":""},{"$f":"IFERROR(VLOOKUP(AQ244,'P2'!$B$4:$J$48,9,FALSE),\"\")","v":""},{"$f":"IFERROR(VLOOKUP(AR244,'P2'!$B$4:$J$48,9,FALSE),\"\")","v":""},{"$f":"IFERROR(VLOOKUP(AS244,'P2'!$B$4:$J$48,9,FALSE),\"\")","v":""},{"$f":"IFERROR(VLOOKUP(AT244,'P2'!$B$4:$J$48,9,FALSE),\"\")","v":""},{"$f":"IFERROR(VLOOKUP(AU244,'P2'!$B$4:$J$48,9,FALSE),\"\")","v":""},{"$f":"SUM(Q245:AU245)","v":0}]
[null,106,null,null,null,null,null,null,null,null,null,null,null,null,null,null,null,null,null,null,null,null,null,null,null,null,null,null,null,null,null,null,null,null,null,null,null,null,null,null,null,null,null,null,null,null,null,{"$f":"COUNTA(Q246:AU246)","v":0},{"$f":"AV247","v":0},{"$f":"IFERROR(ROUNDDOWN(AV247/$AT$3,1),\"\")","v":""}]
[null,null,null,null,null,null,null,null,null,null,null,null,null,null,null,null,{"$f":"IFERROR(VLOOKUP(Q246,'P2'!$B$4:$J$48,9,FALSE),\"\")","v":""},{"$f":"IFERROR(VLOOKUP(R246,'P2'!$B$4:$J$48,9,FALSE),\"\")","v":""},{"$f":"IFERROR(VLOOKUP(S246,'P2'!$B$4:$J$48,9,FALSE),\"\")","v":""},{"$f":"IFERROR(VLOOKUP(T246,'P2'!$B$4:$J$48,9,FALSE),\"\")","v":""},{"$f":"IFERROR(VLOOKUP(U246,'P2'!$B$4:$J$48,9,FALSE),\"\")","v":""},{"$f":"IFERROR(VLOOKUP(V246,'P2'!$B$4:$J$48,9,FALSE),\"\")","v":""},{"$f":"IFERROR(VLOOKUP(W246,'P2'!$B$4:$J$48,9,FALSE),\"\")","v":""},{"$f":"IFERROR(VLOOKUP(X246,'P2'!$B$4:$J$48,9,FALSE),\"\")","v":""},{"$f":"IFERROR(VLOOKUP(Y246,'P2'!$B$4:$J$48,9,FALSE),\"\")","v":""},{"$f":"IFERROR(VLOOKUP(Z246,'P2'!$B$4:$J$48,9,FALSE),\"\")","v":""},{"$f":"IFERROR(VLOOKUP(AA246,'P2'!$B$4:$J$48,9,FALSE),\"\")","v":""},{"$f":"IFERROR(VLOOKUP(AB246,'P2'!$B$4:$J$48,9,FALSE),\"\")","v":""},{"$f":"IFERROR(VLOOKUP(AC246,'P2'!$B$4:$J$48,9,FALSE),\"\")","v":""},{"$f":"IFERROR(VLOOKUP(AD246,'P2'!$B$4:$J$48,9,FALSE),\"\")","v":""},{"$f":"IFERROR(VLOOKUP(AE246,'P2'!$B$4:$J$48,9,FALSE),\"\")","v":""},{"$f":"IFERROR(VLOOKUP(AF246,'P2'!$B$4:$J$48,9,FALSE),\"\")","v":""},{"$f":"IFERROR(VLOOKUP(AG246,'P2'!$B$4:$J$48,9,FALSE),\"\")","v":""},{"$f":"IFERROR(VLOOKUP(AH246,'P2'!$B$4:$J$48,9,FALSE),\"\")","v":""},{"$f":"IFERROR(VLOOKUP(AI246,'P2'!$B$4:$J$48,9,FALSE),\"\")","v":""},{"$f":"IFERROR(VLOOKUP(AJ246,'P2'!$B$4:$J$48,9,FALSE),\"\")","v":""},{"$f":"IFERROR(VLOOKUP(AK246,'P2'!$B$4:$J$48,9,FALSE),\"\")","v":""},{"$f":"IFERROR(VLOOKUP(AL246,'P2'!$B$4:$J$48,9,FALSE),\"\")","v":""},{"$f":"IFERROR(VLOOKUP(AM246,'P2'!$B$4:$J$48,9,FALSE),\"\")","v":""},{"$f":"IFERROR(VLOOKUP(AN246,'P2'!$B$4:$J$48,9,FALSE),\"\")","v":""},{"$f":"IFERROR(VLOOKUP(AO246,'P2'!$B$4:$J$48,9,FALSE),\"\")","v":""},{"$f":"IFERROR(VLOOKUP(AP246,'P2'!$B$4:$J$48,9,FALSE),\"\")","v":""},{"$f":"IFERROR(VLOOKUP(AQ246,'P2'!$B$4:$J$48,9,FALSE),\"\")","v":""},{"$f":"IFERROR(VLOOKUP(AR246,'P2'!$B$4:$J$48,9,FALSE),\"\")","v":""},{"$f":"IFERROR(VLOOKUP(AS246,'P2'!$B$4:$J$48,9,FALSE),\"\")","v":""},{"$f":"IFERROR(VLOOKUP(AT246,'P2'!$B$4:$J$48,9,FALSE),\"\")","v":""},{"$f":"IFERROR(VLOOKUP(AU246,'P2'!$B$4:$J$48,9,FALSE),\"\")","v":""},{"$f":"SUM(Q247:AU247)","v":0}]

{"sheet":"P4","index":7,"n_rows":36,"n_cols":16,"rows_kept":36,"cut":false,"hidden":false,"merged":[[13,2,13,3],[8,2,8,3],[9,2,9,3],[10,2,10,3],[11,2,11,3],[12,2,12,3],[19,2,19,3],[20,2,20,3],[21,2,21,3],[22,2,22,3],[14,2,14,3],[35,1,35,15],[24,2,24,3],[25,2,25,3],[26,2,26,3],[27,2,27,3],[28,2,28,3],[29,2,29,3],[30,2,30,3],[3,1,3,15],[34,1,34,15],[2,6,2,8],[2,10,2,12],[32,1,32,15],[33,1,33,15],[6,1,6,3],[31,1,31,15],[6,12,6,13],[7,1,7,3],[15,1,15,3],[23,1,23,3],[6,10,6,11],[16,2,16,3],[17,2,17,3],[18,2,18,3],[7,15,14,15],[7,14,14,14],[23,15,30,15],[23,14,30,14],[15,15,22,15],[15,14,22,14]]}
[null,"３　サービス提供責任者配置数の根拠　（直近３か月のサービス提供時間・実利用者数・従業者数の状況）"]
[]
[null,"（1）　サービス提供責任者の配置計算",null,null,null,null,"実人員配置方法",null,null,null,"常勤換算方法"]
[null,"※上記のうち、サービス提供責任者の配置計算で採用している方法を選択すること。"]
[]
[null,"（2）　配置数根拠"]
[null,null,null,null,{"$f":"MONTH(EOMONTH(DATE(2023,【共通】!N9,【共通】!P9),-4))","v":3},"月",{"$f":"MONTH(EOMONTH(DATE(2023,【共通】!N9,【共通】!P9),-3))","v":4},"月",{"$f":"MONTH(EOMONTH(DATE(2023,【共通】!N9,【共通】!P9),-2))","v":5},"月","合計",null,"３か月平均\n(a)",null,"係数\n(b)","必置数\n(a)÷(b)"]
[null,"月延べサービス提供時間 計\n（待機時間・移動時間を除く。）",null,null,{"$f":"SUM(E9:E15)","v":0},"時間",{"$f":"SUM(G9:G15)","v":0},"時間",{"$f":"SUM(I9:I15)","v":0},"時間",{"$f":"E8+G8+I8","v":0},"時間",{"$f":"ROUNDUP(K8/3,1)","v":0},"時間","450時間",{"$f":"M8/450","v":0}]
[null,null,"訪問介護",null,null,"時間",null,"時間",null,"時間",0,"時間",{"$f":"ROUNDUP(K9/3,1)","v":0},"時間"]
[null,null,"介護予防訪問介護",null,null,"時間",null,"時間",null,"時間",0,"時間",0,"時間"]
[null,null,"居宅介護",null,null,"時間",null,"時間",null,"時間",0,"時間",0,"時間"]
[null,null,"重度訪問介護",null,null,"時間",null,"時間",null,"時間",0,"時間",0,"時間"]
[null,null,"同行援護",null,null,"時間",null,"時間",null,"時間",0,"時間",0,"時間"]
[null,null,"行動援護",null,null,"時間",null,"時間",null,"時間",0,"時間",0,"時間"]
[null,null,"移動支援",null,null,"時間",null,"時間",null,"時間",0,"時間",0,"時間"]
[null,"各月の実利用者数　計",null,null,{"$f":"SUM(E17:E23)","v":0},"人",{"$f":"SUM(G17:G23)","v":0},"人",{"$f":"SUM(I17:I23)","v":0},"人",{"$f":"E16+G16+I16","v":0},"人",{"$f":"ROUNDUP(K16/3,1)","v":0},"人","40人",{"$f":"M16/40","v":0}]
[null,null,"訪問介護",null,null,"人",null,"人",null,"人",0,"人",0,"人"]
[null,null,"介護予防訪問介護",null,null,"人",null,"人",null,"人",0,"人",0,"人"]
[null,null,"居宅介護",null,null,"人",null,"人",null,"人",0,"人",0,"人"]
[null,null,"重度訪問介護",null,null,"人",null,"人",null,"人",0,"人",0,"人"]
[null,null,"同行援護",null,null,"人",null,"人",null,"人",0,"人",0,"人"]
[null,null,"行動援護",null,null,"人",null,"人",null,"人",0,"人",0,"人"]
[null,null,"移動支援",null,null,"人",null,"人",null,"人",0,"人",0,"人"]
[null,"各月の実従業者数　計",null,null,{"$f":"SUM(E25:E31)","v":0},"人",{"$f":"SUM(G25:G31)","v":0},"人",{"$f":"SUM(I25:I31)","v":0},"人",0,"人",0,"人","10人",{"$f":"M24/10","v":0}]
[null,null,"訪問介護",null,null,"人",null,"人",null,"人",0,"人",0,"人"]
[null,null,"介護予防訪問介護",null,null,"人",null,"人",null,"人",0,"人",0,"人"]
[null,null,"居宅介護",null,null,"人",null,"人",null,"人",0,"人",0,"人"]
[null,null,"重度訪問介護",null,null,"人",null,"人",null,"人",0,"人",0,"人"]
[null,null,"同行援護",null,null,"人",null,"人",null,"人",0,"人",0,"人"]
[null,null,"行動援護",null,null,"人",null,"人",null,"人",0,"人",0,"人"]
[null,null,"移動支援",null,null,"人",null,"人",null,"人",0,"人",0,"人"]
[]
[null,"※サービス提供責任者が各指定サービスを兼務する場合（各事業を一体に運営する場合に限る）、「サービス提供時間」は\n  各事業それぞれに記載し、「実利用者数」「実従業者数」は、いずれも居宅介護の欄に各サービスの合計を記載すること。"]
[null,"※サービス提供責任者を事業ごとに別に配置する場合（障害と介護で別のサ責を配置している場合等）は、\n　「サービス提供時間」「実利用者数」「実従業者数」いずれもサ責の配置事業ごと別に記載すること。"]
[null,"※「実利用者数」について、上記のサービスを複数利用する利用者は、二重計上せず、\n　いずれかひとつのサービスに記載すること。ただし、上記の場合を除く。"]
[null,"※居宅介護のうち通院等乗降介助のみを利用した利用者については、１人あたり0.1人として計算すること。"]

{"sheet":"（旧）P5-1","index":8,"n_rows":51,"n_cols":23,"rows_kept":51,"cut":false,"hidden":true,"merged":[[1,17,1,20],[17,1,17,2],[23,1,23,3],[26,1,26,3],[5,2,5,3],[31,1,31,3],[28,1,28,3],[10,1,10,3],[16,1,16,3],[1,12,1,14],[20,4,20,5],[3,1,3,3],[3,4,3,5],[22,4,22,5],[21,4,21,5],[4,14,4,15],[5,14,5,15],[6,4,6,5],[3,14,3,15],[31,16,31,17],[31,18,31,19],[12,8,12,16],[13,8,13,16],[5,20,5,21],[32,1,32,3],[34,1,34,2],[30,1,30,3],[6,2,6,3],[4,1,4,3],[12,1,12,3],[15,1,15,3],[33,1,33,3],[23,4,23,5],[8,1,8,3],[21,1,22,3],[25,1,25,3],[13,4,13,5],[14,4,14,5],[15,4,15,5],[16,4,16,5],[17,4,17,5],[28,4,28,5],[29,4,29,5],[33,4,33,5],[34,4,34,5],[31,4,31,5],[32,4,32,5],[5,4,5,5],[2,23,2,24],[5,1,6,1],[11,1,11,3],[13,1,13,3],[14,1,14,3],[29,1,29,3],[22,14,22,15],[23,14,23,15],[27,1,27,3],[21,14,21,15],[14,21,14,22],[9,1,9,3],[8,4,8,5],[9,4,9,5],[10,4,10,5],[11,4,11,5],[12,4,12,5],[25,4,25,5],[26,4,26,5],[27,4,27,5],[3,17,3,18],[4,17,4,18],[5,17,5,18],[4,4,4,5],[23,17,23,18],[27,8,28,13],[8,8,8,16],[9,8,9,16],[10,8,10,16],[33,8,33,13],[34,8,34,13],[29,8,29,13],[25,8,25,13],[26,8,26,13],[27,14,28,14],[30,14,31,14],[30,8,31,13],[32,8,32,13],[11,8,11,16],[3,20,3,21],[8,19,8,22],[9,19,9,21],[10,19,10,21],[11,19,11,21],[30,4,30,5],[28,16,28,18],[25,16,25,19],[21,7,21,8],[22,7,22,8],[23,7,23,8],[3,7,3,8],[4,7,4,8],[5,7,5,8],[6,7,6,8],[14,19,14,20],[14,8,14,16],[15,8,15,16],[16,8,16,16],[17,8,17,16],[26,16,26,18],[27,16,27,18],[21,17,21,18],[22,17,22,18]]}
[null,"４　障害福祉サービス費の請求状況"]
[]
[null,"(1)","居宅介護",null,{"$f":"【共通】!J9&【共通】!L4&【共通】!M4","v":"令和 7年"},{"$f":"IFERROR(【共通】!N4-1&【共通】!O4,\"\")","v":"5月"}]
[null,"身体介護中心",null,null,"～30分",null,0,"30分～1時間",null,0,"1時間～1時間30分",0,"1時間30分～2時間",0,"2時間～2時間30分",null,0,"2時間30分～3時間",null,0,"3時間～",null,0]
[null,"家事援助中心",null,null,"～30分",null,0,"30分～45分",null,0,"45分～1時間",0,"1時間～1時間15分",0,"1時間15分～1時間30分",null,0,"1時間30分～",null,0]
[null,"通院等介助","身体介護を伴う",null,"～30分",null,0,"30分～1時間",null,0,"1時間～1時間30分",0,"1時間30分～2時間",0,"2時間～2時間30分",null,0,"2時間30分～3時間",null,0,"3時間～",null,0]
[null,null,"身体介護を伴わない",null,"～30分",null,0,"30分～1時間",null,0,"1時間～1時間30分",0,"1時間30分～",0]
[]
[null,null,null,null,"算定回数",null,"実人員",null,null,null,null,null,null,null,null,null,null,"算定回数",null,"処遇改善加算等"]
[null,"通院等乗降介助",null,null,0,null,0,null,"2人の居宅介護従業者による支援に伴う算定　（基本部分×200％）",null,null,null,null,null,null,null,null,0,null,"処遇改善加算等"]
[null,"初回加算",null,null,0,null,0,null,"夜間又は早朝の支援に伴う加算　（＋基本部分×25％）",null,null,null,null,null,null,null,null,0,null,"特定処遇改善加算"]
[null,"利用者負担上限額管理加算",null,null,0,null,0,null,"深夜の支援に伴う加算　（＋基本部分×50％）",null,null,null,null,null,null,null,null,0,null,"ベースアップ等支援加算"]
[null,"福祉専門職員等連携加算",null,null,0,null,0,null,"基礎研修修了者による支援に伴う減算　（基本部分×70％ or ×90％）",null,null,null,null,null,null,null,null,0]
[null,"緊急時対応加算",null,null,0,null,0,null,"重度訪問介護研修修了者による支援に伴う算定　　（重度訪問介護の単価 or 基本部分×90％）",null,null,null,null,null,null,null,null,0,null,"【居宅介護】"]
[null,"特別地域加算",null,null,0,null,0,null,"初任者研修課程修了者等が計画作成をしている場合の減算　（基本部分×70％）",null,null,null,null,null,null,null,null,0,null,{"$f":"$F$3&\"分 請求額\"","v":"5月分 請求額"},null,0]
[null,"喀痰吸引等支援体制加算",null,null,0,null,0,null,"同一敷地内建物に居住する利用者への支援に伴う減算　（基本部分×90％）",null,null,null,null,null,null,null,null,0]
[null,"身体拘束廃止未実施減算",null,null,0,null,null,null,"利用者のうち同一建物に居住する者が20人以上の場合の減算　（基本部分×90％）",null,null,null,null,null,null,null,null,0]
[null,"特定事業所加算",null,null,0,null,null,null,"利用者のうち同一建物に居住する者が50人以上の場合の減算　（基本部分×85％）",null,null,null,null,null,null,null,null,0]
[]
[]
[null,"(2)","重度訪問介護　　　",null,{"$f":"E3&\" \"&F3","v":"令和 7年 5月"}]
[null,"重度訪問介護",null,null,"～1時間",null,0,"1時間～1時間30分",null,0,"1時間30分～2時間",0,"2時間～2時間30分",0,"2時間30分～3時間",null,0,"3時間～3時間30分",null,0]
[null,null,null,null,"3時間30分～4時間",null,0,"4時間～8時間",null,0,"8時間～12時間",0,"12時間～16時間",0,"16時間～20時間",null,0,"20時間～24時間",null,0]
[null,"移動介護加算",null,null,"～1時間",null,0,"1時間～1時間30分",null,0,"1時間30分～2時間",0,"2時間～2時間30分",0,"2時間30分～3時間",null,0,"3時間～",null,0]
[]
[null,null,null,null,"算定回数",null,"実人員",null,null,null,null,null,null,null,"算定回数",null,"処遇改善加算等"]
[null,"初回加算",null,null,0,null,0,null,"重度障害者への支援に伴う加算　（＋基本部分×15％）",null,null,null,null,null,0,null,"処遇改善加算等"]
[null,"利用者負担上限額管理加算",null,null,0,null,0,null,"障害支援区分6に該当する利用者への支援に対する加算\n（＋基本部分×8.5％）",null,null,null,null,null,0,null,"特定処遇改善加算"]
[null,"行動障害支援連携加算",null,null,0,null,0,null,null,null,null,null,null,null,null,null,"ベースアップ等支援加算"]
[null,"緊急時対応加算",null,null,0,null,0,null,"2人の居宅介護従業者による支援に伴う算定　（基本部分×200％）",null,null,null,null,null,0]
[null,"特別地域加算",null,null,0,null,0,null,"2人の居宅介護従業者による支援のうち熟練者の同行に伴う算定\n（基本部分×185％）",null,null,null,null,null,0,null,"【重度訪問介護】"]
[null,"喀痰吸引等支援体制加算",null,null,0,null,0,null,null,null,null,null,null,null,null,null,{"$f":"$F$3&\"分 請求額\"","v":"5月分 請求額"},null,0]
[null,"移動介護緊急時支援加算",null,null,0,null,0,null,"夜間又は早朝の支援に伴う加算　（＋基本部分×25％）",null,null,null,null,null,0]
[null,"身体拘束廃止未実施減算",null,null,0,null,null,null,"深夜の支援に伴う加算　（＋基本部分×50％）",null,null,null,null,null,0]
[null,"特定事業所加算",null,null,0,null,null,null,"90日以上利用減算　（基本部分×80％）",null,null,null,null,null,0]
[]
[]
[]
[]
[]
[]
[null,null,null,null,"Ⅰ型"]
[null,null,null,null,"Ⅱ型"]
[null,null,null,null,"Ⅲ型"]
[null,null,null,null,"Ⅳ型"]
[null,null,null,null,"なし"]
[]
[null,null,null,null,"Ⅰ型"]
[null,null,null,null,"Ⅱ型"]
[null,null,null,null,"Ⅲ型"]
[null,null,null,null,"なし"]

{"sheet":"（旧）P5-2","index":9,"n_rows":43,"n_cols":23,"rows_kept":43,"cut":false,"hidden":true,"merged":[[1,4,1,5],[16,4,16,5],[3,4,3,5],[27,1,27,3],[6,1,6,3],[2,1,3,3],[17,1,19,3],[8,1,8,3],[12,1,12,2],[7,1,7,3],[26,1,26,3],[24,1,24,3],[23,1,23,3],[25,1,25,3],[22,1,22,3],[5,1,5,3],[11,1,11,3],[11,4,11,5],[9,1,9,3],[10,1,10,3],[2,13,2,14],[3,13,3,14],[2,10,2,11],[3,10,3,11],[2,7,2,8],[3,7,3,8],[7,4,7,5],[8,4,8,5],[9,4,9,5],[10,4,10,5],[10,8,10,17],[5,4,5,5],[5,20,5,23],[5,8,5,17],[6,20,6,22],[6,4,6,5],[11,20,11,21],[11,22,11,23],[7,20,7,22],[6,8,6,17],[7,8,7,17],[8,8,8,17],[9,8,9,17],[11,8,11,17],[21,1,21,3],[21,4,21,5],[21,18,21,21],[17,19,17,20],[18,19,18,20],[17,16,17,17],[19,13,19,14],[19,10,19,11],[12,8,12,17],[13,8,13,17],[12,4,12,5],[17,13,17,14],[18,13,18,14],[17,10,17,11],[18,10,18,11],[18,16,18,17],[28,1,28,2],[8,20,8,22],[22,18,22,20],[23,18,23,20],[24,18,24,20],[27,18,27,19],[27,20,27,21],[27,4,27,5],[17,7,17,8],[18,7,18,8],[19,7,19,8],[17,4,17,5],[18,4,18,5],[19,4,19,5],[23,8,23,15],[22,4,22,5],[28,4,28,5],[21,8,21,15],[22,8,22,15],[24,4,24,5],[25,4,25,5],[26,4,26,5],[23,4,23,5]]}
[]
[null,"(3)","同行援護",null,{"$f":"'（旧）P5-1'!E$21:F$21","v":"令和 7年 5月"}]
[null,"同行援護",null,null,"～30分",null,0,"30分～1時間",null,0,"1時間～1時間30分",null,0,"1時間30分～2時間",null,0]
[null,null,null,null,"2時間～2時間30分",null,0,"2時間30分～3時間",null,0,"3時間～",null,0]
[]
[null,null,null,null,"算定回数",null,"実人員",null,null,null,null,null,null,null,null,null,null,null,"算定回数",null,"処遇改善加算等"]
[null,"初回加算",null,null,0,null,0,null,"2人の同行援護従業者による支援に伴う算定　（基本部分×200％）",null,null,null,null,null,null,null,null,null,0,null,"処遇改善加算等"]
[null,"利用者負担上限額管理加算",null,null,0,null,0,null,"夜間又は早朝の支援に伴う加算　（＋基本部分×25％）",null,null,null,null,null,null,null,null,null,0,null,"特定処遇改善加算"]
[null,"緊急時対応加算",null,null,0,null,0,null,"深夜の支援に伴う加算　（＋基本部分×50％）",null,null,null,null,null,null,null,null,null,0,null,"ベースアップ等支援加算"]
[null,"特別地域加算",null,null,0,null,0,null,"盲ろう者に対する盲ろう者向け通訳通訳・介助員による支援に伴う加算　（＋基本部分×25％）",null,null,null,null,null,null,null,null,null,0]
[null,"喀痰吸引等支援体制加算",null,null,0,null,0,null,"障害支援区分3に該当する利用者への支援に対する加算　（＋基本部分×20％）",null,null,null,null,null,null,null,null,null,0,null,"【同行援護】"]
[null,"身体拘束廃止未実施減算",null,null,0,null,null,null,"障害支援区分4に該当する利用者への支援に対する加算　（＋基本部分×40％）",null,null,null,null,null,null,null,null,null,0,null,{"$f":"'（旧）P5-1'!$F$3&\"分 請求額\"","v":"5月分 請求額"},null,0]
[null,"特定事業所加算",null,null,0,null,null,null,"基礎研修修了者による支援に伴う減算　（基本部分×90％）",null,null,null,null,null,null,null,null,null,0]
[null,null,null,null,null,null,null,null,"盲ろう者向け通訳通訳・介助員による支援に伴う減算　（基本部分×90％）",null,null,null,null,null,null,null,null,null,0]
[]
[]
[null,"(4)","行動援護",null,{"$f":"'（旧）P5-1'!E$21:F$21","v":"令和 7年 5月"}]
[null,"行動援護",null,null,"～30分",null,0,"30分～1時間",null,0,"1時間～1時間30分",null,0,"1時間30分～2時間",null,0,"2時間～2時間30分",null,0,"2時間30分～3時間",null,0]
[null,null,null,null,"3時間～3時間30分",null,0,"3時間30分～4時間",null,0,"4時間～4時間30分",null,0,"4時間30分～5時間",null,0,"5時間～5時間30分",null,0,"5時間30分～6時間",null,0]
[null,null,null,null,"6時間～6時間30分",null,0,"6時間30分～7時間",null,0,"7時間～7時間30分",null,0,"7時間30分～",null,0]
[]
[null,null,null,null,"算定回数",null,"実人員",null,null,null,null,null,null,null,null,null,"算定回数",null,"処遇改善加算等"]
[null,"初回加算",null,null,0,null,0,null,"2人の同行援護従業者による支援に伴う算定　（基本部分×200％）",null,null,null,null,null,null,null,0,null,"処遇改善加算等"]
[null,"利用者負担上限額管理加算",null,null,0,null,0,null,"支援計画シートが未作成の場合の減算　（基本部分×95％）",null,null,null,null,null,null,null,0,null,"特定処遇改善加算"]
[null,"行動障害支援連携加算",null,null,0,null,0,null,null,null,null,null,null,null,null,null,null,null,"ベースアップ等支援加算"]
[null,"緊急時対応加算",null,null,0,null,0]
[null,"特別地域加算",null,null,0,null,0,null,null,null,null,null,null,null,null,null,null,null,"【行動援護】"]
[null,"喀痰吸引等支援体制加算",null,null,0,null,0,null,null,null,null,null,null,null,null,null,null,null,{"$f":"'（旧）P5-1'!$F$3&\"分 請求額\"","v":"5月分 請求額"},null,0]
[null,"特定事業所加算",null,"Ⅰ型",0]
[]
[]
[]
[]
[null,null,null,null,"Ⅰ型"]
[null,null,null,null,"Ⅱ型"]
[null,null,null,null,"Ⅲ型"]
[null,null,null,null,"Ⅳ型"]
[null,null,null,null,"なし"]
[]
[null,null,null,null,"Ⅰ型"]
[null,null,null,null,"Ⅱ型"]
[null,null,null,null,"Ⅲ型"]
[null,null,null,null,"なし"]

{"sheet":"P5-1","index":10,"n_rows":185,"n_cols":31,"rows_kept":185,"cut":false,"hidden":false,"merged":[[64,7,65,7],[64,9,65,9],[95,13,96,13],[64,13,65,13],[126,1,127,1],[126,2,127,2],[126,3,127,3],[126,4,127,4],[126,5,127,5],[64,8,65,8],[95,8,96,8],[126,8,127,8],[64,1,65,1],[64,2,65,2],[64,3,65,3],[64,4,65,4],[95,14,95,16],[95,1,96,1],[95,2,96,2],[95,3,96,3],[95,4,96,4],[95,5,96,5],[95,6,96,6],[95,10,95,11],[95,7,96,7],[95,9,96,9],[95,12,96,12],[64,5,65,5],[2,1,3,1],[33,14,33,16],[33,1,34,1],[33,2,34,2],[33,3,34,3],[33,4,34,4],[33,5,34,5],[33,10,33,11],[33,7,34,7],[33,9,34,9],[2,8,3,8],[33,8,34,8],[2,12,3,12],[33,12,34,12],[64,12,65,12],[126,14,126,16],[2,14,2,16],[2,2,3,2],[2,3,3,3],[2,9,3,9],[2,13,3,13],[2,4,3,4],[2,5,3,5],[33,13,34,13],[2,10,2,11],[2,6,3,6],[2,7,3,7],[33,6,34,6],[64,14,64,16],[64,6,65,6],[64,10,64,11],[126,6,127,6],[126,7,127,7],[126,9,127,9],[126,10,126,11],[126,13,127,13],[126,12,127,12],[157,12,158,12],[157,14,157,16],[157,1,158,1],[157,2,158,2],[157,3,158,3],[157,4,158,4],[157,5,158,5],[157,6,158,6],[157,7,158,7],[157,9,158,9],[157,10,157,11],[157,13,158,13],[157,8,158,8]]}
[]
[null,"５－１　（居宅介護）　居宅介護等計画の作成状況・支給決定内容等",null,null,null,null,null,null,null,null,null,null,null,null,null,null,{"$f":"\" 1 / \"&COUNTA(C$5,C$37,C$68,C$99,C$130,C$161)","v":" 1 / 1"}]
[null,"No.","利用者氏名","性別","年齢","居住地","障害\n種別","障害\n支援\n区分","自己\n負担","利用開始時期\n（契約時期）","利用頻度",null,"2人\n介助","併用\nサービス","居宅介護計画の作成等　※新規・変更問わず直近のもの"]
[null,null,null,null,null,null,null,null,null,null,"身体介護","家事援助",null,null,"アセスメントの\n実　　施　　日","居宅介護計画の\n作　　成　　日","利用者の\n同 意 日"]
[null,"例","浜松　太郎","男",44,"中区","知的",3,"○","半年～1年以内","週2回","週4回","○","生活介護","2023-04-01","2023-04-10","2023-04-12",null,null,null,null,null,null,null,null,null,null,null,null,null,"半年以内"]
[null,1,null,null,null,null,null,null,null,null,null,null,null,null,null,null,null,null,null,null,null,null,null,null,null,null,null,null,null,null,"半年～1年以内"]
[null,{"$f":"B6+1","v":2},null,null,null,null,null,null,null,null,null,null,null,null,null,null,null,null,null,null,null,null,null,null,null,null,null,null,null,null,"1年～3年以内"]
[null,{"$f":"B7+1","v":3},null,null,null,null,null,null,null,null,null,null,null,null,null,null,null,null,null,null,null,null,null,null,null,null,null,null,null,null,"3年以上"]
[null,4]
[null,5]
[null,6]
[null,7]
[null,8]
[null,9]
[null,10]
[null,11]
[null,12]
[null,13]
[null,14]
[null,15]
[null,16]
[null,17]
[null,18]
[null,19]
[null,20]
[null,21]
[null,22]
[null,23]
[null,24]
[null,25]
[]
[]
[null,"５－１　（居宅介護）　居宅介護等計画の作成状況・支給決定内容等",null,null,null,null,null,null,null,null,null,null,null,null,null,null,{"$f":"\" 2 / \"&COUNTA(C$5,C$37,C$68,C$99,C$130,C$161)","v":" 2 / 1"}]
[null,"No.","利用者氏名","性別","年齢","居住地","障害\n種別","障害\n支援\n区分","自己\n負担","利用開始時期\n（契約時期）","利用頻度",null,"2人\n介助","併用\nサービス","居宅介護計画の作成等　※新規・変更問わず直近のもの"]
[null,null,null,null,null,null,null,null,null,null,"身体介護","家事援助",null,null,"アセスメントの\n実　　施　　日","居宅介護計画の\n作　　成　　日","利用者の\n同 意 日"]
[null,"例","浜松　太郎","男",44,"中区","知的",3,"○","半年～1年以内","週2回","週4回","○","生活介護","2023-04-01","2023-04-10","2023-04-12",null,null,null,null,null,null,null,null,null,null,null,null,null,"半年以内"]
[null,{"$f":"B30+1","v":26},null,null,null,null,null,null,null,null,null,null,null,null,null,null,null,null,null,null,null,null,null,null,null,null,null,null,null,null,"半年～1年以内"]
[null,{"$f":"B37+1","v":27},null,null,null,null,null,null,null,null,null,null,null,null,null,null,null,null,null,null,null,null,null,null,null,null,null,null,null,null,"1年～3年以内"]
[null,{"$f":"B38+1","v":28},null,null,null,null,null,null,null,null,null,null,null,null,null,null,null,null,null,null,null,null,null,null,null,null,null,null,null,null,"3年以上"]
[null,29]
[null,30]
[null,31]
[null,32]
[null,33]
[null,34]
[null,35]
[null,36]
[null,37]
[null,38]
[null,39]
[null,40]
[null,41]
[null,42]
[null,43]
[null,44]
[null,45]
[null,46]
[null,47]
[null,48]
[null,49]
[null,50]
[]
[]
[null,"５－１　（居宅介護）　居宅介護等計画の作成状況・支給決定内容等",null,null,null,null,null,null,null,null,null,null,null,null,null,null,{"$f":"\" 3 / \"&COUNTA(C$5,C$37,C$68,C$99,C$130,C$161)","v":" 3 / 1"}]
[null,"No.","利用者氏名","性別","年齢","居住地","障害\n種別","障害\n支援\n区分","自己\n負担","利用開始時期\n（契約時期）","利用頻度",null,"2人\n介助","併用\nサービス","居宅介護計画の作成等　※新規・変更問わず直近のもの"]
[null,null,null,null,null,null,null,null,null,null,"身体介護","家事援助",null,null,"アセスメントの\n実　　施　　日","居宅介護計画の\n作　　成　　日","利用者の\n同 意 日"]
[null,"例","浜松　太郎","男",44,"中区","知的",3,"○","半年～1年以内","週2回","週4回","○","生活介護","2023-04-01","2023-04-10","2023-04-12",null,null,null,null,null,null,null,null,null,null,null,null,null,"半年以内"]
[null,{"$f":"B61+1","v":51},null,null,null,null,null,null,null,null,null,null,null,null,null,null,null,null,null,null,null,null,null,null,null,null,null,null,null,null,"半年～1年以内"]
[null,{"$f":"B68+1","v":52},null,null,null,null,null,null,null,null,null,null,null,null,null,null,null,null,null,null,null,null,null,null,null,null,null,null,null,null,"1年～3年以内"]
[null,{"$f":"B69+1","v":53},null,null,null,null,null,null,null,null,null,null,null,null,null,null,null,null,null,null,null,null,null,null,null,null,null,null,null,null,"3年以上"]
[null,54]
[null,55]
[null,56]
[null,57]
[null,58]
[null,59]
[null,60]
[null,61]
[null,62]
[null,63]
[null,64]
[null,65]
[null,66]
[null,67]
[null,68]
[null,69]
[null,70]
[null,71]
[null,72]
[null,73]
[null,74]
[null,75]
[]
[]
[null,"５－１　（居宅介護）　居宅介護等計画の作成状況・支給決定内容等",null,null,null,null,null,null,null,null,null,null,null,null,null,null,{"$f":"\" 4 / \"&COUNTA(C$5,C$37,C$68,C$99,C$130,C$161)","v":" 4 / 1"}]
[null,"No.","利用者氏名","性別","年齢","居住地","障害\n種別","障害\n支援\n区分","自己\n負担","利用開始時期\n（契約時期）","利用頻度",null,"2人\n介助","併用\nサービス","居宅介護計画の作成等　※新規・変更問わず直近のもの"]
[null,null,null,null,null,null,null,null,null,null,"身体介護","家事援助",null,null,"アセスメントの\n実　　施　　日","居宅介護計画の\n作　　成　　日","利用者の\n同 意 日"]
[null,"例","浜松　太郎","男",44,"中区","知的",3,"○","半年～1年以内","週2回","週4回","○","生活介護","2023-04-01","2023-04-10","2023-04-12",null,null,null,null,null,null,null,null,null,null,null,null,null,"半年以内"]
[null,{"$f":"B92+1","v":76},null,null,null,null,null,null,null,null,null,null,null,null,null,null,null,null,null,null,null,null,null,null,null,null,null,null,null,null,"半年～1年以内"]
[null,{"$f":"B99+1","v":77},null,null,null,null,null,null,null,null,null,null,null,null,null,null,null,null,null,null,null,null,null,null,null,null,null,null,null,null,"1年～3年以内"]
[null,{"$f":"B100+1","v":78},null,null,null,null,null,null,null,null,null,null,null,null,null,null,null,null,null,null,null,null,null,null,null,null,null,null,null,null,"3年以上"]
[null,79]
[null,80]
[null,81]
[null,82]
[null,83]
[null,84]
[null,85]
[null,86]
[null,87]
[null,88]
[null,89]
[null,90]
[null,91]
[null,92]
[null,93]
[null,94]
[null,95]
[null,96]
[null,97]
[null,98]
[null,99]
[null,100]
[]
[]
[null,"５－１　（居宅介護）　居宅介護等計画の作成状況・支給決定内容等",null,null,null,null,null,null,null,null,null,null,null,null,null,null,{"$f":"\" 5 / \"&COUNTA(C$5,C$37,C$68,C$99,C$130,C$161)","v":" 5 / 1"}]
[null,"No.","利用者氏名","性別","年齢","居住地","障害\n種別","障害\n支援\n区分","自己\n負担","利用開始時期\n（契約時期）","利用頻度",null,"2人\n介助","併用\nサービス","居宅介護計画の作成等　※新規・変更問わず直近のもの"]
[null,null,null,null,null,null,null,null,null,null,"身体介護","家事援助",null,null,"アセスメントの\n実　　施　　日","居宅介護計画の\n作　　成　　日","利用者の\n同 意 日"]
[null,"例","浜松　太郎","男",44,"中区","知的",3,"○","半年～1年以内","週2回","週4回","○","生活介護","2023-04-01","2023-04-10","2023-04-12",null,null,null,null,null,null,null,null,null,null,null,null,null,"半年以内"]
[null,{"$f":"B123+1","v":101},null,null,null,null,null,null,null,null,null,null,null,null,null,null,null,null,null,null,null,null,null,null,null,null,null,null,null,null,"半年～1年以内"]
[null,{"$f":"B130+1","v":102},null,null,null,null,null,null,null,null,null,null,null,null,null,null,null,null,null,null,null,null,null,null,null,null,null,null,null,null,"1年～3年以内"]
[null,{"$f":"B131+1","v":103},null,null,null,null,null,null,null,null,null,null,null,null,null,null,null,null,null,null,null,null,null,null,null,null,null,null,null,null,"3年以上"]
[null,104]
[null,105]
[null,106]
[null,107]
[null,108]
[null,109]
[null,110]
[null,111]
[null,112]
[null,113]
[null,114]
[null,115]
[null,116]
[null,117]
[null,118]
[null,119]
[null,120]
[null,121]
[null,122]
[null,123]
[null,124]
[null,125]
[]
[]
[null,"５－１　（居宅介護）　居宅介護等計画の作成状況・支給決定内容等",null,null,null,null,null,null,null,null,null,null,null,null,null,null,{"$f":"\" 6 / \"&COUNTA(C$5,C$37,C$68,C$99,C$130,C$161)","v":" 6 / 1"}]
[null,"No.","利用者氏名","性別","年齢","居住地","障害\n種別","障害\n支援\n区分","自己\n負担","利用開始時期\n（契約時期）","利用頻度",null,"2人\n介助","併用\nサービス","居宅介護計画の作成等　※新規・変更問わず直近のもの"]
[null,null,null,null,null,null,null,null,null,null,"身体介護","家事援助",null,null,"アセスメントの\n実　　施　　日","居宅介護計画の\n作　　成　　日","利用者の\n同 意 日"]
[null,"例","浜松　太郎","男",44,"中区","知的",3,"○","半年～1年以内","週2回","週4回","○","生活介護","2023-04-01","2023-04-10","2023-04-12",null,null,null,null,null,null,null,null,null,null,null,null,null,"半年以内"]
[null,{"$f":"B154+1","v":126},null,null,null,null,null,null,null,null,null,null,null,null,null,null,null,null,null,null,null,null,null,null,null,null,null,null,null,null,"半年～1年以内"]
[null,{"$f":"B161+1","v":127},null,null,null,null,null,null,null,null,null,null,null,null,null,null,null,null,null,null,null,null,null,null,null,null,null,null,null,null,"1年～3年以内"]
[null,{"$f":"B162+1","v":128},null,null,null,null,null,null,null,null,null,null,null,null,null,null,null,null,null,null,null,null,null,null,null,null,null,null,null,null,"3年以上"]
[null,129]
[null,130]
[null,131]
[null,132]
[null,133]
[null,134]
[null,135]
[null,136]
[null,137]
[null,138]
[null,139]
[null,140]
[null,141]
[null,142]
[null,143]
[null,144]
[null,145]
[null,146]
[null,147]
[null,148]
[null,149]
[null,150]

{"sheet":"P5-2","index":11,"n_rows":185,"n_cols":31,"rows_kept":185,"cut":false,"hidden":false,"merged":[[2,14,2,16],[2,8,3,8],[2,1,3,1],[2,2,3,2],[2,3,3,3],[2,4,3,4],[2,5,3,5],[2,6,3,6],[2,7,3,7],[2,9,3,9],[2,10,2,11],[2,12,3,12],[2,13,3,13],[33,14,33,16],[33,8,34,8],[33,1,34,1],[33,2,34,2],[33,3,34,3],[33,4,34,4],[33,5,34,5],[33,6,34,6],[33,7,34,7],[33,9,34,9],[33,10,33,11],[33,12,34,12],[33,13,34,13],[64,14,64,16],[64,8,65,8],[64,1,65,1],[64,2,65,2],[64,3,65,3],[64,4,65,4],[64,5,65,5],[64,6,65,6],[64,7,65,7],[64,9,65,9],[64,10,64,11],[64,12,65,12],[64,13,65,13],[95,14,95,16],[95,8,96,8],[95,1,96,1],[95,2,96,2],[95,3,96,3],[95,4,96,4],[95,5,96,5],[95,6,96,6],[95,7,96,7],[95,9,96,9],[95,10,95,11],[95,12,96,12],[95,13,96,13],[126,14,126,16],[126,8,127,8],[126,1,127,1],[126,2,127,2],[126,3,127,3],[126,4,127,4],[126,5,127,5],[126,6,127,6],[126,7,127,7],[126,9,127,9],[126,10,126,11],[126,12,127,12],[126,13,127,13],[157,14,157,16],[157,8,158,8],[157,1,158,1],[157,2,158,2],[157,3,158,3],[157,4,158,4],[157,5,158,5],[157,6,158,6],[157,7,158,7],[157,9,158,9],[157,10,157,11],[157,12,158,12],[157,13,158,13]]}
[]
[null,"５－２　（重度訪問介護）　居宅介護等計画の作成状況・支給決定内容等",null,null,null,null,null,null,null,null,null,null,null,null,null,null,{"$f":"\" 1 / \"&COUNTA(C$5,C$37,C$68,C$99,C$130,C$161)","v":" 1 / 1"}]
[null,"No.","利用者氏名","性別","年齢","居住地","障害\n種別","障害\n支援\n区分","自己\n負担","利用開始時期\n（契約時期）","利用頻度",null,"2人\n介助","併用\nサービス","居宅介護計画の作成等　※新規・変更問わず直近のもの"]
[null,null,null,null,null,null,null,null,null,null,"身体介護","家事援助",null,null,"アセスメントの\n実　　施　　日","居宅介護計画の\n作　　成　　日","利用者の\n同 意 日"]
[null,"例","浜松　太郎","男",44,"中区","知的",3,"○","半年～1年以内","週2回","週4回","○","生活介護","2023-04-01","2023-04-10","2023-04-12",null,null,null,null,null,null,null,null,null,null,null,null,null,"半年以内"]
[null,1,null,null,null,null,null,null,null,null,null,null,null,null,null,null,null,null,null,null,null,null,null,null,null,null,null,null,null,null,"半年～1年以内"]
[null,{"$f":"B6+1","v":2},null,null,null,null,null,null,null,null,null,null,null,null,null,null,null,null,null,null,null,null,null,null,null,null,null,null,null,null,"1年～3年以内"]
[null,{"$f":"B7+1","v":3},null,null,null,null,null,null,null,null,null,null,null,null,null,null,null,null,null,null,null,null,null,null,null,null,null,null,null,null,"3年以上"]
[null,4]
[null,5]
[null,6]
[null,7]
[null,8]
[null,9]
[null,10]
[null,11]
[null,12]
[null,13]
[null,14]
[null,15]
[null,16]
[null,17]
[null,18]
[null,19]
[null,20]
[null,21]
[null,22]
[null,23]
[null,24]
[null,25]
[]
[]
[null,"５－２　（重度訪問介護）　居宅介護等計画の作成状況・支給決定内容等",null,null,null,null,null,null,null,null,null,null,null,null,null,null,{"$f":"\" 2 / \"&COUNTA(C$5,C$37,C$68,C$99,C$130,C$161)","v":" 2 / 1"}]
[null,"No.","利用者氏名","性別","年齢","居住地","障害\n種別","障害\n支援\n区分","自己\n負担","利用開始時期\n（契約時期）","利用頻度",null,"2人\n介助","併用\nサービス","居宅介護計画の作成等　※新規・変更問わず直近のもの"]
[null,null,null,null,null,null,null,null,null,null,"身体介護","家事援助",null,null,"アセスメントの\n実　　施　　日","居宅介護計画の\n作　　成　　日","利用者の\n同 意 日"]
[null,"例","浜松　太郎","男",44,"中区","知的",3,"○","半年～1年以内","週2回","週4回","○","生活介護","2023-04-01","2023-04-10","2023-04-12",null,null,null,null,null,null,null,null,null,null,null,null,null,"半年以内"]
[null,{"$f":"B30+1","v":26},null,null,null,null,null,null,null,null,null,null,null,null,null,null,null,null,null,null,null,null,null,null,null,null,null,null,null,null,"半年～1年以内"]
[null,{"$f":"B37+1","v":27},null,null,null,null,null,null,null,null,null,null,null,null,null,null,null,null,null,null,null,null,null,null,null,null,null,null,null,null,"1年～3年以内"]
[null,{"$f":"B38+1","v":28},null,null,null,null,null,null,null,null,null,null,null,null,null,null,null,null,null,null,null,null,null,null,null,null,null,null,null,null,"3年以上"]
[null,29]
[null,30]
[null,31]
[null,32]
[null,33]
[null,34]
[null,35]
[null,36]
[null,37]
[null,38]
[null,39]
[null,40]
[null,41]
[null,42]
[null,43]
[null,44]
[null,45]
[null,46]
[null,47]
[null,48]
[null,49]
[null,50]
[]
[]
[null,"５－２　（重度訪問介護）　居宅介護等計画の作成状況・支給決定内容等",null,null,null,null,null,null,null,null,null,null,null,null,null,null,{"$f":"\" 3 / \"&COUNTA(C$5,C$37,C$68,C$99,C$130,C$161)","v":" 3 / 1"}]
[null,"No.","利用者氏名","性別","年齢","居住地","障害\n種別","障害\n支援\n区分","自己\n負担","利用開始時期\n（契約時期）","利用頻度",null,"2人\n介助","併用\nサービス","居宅介護計画の作成等　※新規・変更問わず直近のもの"]
[null,null,null,null,null,null,null,null,null,null,"身体介護","家事援助",null,null,"アセスメントの\n実　　施　　日","居宅介護計画の\n作　　成　　日","利用者の\n同 意 日"]
[null,"例","浜松　太郎","男",44,"中区","知的",3,"○","半年～1年以内","週2回","週4回","○","生活介護","2023-04-01","2023-04-10","2023-04-12",null,null,null,null,null,null,null,null,null,null,null,null,null,"半年以内"]
[null,{"$f":"B61+1","v":51},null,null,null,null,null,null,null,null,null,null,null,null,null,null,null,null,null,null,null,null,null,null,null,null,null,null,null,null,"半年～1年以内"]
[null,{"$f":"B68+1","v":52},null,null,null,null,null,null,null,null,null,null,null,null,null,null,null,null,null,null,null,null,null,null,null,null,null,null,null,null,"1年～3年以内"]
[null,{"$f":"B69+1","v":53},null,null,null,null,null,null,null,null,null,null,null,null,null,null,null,null,null,null,null,null,null,null,null,null,null,null,null,null,"3年以上"]
[null,54]
[null,55]
[null,56]
[null,57]
[null,58]
[null,59]
[null,60]
[null,61]
[null,62]
[null,63]
[null,64]
[null,65]
[null,66]
[null,67]
[null,68]
[null,69]
[null,70]
[null,71]
[null,72]
[null,73]
[null,74]
[null,75]
[]
[]
[null,"５－２　（重度訪問介護）　居宅介護等計画の作成状況・支給決定内容等",null,null,null,null,null,null,null,null,null,null,null,null,null,null,{"$f":"\" 4 / \"&COUNTA(C$5,C$37,C$68,C$99,C$130,C$161)","v":" 4 / 1"}]
[null,"No.","利用者氏名","性別","年齢","居住地","障害\n種別","障害\n支援\n区分","自己\n負担","利用開始時期\n（契約時期）","利用頻度",null,"2人\n介助","併用\nサービス","居宅介護計画の作成等　※新規・変更問わず直近のもの"]
[null,null,null,null,null,null,null,null,null,null,"身体介護","家事援助",null,null,"アセスメントの\n実　　施　　日","居宅介護計画の\n作　　成　　日","利用者の\n同 意 日"]
[null,"例","浜松　太郎","男",44,"中区","知的",3,"○","半年～1年以内","週2回","週4回","○","生活介護","2023-04-01","2023-04-10","2023-04-12",null,null,null,null,null,null,null,null,null,null,null,null,null,"半年以内"]
[null,{"$f":"B92+1","v":76},null,null,null,null,null,null,null,null,null,null,null,null,null,null,null,null,null,null,null,null,null,null,null,null,null,null,null,null,"半年～1年以内"]
[null,{"$f":"B99+1","v":77},null,null,null,null,null,null,null,null,null,null,null,null,null,null,null,null,null,null,null,null,null,null,null,null,null,null,null,null,"1年～3年以内"]
[null,{"$f":"B100+1","v":78},null,null,null,null,null,null,null,null,null,null,null,null,null,null,null,null,null,null,null,null,null,null,null,null,null,null,null,null,"3年以上"]
[null,79]
[null,80]
[null,81]
[null,82]
[null,83]
[null,84]
[null,85]
[null,86]
[null,87]
[null,88]
[null,89]
[null,90]
[null,91]
[null,92]
[null,93]
[null,94]
[null,95]
[null,96]
[null,97]
[null,98]
[null,99]
[null,100]
[]
[]
[null,"５－２　（重度訪問介護）　居宅介護等計画の作成状況・支給決定内容等",null,null,null,null,null,null,null,null,null,null,null,null,null,null,{"$f":"\" 5 / \"&COUNTA(C$5,C$37,C$68,C$99,C$130,C$161)","v":" 5 / 1"}]
[null,"No.","利用者氏名","性別","年齢","居住地","障害\n種別","障害\n支援\n区分","自己\n負担","利用開始時期\n（契約時期）","利用頻度",null,"2人\n介助","併用\nサービス","居宅介護計画の作成等　※新規・変更問わず直近のもの"]
[null,null,null,null,null,null,null,null,null,null,"身体介護","家事援助",null,null,"アセスメントの\n実　　施　　日","居宅介護計画の\n作　　成　　日","利用者の\n同 意 日"]
[null,"例","浜松　太郎","男",44,"中区","知的",3,"○","半年～1年以内","週2回","週4回","○","生活介護","2023-04-01","2023-04-10","2023-04-12",null,null,null,null,null,null,null,null,null,null,null,null,null,"半年以内"]
[null,{"$f":"B123+1","v":101},null,null,null,null,null,null,null,null,null,null,null,null,null,null,null,null,null,null,null,null,null,null,null,null,null,null,null,null,"半年～1年以内"]
[null,{"$f":"B130+1","v":102},null,null,null,null,null,null,null,null,null,null,null,null,null,null,null,null,null,null,null,null,null,null,null,null,null,null,null,null,"1年～3年以内"]
[null,{"$f":"B131+1","v":103},null,null,null,null,null,null,null,null,null,null,null,null,null,null,null,null,null,null,null,null,null,null,null,null,null,null,null,null,"3年以上"]
[null,104]
[null,105]
[null,106]
[null,107]
[null,108]
[null,109]
[null,110]
[null,111]
[null,112]
[null,113]
[null,114]
[null,115]
[null,116]
[null,117]
[null,118]
[null,119]
[null,120]
[null,121]
[null,122]
[null,123]
[null,124]
[null,125]
[]
[]
[null,"５－２　（重度訪問介護）　居宅介護等計画の作成状況・支給決定内容等",null,null,null,null,null,null,null,null,null,null,null,null,null,null,{"$f":"\" 6 / \"&COUNTA(C$5,C$37,C$68,C$99,C$130,C$161)","v":" 6 / 1"}]
[null,"No.","利用者氏名","性別","年齢","居住地","障害\n種別","障害\n支援\n区分","自己\n負担","利用開始時期\n（契約時期）","利用頻度",null,"2人\n介助","併用\nサービス","居宅介護計画の作成等　※新規・変更問わず直近のもの"]
[null,null,null,null,null,null,null,null,null,null,"身体介護","家事援助",null,null,"アセスメントの\n実　　施　　日","居宅介護計画の\n作　　成　　日","利用者の\n同 意 日"]
[null,"例","浜松　太郎","男",44,"中区","知的",3,"○","半年～1年以内","週2回","週4回","○","生活介護","2023-04-01","2023-04-10","2023-04-12",null,null,null,null,null,null,null,null,null,null,null,null,null,"半年以内"]
[null,{"$f":"B154+1","v":126},null,null,null,null,null,null,null,null,null,null,null,null,null,null,null,null,null,null,null,null,null,null,null,null,null,null,null,null,"半年～1年以内"]
[null,{"$f":"B161+1","v":127},null,null,null,null,null,null,null,null,null,null,null,null,null,null,null,null,null,null,null,null,null,null,null,null,null,null,null,null,"1年～3年以内"]
[null,{"$f":"B162+1","v":128},null,null,null,null,null,null,null,null,null,null,null,null,null,null,null,null,null,null,null,null,null,null,null,null,null,null,null,null,"3年以上"]
[null,129]
[null,130]
[null,131]
[null,132]
[null,133]
[null,134]
[null,135]
[null,136]
[null,137]
[null,138]
[null,139]
[null,140]
[null,141]
[null,142]
[null,143]
[null,144]
[null,145]
[null,146]
[null,147]
[null,148]
[null,149]
[null,150]

{"sheet":"P5-3","index":12,"n_rows":185,"n_cols":31,"rows_kept":185,"cut":false,"hidden":false,"merged":[[2,14,2,16],[2,8,3,8],[2,1,3,1],[2,2,3,2],[2,3,3,3],[2,4,3,4],[2,5,3,5],[2,6,3,6],[2,7,3,7],[2,9,3,9],[2,10,2,11],[2,12,3,12],[2,13,3,13],[33,14,33,16],[33,8,34,8],[33,1,34,1],[33,2,34,2],[33,3,34,3],[33,4,34,4],[33,5,34,5],[33,6,34,6],[33,7,34,7],[33,9,34,9],[33,10,33,11],[33,12,34,12],[33,13,34,13],[64,14,64,16],[64,8,65,8],[64,1,65,1],[64,2,65,2],[64,3,65,3],[64,4,65,4],[64,5,65,5],[64,6,65,6],[64,7,65,7],[64,9,65,9],[64,10,64,11],[64,12,65,12],[64,13,65,13],[95,14,95,16],[95,8,96,8],[95,1,96,1],[95,2,96,2],[95,3,96,3],[95,4,96,4],[95,5,96,5],[95,6,96,6],[95,7,96,7],[95,9,96,9],[95,10,95,11],[95,12,96,12],[95,13,96,13],[126,14,126,16],[126,8,127,8],[126,1,127,1],[126,2,127,2],[126,3,127,3],[126,4,127,4],[126,5,127,5],[126,6,127,6],[126,7,127,7],[126,9,127,9],[126,10,126,11],[126,12,127,12],[126,13,127,13],[157,14,157,16],[157,8,158,8],[157,1,158,1],[157,2,158,2],[157,3,158,3],[157,4,158,4],[157,5,158,5],[157,6,158,6],[157,7,158,7],[157,9,158,9],[157,10,157,11],[157,12,158,12],[157,13,158,13]]}
[]
[null,"５－３　（行動援護）　居宅介護等計画の作成状況・支給決定内容等",null,null,null,null,null,null,null,null,null,null,null,null,null,null,{"$f":"\" 1 / \"&COUNTA(C$5,C$37,C$68,C$99,C$130,C$161)","v":" 1 / 1"}]
[null,"No.","利用者氏名","性別","年齢","居住地","障害\n種別","障害\n支援\n区分","自己\n負担","利用開始時期\n（契約時期）","利用頻度",null,"2人\n介助","併用\nサービス","居宅介護計画の作成等　※新規・変更問わず直近のもの"]
[null,null,null,null,null,null,null,null,null,null,"身体介護","家事援助",null,null,"アセスメントの\n実　　施　　日","居宅介護計画の\n作　　成　　日","利用者の\n同 意 日"]
[null,"例","浜松　太郎","男",44,"中区","知的",3,"○","半年～1年以内","週2回","週4回","○","生活介護","2023-04-01","2023-04-10","2023-04-12",null,null,null,null,null,null,null,null,null,null,null,null,null,"半年以内"]
[null,1,null,null,null,null,null,null,null,null,null,null,null,null,null,null,null,null,null,null,null,null,null,null,null,null,null,null,null,null,"半年～1年以内"]
[null,{"$f":"B6+1","v":2},null,null,null,null,null,null,null,null,null,null,null,null,null,null,null,null,null,null,null,null,null,null,null,null,null,null,null,null,"1年～3年以内"]
[null,{"$f":"B7+1","v":3},null,null,null,null,null,null,null,null,null,null,null,null,null,null,null,null,null,null,null,null,null,null,null,null,null,null,null,null,"3年以上"]
[null,4]
[null,5]
[null,6]
[null,7]
[null,8]
[null,9]
[null,10]
[null,11]
[null,12]
[null,13]
[null,14]
[null,15]
[null,16]
[null,17]
[null,18]
[null,19]
[null,20]
[null,21]
[null,22]
[null,23]
[null,24]
[null,25]
[]
[]
[null,"５－３　（行動援護）　居宅介護等計画の作成状況・支給決定内容等",null,null,null,null,null,null,null,null,null,null,null,null,null,null,{"$f":"\" 2 / \"&COUNTA(C$5,C$37,C$68,C$99,C$130,C$161)","v":" 2 / 1"}]
[null,"No.","利用者氏名","性別","年齢","居住地","障害\n種別","障害\n支援\n区分","自己\n負担","利用開始時期\n（契約時期）","利用頻度",null,"2人\n介助","併用\nサービス","居宅介護計画の作成等　※新規・変更問わず直近のもの"]
[null,null,null,null,null,null,null,null,null,null,"身体介護","家事援助",null,null,"アセスメントの\n実　　施　　日","居宅介護計画の\n作　　成　　日","利用者の\n同 意 日"]
[null,"例","浜松　太郎","男",44,"中区","知的",3,"○","半年～1年以内","週2回","週4回","○","生活介護","2023-04-01","2023-04-10","2023-04-12",null,null,null,null,null,null,null,null,null,null,null,null,null,"半年以内"]
[null,{"$f":"B30+1","v":26},null,null,null,null,null,null,null,null,null,null,null,null,null,null,null,null,null,null,null,null,null,null,null,null,null,null,null,null,"半年～1年以内"]
[null,{"$f":"B37+1","v":27},null,null,null,null,null,null,null,null,null,null,null,null,null,null,null,null,null,null,null,null,null,null,null,null,null,null,null,null,"1年～3年以内"]
[null,{"$f":"B38+1","v":28},null,null,null,null,null,null,null,null,null,null,null,null,null,null,null,null,null,null,null,null,null,null,null,null,null,null,null,null,"3年以上"]
[null,29]
[null,30]
[null,31]
[null,32]
[null,33]
[null,34]
[null,35]
[null,36]
[null,37]
[null,38]
[null,39]
[null,40]
[null,41]
[null,42]
[null,43]
[null,44]
[null,45]
[null,46]
[null,47]
[null,48]
[null,49]
[null,50]
[]
[]
[null,"５－３　（行動援護）　居宅介護等計画の作成状況・支給決定内容等",null,null,null,null,null,null,null,null,null,null,null,null,null,null,{"$f":"\" 3 / \"&COUNTA(C$5,C$37,C$68,C$99,C$130,C$161)","v":" 3 / 1"}]
[null,"No.","利用者氏名","性別","年齢","居住地","障害\n種別","障害\n支援\n区分","自己\n負担","利用開始時期\n（契約時期）","利用頻度",null,"2人\n介助","併用\nサービス","居宅介護計画の作成等　※新規・変更問わず直近のもの"]
[null,null,null,null,null,null,null,null,null,null,"身体介護","家事援助",null,null,"アセスメントの\n実　　施　　日","居宅介護計画の\n作　　成　　日","利用者の\n同 意 日"]
[null,"例","浜松　太郎","男",44,"中区","知的",3,"○","半年～1年以内","週2回","週4回","○","生活介護","2023-04-01","2023-04-10","2023-04-12",null,null,null,null,null,null,null,null,null,null,null,null,null,"半年以内"]
[null,{"$f":"B61+1","v":51},null,null,null,null,null,null,null,null,null,null,null,null,null,null,null,null,null,null,null,null,null,null,null,null,null,null,null,null,"半年～1年以内"]
[null,{"$f":"B68+1","v":52},null,null,null,null,null,null,null,null,null,null,null,null,null,null,null,null,null,null,null,null,null,null,null,null,null,null,null,null,"1年～3年以内"]
[null,{"$f":"B69+1","v":53},null,null,null,null,null,null,null,null,null,null,null,null,null,null,null,null,null,null,null,null,null,null,null,null,null,null,null,null,"3年以上"]
[null,54]
[null,55]
[null,56]
[null,57]
[null,58]
[null,59]
[null,60]
[null,61]
[null,62]
[null,63]
[null,64]
[null,65]
[null,66]
[null,67]
[null,68]
[null,69]
[null,70]
[null,71]
[null,72]
[null,73]
[null,74]
[null,75]
[]
[]
[null,"５－３　（行動援護）　居宅介護等計画の作成状況・支給決定内容等",null,null,null,null,null,null,null,null,null,null,null,null,null,null,{"$f":"\" 4 / \"&COUNTA(C$5,C$37,C$68,C$99,C$130,C$161)","v":" 4 / 1"}]
[null,"No.","利用者氏名","性別","年齢","居住地","障害\n種別","障害\n支援\n区分","自己\n負担","利用開始時期\n（契約時期）","利用頻度",null,"2人\n介助","併用\nサービス","居宅介護計画の作成等　※新規・変更問わず直近のもの"]
[null,null,null,null,null,null,null,null,null,null,"身体介護","家事援助",null,null,"アセスメントの\n実　　施　　日","居宅介護計画の\n作　　成　　日","利用者の\n同 意 日"]
[null,"例","浜松　太郎","男",44,"中区","知的",3,"○","半年～1年以内","週2回","週4回","○","生活介護","2023-04-01","2023-04-10","2023-04-12",null,null,null,null,null,null,null,null,null,null,null,null,null,"半年以内"]
[null,{"$f":"B92+1","v":76},null,null,null,null,null,null,null,null,null,null,null,null,null,null,null,null,null,null,null,null,null,null,null,null,null,null,null,null,"半年～1年以内"]
[null,{"$f":"B99+1","v":77},null,null,null,null,null,null,null,null,null,null,null,null,null,null,null,null,null,null,null,null,null,null,null,null,null,null,null,null,"1年～3年以内"]
[null,{"$f":"B100+1","v":78},null,null,null,null,null,null,null,null,null,null,null,null,null,null,null,null,null,null,null,null,null,null,null,null,null,null,null,null,"3年以上"]
[null,79]
[null,80]
[null,81]
[null,82]
[null,83]
[null,84]
[null,85]
[null,86]
[null,87]
[null,88]
[null,89]
[null,90]
[null,91]
[null,92]
[null,93]
[null,94]
[null,95]
[null,96]
[null,97]
[null,98]
[null,99]
[null,100]
[]
[]
[null,"５－３　（行動援護）　居宅介護等計画の作成状況・支給決定内容等",null,null,null,null,null,null,null,null,null,null,null,null,null,null,{"$f":"\" 5 / \"&COUNTA(C$5,C$37,C$68,C$99,C$130,C$161)","v":" 5 / 1"}]
[null,"No.","利用者氏名","性別","年齢","居住地","障害\n種別","障害\n支援\n区分","自己\n負担","利用開始時期\n（契約時期）","利用頻度",null,"2人\n介助","併用\nサービス","居宅介護計画の作成等　※新規・変更問わず直近のもの"]
[null,null,null,null,null,null,null,null,null,null,"身体介護","家事援助",null,null,"アセスメントの\n実　　施　　日","居宅介護計画の\n作　　成　　日","利用者の\n同 意 日"]
[null,"例","浜松　太郎","男",44,"中区","知的",3,"○","半年～1年以内","週2回","週4回","○","生活介護","2023-04-01","2023-04-10","2023-04-12",null,null,null,null,null,null,null,null,null,null,null,null,null,"半年以内"]
[null,{"$f":"B123+1","v":101},null,null,null,null,null,null,null,null,null,null,null,null,null,null,null,null,null,null,null,null,null,null,null,null,null,null,null,null,"半年～1年以内"]
[null,{"$f":"B130+1","v":102},null,null,null,null,null,null,null,null,null,null,null,null,null,null,null,null,null,null,null,null,null,null,null,null,null,null,null,null,"1年～3年以内"]
[null,{"$f":"B131+1","v":103},null,null,null,null,null,null,null,null,null,null,null,null,null,null,null,null,null,null,null,null,null,null,null,null,null,null,null,null,"3年以上"]
[null,104]
[null,105]
[null,106]
[null,107]
[null,108]
[null,109]
[null,110]
[null,111]
[null,112]
[null,113]
[null,114]
[null,115]
[null,116]
[null,117]
[null,118]
[null,119]
[null,120]
[null,121]
[null,122]
[null,123]
[null,124]
[null,125]
[]
[]
[null,"５－３　（行動援護）　居宅介護等計画の作成状況・支給決定内容等",null,null,null,null,null,null,null,null,null,null,null,null,null,null,{"$f":"\" 6 / \"&COUNTA(C$5,C$37,C$68,C$99,C$130,C$161)","v":" 6 / 1"}]
[null,"No.","利用者氏名","性別","年齢","居住地","障害\n種別","障害\n支援\n区分","自己\n負担","利用開始時期\n（契約時期）","利用頻度",null,"2人\n介助","併用\nサービス","居宅介護計画の作成等　※新規・変更問わず直近のもの"]
[null,null,null,null,null,null,null,null,null,null,"身体介護","家事援助",null,null,"アセスメントの\n実　　施　　日","居宅介護計画の\n作　　成　　日","利用者の\n同 意 日"]
[null,"例","浜松　太郎","男",44,"中区","知的",3,"○","半年～1年以内","週2回","週4回","○","生活介護","2023-04-01","2023-04-10","2023-04-12",null,null,null,null,null,null,null,null,null,null,null,null,null,"半年以内"]
[null,{"$f":"B154+1","v":126},null,null,null,null,null,null,null,null,null,null,null,null,null,null,null,null,null,null,null,null,null,null,null,null,null,null,null,null,"半年～1年以内"]
[null,{"$f":"B161+1","v":127},null,null,null,null,null,null,null,null,null,null,null,null,null,null,null,null,null,null,null,null,null,null,null,null,null,null,null,null,"1年～3年以内"]
[null,{"$f":"B162+1","v":128},null,null,null,null,null,null,null,null,null,null,null,null,null,null,null,null,null,null,null,null,null,null,null,null,null,null,null,null,"3年以上"]
[null,129]
[null,130]
[null,131]
[null,132]
[null,133]
[null,134]
[null,135]
[null,136]
[null,137]
[null,138]
[null,139]
[null,140]
[null,141]
[null,142]
[null,143]
[null,144]
[null,145]
[null,146]
[null,147]
[null,148]
[null,149]
[null,150]

{"sheet":"P5-4","index":13,"n_rows":185,"n_cols":31,"rows_kept":185,"cut":false,"hidden":false,"merged":[[2,14,2,16],[2,8,3,8],[2,1,3,1],[2,2,3,2],[2,3,3,3],[2,4,3,4],[2,5,3,5],[2,6,3,6],[2,7,3,7],[2,9,3,9],[2,10,2,11],[2,12,3,12],[2,13,3,13],[33,14,33,16],[33,8,34,8],[33,1,34,1],[33,2,34,2],[33,3,34,3],[33,4,34,4],[33,5,34,5],[33,6,34,6],[33,7,34,7],[33,9,34,9],[33,10,33,11],[33,12,34,12],[33,13,34,13],[64,14,64,16],[64,8,65,8],[64,1,65,1],[64,2,65,2],[64,3,65,3],[64,4,65,4],[64,5,65,5],[64,6,65,6],[64,7,65,7],[64,9,65,9],[64,10,64,11],[64,12,65,12],[64,13,65,13],[95,14,95,16],[95,8,96,8],[95,1,96,1],[95,2,96,2],[95,3,96,3],[95,4,96,4],[95,5,96,5],[95,6,96,6],[95,7,96,7],[95,9,96,9],[95,10,95,11],[95,12,96,12],[95,13,96,13],[126,14,126,16],[126,8,127,8],[126,1,127,1],[126,2,127,2],[126,3,127,3],[126,4,127,4],[126,5,127,5],[126,6,127,6],[126,7,127,7],[126,9,127,9],[126,10,126,11],[126,12,127,12],[126,13,127,13],[157,14,157,16],[157,8,158,8],[157,1,158,1],[157,2,158,2],[157,3,158,3],[157,4,158,4],[157,5,158,5],[157,6,158,6],[157,7,158,7],[157,9,158,9],[157,10,157,11],[157,12,158,12],[157,13,158,13]]}
[]
[null,"５－４　（同行援護）　居宅介護等計画の作成状況・支給決定内容等",null,null,null,null,null,null,null,null,null,null,null,null,null,null,{"$f":"\" 1 / \"&COUNTA(C$5,C$37,C$68,C$99,C$130,C$161)","v":" 1 / 1"}]
[null,"No.","利用者氏名","性別","年齢","居住地","障害\n種別","障害\n支援\n区分","自己\n負担","利用開始時期\n（契約時期）","利用頻度",null,"2人\n介助","併用\nサービス","居宅介護計画の作成等　※新規・変更問わず直近のもの"]
[null,null,null,null,null,null,null,null,null,null,"身体介護","家事援助",null,null,"アセスメントの\n実　　施　　日","居宅介護計画の\n作　　成　　日","利用者の\n同 意 日"]
[null,"例","浜松　太郎","男",44,"中区","知的",3,"○","半年～1年以内","週2回","週4回","○","生活介護","2023-04-01","2023-04-10","2023-04-12",null,null,null,null,null,null,null,null,null,null,null,null,null,"半年以内"]
[null,1,null,null,null,null,null,null,null,null,null,null,null,null,null,null,null,null,null,null,null,null,null,null,null,null,null,null,null,null,"半年～1年以内"]
[null,{"$f":"B6+1","v":2},null,null,null,null,null,null,null,null,null,null,null,null,null,null,null,null,null,null,null,null,null,null,null,null,null,null,null,null,"1年～3年以内"]
[null,{"$f":"B7+1","v":3},null,null,null,null,null,null,null,null,null,null,null,null,null,null,null,null,null,null,null,null,null,null,null,null,null,null,null,null,"3年以上"]
[null,4]
[null,5]
[null,6]
[null,7]
[null,8]
[null,9]
[null,10]
[null,11]
[null,12]
[null,13]
[null,14]
[null,15]
[null,16]
[null,17]
[null,18]
[null,19]
[null,20]
[null,21]
[null,22]
[null,23]
[null,24]
[null,25]
[]
[]
[null,"５－４　（同行援護）　居宅介護等計画の作成状況・支給決定内容等",null,null,null,null,null,null,null,null,null,null,null,null,null,null,{"$f":"\" 2 / \"&COUNTA(C$5,C$37,C$68,C$99,C$130,C$161)","v":" 2 / 1"}]
[null,"No.","利用者氏名","性別","年齢","居住地","障害\n種別","障害\n支援\n区分","自己\n負担","利用開始時期\n（契約時期）","利用頻度",null,"2人\n介助","併用\nサービス","居宅介護計画の作成等　※新規・変更問わず直近のもの"]
[null,null,null,null,null,null,null,null,null,null,"身体介護","家事援助",null,null,"アセスメントの\n実　　施　　日","居宅介護計画の\n作　　成　　日","利用者の\n同 意 日"]
[null,"例","浜松　太郎","男",44,"中区","知的",3,"○","半年～1年以内","週2回","週4回","○","生活介護","2023-04-01","2023-04-10","2023-04-12",null,null,null,null,null,null,null,null,null,null,null,null,null,"半年以内"]
[null,{"$f":"B30+1","v":26},null,null,null,null,null,null,null,null,null,null,null,null,null,null,null,null,null,null,null,null,null,null,null,null,null,null,null,null,"半年～1年以内"]
[null,{"$f":"B37+1","v":27},null,null,null,null,null,null,null,null,null,null,null,null,null,null,null,null,null,null,null,null,null,null,null,null,null,null,null,null,"1年～3年以内"]
[null,{"$f":"B38+1","v":28},null,null,null,null,null,null,null,null,null,null,null,null,null,null,null,null,null,null,null,null,null,null,null,null,null,null,null,null,"3年以上"]
[null,29]
[null,30]
[null,31]
[null,32]
[null,33]
[null,34]
[null,35]
[null,36]
[null,37]
[null,38]
[null,39]
[null,40]
[null,41]
[null,42]
[null,43]
[null,44]
[null,45]
[null,46]
[null,47]
[null,48]
[null,49]
[null,50]
[]
[]
[null,"５－４　（同行援護）　居宅介護等計画の作成状況・支給決定内容等",null,null,null,null,null,null,null,null,null,null,null,null,null,null,{"$f":"\" 3 / \"&COUNTA(C$5,C$37,C$68,C$99,C$130,C$161)","v":" 3 / 1"}]
[null,"No.","利用者氏名","性別","年齢","居住地","障害\n種別","障害\n支援\n区分","自己\n負担","利用開始時期\n（契約時期）","利用頻度",null,"2人\n介助","併用\nサービス","居宅介護計画の作成等　※新規・変更問わず直近のもの"]
[null,null,null,null,null,null,null,null,null,null,"身体介護","家事援助",null,null,"アセスメントの\n実　　施　　日","居宅介護計画の\n作　　成　　日","利用者の\n同 意 日"]
[null,"例","浜松　太郎","男",44,"中区","知的",3,"○","半年～1年以内","週2回","週4回","○","生活介護","2023-04-01","2023-04-10","2023-04-12",null,null,null,null,null,null,null,null,null,null,null,null,null,"半年以内"]
[null,{"$f":"B61+1","v":51},null,null,null,null,null,null,null,null,null,null,null,null,null,null,null,null,null,null,null,null,null,null,null,null,null,null,null,null,"半年～1年以内"]
[null,{"$f":"B68+1","v":52},null,null,null,null,null,null,null,null,null,null,null,null,null,null,null,null,null,null,null,null,null,null,null,null,null,null,null,null,"1年～3年以内"]
[null,{"$f":"B69+1","v":53},null,null,null,null,null,null,null,null,null,null,null,null,null,null,null,null,null,null,null,null,null,null,null,null,null,null,null,null,"3年以上"]
[null,54]
[null,55]
[null,56]
[null,57]
[null,58]
[null,59]
[null,60]
[null,61]
[null,62]
[null,63]
[null,64]
[null,65]
[null,66]
[null,67]
[null,68]
[null,69]
[null,70]
[null,71]
[null,72]
[null,73]
[null,74]
[null,75]
[]
[]
[null,"５－４　（同行援護）　居宅介護等計画の作成状況・支給決定内容等",null,null,null,null,null,null,null,null,null,null,null,null,null,null,{"$f":"\" 4 / \"&COUNTA(C$5,C$37,C$68,C$99,C$130,C$161)","v":" 4 / 1"}]
[null,"No.","利用者氏名","性別","年齢","居住地","障害\n種別","障害\n支援\n区分","自己\n負担","利用開始時期\n（契約時期）","利用頻度",null,"2人\n介助","併用\nサービス","居宅介護計画の作成等　※新規・変更問わず直近のもの"]
[null,null,null,null,null,null,null,null,null,null,"身体介護","家事援助",null,null,"アセスメントの\n実　　施　　日","居宅介護計画の\n作　　成　　日","利用者の\n同 意 日"]
[null,"例","浜松　太郎","男",44,"中区","知的",3,"○","半年～1年以内","週2回","週4回","○","生活介護","2023-04-01","2023-04-10","2023-04-12",null,null,null,null,null,null,null,null,null,null,null,null,null,"半年以内"]
[null,{"$f":"B92+1","v":76},null,null,null,null,null,null,null,null,null,null,null,null,null,null,null,null,null,null,null,null,null,null,null,null,null,null,null,null,"半年～1年以内"]
[null,{"$f":"B99+1","v":77},null,null,null,null,null,null,null,null,null,null,null,null,null,null,null,null,null,null,null,null,null,null,null,null,null,null,null,null,"1年～3年以内"]
[null,{"$f":"B100+1","v":78},null,null,null,null,null,null,null,null,null,null,null,null,null,null,null,null,null,null,null,null,null,null,null,null,null,null,null,null,"3年以上"]
[null,79]
[null,80]
[null,81]
[null,82]
[null,83]
[null,84]
[null,85]
[null,86]
[null,87]
[null,88]
[null,89]
[null,90]
[null,91]
[null,92]
[null,93]
[null,94]
[null,95]
[null,96]
[null,97]
[null,98]
[null,99]
[null,100]
[]
[]
[null,"５－４　（同行援護）　居宅介護等計画の作成状況・支給決定内容等",null,null,null,null,null,null,null,null,null,null,null,null,null,null,{"$f":"\" 5 / \"&COUNTA(C$5,C$37,C$68,C$99,C$130,C$161)","v":" 5 / 1"}]
[null,"No.","利用者氏名","性別","年齢","居住地","障害\n種別","障害\n支援\n区分","自己\n負担","利用開始時期\n（契約時期）","利用頻度",null,"2人\n介助","併用\nサービス","居宅介護計画の作成等　※新規・変更問わず直近のもの"]
[null,null,null,null,null,null,null,null,null,null,"身体介護","家事援助",null,null,"アセスメントの\n実　　施　　日","居宅介護計画の\n作　　成　　日","利用者の\n同 意 日"]
[null,"例","浜松　太郎","男",44,"中区","知的",3,"○","半年～1年以内","週2回","週4回","○","生活介護","2023-04-01","2023-04-10","2023-04-12",null,null,null,null,null,null,null,null,null,null,null,null,null,"半年以内"]
[null,{"$f":"B123+1","v":101},null,null,null,null,null,null,null,null,null,null,null,null,null,null,null,null,null,null,null,null,null,null,null,null,null,null,null,null,"半年～1年以内"]
[null,{"$f":"B130+1","v":102},null,null,null,null,null,null,null,null,null,null,null,null,null,null,null,null,null,null,null,null,null,null,null,null,null,null,null,null,"1年～3年以内"]
[null,{"$f":"B131+1","v":103},null,null,null,null,null,null,null,null,null,null,null,null,null,null,null,null,null,null,null,null,null,null,null,null,null,null,null,null,"3年以上"]
[null,104]
[null,105]
[null,106]
[null,107]
[null,108]
[null,109]
[null,110]
[null,111]
[null,112]
[null,113]
[null,114]
[null,115]
[null,116]
[null,117]
[null,118]
[null,119]
[null,120]
[null,121]
[null,122]
[null,123]
[null,124]
[null,125]
[]
[]
[null,"５－４　（同行援護）　居宅介護等計画の作成状況・支給決定内容等",null,null,null,null,null,null,null,null,null,null,null,null,null,null,{"$f":"\" 6 / \"&COUNTA(C$5,C$37,C$68,C$99,C$130,C$161)","v":" 6 / 1"}]
[null,"No.","利用者氏名","性別","年齢","居住地","障害\n種別","障害\n支援\n区分","自己\n負担","利用開始時期\n（契約時期）","利用頻度",null,"2人\n介助","併用\nサービス","居宅介護計画の作成等　※新規・変更問わず直近のもの"]
[null,null,null,null,null,null,null,null,null,null,"身体介護","家事援助",null,null,"アセスメントの\n実　　施　　日","居宅介護計画の\n作　　成　　日","利用者の\n同 意 日"]
[null,"例","浜松　太郎","男",44,"中区","知的",3,"○","半年～1年以内","週2回","週4回","○","生活介護","2023-04-01","2023-04-10","2023-04-12",null,null,null,null,null,null,null,null,null,null,null,null,null,"半年以内"]
[null,{"$f":"B154+1","v":126},null,null,null,null,null,null,null,null,null,null,null,null,null,null,null,null,null,null,null,null,null,null,null,null,null,null,null,null,"半年～1年以内"]
[null,{"$f":"B161+1","v":127},null,null,null,null,null,null,null,null,null,null,null,null,null,null,null,null,null,null,null,null,null,null,null,null,null,null,null,null,"1年～3年以内"]
[null,{"$f":"B162+1","v":128},null,null,null,null,null,null,null,null,null,null,null,null,null,null,null,null,null,null,null,null,null,null,null,null,null,null,null,null,"3年以上"]
[null,129]
[null,130]
[null,131]
[null,132]
[null,133]
[null,134]
[null,135]
[null,136]
[null,137]
[null,138]
[null,139]
[null,140]
[null,141]
[null,142]
[null,143]
[null,144]
[null,145]
[null,146]
[null,147]
[null,148]
[null,149]
[null,150]

{"sheet":"P6","index":14,"n_rows":17,"n_cols":17,"rows_kept":17,"cut":false,"hidden":false,"merged":[[5,9,5,11],[5,12,5,16],[3,1,3,7],[3,9,3,11],[3,12,3,16],[4,9,4,11],[4,12,4,16],[6,9,6,11],[12,1,12,7],[6,12,6,16],[7,9,7,11],[7,12,7,16],[14,1,14,7],[15,1,15,7],[15,8,15,9],[14,8,14,9],[12,8,12,9],[13,1,13,7],[13,8,13,9]]}
[null,"６　苦情処理、事故発生時の対応等　（直近１年の状況）"]
[]
[null,"（１）　苦情処理の状況"]
[null,"苦情受付年月日",null,null,null,null,null,null,"サービス種別","苦　情　の　内　容",null,null,"苦　情　へ　の　具　体　的　対　応"]
[null,"令和",null,"年",null,"月",null,"日"]
[null,"令和",null,"年",null,"月",null,"日"]
[null,"令和",null,"年",null,"月",null,"日"]
[null,"令和",null,"年",null,"月",null,"日"]
[null,"※　既存資料の添付でも可とする。"]
[null,"※　行が不足する場合は適宜行追加すること。"]
[]
[null,"（２）　事故等の状況",null,null,null,null,null,null,null,null,null,null,"（３）　利用申込み・契約解除の状況"]
[null,"（1）事故件数\n（医療機関への受診を要したもの）",null,null,null,null,null,null,0,null,null,null,null,"申込数","新規契約数","契約終了数","うち介護保険への\n移行に伴うもの"]
[null,"（1）のうち、市に報告した件数",null,null,null,null,null,null,0,null,null,null,"居宅介護",0,0,0,0]
[null,"ヒヤリハット件数",null,null,null,null,null,null,0,null,null,null,"重度訪問",0,0,0,0]
[null,"交通事故件数",null,null,null,null,null,null,0,null,null,null,"行動援護",0,0,0,0]
[null,null,null,null,null,null,null,null,null,null,null,null,"同行援護",0,0,0,0]

{"sheet":"P7","index":15,"n_rows":23,"n_cols":16,"rows_kept":23,"cut":false,"hidden":false,"merged":[[3,1,4,3],[3,4,4,4],[3,5,4,5],[3,7,4,9],[5,1,5,3],[5,7,5,9],[6,1,7,3],[6,7,7,9],[8,1,9,3],[8,7,9,9],[12,1,13,3],[12,7,13,9],[14,1,15,3],[14,7,15,9],[14,10,15,10],[14,11,15,11],[16,1,16,3],[16,7,16,9],[17,1,18,3],[17,7,18,9],[21,1,22,3],[21,7,21,9],[22,7,22,9]]}
[null,"９　業務継続計画、衛生管理、身体拘束の禁止、虐待の防止及び情報公表に関する取組状況"]
[]
[null,"（１）　業務継続計画",null,null,null,null,null,"（２）　衛生管理等"]
[null,"　①感染症に係る業務継続計画",null,null,"策定日",null,null,"　①感染症の予防及びまん延防止のための対策を検討する委員会",null,null,"直近の開催日",null,null,null,"策定済","実施済"]
[null,null,null,null,null,null,null,null,null,null,"委員会結果を従業者へ周知した日"]
[null,"　②災害に係る業務継続計画",null,null,"策定日",null,null,"　②感染症の予防及びまん延防止のための指針",null,null,"整備状況",null,null,null,"策定中","実施予定"]
[null,"　③業務継続計画に基づく研修の実施（感染症及び災害）",null,null,"直近1年間の\n実施回数",null,null,"　③感染症の予防及びまん延防止のための研修",null,null,"直近1年間の\n実施回数",null,null,null,"未策定","実施時期未定"]
[null,null,null,null,"直近の実施日",null,null,null,null,null,"直近の実施日",null,null,null,"未策定","実施時期未定"]
[null,"　④業務継続計画に基づく訓練の実施（感染症及び災害）",null,null,"直近1年間の\n実施回数",null,null,"　④感染症の予防及びまん延防止のための訓練",null,null,"直近1年間の\n実施回数",null,null,null,null,"未設置"]
[null,null,null,null,"直近の実施日",null,null,null,null,null,"直近の実施日",null,null,null,null,"未設置"]
[]
[null,"（３）　身体拘束等の禁止",null,null,null,null,null,"（４）　虐待の防止"]
[null,"　①やむを得ず身体拘束等を行う場合の必要な事項の記録",null,null,"身体拘束実施の有無",null,null,"　①虐待の防止のための対策を検討する委員会",null,null,"直近の開催日",null,null,null,"対応済"]
[null,null,null,null,"記録の作成",null,null,null,null,null,"委員会結果を従業者へ周知した日",null,null,null,"対応済"]
[null,"　②身体拘束等の適正化のための対策を検討する委員会",null,null,"直近の開催日",null,null,"　②虐待防止担当者名",null,null,"担当者氏名",null,null,null,"未対応"]
[null,null,null,null,"委員会結果を従業者へ周知した日",null,null,null,null,null,null,null,null,null,"未対応"]
[null,"　③身体拘束等の適正化のための指針",null,null,"整備状況",null,null,"　③虐待防止のための指針",null,null,"整備状況",null,null,null,"案件なし"]
[null,"　④身体拘束等の適正化のための研修",null,null,"直近1年間の\n実施回数",null,null,"　④虐待防止のための研修",null,null,"直近1年間の\n実施回数"]
[null,null,null,null,"直近の実施日",null,null,null,null,null,"直近の実施日"]
[]
[null,"（５）　情報公表"]
[null,"　①情報公表対象サービス等情報に係る公表（報告）\n※障害福祉サービス等情報検索ウェブサイト（WAM NET）での情報公表の申請手続き",null,null,"公表の有無",null,null,null,null,null,null,null,null,null,"対応済"]
[null,null,null,null,"直近の公表年度",null,null,null,null,null,null,null,null,null,"対応済"]

{"sheet":"P8","index":16,"n_rows":18,"n_cols":5,"rows_kept":18,"cut":false,"hidden":false,"merged":[[1,1,1,4],[3,1,3,4],[9,3,9,4],[10,3,10,4],[17,1,17,4],[8,3,8,4],[11,3,11,4],[12,3,12,4],[13,3,13,4],[14,3,14,4],[15,3,15,4],[16,3,16,4]]}
[]
[null,"主眼事項・着眼点の自己点検結果票"]
[]
[null,"・「主眼事項及び着眼点」の各項目について自己点検結果を記載すること。"]
[]
[null,null,null,"事業所名",{"$f":"【共通】!C5","v":0}]
[null,null,null,"サービス名"]
[]
[null,"主眼事項","確認結果","不適合の該当項目"]
[null,"基本方針"]
[null,"人員に関する基準"]
[null,"設備に関する基準"]
[null,"運営に関する基準"]
[null,"共生型障害福祉サービスに\n関する基準\n※共生型事業所のみ"]
[null,"変更の届出等"]
[null,"給付費の算定及び取り扱い"]
[null,"業務管理体制の整備、運用\n※1"]
[null,"※1　法令順守責任者の役割及びその業務内容、業務が法令に適合することを確保するための規程等、\n　　　 業務執行状況の監査の実施状況"]

{"sheet":"P9","index":17,"n_rows":36,"n_cols":13,"rows_kept":36,"cut":false,"hidden":false,"merged":[[0,0,0,7],[1,0,1,7],[3,0,3,1],[3,4,3,7],[4,0,4,1],[4,4,4,7],[11,7,16,7],[12,1,16,1],[5,0,5,1],[5,4,5,7],[6,0,6,1],[6,2,6,7],[8,2,8,3],[8,4,8,5],[9,0,10,0],[9,1,10,1],[9,2,10,3],[9,6,10,6],[9,7,10,7],[12,4,12,5],[13,2,13,3],[13,4,13,5],[15,2,16,3],[15,4,15,5],[25,0,26,0],[25,1,26,1],[25,2,26,3],[11,0,21,0],[11,2,11,3],[11,4,11,5],[22,0,24,0],[22,1,24,1],[22,2,22,3],[17,7,19,7],[18,2,19,3],[18,4,18,5],[20,1,21,1],[20,2,20,3],[20,7,21,7],[21,2,21,3],[17,1,19,1],[17,2,17,3],[17,4,17,5],[22,7,24,7],[23,2,24,3],[27,0,35,0],[27,1,35,1],[27,2,27,3],[27,4,27,5],[27,7,35,7],[28,2,28,3],[28,4,28,5],[29,2,29,3],[29,4,29,5],[30,2,30,3],[35,2,35,3],[35,4,35,5],[30,4,30,5],[31,2,31,3],[31,4,31,5],[32,2,33,3],[32,4,32,5],[34,2,34,3],[34,4,34,5]]}
["障害福祉サービス事業者（障害者・児施設、事業者）業務管理体制に係る一般検査調書"]
["【本検査の趣旨について】\n業務管理体制の整備については、不正行為を未然に防止し利用者の保護と障害福祉サービス等の運営の適正化を図るため、事業者に対して義務付けられたものです。"]
["○黄色着色セルについて入力をお願いします。"]
["点検実施日",null,null,"検　査　日",null,null,null,null,null,"浜松市","している","行っている","有"]
["法人名",null,null,"事業者（法人）番号",null,null,null,null,null,"静岡県","していない","行っていない","無"]
["対応者氏名",null,null,"法令遵守責任者氏名","（法人役職名：　　　　　）",null,null,null,null,"厚生労働省"]
["事業所一覧",null,"※法人が運営する障害福祉関係の施設・事業所全てについて、事業所名、サービス名、指定年月日、事業所番号、事業所所在地が分かる資料を添付してください。（任意様式）"]
[]
["項目","対象","確認事項",null,"自己点検結果",null,"市聴取結果","確認書類"]
["Ⅰ届出","全て","業務管理体制の整備についての届出を監督庁に提出しているか。",null,"届出日：",null,null,"【例】\n・整備事項届出書（原本、写）"]
[null,null,null,null,"届出先："]
["Ⅱ体制の整備",null,"各届出種別ごとに必要な体制は整備されているか。",null,null,null,null,"【例】\n・役員会議事録・資料\n・職員会議録・資料"]
[null,"全て","◎法令遵守責任者の設置　"]
[null,null,"①法令等遵守について法人内部（役職員）に周知していますか。"]
[null,null,null,null,"直近周知日："]
[null,null,"②法令遵守責任者の役割や業務内容について法人内部（役職員）に周知していますか。"]
[null,null,null,null,"直近周知日："]
[null,"※事業所数\n20～99","○法令遵守規程の整備",null,null,null,null,"【例】\n・法令遵守規程"]
[null,null,"①法令遵守規程を整備していますか。また、規程の内容を法人内部（役職員）に周知していますか。"]
[null,null,null,null,"直近周知日："]
[null,"※事業所数100～","○業務執行の状況の監査の定期的な実施",null,null,null,null,"【例】\n・監査実施記録"]
[null,null,"①監査の実施（受検）状況を教えてください。",null,"直近監査日："]
["Ⅲ変更届出","全て","業務管理体制の整備に関する届出を行った事業者は、事業者の名称及び主たる事務所の所在地その他届出事項に変更があったときは、遅滞なく、その旨を監督庁に届け出ているか。",null,null,null,null,"【例】\n・業務管理変更事項届出書（写）"]
[null,null,"①業務管理体制の届出事項に変更はないですか。変更した場合は届け出ていますか。",null,"変更の有無"]
[null,null,null,null,"直近の変更届出日："]
["Ⅳ監督庁","全て","各届出種別における業務管理体制監督庁が変更した場合には、区分変更届を変更前及び変更後の監督庁にそれぞれ届け出ているか。",null,"変更の有無"]
[null,null,null,null,"直近の変更届出日："]
["Ⅴ具体的取組・運用状況","全て","以下の業務は、事業者において、業務管理体制（法令等遵守）の取組対象・運用対象として行われているか。",null,null,null,null,"【例】\n・事務分担表\n・法人内内部通報要領\n・法人内事故報告要領\n・苦情・相談要領\n・就業規則\n・研修受講記録　等"]
[null,null,"①サービスの実施内容、給付費の請求内容等の確認を行っている。 "]
[null,null,"②内部通報・事故報告に対応している。"]
[null,null,"③利用者等からの相談・苦情に対応している。"]
[null,null,"④労働関係法規についても遵守対象としている。"]
[null,null,"⑤法令等遵守についての研修等を事業者内で実施している。又は、外部研修等に参加している。"]
[null,null,null,null,"直近実施日："]
[null,null,"⑥行政・関係団体等からの情報を事業者関係部署等に周知している。"]
[null,null,"⑦その他業務管理体制（法令等遵守）として取り組んでいるもの"]